{"text_format":"1","workbook":"xlsx","n_sheets":32,"sheets":["Summary Review","Summary Scoring Totals","CoC Renewal Ranking Report","Exit-Retention to PH (Sortable)","Exit-Retention to PH Measure","Returns to Homelessness","Length of Stay (TH Only)","Income Growth Measure","Mainstream Benefits Measure","Project Eligibility","Unit Utilization Rate","eLOCCS Drawdowns","Recaptured Funds","Timely APR Submission","Cost Effectiveness","Cost Effectiveness (Leavers)","HUD Monitoring","Project Description","Opening Doors Goals","Severity of Needs","Prioritization of PSH","Housing First Approach","CoC Participation","CoC Meetings","HMIS Data Quality","HMIS Data Timeliness","HMIS Bed Inventory","Unranked","Raw Total Score","Drop Down","Tiebreaking","Reduction Worksheet"],"not_rendered":{"charts":0,"images":0,"macros":1,"external_links":1,"defined_names":42,"comments":1,"pivot_tables":0},"unopened":[],"bounds":{"document_bytes":16777216,"sheet_cells":100000,"rows_first":2000,"rows_last":500,"rows_between":2000,"halvings":0,"cell_chars":16384,"cell_head_chars":4096},"cells_cut":0,"cells_raw":0,"read":"whole","date_system":"1900"}

{"sheet":"Summary Review","index":0,"n_rows":70,"n_cols":30,"rows_kept":70,"cut":false,"hidden":false,"merged":[[0,0,1,1],[3,7,3,11],[3,12,3,19],[3,20,3,24],[3,25,3,29]]}
["Eastern CoC Project Ranking 2017 - Summary Review"]
[]
[]
[null,null,null,null,null,null,null,"Performance",null,null,null,null,"Monitoring",null,null,null,null,null,null,null,"Opening Doors",null,null,null,null,"CoC Participation"]
["GIW Agency Name","GIW Project Name","Grant #","Project Type","Project Ranking","Total Score","Cambria S+C Proration (from 94 to 100)","Housing Outcomes","Returns of Homelessness","Length of Stay (TH Only)","Income Growth Measure","Mainstream Benefits","Partipicant Eligibility","Unit Utilization %","Drawdown Rates","Funds Recaptured","Timely APR Submission","Cost Effectiveness","Cost Effectiveness (Leavers)","HUD Monitoring","Project Description","Opening Doors","Severity of Needs","Prioritization of PSH","Housing 1st Approach","CoC Participation","CoC Meetings","HMIS Data Quality","HMIS Data Timeliness","HMIS Bed Inventory"]
["Housing Authority of the County of Cumberland","Carlisle Supportive Housing Program","PA0553L3T","PH",null,97.5,null,10,3,"",8,5,5,5,3,6,0,5,5,0,2.5,5,7.5,2.5,5,11,4,5,0,0]
["Housing Authority of the County of Cumberland","West Shore SHP II","PA0443L3T","PH",null,96,null,10,3,"",8,5,5,5,3,6,0,5,5,0,1,5,7.5,2.5,5,11,4,5,0,0]
["Lehigh County Conference of Churches","Tenant-Based Rental Assistance for the Disabled,Chronically Homeless","PA0222L3T","PH",null,93,null,10,3,"",8,5,5,0,3,6,0,5,5,0,6,5,7.5,2.5,5,11,1,5,0,0]
["Resources for Human Development, Inc.","Crossroads Housing Bonus","PA0449L3T","PH",null,91.5,null,10,3,"",8,5,5,3,0,3,0,5,5,0,5.5,5,7.5,2.5,5,10,4,5,0,0]
["County of Franklin","Franklin/ Fulton S+C Project 2017","PA0649L3T","PH",null,91,null,10,3,"",8,5,5,5,0,6,0,5,5,0,1,5,7.5,2.5,5,10,3,5,0,0]
["Housing Transitions, Inc.","Nittany House Apartments","PA0176L3T","PH",null,91,null,10,3,"",8,5,5,0,3,3,0,5,5,0,5,5,7.5,2.5,5,10,4,5,0,0]
["County of Franklin","Franklin/Fulton Homeless Assistance Project 2017","PA0182L3T","PH",null,90,null,10,3,"",8,5,5,5,3,6,0,5,5,0,2,5,7.5,2.5,5,10,3,0,0,0]
["Housing Authority of the County of Cumberland","Shelter + Care Chronic","PA0647L3T","PH",null,89.5,null,10,3,"",8,5,5,5,3,0,0,5,5,0,0.5,5,7.5,2.5,5,11,4,5,0,0]
["Lehigh County Conference of Churches","Pathways TBRA for Families, Youth and Veterans","PA0583L3T","PH",null,88,null,10,1,"",8,5,5,5,3,6,0,2,5,0,6,5,2.5,2.5,5,11,1,5,0,0]
["Northern Cambria Community Development Corporation","Schoolhouse Gardens","PA0481L3E","PH",null,88,null,10,3,"",8,5,5,3,3,6,0,5,5,0,2,5,2.5,2.5,5,10,3,5,0,0]
["Resources for Human Development, Inc.","LV ACT Housing Supports","PA0211L3T","PH",null,88,null,3,3,"",8,5,5,1,3,6,0,5,5,0,4,5,7.5,2.5,5,11,4,5,0,0]
["Tableland Services, Inc.","Permanent Housing with Disabilities (SHP)","PA0444L3E","PH",null,88,null,10,3,"",8,5,0,3,3,6,0,5,5,0,4,5,7.5,2.5,5,10,1,5,0,0]
["Northern Cambria Community Development Corporation","Independence Gardens","PA0360L3E","PH",null,87,null,10,3,"",8,5,5,5,0,6,0,5,5,0,2,5,2.5,2.5,5,10,3,5,0,0]
["Housing Authority of the County of Cumberland","Safe Harbour SHP","PA0447L3T","PH",null,85.5,null,10,3,"",8,5,0,5,3,6,0,5,5,0,0.5,0,7.5,2.5,5,11,4,5,0,0]
["Lehigh County Conference of Churches","Pathways Housing 2","PA0669L3T","PH",null,85.5,null,10,3,"",8,5,5,5,3,1,0,5,5,0,6,5,0,2.5,5,11,1,5,0,0]
["Catholic Social Services of the Diocese of Scranton, Inc.","Susquehanna/Wayne PSHP","PA0450L3T","PH",null,84.9,null,10,3,"",8,5,5,5,0,6,0,2,0,0,4,5,7.5,2.5,5,8.9,3,5,0,0]
["Catholic Charities of the Diocese of Allentown","Catholic Charities Allentown Permanent Housing Program","PA0520L3T","PH",null,84.5,null,10,3,"",8,2,5,5,3,0,0,5,5,0,0.5,5,7.5,2.5,5,10,3,5,0,0]
["Resources for Human Development, Inc.","Crossroads Individual","PA0206L3T","PH",null,84.5,null,10,3,"",8,5,5,5,3,6,0,0,0,0,5.5,5,2.5,2.5,5,10,4,5,0,0]
["Tableland Services, Inc.","Permanent Supportive Housing CH Project","PA0705L3E","PH",null,84,null,10,3,"",8,5,0,5,3,0,0,5,5,0,4,5,7.5,2.5,5,10,1,5,0,0]
["Housing Authority of the County of Cumberland","West Shore SHP I","PA0178L3T","PH",null,83,null,10,3,"",0,5,0,5,3,6,0,5,5,0,1,5,7.5,2.5,5,11,4,5,0,0]
["County of Lycoming DBA Lycoming- Clinton Joinder Board","Lycoming/Clinton Renewal #5","PA0445L3T","PH",null,82.5,null,3,3,"",8,5,5,5,0,6,0,5,5,0,4.5,5,2.5,2.5,5,10,3,5,0,0]
["Housing Authority of the County of Cumberland","Perry County Transitional II","PA0514L3T","PH-RRH",null,82,null,10,3,"",8,5,5,5,3,6,0,5,5,0,2,0,0,0,5,11,4,5,0,0]
["Housing Development Corporation of NEPA","HDC SHP 6 2016","PA0582L3T","PH",null,82,null,10,3,"",8,5,5,5,3,0,0,0,5,0,4,5,2.5,2.5,5,10,4,5,0,0]
["Housing Authority of the County of Cumberland","Perry County Veterans Program","PA0177L3T","PH",null,81.5,null,10,3,"",8,5,5,5,0,3,0,0,0,0,2.5,5,7.5,2.5,5,11,4,5,0,0]
["Center for Community Action","Bedford,Fulton, Huntingdon RRH","PA0661L3E","PH-RRH",null,81,null,10,3,"",0,5,5,3,3,6,0,5,5,0,4.5,5,0,2.5,5,10,4,5,0,0]
["Housing Authority of the County of Cumberland","Perry County Permanent SHP","PA0446L3T","PH",null,80.5,null,10,3,"",8,5,5,5,0,1,0,2,5,0,1.5,5,2.5,2.5,5,11,4,5,0,0]
["Lehigh County Conference of Churches","Pathways Housing","PA0658L3T","PH",null,80.5,null,10,3,"",8,5,5,3,3,3,0,0,5,0,6,5,0,2.5,5,11,1,5,0,0]
["Lehigh County Conference of Churches","Outreach and Case Management for the Disabled, Chronically Homeless","PA0213L3T","SSO",null,78,null,0,3,"",8,5,5,3,3,6,0,5,"",0,5.5,5,7.5,0,5,11,1,5,0,0]
["Fitzmaurice Community Services, Inc","Pathfinders","PA0214L3T","PH",null,77.5,null,10,0,"",8,5,0,0,3,6,0,0,0,0,5.5,5,7.5,2.5,5,11,4,5,0,0]
["The Salvation Army, a New York Corporation","Salvation Army Carlisle PH Project","PA0655L3T","PH",null,77.5,null,10,3,"",8,5,5,0,3,0,0,0,0,0,4.5,5,7.5,2.5,5,10,4,5,0,0]
["Union-Snyder Community Action Agency","Union-Snyder Rapid ReHousing Program","PA0374L3T","PH-RRH",null,77.5,null,10,3,"",8,5,5,5,3,0,0,5,5,0,4.5,0,0,0,5,10,4,5,0,0]
["Lehigh County Housing Authority","LCHA S+C 2016","PA0215L3T","PH",null,77.3,null,10,3,"",8,5,5,5,0,1,0,5,5,0,3,0,7.5,2.5,5,6.3,1,5,0,0]
["Housing Authority of the County of Cumberland","Shelter + Care Non-Chronic","PA0174L3T","PH",null,77,null,3,3,"",8,5,0,5,3,6,0,5,5,0,1.5,5,0,2.5,5,11,4,5,0,0]
["Home Nursing AgencyCommunity Services","Housing Assistance and Rental Program","PA0184L3E","PH",null,75.5,null,3,1,"",8,2,5,0,3,6,0,2,2,0,4.5,5,7.5,2.5,5,10,4,5,0,0]
["Resources for Human Development, Inc.","Crossroads Schuylkill Co. Permanent Supportive Housing","PA0708L3T","PH",null,75.5,null,10,3,"",8,2,5,0,3,0,0,0,0,0,5.5,5,7.5,2.5,5,10,4,5,0,0]
["Catholic Social Services of the Diocese of Scranton, Inc.","PSHP Pike County","PA0519L3T","PH",null,75.400000000000006,null,10,3,"",8,2,5,5,0,1,0,0,0,0,4.5,5,7.5,2.5,5,8.9,3,5,0,0]
["Valley Housing Development Corporation ","VHDC SHP #2 2016","PA0216L3T","PH",null,74.3,null,10,3,"",8,5,5,5,3,1,0,5,5,0,2,0,2.5,2.5,5,6.3,1,5,0,0]
["Valley Housing Development Corporation ","VHDC SHP #3 2016","PA0217L3T","PH",null,74.3,null,10,3,"",8,5,5,5,3,1,0,5,5,0,2,0,2.5,2.5,5,6.3,1,5,0,0]
["Housing Development Corporation of NEPA","HDC SHP 3 2016","PA0384L3T","PH",null,74,null,10,3,"",8,5,5,5,0,0,0,0,5,0,4,0,2.5,2.5,5,10,4,5,0,0]
["Catholic Social Services of the Diocese of Scranton, Inc.","Rural Permanent Supportive Housing Program","PA0386L3T","PH",null,73.900000000000006,null,10,3,"",2,5,5,5,3,0,0,0,0,0,4,5,7.5,2.5,5,8.9,3,5,0,0]
["Housing Authority of Monroe County","Renewal Application Shelter Plus Care MC 2016","PA0219L3T","PH",null,73.400000000000006,null,10,3,"",8,5,0,5,3,1,0,5,5,0,3,5,2.5,2.5,5,4.4000000000000004,1,5,0,0]
["United Christian Ministries","Kenner Garnet Renewal 2016","PA0210L3T","PH",null,73,null,10,1,"",8,5,5,3,0,6,0,0,0,0,1,0,7.5,2.5,5,10,4,5,0,0]
["Resources for Human Development, Inc.","Crossroads Family","PA0205L3T","PH",null,71.5,null,10,3,"",8,5,0,5,0,1,0,0,0,0,5.5,5,2.5,2.5,5,10,4,5,0,0]
["Valley Housing Development Corporation ","VHDC SHP #4 2016","PA0385L3T","PH",null,69.3,null,10,3,"",8,5,0,5,0,1,0,4,4,0,2,0,7.5,2.5,5,6.3,1,5,0,0]
["Northumberland County MH/MR","Sharing Support","PA0364L3T","PH",null,66.8,null,3,3,"",8,5,5,5,0,6,0,2,0,0,0,5,2.5,2.5,5,8.8000000000000007,1,5,0,0]
["Blair County Community Action Program","Rapid Re-Housing","PA0704L3E","PH-RRH",null,65.5,null,10,3,"",0,5,5,5,0,0,0,0,5,0,3.5,5,0,0,5,10,4,5,0,0]
["Cambria County","Cambria County Comprehensive Housing Program","PA0578C3E","PH",null,63.617021276595743,3.8170212765957459,3,3,"",8,5,0,5,0,3.82,0,5,5,0,1.5,5,2.5,2.5,5,3.3,1,5,0,0]
["The Salvation Army, a New York Corporation","Allentown Hospitality House Permanent Housing Program","PA0634L3T","PH",null,62.2,null,3,3,"",8,5,5,0,0,3,0,0,0,0,4.5,5,2.5,2.5,5,9.6999999999999993,1,5,0,0]
["Mifflin County","Mifflin County Permanent Housing Renewal","PA0175L3T","PH",null,60.8,null,0,3,"",8,2,5,0,0,0,0,4,0,0,3,5,7.5,2.5,5,8.8000000000000007,2,5,0,0]
["Northampton County Housing Authority","NCHA S+C 2016","PA0212L3T","PH",null,59.3,null,3,3,"",0,5,5,5,3,0,0,5,5,0,3,0,7.5,2.5,5,6.3,1,0,0,0]
["Maranatha","TOTAL PERSON TRANSITIONAL PROGRAM 1 & 2","PA0367L3T","PH-RRH",null,54,null,10,0,"",0,5,0,0,3,6,0,0,0,0,0,5,0,0,5,11,4,5,0,0]
["Housing Authority of the County of Cumberland","Rapid Rehousing II","PA0513L3T","PH-RRH",null,52,null,0,3,"",8,2,0,0,3,0,0,5,0,0,1,5,0,0,5,11,4,5,0,0]
["FY2015 PROJECTS - NOT FULL YEAR OF IMPLEMENTATION"]
["Blair County Community Action Program","Journey","PA0650L3E","PH-RRH"]
["Blair County Community Action Program","Transitional Housing Project","PA0372L3E","PH-RRH"]
["Tableland Services, Inc.","SHP Transitional Housing Project","PA0366L3E","PH-RRH"]
["FY2016 NEW - NOT RANKED"]
["Center for  Community Action","South Central PA Rapid Rehousing Project","PA0813L3T","PH-RRH"]
["Centre County Government","Centre County Rapid Re Housing Program","PA0814L3T","PH-RRH"]
["Housing Authority of the County of Cumberland","Rapid Rehousing Cumberland Perry Lebanon","PA0812L3T","PH-RRH"]
["Housing Transitions, Inc.","Nittany House Apartments II","PA0810L3T","PH"]
["Huntingdon House","Huntingdon Rapid ReHousing","PA0809L3T","PH-RRH"]
["Third Street Alliance for Women and Children","Lehigh Valley Rapid Re-Housing Program","PA0811L3T","PH-RRH"]
["Transitions of PA","SUN Counties Rapid Re-Housing for Domestic Violence Victims","PA0859L3T","PH-RRH"]
["Valley Youth House Committee, Inc.","Lehigh Valley RRH for Families","PA0808L3T","PH-RRH"]

{"sheet":"Summary Scoring Totals","index":1,"n_rows":102,"n_cols":30,"rows_kept":102,"cut":false,"hidden":false,"merged":[[3,20,3,24],[3,25,3,29],[0,0,1,1],[3,7,3,11],[3,12,3,19]]}
["Eastern CoC Project Ranking 2017 - Summary Totals"]
[]
[]
[null,null,null,null,null,null,null,"Performance",null,null,null,null,"Monitoring",null,null,null,null,null,null,null,"Opening Doors",null,null,null,null,"CoC Participation"]
["GIW Agency Name","GIW Project Name","Grant #","Project Type","Project Ranking","Total Score","Cambria S+C Proration (from 94 to 100)","Housing Outcomes","Returns of Homelessness","Length of Stay (TH Only)","Income Growth Measure","Mainstream Benefits","Partipicant Eligibility","Unit Utilization %","Drawdown Rates","Funds Recaptured","Timely APR Submission","Cost Effectiveness","Cost Effectiveness (Leavers)","HUD Monitoring","Project Description","Opening Doors","Severity of Needs","Prioritization of PSH","Housing 1st Approach","CoC Participation","CoC Meetings","HMIS Data Quality","HMIS Data Timeliness","HMIS Bed Inventory"]
[{"$f":"IF('CoC Renewal Ranking Report'!D9<>\"\",'CoC Renewal Ranking Report'!D9,\"\")","v":""},{"$f":"IF('CoC Renewal Ranking Report'!E9<>\"\",'CoC Renewal Ranking Report'!E9,\"\")","v":""},{"$f":"IF('CoC Renewal Ranking Report'!F9<>\"\",'CoC Renewal Ranking Report'!F9,\"\")","v":""},{"$f":"IF('CoC Renewal Ranking Report'!G9<>\"\",'CoC Renewal Ranking Report'!G9,\"\")","v":""},null,{"$f":"IF(A6<>\"\",SUM(G6:AD6), \"\")","v":""},null,{"$f":"IF('Exit-Retention to PH Measure'!A9<>\"\", 'Exit-Retention to PH Measure'!E9, \"\")","v":""},{"$f":"IF('Returns to Homelessness'!A9<>\"\", 'Returns to Homelessness'!E9, \"\")","v":""},{"$f":"IF('Length of Stay (TH Only)'!A10<>\"\", 'Length of Stay (TH Only)'!E10, \"\")","v":""},{"$f":"IF('Income Growth Measure'!A9<>\"\", 'Income Growth Measure'!F9, \"\")","v":""},{"$f":"IF('Mainstream Benefits Measure'!A7<>\"\", 'Mainstream Benefits Measure'!E7, \"\")","v":""},{"$f":"IF('Project Eligibility'!A9<>\"\", 'Project Eligibility'!E9, \"\")","v":""},{"$f":"IF('Unit Utilization Rate'!A8<>\"\", 'Unit Utilization Rate'!G8, \"\")","v":""},{"$f":"IF('eLOCCS Drawdowns'!A6<>\"\", 'eLOCCS Drawdowns'!E6, \"\")","v":""},{"$f":"IF('Recaptured Funds'!A9<>\"\", 'Recaptured Funds'!E9, \"\")","v":""},{"$f":"IF('Timely APR Submission'!A6<>\"\", 'Timely APR Submission'!E6, \"\")","v":""},{"$f":"IF('Cost Effectiveness'!A11<>\"\", 'Cost Effectiveness'!G11, \"\")","v":""},{"$f":"IF('Cost Effectiveness (Leavers)'!A11<>\"\", 'Cost Effectiveness (Leavers)'!G11, \"\")","v":""},{"$f":"IF('HUD Monitoring'!A7<>\"\", 'HUD Monitoring'!E7, \"\")","v":""},{"$f":"IF('Project Description'!A6<>\"\", 'Project Description'!D6, \"\")","v":""},{"$f":"IF('Opening Doors Goals'!A8<>\"\", 'Opening Doors Goals'!D8, \"\")","v":""},{"$f":"IF('Severity of Needs'!A9<>\"\", 'Severity of Needs'!E9, \"\")","v":""},{"$f":"IF('Prioritization of PSH'!A7<>\"\", 'Prioritization of PSH'!E7, \"\")","v":""},{"$f":"IF('Housing First Approach'!A6<>\"\", 'Housing First Approach'!E6, \"\")","v":""},{"$f":"IF('CoC Participation'!A8<>\"\", 'CoC Participation'!D8, \"\")","v":""},{"$f":"IF('CoC Meetings'!A8<>\"\", 'CoC Meetings'!D8, \"\")","v":""},{"$f":"IF('HMIS Data Quality'!A6<>\"\",'HMIS Data Quality'!E6,\"\")","v":""},{"$f":"IF('HMIS Data Timeliness'!A6<>\"\",'HMIS Data Timeliness'!E6,\"\")","v":""},{"$f":"IF('HMIS Bed Inventory'!A6<>\"\",'HMIS Bed Inventory'!E6,\"\")","v":""}]
[{"$f":"IF('CoC Renewal Ranking Report'!D10<>\"\",'CoC Renewal Ranking Report'!D10,\"\")","v":"Blair County Community Action Program"},{"$f":"IF('CoC Renewal Ranking Report'!E10<>\"\",'CoC Renewal Ranking Report'!E10,\"\")","v":"Rapid Re-Housing"},{"$f":"IF('CoC Renewal Ranking Report'!F10<>\"\",'CoC Renewal Ranking Report'!F10,\"\")","v":"PA0704L3E"},{"$f":"IF('CoC Renewal Ranking Report'!G10<>\"\",'CoC Renewal Ranking Report'!G10,\"\")","v":"PH-RRH"},null,{"$f":"IF(A7<>\"\",SUM(G7:AD7), \"\")","v":65.5},null,{"$f":"IF('Exit-Retention to PH Measure'!A10<>\"\", 'Exit-Retention to PH Measure'!E10, \"\")","v":10},{"$f":"IF('Returns to Homelessness'!A10<>\"\", 'Returns to Homelessness'!E10, \"\")","v":3},{"$f":"IF('Length of Stay (TH Only)'!A11<>\"\", 'Length of Stay (TH Only)'!E11, \"\")","v":""},{"$f":"IF('Income Growth Measure'!A10<>\"\", 'Income Growth Measure'!F10, \"\")","v":0},{"$f":"IF('Mainstream Benefits Measure'!A8<>\"\", 'Mainstream Benefits Measure'!E8, \"\")","v":5},{"$f":"IF('Project Eligibility'!A10<>\"\", 'Project Eligibility'!E10, \"\")","v":5},{"$f":"IF('Unit Utilization Rate'!A9<>\"\", 'Unit Utilization Rate'!G9, \"\")","v":5},{"$f":"IF('eLOCCS Drawdowns'!A7<>\"\", 'eLOCCS Drawdowns'!E7, \"\")","v":0},{"$f":"IF('Recaptured Funds'!A10<>\"\", 'Recaptured Funds'!E10, \"\")","v":0},{"$f":"IF('Timely APR Submission'!A7<>\"\", 'Timely APR Submission'!E7, \"\")","v":0},{"$f":"IF('Cost Effectiveness'!A12<>\"\", 'Cost Effectiveness'!G12, \"\")","v":0},{"$f":"IF('Cost Effectiveness (Leavers)'!A12<>\"\", 'Cost Effectiveness (Leavers)'!G12, \"\")","v":5},{"$f":"IF('HUD Monitoring'!A8<>\"\", 'HUD Monitoring'!E8, \"\")","v":0},{"$f":"IF('Project Description'!A7<>\"\", 'Project Description'!D7, \"\")","v":3.5},{"$f":"IF('Opening Doors Goals'!A9<>\"\", 'Opening Doors Goals'!D9, \"\")","v":5},{"$f":"IF('Severity of Needs'!A10<>\"\", 'Severity of Needs'!E10, \"\")","v":0},{"$f":"IF('Prioritization of PSH'!A8<>\"\", 'Prioritization of PSH'!E8, \"\")","v":0},{"$f":"IF('Housing First Approach'!A7<>\"\", 'Housing First Approach'!E7, \"\")","v":5},{"$f":"IF('CoC Participation'!A9<>\"\", 'CoC Participation'!D9, \"\")","v":10},{"$f":"IF('CoC Meetings'!A9<>\"\", 'CoC Meetings'!D9, \"\")","v":4},{"$f":"IF('HMIS Data Quality'!A7<>\"\",'HMIS Data Quality'!E7,\"\")","v":5},{"$f":"IF('HMIS Data Timeliness'!A7<>\"\",'HMIS Data Timeliness'!E7,\"\")","v":0},{"$f":"IF('HMIS Bed Inventory'!A7<>\"\",'HMIS Bed Inventory'!E7,\"\")","v":0}]
[{"$f":"IF('CoC Renewal Ranking Report'!D11<>\"\",'CoC Renewal Ranking Report'!D11,\"\")","v":"Cambria County"},{"$f":"IF('CoC Renewal Ranking Report'!E11<>\"\",'CoC Renewal Ranking Report'!E11,\"\")","v":"Cambria County Comprehensive Housing Program"},{"$f":"IF('CoC Renewal Ranking Report'!F11<>\"\",'CoC Renewal Ranking Report'!F11,\"\")","v":"PA0578C3E"},{"$f":"IF('CoC Renewal Ranking Report'!G11<>\"\",'CoC Renewal Ranking Report'!G11,\"\")","v":"PH"},null,63.617021276595743,{"$f":"(SUM(H8:AD8)/0.94) - SUM(H8:AD8)","v":3.8170212765957459},{"$f":"IF('Exit-Retention to PH Measure'!A11<>\"\", 'Exit-Retention to PH Measure'!E11, \"\")","v":3},{"$f":"IF('Returns to Homelessness'!A11<>\"\", 'Returns to Homelessness'!E11, \"\")","v":3},{"$f":"IF('Length of Stay (TH Only)'!A12<>\"\", 'Length of Stay (TH Only)'!E12, \"\")","v":""},{"$f":"IF('Income Growth Measure'!A11<>\"\", 'Income Growth Measure'!F11, \"\")","v":8},{"$f":"IF('Mainstream Benefits Measure'!A9<>\"\", 'Mainstream Benefits Measure'!E9, \"\")","v":5},{"$f":"IF('Project Eligibility'!A11<>\"\", 'Project Eligibility'!E11, \"\")","v":0},{"$f":"IF('Unit Utilization Rate'!A10<>\"\", 'Unit Utilization Rate'!G10, \"\")","v":5},{"$f":"IF('eLOCCS Drawdowns'!A8<>\"\", 'eLOCCS Drawdowns'!E8, \"\")","v":0},{"$f":"IF('Recaptured Funds'!A11<>\"\", 'Recaptured Funds'!E11, \"\")","v":0},{"$f":"IF('Timely APR Submission'!A8<>\"\", 'Timely APR Submission'!E8, \"\")","v":0},{"$f":"IF('Cost Effectiveness'!A13<>\"\", 'Cost Effectiveness'!G13, \"\")","v":5},{"$f":"IF('Cost Effectiveness (Leavers)'!A13<>\"\", 'Cost Effectiveness (Leavers)'!G13, \"\")","v":5},{"$f":"IF('HUD Monitoring'!A9<>\"\", 'HUD Monitoring'!E9, \"\")","v":0},{"$f":"IF('Project Description'!A8<>\"\", 'Project Description'!D8, \"\")","v":1.5},{"$f":"IF('Opening Doors Goals'!A10<>\"\", 'Opening Doors Goals'!D10, \"\")","v":5},{"$f":"IF('Severity of Needs'!A11<>\"\", 'Severity of Needs'!E11, \"\")","v":2.5},{"$f":"IF('Prioritization of PSH'!A9<>\"\", 'Prioritization of PSH'!E9, \"\")","v":2.5},{"$f":"IF('Housing First Approach'!A8<>\"\", 'Housing First Approach'!E8, \"\")","v":5},{"$f":"IF('CoC Participation'!A10<>\"\", 'CoC Participation'!D10, \"\")","v":3.3},{"$f":"IF('CoC Meetings'!A10<>\"\", 'CoC Meetings'!D10, \"\")","v":1},{"$f":"IF('HMIS Data Quality'!A8<>\"\",'HMIS Data Quality'!E8,\"\")","v":5},{"$f":"IF('HMIS Data Timeliness'!A8<>\"\",'HMIS Data Timeliness'!E8,\"\")","v":0},{"$f":"IF('HMIS Bed Inventory'!A8<>\"\",'HMIS Bed Inventory'!E8,\"\")","v":0}]
[{"$f":"IF('CoC Renewal Ranking Report'!D12<>\"\",'CoC Renewal Ranking Report'!D12,\"\")","v":"Catholic Charities of the Diocese of Allentown"},{"$f":"IF('CoC Renewal Ranking Report'!E12<>\"\",'CoC Renewal Ranking Report'!E12,\"\")","v":"Catholic Charities Allentown Permanent Housing Program"},{"$f":"IF('CoC Renewal Ranking Report'!F12<>\"\",'CoC Renewal Ranking Report'!F12,\"\")","v":"PA0520L3T"},{"$f":"IF('CoC Renewal Ranking Report'!G12<>\"\",'CoC Renewal Ranking Report'!G12,\"\")","v":"PH"},null,84.5,null,{"$f":"IF('Exit-Retention to PH Measure'!A12<>\"\", 'Exit-Retention to PH Measure'!E12, \"\")","v":10},{"$f":"IF('Returns to Homelessness'!A12<>\"\", 'Returns to Homelessness'!E12, \"\")","v":3},{"$f":"IF('Length of Stay (TH Only)'!A13<>\"\", 'Length of Stay (TH Only)'!E13, \"\")","v":""},{"$f":"IF('Income Growth Measure'!A12<>\"\", 'Income Growth Measure'!F12, \"\")","v":8},{"$f":"IF('Mainstream Benefits Measure'!A10<>\"\", 'Mainstream Benefits Measure'!E10, \"\")","v":2},{"$f":"IF('Project Eligibility'!A12<>\"\", 'Project Eligibility'!E12, \"\")","v":5},{"$f":"IF('Unit Utilization Rate'!A11<>\"\", 'Unit Utilization Rate'!G11, \"\")","v":5},{"$f":"IF('eLOCCS Drawdowns'!A9<>\"\", 'eLOCCS Drawdowns'!E9, \"\")","v":3},{"$f":"IF('Recaptured Funds'!A12<>\"\", 'Recaptured Funds'!E12, \"\")","v":0},{"$f":"IF('Timely APR Submission'!A9<>\"\", 'Timely APR Submission'!E9, \"\")","v":0},{"$f":"IF('Cost Effectiveness'!A14<>\"\", 'Cost Effectiveness'!G14, \"\")","v":5},{"$f":"IF('Cost Effectiveness (Leavers)'!A14<>\"\", 'Cost Effectiveness (Leavers)'!G14, \"\")","v":5},{"$f":"IF('HUD Monitoring'!A10<>\"\", 'HUD Monitoring'!E10, \"\")","v":0},{"$f":"IF('Project Description'!A9<>\"\", 'Project Description'!D9, \"\")","v":0.5},{"$f":"IF('Opening Doors Goals'!A11<>\"\", 'Opening Doors Goals'!D11, \"\")","v":5},{"$f":"IF('Severity of Needs'!A12<>\"\", 'Severity of Needs'!E12, \"\")","v":7.5},{"$f":"IF('Prioritization of PSH'!A10<>\"\", 'Prioritization of PSH'!E10, \"\")","v":2.5},{"$f":"IF('Housing First Approach'!A9<>\"\", 'Housing First Approach'!E9, \"\")","v":5},{"$f":"IF('CoC Participation'!A11<>\"\", 'CoC Participation'!D11, \"\")","v":10},{"$f":"IF('CoC Meetings'!A11<>\"\", 'CoC Meetings'!D11, \"\")","v":3},{"$f":"IF('HMIS Data Quality'!A9<>\"\",'HMIS Data Quality'!E9,\"\")","v":5},{"$f":"IF('HMIS Data Timeliness'!A9<>\"\",'HMIS Data Timeliness'!E9,\"\")","v":0},{"$f":"IF('HMIS Bed Inventory'!A9<>\"\",'HMIS Bed Inventory'!E9,\"\")","v":0}]
[{"$f":"IF('CoC Renewal Ranking Report'!D13<>\"\",'CoC Renewal Ranking Report'!D13,\"\")","v":"Catholic Social Services of the Diocese of Scranton, Inc."},{"$f":"IF('CoC Renewal Ranking Report'!E13<>\"\",'CoC Renewal Ranking Report'!E13,\"\")","v":"PSHP Pike County"},{"$f":"IF('CoC Renewal Ranking Report'!F13<>\"\",'CoC Renewal Ranking Report'!F13,\"\")","v":"PA0519L3T"},{"$f":"IF('CoC Renewal Ranking Report'!G13<>\"\",'CoC Renewal Ranking Report'!G13,\"\")","v":"PH"},null,75.400000000000006,null,{"$f":"IF('Exit-Retention to PH Measure'!A13<>\"\", 'Exit-Retention to PH Measure'!E13, \"\")","v":10},{"$f":"IF('Returns to Homelessness'!A13<>\"\", 'Returns to Homelessness'!E13, \"\")","v":3},{"$f":"IF('Length of Stay (TH Only)'!A14<>\"\", 'Length of Stay (TH Only)'!E14, \"\")","v":""},{"$f":"IF('Income Growth Measure'!A13<>\"\", 'Income Growth Measure'!F13, \"\")","v":8},{"$f":"IF('Mainstream Benefits Measure'!A11<>\"\", 'Mainstream Benefits Measure'!E11, \"\")","v":2},{"$f":"IF('Project Eligibility'!A13<>\"\", 'Project Eligibility'!E13, \"\")","v":5},{"$f":"IF('Unit Utilization Rate'!A12<>\"\", 'Unit Utilization Rate'!G12, \"\")","v":5},{"$f":"IF('eLOCCS Drawdowns'!A10<>\"\", 'eLOCCS Drawdowns'!E10, \"\")","v":0},{"$f":"IF('Recaptured Funds'!A13<>\"\", 'Recaptured Funds'!E13, \"\")","v":1},{"$f":"IF('Timely APR Submission'!A10<>\"\", 'Timely APR Submission'!E10, \"\")","v":0},{"$f":"IF('Cost Effectiveness'!A15<>\"\", 'Cost Effectiveness'!G15, \"\")","v":0},{"$f":"IF('Cost Effectiveness (Leavers)'!A15<>\"\", 'Cost Effectiveness (Leavers)'!G15, \"\")","v":0},{"$f":"IF('HUD Monitoring'!A11<>\"\", 'HUD Monitoring'!E11, \"\")","v":0},{"$f":"IF('Project Description'!A10<>\"\", 'Project Description'!D10, \"\")","v":4.5},{"$f":"IF('Opening Doors Goals'!A12<>\"\", 'Opening Doors Goals'!D12, \"\")","v":5},{"$f":"IF('Severity of Needs'!A13<>\"\", 'Severity of Needs'!E13, \"\")","v":7.5},{"$f":"IF('Prioritization of PSH'!A11<>\"\", 'Prioritization of PSH'!E11, \"\")","v":2.5},{"$f":"IF('Housing First Approach'!A10<>\"\", 'Housing First Approach'!E10, \"\")","v":5},{"$f":"IF('CoC Participation'!A12<>\"\", 'CoC Participation'!D12, \"\")","v":8.9},{"$f":"IF('CoC Meetings'!A12<>\"\", 'CoC Meetings'!D12, \"\")","v":3},{"$f":"IF('HMIS Data Quality'!A10<>\"\",'HMIS Data Quality'!E10,\"\")","v":5},{"$f":"IF('HMIS Data Timeliness'!A10<>\"\",'HMIS Data Timeliness'!E10,\"\")","v":0},{"$f":"IF('HMIS Bed Inventory'!A10<>\"\",'HMIS Bed Inventory'!E10,\"\")","v":0}]
[{"$f":"IF('CoC Renewal Ranking Report'!D14<>\"\",'CoC Renewal Ranking Report'!D14,\"\")","v":"Catholic Social Services of the Diocese of Scranton, Inc."},{"$f":"IF('CoC Renewal Ranking Report'!E14<>\"\",'CoC Renewal Ranking Report'!E14,\"\")","v":"Rural Permanent Supportive Housing Program"},{"$f":"IF('CoC Renewal Ranking Report'!F14<>\"\",'CoC Renewal Ranking Report'!F14,\"\")","v":"PA0386L3T"},{"$f":"IF('CoC Renewal Ranking Report'!G14<>\"\",'CoC Renewal Ranking Report'!G14,\"\")","v":"PH"},null,73.900000000000006,null,{"$f":"IF('Exit-Retention to PH Measure'!A14<>\"\", 'Exit-Retention to PH Measure'!E14, \"\")","v":10},{"$f":"IF('Returns to Homelessness'!A14<>\"\", 'Returns to Homelessness'!E14, \"\")","v":3},{"$f":"IF('Length of Stay (TH Only)'!A15<>\"\", 'Length of Stay (TH Only)'!E15, \"\")","v":""},{"$f":"IF('Income Growth Measure'!A14<>\"\", 'Income Growth Measure'!F14, \"\")","v":2},{"$f":"IF('Mainstream Benefits Measure'!A12<>\"\", 'Mainstream Benefits Measure'!E12, \"\")","v":5},{"$f":"IF('Project Eligibility'!A14<>\"\", 'Project Eligibility'!E14, \"\")","v":5},{"$f":"IF('Unit Utilization Rate'!A13<>\"\", 'Unit Utilization Rate'!G13, \"\")","v":5},{"$f":"IF('eLOCCS Drawdowns'!A11<>\"\", 'eLOCCS Drawdowns'!E11, \"\")","v":3},{"$f":"IF('Recaptured Funds'!A14<>\"\", 'Recaptured Funds'!E14, \"\")","v":0},{"$f":"IF('Timely APR Submission'!A11<>\"\", 'Timely APR Submission'!E11, \"\")","v":0},{"$f":"IF('Cost Effectiveness'!A16<>\"\", 'Cost Effectiveness'!G16, \"\")","v":0},{"$f":"IF('Cost Effectiveness (Leavers)'!A16<>\"\", 'Cost Effectiveness (Leavers)'!G16, \"\")","v":0},{"$f":"IF('HUD Monitoring'!A12<>\"\", 'HUD Monitoring'!E12, \"\")","v":0},{"$f":"IF('Project Description'!A11<>\"\", 'Project Description'!D11, \"\")","v":4},{"$f":"IF('Opening Doors Goals'!A13<>\"\", 'Opening Doors Goals'!D13, \"\")","v":5},{"$f":"IF('Severity of Needs'!A14<>\"\", 'Severity of Needs'!E14, \"\")","v":7.5},{"$f":"IF('Prioritization of PSH'!A12<>\"\", 'Prioritization of PSH'!E12, \"\")","v":2.5},{"$f":"IF('Housing First Approach'!A11<>\"\", 'Housing First Approach'!E11, \"\")","v":5},{"$f":"IF('CoC Participation'!A13<>\"\", 'CoC Participation'!D13, \"\")","v":8.9},{"$f":"IF('CoC Meetings'!A13<>\"\", 'CoC Meetings'!D13, \"\")","v":3},{"$f":"IF('HMIS Data Quality'!A11<>\"\",'HMIS Data Quality'!E11,\"\")","v":5},{"$f":"IF('HMIS Data Timeliness'!A11<>\"\",'HMIS Data Timeliness'!E11,\"\")","v":0},{"$f":"IF('HMIS Bed Inventory'!A11<>\"\",'HMIS Bed Inventory'!E11,\"\")","v":0}]
[{"$f":"IF('CoC Renewal Ranking Report'!D15<>\"\",'CoC Renewal Ranking Report'!D15,\"\")","v":"Catholic Social Services of the Diocese of Scranton, Inc."},{"$f":"IF('CoC Renewal Ranking Report'!E15<>\"\",'CoC Renewal Ranking Report'!E15,\"\")","v":"Susquehanna/Wayne PSHP"},{"$f":"IF('CoC Renewal Ranking Report'!F15<>\"\",'CoC Renewal Ranking Report'!F15,\"\")","v":"PA0450L3T"},{"$f":"IF('CoC Renewal Ranking Report'!G15<>\"\",'CoC Renewal Ranking Report'!G15,\"\")","v":"PH"},null,84.9,null,{"$f":"IF('Exit-Retention to PH Measure'!A15<>\"\", 'Exit-Retention to PH Measure'!E15, \"\")","v":10},{"$f":"IF('Returns to Homelessness'!A15<>\"\", 'Returns to Homelessness'!E15, \"\")","v":3},{"$f":"IF('Length of Stay (TH Only)'!A16<>\"\", 'Length of Stay (TH Only)'!E16, \"\")","v":""},{"$f":"IF('Income Growth Measure'!A15<>\"\", 'Income Growth Measure'!F15, \"\")","v":8},{"$f":"IF('Mainstream Benefits Measure'!A13<>\"\", 'Mainstream Benefits Measure'!E13, \"\")","v":5},{"$f":"IF('Project Eligibility'!A15<>\"\", 'Project Eligibility'!E15, \"\")","v":5},{"$f":"IF('Unit Utilization Rate'!A14<>\"\", 'Unit Utilization Rate'!G14, \"\")","v":5},{"$f":"IF('eLOCCS Drawdowns'!A12<>\"\", 'eLOCCS Drawdowns'!E12, \"\")","v":0},{"$f":"IF('Recaptured Funds'!A15<>\"\", 'Recaptured Funds'!E15, \"\")","v":6},{"$f":"IF('Timely APR Submission'!A12<>\"\", 'Timely APR Submission'!E12, \"\")","v":0},{"$f":"IF('Cost Effectiveness'!A17<>\"\", 'Cost Effectiveness'!G17, \"\")","v":2},{"$f":"IF('Cost Effectiveness (Leavers)'!A17<>\"\", 'Cost Effectiveness (Leavers)'!G17, \"\")","v":0},{"$f":"IF('HUD Monitoring'!A13<>\"\", 'HUD Monitoring'!E13, \"\")","v":0},{"$f":"IF('Project Description'!A12<>\"\", 'Project Description'!D12, \"\")","v":4},{"$f":"IF('Opening Doors Goals'!A14<>\"\", 'Opening Doors Goals'!D14, \"\")","v":5},{"$f":"IF('Severity of Needs'!A15<>\"\", 'Severity of Needs'!E15, \"\")","v":7.5},{"$f":"IF('Prioritization of PSH'!A13<>\"\", 'Prioritization of PSH'!E13, \"\")","v":2.5},{"$f":"IF('Housing First Approach'!A12<>\"\", 'Housing First Approach'!E12, \"\")","v":5},{"$f":"IF('CoC Participation'!A14<>\"\", 'CoC Participation'!D14, \"\")","v":8.9},{"$f":"IF('CoC Meetings'!A14<>\"\", 'CoC Meetings'!D14, \"\")","v":3},{"$f":"IF('HMIS Data Quality'!A12<>\"\",'HMIS Data Quality'!E12,\"\")","v":5},{"$f":"IF('HMIS Data Timeliness'!A12<>\"\",'HMIS Data Timeliness'!E12,\"\")","v":0},{"$f":"IF('HMIS Bed Inventory'!A12<>\"\",'HMIS Bed Inventory'!E12,\"\")","v":0}]
[{"$f":"IF('CoC Renewal Ranking Report'!D16<>\"\",'CoC Renewal Ranking Report'!D16,\"\")","v":"Center for Community Action"},{"$f":"IF('CoC Renewal Ranking Report'!E16<>\"\",'CoC Renewal Ranking Report'!E16,\"\")","v":"Bedford,Fulton, Huntingdon RRH"},{"$f":"IF('CoC Renewal Ranking Report'!F16<>\"\",'CoC Renewal Ranking Report'!F16,\"\")","v":"PA0661L3E"},{"$f":"IF('CoC Renewal Ranking Report'!G16<>\"\",'CoC Renewal Ranking Report'!G16,\"\")","v":"PH-RRH"},null,81,null,{"$f":"IF('Exit-Retention to PH Measure'!A16<>\"\", 'Exit-Retention to PH Measure'!E16, \"\")","v":10},{"$f":"IF('Returns to Homelessness'!A16<>\"\", 'Returns to Homelessness'!E16, \"\")","v":3},{"$f":"IF('Length of Stay (TH Only)'!A17<>\"\", 'Length of Stay (TH Only)'!E17, \"\")","v":""},{"$f":"IF('Income Growth Measure'!A16<>\"\", 'Income Growth Measure'!F16, \"\")","v":0},{"$f":"IF('Mainstream Benefits Measure'!A14<>\"\", 'Mainstream Benefits Measure'!E14, \"\")","v":5},{"$f":"IF('Project Eligibility'!A16<>\"\", 'Project Eligibility'!E16, \"\")","v":5},{"$f":"IF('Unit Utilization Rate'!A15<>\"\", 'Unit Utilization Rate'!G15, \"\")","v":3},{"$f":"IF('eLOCCS Drawdowns'!A13<>\"\", 'eLOCCS Drawdowns'!E13, \"\")","v":3},{"$f":"IF('Recaptured Funds'!A16<>\"\", 'Recaptured Funds'!E16, \"\")","v":6},{"$f":"IF('Timely APR Submission'!A13<>\"\", 'Timely APR Submission'!E13, \"\")","v":0},{"$f":"IF('Cost Effectiveness'!A18<>\"\", 'Cost Effectiveness'!G18, \"\")","v":5},{"$f":"IF('Cost Effectiveness (Leavers)'!A18<>\"\", 'Cost Effectiveness (Leavers)'!G18, \"\")","v":5},{"$f":"IF('HUD Monitoring'!A14<>\"\", 'HUD Monitoring'!E14, \"\")","v":0},{"$f":"IF('Project Description'!A13<>\"\", 'Project Description'!D13, \"\")","v":4.5},{"$f":"IF('Opening Doors Goals'!A15<>\"\", 'Opening Doors Goals'!D15, \"\")","v":5},{"$f":"IF('Severity of Needs'!A16<>\"\", 'Severity of Needs'!E16, \"\")","v":0},{"$f":"IF('Prioritization of PSH'!A14<>\"\", 'Prioritization of PSH'!E14, \"\")","v":2.5},{"$f":"IF('Housing First Approach'!A13<>\"\", 'Housing First Approach'!E13, \"\")","v":5},{"$f":"IF('CoC Participation'!A15<>\"\", 'CoC Participation'!D15, \"\")","v":10},{"$f":"IF('CoC Meetings'!A15<>\"\", 'CoC Meetings'!D15, \"\")","v":4},{"$f":"IF('HMIS Data Quality'!A13<>\"\",'HMIS Data Quality'!E13,\"\")","v":5},{"$f":"IF('HMIS Data Timeliness'!A13<>\"\",'HMIS Data Timeliness'!E13,\"\")","v":0},{"$f":"IF('HMIS Bed Inventory'!A13<>\"\",'HMIS Bed Inventory'!E13,\"\")","v":0}]
[{"$f":"IF('CoC Renewal Ranking Report'!D17<>\"\",'CoC Renewal Ranking Report'!D17,\"\")","v":"County of Franklin"},{"$f":"IF('CoC Renewal Ranking Report'!E17<>\"\",'CoC Renewal Ranking Report'!E17,\"\")","v":"Franklin/ Fulton S+C Project 2017"},{"$f":"IF('CoC Renewal Ranking Report'!F17<>\"\",'CoC Renewal Ranking Report'!F17,\"\")","v":"PA0649L3T"},{"$f":"IF('CoC Renewal Ranking Report'!G17<>\"\",'CoC Renewal Ranking Report'!G17,\"\")","v":"PH"},null,91,null,{"$f":"IF('Exit-Retention to PH Measure'!A17<>\"\", 'Exit-Retention to PH Measure'!E17, \"\")","v":10},{"$f":"IF('Returns to Homelessness'!A17<>\"\", 'Returns to Homelessness'!E17, \"\")","v":3},{"$f":"IF('Length of Stay (TH Only)'!A18<>\"\", 'Length of Stay (TH Only)'!E18, \"\")","v":""},{"$f":"IF('Income Growth Measure'!A17<>\"\", 'Income Growth Measure'!F17, \"\")","v":8},{"$f":"IF('Mainstream Benefits Measure'!A15<>\"\", 'Mainstream Benefits Measure'!E15, \"\")","v":5},{"$f":"IF('Project Eligibility'!A17<>\"\", 'Project Eligibility'!E17, \"\")","v":5},{"$f":"IF('Unit Utilization Rate'!A16<>\"\", 'Unit Utilization Rate'!G16, \"\")","v":5},{"$f":"IF('eLOCCS Drawdowns'!A14<>\"\", 'eLOCCS Drawdowns'!E14, \"\")","v":0},{"$f":"IF('Recaptured Funds'!A17<>\"\", 'Recaptured Funds'!E17, \"\")","v":6},{"$f":"IF('Timely APR Submission'!A14<>\"\", 'Timely APR Submission'!E14, \"\")","v":0},{"$f":"IF('Cost Effectiveness'!A19<>\"\", 'Cost Effectiveness'!G19, \"\")","v":5},{"$f":"IF('Cost Effectiveness (Leavers)'!A19<>\"\", 'Cost Effectiveness (Leavers)'!G19, \"\")","v":5},{"$f":"IF('HUD Monitoring'!A15<>\"\", 'HUD Monitoring'!E15, \"\")","v":0},{"$f":"IF('Project Description'!A14<>\"\", 'Project Description'!D14, \"\")","v":1},{"$f":"IF('Opening Doors Goals'!A16<>\"\", 'Opening Doors Goals'!D16, \"\")","v":5},{"$f":"IF('Severity of Needs'!A17<>\"\", 'Severity of Needs'!E17, \"\")","v":7.5},{"$f":"IF('Prioritization of PSH'!A15<>\"\", 'Prioritization of PSH'!E15, \"\")","v":2.5},{"$f":"IF('Housing First Approach'!A14<>\"\", 'Housing First Approach'!E14, \"\")","v":5},{"$f":"IF('CoC Participation'!A16<>\"\", 'CoC Participation'!D16, \"\")","v":10},{"$f":"IF('CoC Meetings'!A16<>\"\", 'CoC Meetings'!D16, \"\")","v":3},{"$f":"IF('HMIS Data Quality'!A14<>\"\",'HMIS Data Quality'!E14,\"\")","v":5},{"$f":"IF('HMIS Data Timeliness'!A14<>\"\",'HMIS Data Timeliness'!E14,\"\")","v":0},{"$f":"IF('HMIS Bed Inventory'!A14<>\"\",'HMIS Bed Inventory'!E14,\"\")","v":0}]
[{"$f":"IF('CoC Renewal Ranking Report'!D18<>\"\",'CoC Renewal Ranking Report'!D18,\"\")","v":"County of Franklin"},{"$f":"IF('CoC Renewal Ranking Report'!E18<>\"\",'CoC Renewal Ranking Report'!E18,\"\")","v":"Franklin/Fulton Homeless Assistance Project 2017"},{"$f":"IF('CoC Renewal Ranking Report'!F18<>\"\",'CoC Renewal Ranking Report'!F18,\"\")","v":"PA0182L3T"},{"$f":"IF('CoC Renewal Ranking Report'!G18<>\"\",'CoC Renewal Ranking Report'!G18,\"\")","v":"PH"},null,90,null,{"$f":"IF('Exit-Retention to PH Measure'!A18<>\"\", 'Exit-Retention to PH Measure'!E18, \"\")","v":10},{"$f":"IF('Returns to Homelessness'!A18<>\"\", 'Returns to Homelessness'!E18, \"\")","v":3},{"$f":"IF('Length of Stay (TH Only)'!A19<>\"\", 'Length of Stay (TH Only)'!E19, \"\")","v":""},{"$f":"IF('Income Growth Measure'!A18<>\"\", 'Income Growth Measure'!F18, \"\")","v":8},{"$f":"IF('Mainstream Benefits Measure'!A16<>\"\", 'Mainstream Benefits Measure'!E16, \"\")","v":5},{"$f":"IF('Project Eligibility'!A18<>\"\", 'Project Eligibility'!E18, \"\")","v":5},{"$f":"IF('Unit Utilization Rate'!A17<>\"\", 'Unit Utilization Rate'!G17, \"\")","v":5},{"$f":"IF('eLOCCS Drawdowns'!A15<>\"\", 'eLOCCS Drawdowns'!E15, \"\")","v":3},{"$f":"IF('Recaptured Funds'!A18<>\"\", 'Recaptured Funds'!E18, \"\")","v":6},{"$f":"IF('Timely APR Submission'!A15<>\"\", 'Timely APR Submission'!E15, \"\")","v":0},{"$f":"IF('Cost Effectiveness'!A20<>\"\", 'Cost Effectiveness'!G20, \"\")","v":5},{"$f":"IF('Cost Effectiveness (Leavers)'!A20<>\"\", 'Cost Effectiveness (Leavers)'!G20, \"\")","v":5},{"$f":"IF('HUD Monitoring'!A16<>\"\", 'HUD Monitoring'!E16, \"\")","v":0},{"$f":"IF('Project Description'!A15<>\"\", 'Project Description'!D15, \"\")","v":2},{"$f":"IF('Opening Doors Goals'!A17<>\"\", 'Opening Doors Goals'!D17, \"\")","v":5},{"$f":"IF('Severity of Needs'!A18<>\"\", 'Severity of Needs'!E18, \"\")","v":7.5},{"$f":"IF('Prioritization of PSH'!A16<>\"\", 'Prioritization of PSH'!E16, \"\")","v":2.5},{"$f":"IF('Housing First Approach'!A15<>\"\", 'Housing First Approach'!E15, \"\")","v":5},{"$f":"IF('CoC Participation'!A17<>\"\", 'CoC Participation'!D17, \"\")","v":10},{"$f":"IF('CoC Meetings'!A17<>\"\", 'CoC Meetings'!D17, \"\")","v":3},{"$f":"IF('HMIS Data Quality'!A15<>\"\",'HMIS Data Quality'!E15,\"\")","v":0},{"$f":"IF('HMIS Data Timeliness'!A15<>\"\",'HMIS Data Timeliness'!E15,\"\")","v":0},{"$f":"IF('HMIS Bed Inventory'!A15<>\"\",'HMIS Bed Inventory'!E15,\"\")","v":0}]
[{"$f":"IF('CoC Renewal Ranking Report'!D19<>\"\",'CoC Renewal Ranking Report'!D19,\"\")","v":"County of Lycoming DBA Lycoming- Clinton Joinder Board"},{"$f":"IF('CoC Renewal Ranking Report'!E19<>\"\",'CoC Renewal Ranking Report'!E19,\"\")","v":"Lycoming/Clinton Renewal #5"},{"$f":"IF('CoC Renewal Ranking Report'!F19<>\"\",'CoC Renewal Ranking Report'!F19,\"\")","v":"PA0445L3T"},{"$f":"IF('CoC Renewal Ranking Report'!G19<>\"\",'CoC Renewal Ranking Report'!G19,\"\")","v":"PH"},null,82.5,null,{"$f":"IF('Exit-Retention to PH Measure'!A19<>\"\", 'Exit-Retention to PH Measure'!E19, \"\")","v":3},{"$f":"IF('Returns to Homelessness'!A19<>\"\", 'Returns to Homelessness'!E19, \"\")","v":3},{"$f":"IF('Length of Stay (TH Only)'!A20<>\"\", 'Length of Stay (TH Only)'!E20, \"\")","v":""},{"$f":"IF('Income Growth Measure'!A19<>\"\", 'Income Growth Measure'!F19, \"\")","v":8},{"$f":"IF('Mainstream Benefits Measure'!A17<>\"\", 'Mainstream Benefits Measure'!E17, \"\")","v":5},{"$f":"IF('Project Eligibility'!A19<>\"\", 'Project Eligibility'!E19, \"\")","v":5},{"$f":"IF('Unit Utilization Rate'!A18<>\"\", 'Unit Utilization Rate'!G18, \"\")","v":5},{"$f":"IF('eLOCCS Drawdowns'!A16<>\"\", 'eLOCCS Drawdowns'!E16, \"\")","v":0},{"$f":"IF('Recaptured Funds'!A19<>\"\", 'Recaptured Funds'!E19, \"\")","v":6},{"$f":"IF('Timely APR Submission'!A16<>\"\", 'Timely APR Submission'!E16, \"\")","v":0},{"$f":"IF('Cost Effectiveness'!A21<>\"\", 'Cost Effectiveness'!G21, \"\")","v":5},{"$f":"IF('Cost Effectiveness (Leavers)'!A21<>\"\", 'Cost Effectiveness (Leavers)'!G21, \"\")","v":5},{"$f":"IF('HUD Monitoring'!A17<>\"\", 'HUD Monitoring'!E17, \"\")","v":0},{"$f":"IF('Project Description'!A16<>\"\", 'Project Description'!D16, \"\")","v":4.5},{"$f":"IF('Opening Doors Goals'!A18<>\"\", 'Opening Doors Goals'!D18, \"\")","v":5},{"$f":"IF('Severity of Needs'!A19<>\"\", 'Severity of Needs'!E19, \"\")","v":2.5},{"$f":"IF('Prioritization of PSH'!A17<>\"\", 'Prioritization of PSH'!E17, \"\")","v":2.5},{"$f":"IF('Housing First Approach'!A16<>\"\", 'Housing First Approach'!E16, \"\")","v":5},{"$f":"IF('CoC Participation'!A18<>\"\", 'CoC Participation'!D18, \"\")","v":10},{"$f":"IF('CoC Meetings'!A18<>\"\", 'CoC Meetings'!D18, \"\")","v":3},{"$f":"IF('HMIS Data Quality'!A16<>\"\",'HMIS Data Quality'!E16,\"\")","v":5},{"$f":"IF('HMIS Data Timeliness'!A16<>\"\",'HMIS Data Timeliness'!E16,\"\")","v":0},{"$f":"IF('HMIS Bed Inventory'!A16<>\"\",'HMIS Bed Inventory'!E16,\"\")","v":0}]
[{"$f":"IF('CoC Renewal Ranking Report'!D20<>\"\",'CoC Renewal Ranking Report'!D20,\"\")","v":"Fitzmaurice Community Services, Inc"},{"$f":"IF('CoC Renewal Ranking Report'!E20<>\"\",'CoC Renewal Ranking Report'!E20,\"\")","v":"Pathfinders"},{"$f":"IF('CoC Renewal Ranking Report'!F20<>\"\",'CoC Renewal Ranking Report'!F20,\"\")","v":"PA0214L3T"},{"$f":"IF('CoC Renewal Ranking Report'!G20<>\"\",'CoC Renewal Ranking Report'!G20,\"\")","v":"PH"},null,77.5,null,{"$f":"IF('Exit-Retention to PH Measure'!A20<>\"\", 'Exit-Retention to PH Measure'!E20, \"\")","v":10},{"$f":"IF('Returns to Homelessness'!A20<>\"\", 'Returns to Homelessness'!E20, \"\")","v":0},{"$f":"IF('Length of Stay (TH Only)'!A21<>\"\", 'Length of Stay (TH Only)'!E21, \"\")","v":""},{"$f":"IF('Income Growth Measure'!A20<>\"\", 'Income Growth Measure'!F20, \"\")","v":8},{"$f":"IF('Mainstream Benefits Measure'!A18<>\"\", 'Mainstream Benefits Measure'!E18, \"\")","v":5},{"$f":"IF('Project Eligibility'!A20<>\"\", 'Project Eligibility'!E20, \"\")","v":0},{"$f":"IF('Unit Utilization Rate'!A19<>\"\", 'Unit Utilization Rate'!G19, \"\")","v":0},{"$f":"IF('eLOCCS Drawdowns'!A17<>\"\", 'eLOCCS Drawdowns'!E17, \"\")","v":3},{"$f":"IF('Recaptured Funds'!A20<>\"\", 'Recaptured Funds'!E20, \"\")","v":6},{"$f":"IF('Timely APR Submission'!A17<>\"\", 'Timely APR Submission'!E17, \"\")","v":0},{"$f":"IF('Cost Effectiveness'!A22<>\"\", 'Cost Effectiveness'!G22, \"\")","v":0},{"$f":"IF('Cost Effectiveness (Leavers)'!A22<>\"\", 'Cost Effectiveness (Leavers)'!G22, \"\")","v":0},{"$f":"IF('HUD Monitoring'!A18<>\"\", 'HUD Monitoring'!E18, \"\")","v":0},{"$f":"IF('Project Description'!A17<>\"\", 'Project Description'!D17, \"\")","v":5.5},{"$f":"IF('Opening Doors Goals'!A19<>\"\", 'Opening Doors Goals'!D19, \"\")","v":5},{"$f":"IF('Severity of Needs'!A20<>\"\", 'Severity of Needs'!E20, \"\")","v":7.5},{"$f":"IF('Prioritization of PSH'!A18<>\"\", 'Prioritization of PSH'!E18, \"\")","v":2.5},{"$f":"IF('Housing First Approach'!A17<>\"\", 'Housing First Approach'!E17, \"\")","v":5},{"$f":"IF('CoC Participation'!A19<>\"\", 'CoC Participation'!D19, \"\")","v":11},{"$f":"IF('CoC Meetings'!A19<>\"\", 'CoC Meetings'!D19, \"\")","v":4},{"$f":"IF('HMIS Data Quality'!A17<>\"\",'HMIS Data Quality'!E17,\"\")","v":5},{"$f":"IF('HMIS Data Timeliness'!A17<>\"\",'HMIS Data Timeliness'!E17,\"\")","v":0},{"$f":"IF('HMIS Bed Inventory'!A17<>\"\",'HMIS Bed Inventory'!E17,\"\")","v":0}]
[{"$f":"IF('CoC Renewal Ranking Report'!D21<>\"\",'CoC Renewal Ranking Report'!D21,\"\")","v":"Home Nursing AgencyCommunity Services"},{"$f":"IF('CoC Renewal Ranking Report'!E21<>\"\",'CoC Renewal Ranking Report'!E21,\"\")","v":"Housing Assistance and Rental Program"},{"$f":"IF('CoC Renewal Ranking Report'!F21<>\"\",'CoC Renewal Ranking Report'!F21,\"\")","v":"PA0184L3E"},{"$f":"IF('CoC Renewal Ranking Report'!G21<>\"\",'CoC Renewal Ranking Report'!G21,\"\")","v":"PH"},null,75.5,null,{"$f":"IF('Exit-Retention to PH Measure'!A21<>\"\", 'Exit-Retention to PH Measure'!E21, \"\")","v":3},{"$f":"IF('Returns to Homelessness'!A21<>\"\", 'Returns to Homelessness'!E21, \"\")","v":1},{"$f":"IF('Length of Stay (TH Only)'!A22<>\"\", 'Length of Stay (TH Only)'!E22, \"\")","v":""},{"$f":"IF('Income Growth Measure'!A21<>\"\", 'Income Growth Measure'!F21, \"\")","v":8},{"$f":"IF('Mainstream Benefits Measure'!A19<>\"\", 'Mainstream Benefits Measure'!E19, \"\")","v":2},{"$f":"IF('Project Eligibility'!A21<>\"\", 'Project Eligibility'!E21, \"\")","v":5},{"$f":"IF('Unit Utilization Rate'!A20<>\"\", 'Unit Utilization Rate'!G20, \"\")","v":0},{"$f":"IF('eLOCCS Drawdowns'!A18<>\"\", 'eLOCCS Drawdowns'!E18, \"\")","v":3},{"$f":"IF('Recaptured Funds'!A21<>\"\", 'Recaptured Funds'!E21, \"\")","v":6},{"$f":"IF('Timely APR Submission'!A18<>\"\", 'Timely APR Submission'!E18, \"\")","v":0},{"$f":"IF('Cost Effectiveness'!A23<>\"\", 'Cost Effectiveness'!G23, \"\")","v":2},{"$f":"IF('Cost Effectiveness (Leavers)'!A23<>\"\", 'Cost Effectiveness (Leavers)'!G23, \"\")","v":2},{"$f":"IF('HUD Monitoring'!A19<>\"\", 'HUD Monitoring'!E19, \"\")","v":0},{"$f":"IF('Project Description'!A18<>\"\", 'Project Description'!D18, \"\")","v":4.5},{"$f":"IF('Opening Doors Goals'!A20<>\"\", 'Opening Doors Goals'!D20, \"\")","v":5},{"$f":"IF('Severity of Needs'!A21<>\"\", 'Severity of Needs'!E21, \"\")","v":7.5},{"$f":"IF('Prioritization of PSH'!A19<>\"\", 'Prioritization of PSH'!E19, \"\")","v":2.5},{"$f":"IF('Housing First Approach'!A18<>\"\", 'Housing First Approach'!E18, \"\")","v":5},{"$f":"IF('CoC Participation'!A20<>\"\", 'CoC Participation'!D20, \"\")","v":10},{"$f":"IF('CoC Meetings'!A20<>\"\", 'CoC Meetings'!D20, \"\")","v":4},{"$f":"IF('HMIS Data Quality'!A18<>\"\",'HMIS Data Quality'!E18,\"\")","v":5},{"$f":"IF('HMIS Data Timeliness'!A18<>\"\",'HMIS Data Timeliness'!E18,\"\")","v":0},{"$f":"IF('HMIS Bed Inventory'!A18<>\"\",'HMIS Bed Inventory'!E18,\"\")","v":0}]
[{"$f":"IF('CoC Renewal Ranking Report'!D22<>\"\",'CoC Renewal Ranking Report'!D22,\"\")","v":"Housing Authority of Monroe County"},{"$f":"IF('CoC Renewal Ranking Report'!E22<>\"\",'CoC Renewal Ranking Report'!E22,\"\")","v":"Renewal Application Shelter Plus Care MC 2016"},{"$f":"IF('CoC Renewal Ranking Report'!F22<>\"\",'CoC Renewal Ranking Report'!F22,\"\")","v":"PA0219L3T"},{"$f":"IF('CoC Renewal Ranking Report'!G22<>\"\",'CoC Renewal Ranking Report'!G22,\"\")","v":"PH"},null,73.400000000000006,null,{"$f":"IF('Exit-Retention to PH Measure'!A22<>\"\", 'Exit-Retention to PH Measure'!E22, \"\")","v":10},{"$f":"IF('Returns to Homelessness'!A22<>\"\", 'Returns to Homelessness'!E22, \"\")","v":3},{"$f":"IF('Length of Stay (TH Only)'!A23<>\"\", 'Length of Stay (TH Only)'!E23, \"\")","v":""},{"$f":"IF('Income Growth Measure'!A22<>\"\", 'Income Growth Measure'!F22, \"\")","v":8},{"$f":"IF('Mainstream Benefits Measure'!A20<>\"\", 'Mainstream Benefits Measure'!E20, \"\")","v":5},{"$f":"IF('Project Eligibility'!A22<>\"\", 'Project Eligibility'!E22, \"\")","v":0},{"$f":"IF('Unit Utilization Rate'!A21<>\"\", 'Unit Utilization Rate'!G21, \"\")","v":5},{"$f":"IF('eLOCCS Drawdowns'!A19<>\"\", 'eLOCCS Drawdowns'!E19, \"\")","v":3},{"$f":"IF('Recaptured Funds'!A22<>\"\", 'Recaptured Funds'!E22, \"\")","v":1},{"$f":"IF('Timely APR Submission'!A19<>\"\", 'Timely APR Submission'!E19, \"\")","v":0},{"$f":"IF('Cost Effectiveness'!A24<>\"\", 'Cost Effectiveness'!G24, \"\")","v":5},{"$f":"IF('Cost Effectiveness (Leavers)'!A24<>\"\", 'Cost Effectiveness (Leavers)'!G24, \"\")","v":5},{"$f":"IF('HUD Monitoring'!A20<>\"\", 'HUD Monitoring'!E20, \"\")","v":0},{"$f":"IF('Project Description'!A19<>\"\", 'Project Description'!D19, \"\")","v":3},{"$f":"IF('Opening Doors Goals'!A21<>\"\", 'Opening Doors Goals'!D21, \"\")","v":5},{"$f":"IF('Severity of Needs'!A22<>\"\", 'Severity of Needs'!E22, \"\")","v":2.5},{"$f":"IF('Prioritization of PSH'!A20<>\"\", 'Prioritization of PSH'!E20, \"\")","v":2.5},{"$f":"IF('Housing First Approach'!A19<>\"\", 'Housing First Approach'!E19, \"\")","v":5},{"$f":"IF('CoC Participation'!A21<>\"\", 'CoC Participation'!D21, \"\")","v":4.4000000000000004},{"$f":"IF('CoC Meetings'!A21<>\"\", 'CoC Meetings'!D21, \"\")","v":1},{"$f":"IF('HMIS Data Quality'!A19<>\"\",'HMIS Data Quality'!E19,\"\")","v":5},{"$f":"IF('HMIS Data Timeliness'!A19<>\"\",'HMIS Data Timeliness'!E19,\"\")","v":0},{"$f":"IF('HMIS Bed Inventory'!A19<>\"\",'HMIS Bed Inventory'!E19,\"\")","v":0}]
[{"$f":"IF('CoC Renewal Ranking Report'!D23<>\"\",'CoC Renewal Ranking Report'!D23,\"\")","v":"Housing Authority of the County of Cumberland"},{"$f":"IF('CoC Renewal Ranking Report'!E23<>\"\",'CoC Renewal Ranking Report'!E23,\"\")","v":"Carlisle Supportive Housing Program"},{"$f":"IF('CoC Renewal Ranking Report'!F23<>\"\",'CoC Renewal Ranking Report'!F23,\"\")","v":"PA0553L3T"},{"$f":"IF('CoC Renewal Ranking Report'!G23<>\"\",'CoC Renewal Ranking Report'!G23,\"\")","v":"PH"},null,97.5,null,{"$f":"IF('Exit-Retention to PH Measure'!A23<>\"\", 'Exit-Retention to PH Measure'!E23, \"\")","v":10},{"$f":"IF('Returns to Homelessness'!A23<>\"\", 'Returns to Homelessness'!E23, \"\")","v":3},{"$f":"IF('Length of Stay (TH Only)'!A24<>\"\", 'Length of Stay (TH Only)'!E24, \"\")","v":""},{"$f":"IF('Income Growth Measure'!A23<>\"\", 'Income Growth Measure'!F23, \"\")","v":8},{"$f":"IF('Mainstream Benefits Measure'!A21<>\"\", 'Mainstream Benefits Measure'!E21, \"\")","v":5},{"$f":"IF('Project Eligibility'!A23<>\"\", 'Project Eligibility'!E23, \"\")","v":5},{"$f":"IF('Unit Utilization Rate'!A22<>\"\", 'Unit Utilization Rate'!G22, \"\")","v":5},{"$f":"IF('eLOCCS Drawdowns'!A20<>\"\", 'eLOCCS Drawdowns'!E20, \"\")","v":3},{"$f":"IF('Recaptured Funds'!A23<>\"\", 'Recaptured Funds'!E23, \"\")","v":6},{"$f":"IF('Timely APR Submission'!A20<>\"\", 'Timely APR Submission'!E20, \"\")","v":0},{"$f":"IF('Cost Effectiveness'!A25<>\"\", 'Cost Effectiveness'!G25, \"\")","v":5},{"$f":"IF('Cost Effectiveness (Leavers)'!A25<>\"\", 'Cost Effectiveness (Leavers)'!G25, \"\")","v":5},{"$f":"IF('HUD Monitoring'!A21<>\"\", 'HUD Monitoring'!E21, \"\")","v":0},{"$f":"IF('Project Description'!A20<>\"\", 'Project Description'!D20, \"\")","v":2.5},{"$f":"IF('Opening Doors Goals'!A22<>\"\", 'Opening Doors Goals'!D22, \"\")","v":5},{"$f":"IF('Severity of Needs'!A23<>\"\", 'Severity of Needs'!E23, \"\")","v":7.5},{"$f":"IF('Prioritization of PSH'!A21<>\"\", 'Prioritization of PSH'!E21, \"\")","v":2.5},{"$f":"IF('Housing First Approach'!A20<>\"\", 'Housing First Approach'!E20, \"\")","v":5},{"$f":"IF('CoC Participation'!A22<>\"\", 'CoC Participation'!D22, \"\")","v":11},{"$f":"IF('CoC Meetings'!A22<>\"\", 'CoC Meetings'!D22, \"\")","v":4},{"$f":"IF('HMIS Data Quality'!A20<>\"\",'HMIS Data Quality'!E20,\"\")","v":5},{"$f":"IF('HMIS Data Timeliness'!A20<>\"\",'HMIS Data Timeliness'!E20,\"\")","v":0},{"$f":"IF('HMIS Bed Inventory'!A20<>\"\",'HMIS Bed Inventory'!E20,\"\")","v":0}]
[{"$f":"IF('CoC Renewal Ranking Report'!D24<>\"\",'CoC Renewal Ranking Report'!D24,\"\")","v":"Housing Authority of the County of Cumberland"},{"$f":"IF('CoC Renewal Ranking Report'!E24<>\"\",'CoC Renewal Ranking Report'!E24,\"\")","v":"Perry County Permanent SHP"},{"$f":"IF('CoC Renewal Ranking Report'!F24<>\"\",'CoC Renewal Ranking Report'!F24,\"\")","v":"PA0446L3T"},{"$f":"IF('CoC Renewal Ranking Report'!G24<>\"\",'CoC Renewal Ranking Report'!G24,\"\")","v":"PH"},null,80.5,null,{"$f":"IF('Exit-Retention to PH Measure'!A24<>\"\", 'Exit-Retention to PH Measure'!E24, \"\")","v":10},{"$f":"IF('Returns to Homelessness'!A24<>\"\", 'Returns to Homelessness'!E24, \"\")","v":3},{"$f":"IF('Length of Stay (TH Only)'!A25<>\"\", 'Length of Stay (TH Only)'!E25, \"\")","v":""},{"$f":"IF('Income Growth Measure'!A24<>\"\", 'Income Growth Measure'!F24, \"\")","v":8},{"$f":"IF('Mainstream Benefits Measure'!A22<>\"\", 'Mainstream Benefits Measure'!E22, \"\")","v":5},{"$f":"IF('Project Eligibility'!A24<>\"\", 'Project Eligibility'!E24, \"\")","v":5},{"$f":"IF('Unit Utilization Rate'!A23<>\"\", 'Unit Utilization Rate'!G23, \"\")","v":5},{"$f":"IF('eLOCCS Drawdowns'!A21<>\"\", 'eLOCCS Drawdowns'!E21, \"\")","v":0},{"$f":"IF('Recaptured Funds'!A24<>\"\", 'Recaptured Funds'!E24, \"\")","v":1},{"$f":"IF('Timely APR Submission'!A21<>\"\", 'Timely APR Submission'!E21, \"\")","v":0},{"$f":"IF('Cost Effectiveness'!A26<>\"\", 'Cost Effectiveness'!G26, \"\")","v":2},{"$f":"IF('Cost Effectiveness (Leavers)'!A26<>\"\", 'Cost Effectiveness (Leavers)'!G26, \"\")","v":5},{"$f":"IF('HUD Monitoring'!A22<>\"\", 'HUD Monitoring'!E22, \"\")","v":0},{"$f":"IF('Project Description'!A21<>\"\", 'Project Description'!D21, \"\")","v":1.5},{"$f":"IF('Opening Doors Goals'!A23<>\"\", 'Opening Doors Goals'!D23, \"\")","v":5},{"$f":"IF('Severity of Needs'!A24<>\"\", 'Severity of Needs'!E24, \"\")","v":2.5},{"$f":"IF('Prioritization of PSH'!A22<>\"\", 'Prioritization of PSH'!E22, \"\")","v":2.5},{"$f":"IF('Housing First Approach'!A21<>\"\", 'Housing First Approach'!E21, \"\")","v":5},{"$f":"IF('CoC Participation'!A23<>\"\", 'CoC Participation'!D23, \"\")","v":11},{"$f":"IF('CoC Meetings'!A23<>\"\", 'CoC Meetings'!D23, \"\")","v":4},{"$f":"IF('HMIS Data Quality'!A21<>\"\",'HMIS Data Quality'!E21,\"\")","v":5},{"$f":"IF('HMIS Data Timeliness'!A21<>\"\",'HMIS Data Timeliness'!E21,\"\")","v":0},{"$f":"IF('HMIS Bed Inventory'!A21<>\"\",'HMIS Bed Inventory'!E21,\"\")","v":0}]
[{"$f":"IF('CoC Renewal Ranking Report'!D25<>\"\",'CoC Renewal Ranking Report'!D25,\"\")","v":"Housing Authority of the County of Cumberland"},{"$f":"IF('CoC Renewal Ranking Report'!E25<>\"\",'CoC Renewal Ranking Report'!E25,\"\")","v":"Perry County Transitional II"},{"$f":"IF('CoC Renewal Ranking Report'!F25<>\"\",'CoC Renewal Ranking Report'!F25,\"\")","v":"PA0514L3T"},{"$f":"IF('CoC Renewal Ranking Report'!G25<>\"\",'CoC Renewal Ranking Report'!G25,\"\")","v":"PH-RRH"},null,82,null,{"$f":"IF('Exit-Retention to PH Measure'!A25<>\"\", 'Exit-Retention to PH Measure'!E25, \"\")","v":10},{"$f":"IF('Returns to Homelessness'!A25<>\"\", 'Returns to Homelessness'!E25, \"\")","v":3},{"$f":"IF('Length of Stay (TH Only)'!A26<>\"\", 'Length of Stay (TH Only)'!E26, \"\")","v":""},{"$f":"IF('Income Growth Measure'!A25<>\"\", 'Income Growth Measure'!F25, \"\")","v":8},{"$f":"IF('Mainstream Benefits Measure'!A23<>\"\", 'Mainstream Benefits Measure'!E23, \"\")","v":5},{"$f":"IF('Project Eligibility'!A25<>\"\", 'Project Eligibility'!E25, \"\")","v":5},{"$f":"IF('Unit Utilization Rate'!A24<>\"\", 'Unit Utilization Rate'!G24, \"\")","v":5},{"$f":"IF('eLOCCS Drawdowns'!A22<>\"\", 'eLOCCS Drawdowns'!E22, \"\")","v":3},{"$f":"IF('Recaptured Funds'!A25<>\"\", 'Recaptured Funds'!E25, \"\")","v":6},{"$f":"IF('Timely APR Submission'!A22<>\"\", 'Timely APR Submission'!E22, \"\")","v":0},{"$f":"IF('Cost Effectiveness'!A27<>\"\", 'Cost Effectiveness'!G27, \"\")","v":5},{"$f":"IF('Cost Effectiveness (Leavers)'!A27<>\"\", 'Cost Effectiveness (Leavers)'!G27, \"\")","v":5},{"$f":"IF('HUD Monitoring'!A23<>\"\", 'HUD Monitoring'!E23, \"\")","v":0},{"$f":"IF('Project Description'!A22<>\"\", 'Project Description'!D22, \"\")","v":2},{"$f":"IF('Opening Doors Goals'!A24<>\"\", 'Opening Doors Goals'!D24, \"\")","v":0},{"$f":"IF('Severity of Needs'!A25<>\"\", 'Severity of Needs'!E25, \"\")","v":0},{"$f":"IF('Prioritization of PSH'!A23<>\"\", 'Prioritization of PSH'!E23, \"\")","v":0},{"$f":"IF('Housing First Approach'!A22<>\"\", 'Housing First Approach'!E22, \"\")","v":5},{"$f":"IF('CoC Participation'!A24<>\"\", 'CoC Participation'!D24, \"\")","v":11},{"$f":"IF('CoC Meetings'!A24<>\"\", 'CoC Meetings'!D24, \"\")","v":4},{"$f":"IF('HMIS Data Quality'!A22<>\"\",'HMIS Data Quality'!E22,\"\")","v":5},{"$f":"IF('HMIS Data Timeliness'!A22<>\"\",'HMIS Data Timeliness'!E22,\"\")","v":0},{"$f":"IF('HMIS Bed Inventory'!A22<>\"\",'HMIS Bed Inventory'!E22,\"\")","v":0}]
[{"$f":"IF('CoC Renewal Ranking Report'!D26<>\"\",'CoC Renewal Ranking Report'!D26,\"\")","v":"Housing Authority of the County of Cumberland"},{"$f":"IF('CoC Renewal Ranking Report'!E26<>\"\",'CoC Renewal Ranking Report'!E26,\"\")","v":"Perry County Veterans Program"},{"$f":"IF('CoC Renewal Ranking Report'!F26<>\"\",'CoC Renewal Ranking Report'!F26,\"\")","v":"PA0177L3T"},{"$f":"IF('CoC Renewal Ranking Report'!G26<>\"\",'CoC Renewal Ranking Report'!G26,\"\")","v":"PH"},null,81.5,null,{"$f":"IF('Exit-Retention to PH Measure'!A26<>\"\", 'Exit-Retention to PH Measure'!E26, \"\")","v":10},{"$f":"IF('Returns to Homelessness'!A26<>\"\", 'Returns to Homelessness'!E26, \"\")","v":3},{"$f":"IF('Length of Stay (TH Only)'!A27<>\"\", 'Length of Stay (TH Only)'!E27, \"\")","v":""},{"$f":"IF('Income Growth Measure'!A26<>\"\", 'Income Growth Measure'!F26, \"\")","v":8},{"$f":"IF('Mainstream Benefits Measure'!A24<>\"\", 'Mainstream Benefits Measure'!E24, \"\")","v":5},{"$f":"IF('Project Eligibility'!A26<>\"\", 'Project Eligibility'!E26, \"\")","v":5},{"$f":"IF('Unit Utilization Rate'!A25<>\"\", 'Unit Utilization Rate'!G25, \"\")","v":5},{"$f":"IF('eLOCCS Drawdowns'!A23<>\"\", 'eLOCCS Drawdowns'!E23, \"\")","v":0},{"$f":"IF('Recaptured Funds'!A26<>\"\", 'Recaptured Funds'!E26, \"\")","v":3},{"$f":"IF('Timely APR Submission'!A23<>\"\", 'Timely APR Submission'!E23, \"\")","v":0},{"$f":"IF('Cost Effectiveness'!A28<>\"\", 'Cost Effectiveness'!G28, \"\")","v":0},{"$f":"IF('Cost Effectiveness (Leavers)'!A28<>\"\", 'Cost Effectiveness (Leavers)'!G28, \"\")","v":0},{"$f":"IF('HUD Monitoring'!A24<>\"\", 'HUD Monitoring'!E24, \"\")","v":0},{"$f":"IF('Project Description'!A23<>\"\", 'Project Description'!D23, \"\")","v":2.5},{"$f":"IF('Opening Doors Goals'!A25<>\"\", 'Opening Doors Goals'!D25, \"\")","v":5},{"$f":"IF('Severity of Needs'!A26<>\"\", 'Severity of Needs'!E26, \"\")","v":7.5},{"$f":"IF('Prioritization of PSH'!A24<>\"\", 'Prioritization of PSH'!E24, \"\")","v":2.5},{"$f":"IF('Housing First Approach'!A23<>\"\", 'Housing First Approach'!E23, \"\")","v":5},{"$f":"IF('CoC Participation'!A25<>\"\", 'CoC Participation'!D25, \"\")","v":11},{"$f":"IF('CoC Meetings'!A25<>\"\", 'CoC Meetings'!D25, \"\")","v":4},{"$f":"IF('HMIS Data Quality'!A23<>\"\",'HMIS Data Quality'!E23,\"\")","v":5},{"$f":"IF('HMIS Data Timeliness'!A23<>\"\",'HMIS Data Timeliness'!E23,\"\")","v":0},{"$f":"IF('HMIS Bed Inventory'!A23<>\"\",'HMIS Bed Inventory'!E23,\"\")","v":0}]
[{"$f":"IF('CoC Renewal Ranking Report'!D27<>\"\",'CoC Renewal Ranking Report'!D27,\"\")","v":"Housing Authority of the County of Cumberland"},{"$f":"IF('CoC Renewal Ranking Report'!E27<>\"\",'CoC Renewal Ranking Report'!E27,\"\")","v":"Rapid Rehousing II"},{"$f":"IF('CoC Renewal Ranking Report'!F27<>\"\",'CoC Renewal Ranking Report'!F27,\"\")","v":"PA0513L3T"},{"$f":"IF('CoC Renewal Ranking Report'!G27<>\"\",'CoC Renewal Ranking Report'!G27,\"\")","v":"PH-RRH"},null,52,null,{"$f":"IF('Exit-Retention to PH Measure'!A27<>\"\", 'Exit-Retention to PH Measure'!E27, \"\")","v":0},{"$f":"IF('Returns to Homelessness'!A27<>\"\", 'Returns to Homelessness'!E27, \"\")","v":3},{"$f":"IF('Length of Stay (TH Only)'!A28<>\"\", 'Length of Stay (TH Only)'!E28, \"\")","v":""},{"$f":"IF('Income Growth Measure'!A27<>\"\", 'Income Growth Measure'!F27, \"\")","v":8},{"$f":"IF('Mainstream Benefits Measure'!A25<>\"\", 'Mainstream Benefits Measure'!E25, \"\")","v":2},{"$f":"IF('Project Eligibility'!A27<>\"\", 'Project Eligibility'!E27, \"\")","v":0},{"$f":"IF('Unit Utilization Rate'!A26<>\"\", 'Unit Utilization Rate'!G26, \"\")","v":0},{"$f":"IF('eLOCCS Drawdowns'!A24<>\"\", 'eLOCCS Drawdowns'!E24, \"\")","v":3},{"$f":"IF('Recaptured Funds'!A27<>\"\", 'Recaptured Funds'!E27, \"\")","v":0},{"$f":"IF('Timely APR Submission'!A24<>\"\", 'Timely APR Submission'!E24, \"\")","v":0},{"$f":"IF('Cost Effectiveness'!A29<>\"\", 'Cost Effectiveness'!G29, \"\")","v":5},{"$f":"IF('Cost Effectiveness (Leavers)'!A29<>\"\", 'Cost Effectiveness (Leavers)'!G29, \"\")","v":0},{"$f":"IF('HUD Monitoring'!A25<>\"\", 'HUD Monitoring'!E25, \"\")","v":0},{"$f":"IF('Project Description'!A24<>\"\", 'Project Description'!D24, \"\")","v":1},{"$f":"IF('Opening Doors Goals'!A26<>\"\", 'Opening Doors Goals'!D26, \"\")","v":5},{"$f":"IF('Severity of Needs'!A27<>\"\", 'Severity of Needs'!E27, \"\")","v":0},{"$f":"IF('Prioritization of PSH'!A25<>\"\", 'Prioritization of PSH'!E25, \"\")","v":0},{"$f":"IF('Housing First Approach'!A24<>\"\", 'Housing First Approach'!E24, \"\")","v":5},{"$f":"IF('CoC Participation'!A26<>\"\", 'CoC Participation'!D26, \"\")","v":11},{"$f":"IF('CoC Meetings'!A26<>\"\", 'CoC Meetings'!D26, \"\")","v":4},{"$f":"IF('HMIS Data Quality'!A24<>\"\",'HMIS Data Quality'!E24,\"\")","v":5},{"$f":"IF('HMIS Data Timeliness'!A24<>\"\",'HMIS Data Timeliness'!E24,\"\")","v":0},{"$f":"IF('HMIS Bed Inventory'!A24<>\"\",'HMIS Bed Inventory'!E24,\"\")","v":0}]
[{"$f":"IF('CoC Renewal Ranking Report'!D28<>\"\",'CoC Renewal Ranking Report'!D28,\"\")","v":"Housing Authority of the County of Cumberland"},{"$f":"IF('CoC Renewal Ranking Report'!E28<>\"\",'CoC Renewal Ranking Report'!E28,\"\")","v":"Safe Harbour SHP"},{"$f":"IF('CoC Renewal Ranking Report'!F28<>\"\",'CoC Renewal Ranking Report'!F28,\"\")","v":"PA0447L3T"},{"$f":"IF('CoC Renewal Ranking Report'!G28<>\"\",'CoC Renewal Ranking Report'!G28,\"\")","v":"PH"},null,85.5,null,{"$f":"IF('Exit-Retention to PH Measure'!A28<>\"\", 'Exit-Retention to PH Measure'!E28, \"\")","v":10},{"$f":"IF('Returns to Homelessness'!A28<>\"\", 'Returns to Homelessness'!E28, \"\")","v":3},{"$f":"IF('Length of Stay (TH Only)'!A29<>\"\", 'Length of Stay (TH Only)'!E29, \"\")","v":""},{"$f":"IF('Income Growth Measure'!A28<>\"\", 'Income Growth Measure'!F28, \"\")","v":8},{"$f":"IF('Mainstream Benefits Measure'!A26<>\"\", 'Mainstream Benefits Measure'!E26, \"\")","v":5},{"$f":"IF('Project Eligibility'!A28<>\"\", 'Project Eligibility'!E28, \"\")","v":0},{"$f":"IF('Unit Utilization Rate'!A27<>\"\", 'Unit Utilization Rate'!G27, \"\")","v":5},{"$f":"IF('eLOCCS Drawdowns'!A25<>\"\", 'eLOCCS Drawdowns'!E25, \"\")","v":3},{"$f":"IF('Recaptured Funds'!A28<>\"\", 'Recaptured Funds'!E28, \"\")","v":6},{"$f":"IF('Timely APR Submission'!A25<>\"\", 'Timely APR Submission'!E25, \"\")","v":0},{"$f":"IF('Cost Effectiveness'!A30<>\"\", 'Cost Effectiveness'!G30, \"\")","v":5},{"$f":"IF('Cost Effectiveness (Leavers)'!A30<>\"\", 'Cost Effectiveness (Leavers)'!G30, \"\")","v":5},{"$f":"IF('HUD Monitoring'!A26<>\"\", 'HUD Monitoring'!E26, \"\")","v":0},{"$f":"IF('Project Description'!A25<>\"\", 'Project Description'!D25, \"\")","v":0.5},{"$f":"IF('Opening Doors Goals'!A27<>\"\", 'Opening Doors Goals'!D27, \"\")","v":0},{"$f":"IF('Severity of Needs'!A28<>\"\", 'Severity of Needs'!E28, \"\")","v":7.5},{"$f":"IF('Prioritization of PSH'!A26<>\"\", 'Prioritization of PSH'!E26, \"\")","v":2.5},{"$f":"IF('Housing First Approach'!A25<>\"\", 'Housing First Approach'!E25, \"\")","v":5},{"$f":"IF('CoC Participation'!A27<>\"\", 'CoC Participation'!D27, \"\")","v":11},{"$f":"IF('CoC Meetings'!A27<>\"\", 'CoC Meetings'!D27, \"\")","v":4},{"$f":"IF('HMIS Data Quality'!A25<>\"\",'HMIS Data Quality'!E25,\"\")","v":5},{"$f":"IF('HMIS Data Timeliness'!A25<>\"\",'HMIS Data Timeliness'!E25,\"\")","v":0},{"$f":"IF('HMIS Bed Inventory'!A25<>\"\",'HMIS Bed Inventory'!E25,\"\")","v":0}]
[{"$f":"IF('CoC Renewal Ranking Report'!D29<>\"\",'CoC Renewal Ranking Report'!D29,\"\")","v":"Housing Authority of the County of Cumberland"},{"$f":"IF('CoC Renewal Ranking Report'!E29<>\"\",'CoC Renewal Ranking Report'!E29,\"\")","v":"Shelter + Care Chronic"},{"$f":"IF('CoC Renewal Ranking Report'!F29<>\"\",'CoC Renewal Ranking Report'!F29,\"\")","v":"PA0647L3T"},{"$f":"IF('CoC Renewal Ranking Report'!G29<>\"\",'CoC Renewal Ranking Report'!G29,\"\")","v":"PH"},null,89.5,null,{"$f":"IF('Exit-Retention to PH Measure'!A29<>\"\", 'Exit-Retention to PH Measure'!E29, \"\")","v":10},{"$f":"IF('Returns to Homelessness'!A29<>\"\", 'Returns to Homelessness'!E29, \"\")","v":3},{"$f":"IF('Length of Stay (TH Only)'!A30<>\"\", 'Length of Stay (TH Only)'!E30, \"\")","v":""},{"$f":"IF('Income Growth Measure'!A29<>\"\", 'Income Growth Measure'!F29, \"\")","v":8},{"$f":"IF('Mainstream Benefits Measure'!A27<>\"\", 'Mainstream Benefits Measure'!E27, \"\")","v":5},{"$f":"IF('Project Eligibility'!A29<>\"\", 'Project Eligibility'!E29, \"\")","v":5},{"$f":"IF('Unit Utilization Rate'!A28<>\"\", 'Unit Utilization Rate'!G28, \"\")","v":5},{"$f":"IF('eLOCCS Drawdowns'!A26<>\"\", 'eLOCCS Drawdowns'!E26, \"\")","v":3},{"$f":"IF('Recaptured Funds'!A29<>\"\", 'Recaptured Funds'!E29, \"\")","v":0},{"$f":"IF('Timely APR Submission'!A26<>\"\", 'Timely APR Submission'!E26, \"\")","v":0},{"$f":"IF('Cost Effectiveness'!A31<>\"\", 'Cost Effectiveness'!G31, \"\")","v":5},{"$f":"IF('Cost Effectiveness (Leavers)'!A31<>\"\", 'Cost Effectiveness (Leavers)'!G31, \"\")","v":5},{"$f":"IF('HUD Monitoring'!A27<>\"\", 'HUD Monitoring'!E27, \"\")","v":0},{"$f":"IF('Project Description'!A26<>\"\", 'Project Description'!D26, \"\")","v":0.5},{"$f":"IF('Opening Doors Goals'!A28<>\"\", 'Opening Doors Goals'!D28, \"\")","v":5},{"$f":"IF('Severity of Needs'!A29<>\"\", 'Severity of Needs'!E29, \"\")","v":7.5},{"$f":"IF('Prioritization of PSH'!A27<>\"\", 'Prioritization of PSH'!E27, \"\")","v":2.5},{"$f":"IF('Housing First Approach'!A26<>\"\", 'Housing First Approach'!E26, \"\")","v":5},{"$f":"IF('CoC Participation'!A28<>\"\", 'CoC Participation'!D28, \"\")","v":11},{"$f":"IF('CoC Meetings'!A28<>\"\", 'CoC Meetings'!D28, \"\")","v":4},{"$f":"IF('HMIS Data Quality'!A26<>\"\",'HMIS Data Quality'!E26,\"\")","v":5},{"$f":"IF('HMIS Data Timeliness'!A26<>\"\",'HMIS Data Timeliness'!E26,\"\")","v":0},{"$f":"IF('HMIS Bed Inventory'!A26<>\"\",'HMIS Bed Inventory'!E26,\"\")","v":0}]
[{"$f":"IF('CoC Renewal Ranking Report'!D30<>\"\",'CoC Renewal Ranking Report'!D30,\"\")","v":"Housing Authority of the County of Cumberland"},{"$f":"IF('CoC Renewal Ranking Report'!E30<>\"\",'CoC Renewal Ranking Report'!E30,\"\")","v":"Shelter + Care Non-Chronic"},{"$f":"IF('CoC Renewal Ranking Report'!F30<>\"\",'CoC Renewal Ranking Report'!F30,\"\")","v":"PA0174L3T"},{"$f":"IF('CoC Renewal Ranking Report'!G30<>\"\",'CoC Renewal Ranking Report'!G30,\"\")","v":"PH"},null,77,null,{"$f":"IF('Exit-Retention to PH Measure'!A30<>\"\", 'Exit-Retention to PH Measure'!E30, \"\")","v":3},{"$f":"IF('Returns to Homelessness'!A30<>\"\", 'Returns to Homelessness'!E30, \"\")","v":3},{"$f":"IF('Length of Stay (TH Only)'!A31<>\"\", 'Length of Stay (TH Only)'!E31, \"\")","v":""},{"$f":"IF('Income Growth Measure'!A30<>\"\", 'Income Growth Measure'!F30, \"\")","v":8},{"$f":"IF('Mainstream Benefits Measure'!A28<>\"\", 'Mainstream Benefits Measure'!E28, \"\")","v":5},{"$f":"IF('Project Eligibility'!A30<>\"\", 'Project Eligibility'!E30, \"\")","v":0},{"$f":"IF('Unit Utilization Rate'!A29<>\"\", 'Unit Utilization Rate'!G29, \"\")","v":5},{"$f":"IF('eLOCCS Drawdowns'!A27<>\"\", 'eLOCCS Drawdowns'!E27, \"\")","v":3},{"$f":"IF('Recaptured Funds'!A30<>\"\", 'Recaptured Funds'!E30, \"\")","v":6},{"$f":"IF('Timely APR Submission'!A27<>\"\", 'Timely APR Submission'!E27, \"\")","v":0},{"$f":"IF('Cost Effectiveness'!A32<>\"\", 'Cost Effectiveness'!G32, \"\")","v":5},{"$f":"IF('Cost Effectiveness (Leavers)'!A32<>\"\", 'Cost Effectiveness (Leavers)'!G32, \"\")","v":5},{"$f":"IF('HUD Monitoring'!A28<>\"\", 'HUD Monitoring'!E28, \"\")","v":0},{"$f":"IF('Project Description'!A27<>\"\", 'Project Description'!D27, \"\")","v":1.5},{"$f":"IF('Opening Doors Goals'!A29<>\"\", 'Opening Doors Goals'!D29, \"\")","v":5},{"$f":"IF('Severity of Needs'!A30<>\"\", 'Severity of Needs'!E30, \"\")","v":0},{"$f":"IF('Prioritization of PSH'!A28<>\"\", 'Prioritization of PSH'!E28, \"\")","v":2.5},{"$f":"IF('Housing First Approach'!A27<>\"\", 'Housing First Approach'!E27, \"\")","v":5},{"$f":"IF('CoC Participation'!A29<>\"\", 'CoC Participation'!D29, \"\")","v":11},{"$f":"IF('CoC Meetings'!A29<>\"\", 'CoC Meetings'!D29, \"\")","v":4},{"$f":"IF('HMIS Data Quality'!A27<>\"\",'HMIS Data Quality'!E27,\"\")","v":5},{"$f":"IF('HMIS Data Timeliness'!A27<>\"\",'HMIS Data Timeliness'!E27,\"\")","v":0},{"$f":"IF('HMIS Bed Inventory'!A27<>\"\",'HMIS Bed Inventory'!E27,\"\")","v":0}]
[{"$f":"IF('CoC Renewal Ranking Report'!D31<>\"\",'CoC Renewal Ranking Report'!D31,\"\")","v":"Housing Authority of the County of Cumberland"},{"$f":"IF('CoC Renewal Ranking Report'!E31<>\"\",'CoC Renewal Ranking Report'!E31,\"\")","v":"West Shore SHP I"},{"$f":"IF('CoC Renewal Ranking Report'!F31<>\"\",'CoC Renewal Ranking Report'!F31,\"\")","v":"PA0178L3T"},{"$f":"IF('CoC Renewal Ranking Report'!G31<>\"\",'CoC Renewal Ranking Report'!G31,\"\")","v":"PH"},null,83,null,{"$f":"IF('Exit-Retention to PH Measure'!A31<>\"\", 'Exit-Retention to PH Measure'!E31, \"\")","v":10},{"$f":"IF('Returns to Homelessness'!A31<>\"\", 'Returns to Homelessness'!E31, \"\")","v":3},{"$f":"IF('Length of Stay (TH Only)'!A32<>\"\", 'Length of Stay (TH Only)'!E32, \"\")","v":""},{"$f":"IF('Income Growth Measure'!A31<>\"\", 'Income Growth Measure'!F31, \"\")","v":0},{"$f":"IF('Mainstream Benefits Measure'!A29<>\"\", 'Mainstream Benefits Measure'!E29, \"\")","v":5},{"$f":"IF('Project Eligibility'!A31<>\"\", 'Project Eligibility'!E31, \"\")","v":0},{"$f":"IF('Unit Utilization Rate'!A30<>\"\", 'Unit Utilization Rate'!G30, \"\")","v":5},{"$f":"IF('eLOCCS Drawdowns'!A28<>\"\", 'eLOCCS Drawdowns'!E28, \"\")","v":3},{"$f":"IF('Recaptured Funds'!A31<>\"\", 'Recaptured Funds'!E31, \"\")","v":6},{"$f":"IF('Timely APR Submission'!A28<>\"\", 'Timely APR Submission'!E28, \"\")","v":0},{"$f":"IF('Cost Effectiveness'!A33<>\"\", 'Cost Effectiveness'!G33, \"\")","v":5},{"$f":"IF('Cost Effectiveness (Leavers)'!A33<>\"\", 'Cost Effectiveness (Leavers)'!G33, \"\")","v":5},{"$f":"IF('HUD Monitoring'!A29<>\"\", 'HUD Monitoring'!E29, \"\")","v":0},{"$f":"IF('Project Description'!A28<>\"\", 'Project Description'!D28, \"\")","v":1},{"$f":"IF('Opening Doors Goals'!A30<>\"\", 'Opening Doors Goals'!D30, \"\")","v":5},{"$f":"IF('Severity of Needs'!A31<>\"\", 'Severity of Needs'!E31, \"\")","v":7.5},{"$f":"IF('Prioritization of PSH'!A29<>\"\", 'Prioritization of PSH'!E29, \"\")","v":2.5},{"$f":"IF('Housing First Approach'!A28<>\"\", 'Housing First Approach'!E28, \"\")","v":5},{"$f":"IF('CoC Participation'!A30<>\"\", 'CoC Participation'!D30, \"\")","v":11},{"$f":"IF('CoC Meetings'!A30<>\"\", 'CoC Meetings'!D30, \"\")","v":4},{"$f":"IF('HMIS Data Quality'!A28<>\"\",'HMIS Data Quality'!E28,\"\")","v":5},{"$f":"IF('HMIS Data Timeliness'!A28<>\"\",'HMIS Data Timeliness'!E28,\"\")","v":0},{"$f":"IF('HMIS Bed Inventory'!A28<>\"\",'HMIS Bed Inventory'!E28,\"\")","v":0}]
[{"$f":"IF('CoC Renewal Ranking Report'!D32<>\"\",'CoC Renewal Ranking Report'!D32,\"\")","v":"Housing Authority of the County of Cumberland"},{"$f":"IF('CoC Renewal Ranking Report'!E32<>\"\",'CoC Renewal Ranking Report'!E32,\"\")","v":"West Shore SHP II"},{"$f":"IF('CoC Renewal Ranking Report'!F32<>\"\",'CoC Renewal Ranking Report'!F32,\"\")","v":"PA0443L3T"},{"$f":"IF('CoC Renewal Ranking Report'!G32<>\"\",'CoC Renewal Ranking Report'!G32,\"\")","v":"PH"},null,96,null,{"$f":"IF('Exit-Retention to PH Measure'!A32<>\"\", 'Exit-Retention to PH Measure'!E32, \"\")","v":10},{"$f":"IF('Returns to Homelessness'!A32<>\"\", 'Returns to Homelessness'!E32, \"\")","v":3},{"$f":"IF('Length of Stay (TH Only)'!A33<>\"\", 'Length of Stay (TH Only)'!E33, \"\")","v":""},{"$f":"IF('Income Growth Measure'!A32<>\"\", 'Income Growth Measure'!F32, \"\")","v":8},{"$f":"IF('Mainstream Benefits Measure'!A30<>\"\", 'Mainstream Benefits Measure'!E30, \"\")","v":5},{"$f":"IF('Project Eligibility'!A32<>\"\", 'Project Eligibility'!E32, \"\")","v":5},{"$f":"IF('Unit Utilization Rate'!A31<>\"\", 'Unit Utilization Rate'!G31, \"\")","v":5},{"$f":"IF('eLOCCS Drawdowns'!A29<>\"\", 'eLOCCS Drawdowns'!E29, \"\")","v":3},{"$f":"IF('Recaptured Funds'!A32<>\"\", 'Recaptured Funds'!E32, \"\")","v":6},{"$f":"IF('Timely APR Submission'!A29<>\"\", 'Timely APR Submission'!E29, \"\")","v":0},{"$f":"IF('Cost Effectiveness'!A34<>\"\", 'Cost Effectiveness'!G34, \"\")","v":5},{"$f":"IF('Cost Effectiveness (Leavers)'!A34<>\"\", 'Cost Effectiveness (Leavers)'!G34, \"\")","v":5},{"$f":"IF('HUD Monitoring'!A30<>\"\", 'HUD Monitoring'!E30, \"\")","v":0},{"$f":"IF('Project Description'!A29<>\"\", 'Project Description'!D29, \"\")","v":1},{"$f":"IF('Opening Doors Goals'!A31<>\"\", 'Opening Doors Goals'!D31, \"\")","v":5},{"$f":"IF('Severity of Needs'!A32<>\"\", 'Severity of Needs'!E32, \"\")","v":7.5},{"$f":"IF('Prioritization of PSH'!A30<>\"\", 'Prioritization of PSH'!E30, \"\")","v":2.5},{"$f":"IF('Housing First Approach'!A29<>\"\", 'Housing First Approach'!E29, \"\")","v":5},{"$f":"IF('CoC Participation'!A31<>\"\", 'CoC Participation'!D31, \"\")","v":11},{"$f":"IF('CoC Meetings'!A31<>\"\", 'CoC Meetings'!D31, \"\")","v":4},{"$f":"IF('HMIS Data Quality'!A29<>\"\",'HMIS Data Quality'!E29,\"\")","v":5},{"$f":"IF('HMIS Data Timeliness'!A29<>\"\",'HMIS Data Timeliness'!E29,\"\")","v":0},{"$f":"IF('HMIS Bed Inventory'!A29<>\"\",'HMIS Bed Inventory'!E29,\"\")","v":0}]
[{"$f":"IF('CoC Renewal Ranking Report'!D33<>\"\",'CoC Renewal Ranking Report'!D33,\"\")","v":"Housing Development Corporation of NEPA"},{"$f":"IF('CoC Renewal Ranking Report'!E33<>\"\",'CoC Renewal Ranking Report'!E33,\"\")","v":"HDC SHP 3 2016"},{"$f":"IF('CoC Renewal Ranking Report'!F33<>\"\",'CoC Renewal Ranking Report'!F33,\"\")","v":"PA0384L3T"},{"$f":"IF('CoC Renewal Ranking Report'!G33<>\"\",'CoC Renewal Ranking Report'!G33,\"\")","v":"PH"},null,74,null,{"$f":"IF('Exit-Retention to PH Measure'!A33<>\"\", 'Exit-Retention to PH Measure'!E33, \"\")","v":10},{"$f":"IF('Returns to Homelessness'!A33<>\"\", 'Returns to Homelessness'!E33, \"\")","v":3},{"$f":"IF('Length of Stay (TH Only)'!A34<>\"\", 'Length of Stay (TH Only)'!E34, \"\")","v":""},{"$f":"IF('Income Growth Measure'!A33<>\"\", 'Income Growth Measure'!F33, \"\")","v":8},{"$f":"IF('Mainstream Benefits Measure'!A31<>\"\", 'Mainstream Benefits Measure'!E31, \"\")","v":5},{"$f":"IF('Project Eligibility'!A33<>\"\", 'Project Eligibility'!E33, \"\")","v":5},{"$f":"IF('Unit Utilization Rate'!A32<>\"\", 'Unit Utilization Rate'!G32, \"\")","v":5},{"$f":"IF('eLOCCS Drawdowns'!A30<>\"\", 'eLOCCS Drawdowns'!E30, \"\")","v":0},{"$f":"IF('Recaptured Funds'!A33<>\"\", 'Recaptured Funds'!E33, \"\")","v":0},{"$f":"IF('Timely APR Submission'!A30<>\"\", 'Timely APR Submission'!E30, \"\")","v":0},{"$f":"IF('Cost Effectiveness'!A35<>\"\", 'Cost Effectiveness'!G35, \"\")","v":0},{"$f":"IF('Cost Effectiveness (Leavers)'!A35<>\"\", 'Cost Effectiveness (Leavers)'!G35, \"\")","v":5},{"$f":"IF('HUD Monitoring'!A31<>\"\", 'HUD Monitoring'!E31, \"\")","v":0},{"$f":"IF('Project Description'!A30<>\"\", 'Project Description'!D30, \"\")","v":4},{"$f":"IF('Opening Doors Goals'!A32<>\"\", 'Opening Doors Goals'!D32, \"\")","v":0},{"$f":"IF('Severity of Needs'!A33<>\"\", 'Severity of Needs'!E33, \"\")","v":2.5},{"$f":"IF('Prioritization of PSH'!A31<>\"\", 'Prioritization of PSH'!E31, \"\")","v":2.5},{"$f":"IF('Housing First Approach'!A30<>\"\", 'Housing First Approach'!E30, \"\")","v":5},{"$f":"IF('CoC Participation'!A32<>\"\", 'CoC Participation'!D32, \"\")","v":10},{"$f":"IF('CoC Meetings'!A32<>\"\", 'CoC Meetings'!D32, \"\")","v":4},{"$f":"IF('HMIS Data Quality'!A30<>\"\",'HMIS Data Quality'!E30,\"\")","v":5},{"$f":"IF('HMIS Data Timeliness'!A30<>\"\",'HMIS Data Timeliness'!E30,\"\")","v":0},{"$f":"IF('HMIS Bed Inventory'!A30<>\"\",'HMIS Bed Inventory'!E30,\"\")","v":0}]
[{"$f":"IF('CoC Renewal Ranking Report'!D34<>\"\",'CoC Renewal Ranking Report'!D34,\"\")","v":"Housing Development Corporation of NEPA"},{"$f":"IF('CoC Renewal Ranking Report'!E34<>\"\",'CoC Renewal Ranking Report'!E34,\"\")","v":"HDC SHP 6 2016"},{"$f":"IF('CoC Renewal Ranking Report'!F34<>\"\",'CoC Renewal Ranking Report'!F34,\"\")","v":"PA0582L3T"},{"$f":"IF('CoC Renewal Ranking Report'!G34<>\"\",'CoC Renewal Ranking Report'!G34,\"\")","v":"PH"},null,82,null,{"$f":"IF('Exit-Retention to PH Measure'!A34<>\"\", 'Exit-Retention to PH Measure'!E34, \"\")","v":10},{"$f":"IF('Returns to Homelessness'!A34<>\"\", 'Returns to Homelessness'!E34, \"\")","v":3},{"$f":"IF('Length of Stay (TH Only)'!A35<>\"\", 'Length of Stay (TH Only)'!E35, \"\")","v":""},{"$f":"IF('Income Growth Measure'!A34<>\"\", 'Income Growth Measure'!F34, \"\")","v":8},{"$f":"IF('Mainstream Benefits Measure'!A32<>\"\", 'Mainstream Benefits Measure'!E32, \"\")","v":5},{"$f":"IF('Project Eligibility'!A34<>\"\", 'Project Eligibility'!E34, \"\")","v":5},{"$f":"IF('Unit Utilization Rate'!A33<>\"\", 'Unit Utilization Rate'!G33, \"\")","v":5},{"$f":"IF('eLOCCS Drawdowns'!A31<>\"\", 'eLOCCS Drawdowns'!E31, \"\")","v":3},{"$f":"IF('Recaptured Funds'!A34<>\"\", 'Recaptured Funds'!E34, \"\")","v":0},{"$f":"IF('Timely APR Submission'!A31<>\"\", 'Timely APR Submission'!E31, \"\")","v":0},{"$f":"IF('Cost Effectiveness'!A36<>\"\", 'Cost Effectiveness'!G36, \"\")","v":0},{"$f":"IF('Cost Effectiveness (Leavers)'!A36<>\"\", 'Cost Effectiveness (Leavers)'!G36, \"\")","v":5},{"$f":"IF('HUD Monitoring'!A32<>\"\", 'HUD Monitoring'!E32, \"\")","v":0},{"$f":"IF('Project Description'!A31<>\"\", 'Project Description'!D31, \"\")","v":4},{"$f":"IF('Opening Doors Goals'!A33<>\"\", 'Opening Doors Goals'!D33, \"\")","v":5},{"$f":"IF('Severity of Needs'!A34<>\"\", 'Severity of Needs'!E34, \"\")","v":2.5},{"$f":"IF('Prioritization of PSH'!A32<>\"\", 'Prioritization of PSH'!E32, \"\")","v":2.5},{"$f":"IF('Housing First Approach'!A31<>\"\", 'Housing First Approach'!E31, \"\")","v":5},{"$f":"IF('CoC Participation'!A33<>\"\", 'CoC Participation'!D33, \"\")","v":10},{"$f":"IF('CoC Meetings'!A33<>\"\", 'CoC Meetings'!D33, \"\")","v":4},{"$f":"IF('HMIS Data Quality'!A31<>\"\",'HMIS Data Quality'!E31,\"\")","v":5},{"$f":"IF('HMIS Data Timeliness'!A31<>\"\",'HMIS Data Timeliness'!E31,\"\")","v":0},{"$f":"IF('HMIS Bed Inventory'!A31<>\"\",'HMIS Bed Inventory'!E31,\"\")","v":0}]
[{"$f":"IF('CoC Renewal Ranking Report'!D35<>\"\",'CoC Renewal Ranking Report'!D35,\"\")","v":"Housing Transitions, Inc."},{"$f":"IF('CoC Renewal Ranking Report'!E35<>\"\",'CoC Renewal Ranking Report'!E35,\"\")","v":"Nittany House Apartments"},{"$f":"IF('CoC Renewal Ranking Report'!F35<>\"\",'CoC Renewal Ranking Report'!F35,\"\")","v":"PA0176L3T"},{"$f":"IF('CoC Renewal Ranking Report'!G35<>\"\",'CoC Renewal Ranking Report'!G35,\"\")","v":"PH"},null,91,null,{"$f":"IF('Exit-Retention to PH Measure'!A35<>\"\", 'Exit-Retention to PH Measure'!E35, \"\")","v":10},{"$f":"IF('Returns to Homelessness'!A35<>\"\", 'Returns to Homelessness'!E35, \"\")","v":3},{"$f":"IF('Length of Stay (TH Only)'!A36<>\"\", 'Length of Stay (TH Only)'!E36, \"\")","v":""},{"$f":"IF('Income Growth Measure'!A35<>\"\", 'Income Growth Measure'!F35, \"\")","v":8},{"$f":"IF('Mainstream Benefits Measure'!A33<>\"\", 'Mainstream Benefits Measure'!E33, \"\")","v":5},{"$f":"IF('Project Eligibility'!A35<>\"\", 'Project Eligibility'!E35, \"\")","v":5},{"$f":"IF('Unit Utilization Rate'!A34<>\"\", 'Unit Utilization Rate'!G34, \"\")","v":0},{"$f":"IF('eLOCCS Drawdowns'!A32<>\"\", 'eLOCCS Drawdowns'!E32, \"\")","v":3},{"$f":"IF('Recaptured Funds'!A35<>\"\", 'Recaptured Funds'!E35, \"\")","v":3},{"$f":"IF('Timely APR Submission'!A32<>\"\", 'Timely APR Submission'!E32, \"\")","v":0},{"$f":"IF('Cost Effectiveness'!A37<>\"\", 'Cost Effectiveness'!G37, \"\")","v":5},{"$f":"IF('Cost Effectiveness (Leavers)'!A37<>\"\", 'Cost Effectiveness (Leavers)'!G37, \"\")","v":5},{"$f":"IF('HUD Monitoring'!A33<>\"\", 'HUD Monitoring'!E33, \"\")","v":0},{"$f":"IF('Project Description'!A32<>\"\", 'Project Description'!D32, \"\")","v":5},{"$f":"IF('Opening Doors Goals'!A34<>\"\", 'Opening Doors Goals'!D34, \"\")","v":5},{"$f":"IF('Severity of Needs'!A35<>\"\", 'Severity of Needs'!E35, \"\")","v":7.5},{"$f":"IF('Prioritization of PSH'!A33<>\"\", 'Prioritization of PSH'!E33, \"\")","v":2.5},{"$f":"IF('Housing First Approach'!A32<>\"\", 'Housing First Approach'!E32, \"\")","v":5},{"$f":"IF('CoC Participation'!A34<>\"\", 'CoC Participation'!D34, \"\")","v":10},{"$f":"IF('CoC Meetings'!A34<>\"\", 'CoC Meetings'!D34, \"\")","v":4},{"$f":"IF('HMIS Data Quality'!A32<>\"\",'HMIS Data Quality'!E32,\"\")","v":5},{"$f":"IF('HMIS Data Timeliness'!A32<>\"\",'HMIS Data Timeliness'!E32,\"\")","v":0},{"$f":"IF('HMIS Bed Inventory'!A32<>\"\",'HMIS Bed Inventory'!E32,\"\")","v":0}]
[{"$f":"IF('CoC Renewal Ranking Report'!D36<>\"\",'CoC Renewal Ranking Report'!D36,\"\")","v":"Lehigh County Conference of Churches"},{"$f":"IF('CoC Renewal Ranking Report'!E36<>\"\",'CoC Renewal Ranking Report'!E36,\"\")","v":"Outreach and Case Management for the Disabled, Chronically Homeless"},{"$f":"IF('CoC Renewal Ranking Report'!F36<>\"\",'CoC Renewal Ranking Report'!F36,\"\")","v":"PA0213L3T"},{"$f":"IF('CoC Renewal Ranking Report'!G36<>\"\",'CoC Renewal Ranking Report'!G36,\"\")","v":"SSO"},null,78,null,{"$f":"IF('Exit-Retention to PH Measure'!A36<>\"\", 'Exit-Retention to PH Measure'!E36, \"\")","v":0},{"$f":"IF('Returns to Homelessness'!A36<>\"\", 'Returns to Homelessness'!E36, \"\")","v":3},{"$f":"IF('Length of Stay (TH Only)'!A37<>\"\", 'Length of Stay (TH Only)'!E37, \"\")","v":""},{"$f":"IF('Income Growth Measure'!A36<>\"\", 'Income Growth Measure'!F36, \"\")","v":8},{"$f":"IF('Mainstream Benefits Measure'!A34<>\"\", 'Mainstream Benefits Measure'!E34, \"\")","v":5},{"$f":"IF('Project Eligibility'!A36<>\"\", 'Project Eligibility'!E36, \"\")","v":5},{"$f":"IF('Unit Utilization Rate'!A35<>\"\", 'Unit Utilization Rate'!G35, \"\")","v":3},{"$f":"IF('eLOCCS Drawdowns'!A33<>\"\", 'eLOCCS Drawdowns'!E33, \"\")","v":3},{"$f":"IF('Recaptured Funds'!A36<>\"\", 'Recaptured Funds'!E36, \"\")","v":6},{"$f":"IF('Timely APR Submission'!A33<>\"\", 'Timely APR Submission'!E33, \"\")","v":0},{"$f":"IF('Cost Effectiveness'!A38<>\"\", 'Cost Effectiveness'!G38, \"\")","v":5},{"$f":"IF('Cost Effectiveness (Leavers)'!A38<>\"\", 'Cost Effectiveness (Leavers)'!G38, \"\")","v":""},{"$f":"IF('HUD Monitoring'!A34<>\"\", 'HUD Monitoring'!E34, \"\")","v":0},{"$f":"IF('Project Description'!A33<>\"\", 'Project Description'!D33, \"\")","v":5.5},{"$f":"IF('Opening Doors Goals'!A35<>\"\", 'Opening Doors Goals'!D35, \"\")","v":5},{"$f":"IF('Severity of Needs'!A36<>\"\", 'Severity of Needs'!E36, \"\")","v":7.5},{"$f":"IF('Prioritization of PSH'!A34<>\"\", 'Prioritization of PSH'!E34, \"\")","v":0},{"$f":"IF('Housing First Approach'!A33<>\"\", 'Housing First Approach'!E33, \"\")","v":5},{"$f":"IF('CoC Participation'!A35<>\"\", 'CoC Participation'!D35, \"\")","v":11},{"$f":"IF('CoC Meetings'!A35<>\"\", 'CoC Meetings'!D35, \"\")","v":1},{"$f":"IF('HMIS Data Quality'!A33<>\"\",'HMIS Data Quality'!E33,\"\")","v":5},{"$f":"IF('HMIS Data Timeliness'!A33<>\"\",'HMIS Data Timeliness'!E33,\"\")","v":0},{"$f":"IF('HMIS Bed Inventory'!A33<>\"\",'HMIS Bed Inventory'!E33,\"\")","v":0}]
[{"$f":"IF('CoC Renewal Ranking Report'!D37<>\"\",'CoC Renewal Ranking Report'!D37,\"\")","v":"Lehigh County Conference of Churches"},{"$f":"IF('CoC Renewal Ranking Report'!E37<>\"\",'CoC Renewal Ranking Report'!E37,\"\")","v":"Pathways Housing"},{"$f":"IF('CoC Renewal Ranking Report'!F37<>\"\",'CoC Renewal Ranking Report'!F37,\"\")","v":"PA0658L3T"},{"$f":"IF('CoC Renewal Ranking Report'!G37<>\"\",'CoC Renewal Ranking Report'!G37,\"\")","v":"PH"},null,80.5,null,{"$f":"IF('Exit-Retention to PH Measure'!A37<>\"\", 'Exit-Retention to PH Measure'!E37, \"\")","v":10},{"$f":"IF('Returns to Homelessness'!A37<>\"\", 'Returns to Homelessness'!E37, \"\")","v":3},{"$f":"IF('Length of Stay (TH Only)'!A38<>\"\", 'Length of Stay (TH Only)'!E38, \"\")","v":""},{"$f":"IF('Income Growth Measure'!A37<>\"\", 'Income Growth Measure'!F37, \"\")","v":8},{"$f":"IF('Mainstream Benefits Measure'!A35<>\"\", 'Mainstream Benefits Measure'!E35, \"\")","v":5},{"$f":"IF('Project Eligibility'!A37<>\"\", 'Project Eligibility'!E37, \"\")","v":5},{"$f":"IF('Unit Utilization Rate'!A36<>\"\", 'Unit Utilization Rate'!G36, \"\")","v":3},{"$f":"IF('eLOCCS Drawdowns'!A34<>\"\", 'eLOCCS Drawdowns'!E34, \"\")","v":3},{"$f":"IF('Recaptured Funds'!A37<>\"\", 'Recaptured Funds'!E37, \"\")","v":3},{"$f":"IF('Timely APR Submission'!A34<>\"\", 'Timely APR Submission'!E34, \"\")","v":0},{"$f":"IF('Cost Effectiveness'!A39<>\"\", 'Cost Effectiveness'!G39, \"\")","v":0},{"$f":"IF('Cost Effectiveness (Leavers)'!A39<>\"\", 'Cost Effectiveness (Leavers)'!G39, \"\")","v":5},{"$f":"IF('HUD Monitoring'!A35<>\"\", 'HUD Monitoring'!E35, \"\")","v":0},{"$f":"IF('Project Description'!A34<>\"\", 'Project Description'!D34, \"\")","v":6},{"$f":"IF('Opening Doors Goals'!A36<>\"\", 'Opening Doors Goals'!D36, \"\")","v":5},{"$f":"IF('Severity of Needs'!A37<>\"\", 'Severity of Needs'!E37, \"\")","v":0},{"$f":"IF('Prioritization of PSH'!A35<>\"\", 'Prioritization of PSH'!E35, \"\")","v":2.5},{"$f":"IF('Housing First Approach'!A34<>\"\", 'Housing First Approach'!E34, \"\")","v":5},{"$f":"IF('CoC Participation'!A36<>\"\", 'CoC Participation'!D36, \"\")","v":11},{"$f":"IF('CoC Meetings'!A36<>\"\", 'CoC Meetings'!D36, \"\")","v":1},{"$f":"IF('HMIS Data Quality'!A34<>\"\",'HMIS Data Quality'!E34,\"\")","v":5},{"$f":"IF('HMIS Data Timeliness'!A34<>\"\",'HMIS Data Timeliness'!E34,\"\")","v":0},{"$f":"IF('HMIS Bed Inventory'!A34<>\"\",'HMIS Bed Inventory'!E34,\"\")","v":0}]
[{"$f":"IF('CoC Renewal Ranking Report'!D38<>\"\",'CoC Renewal Ranking Report'!D38,\"\")","v":"Lehigh County Conference of Churches"},{"$f":"IF('CoC Renewal Ranking Report'!E38<>\"\",'CoC Renewal Ranking Report'!E38,\"\")","v":"Pathways Housing 2"},{"$f":"IF('CoC Renewal Ranking Report'!F38<>\"\",'CoC Renewal Ranking Report'!F38,\"\")","v":"PA0669L3T"},{"$f":"IF('CoC Renewal Ranking Report'!G38<>\"\",'CoC Renewal Ranking Report'!G38,\"\")","v":"PH"},null,85.5,null,{"$f":"IF('Exit-Retention to PH Measure'!A38<>\"\", 'Exit-Retention to PH Measure'!E38, \"\")","v":10},{"$f":"IF('Returns to Homelessness'!A38<>\"\", 'Returns to Homelessness'!E38, \"\")","v":3},{"$f":"IF('Length of Stay (TH Only)'!A39<>\"\", 'Length of Stay (TH Only)'!E39, \"\")","v":""},{"$f":"IF('Income Growth Measure'!A38<>\"\", 'Income Growth Measure'!F38, \"\")","v":8},{"$f":"IF('Mainstream Benefits Measure'!A36<>\"\", 'Mainstream Benefits Measure'!E36, \"\")","v":5},{"$f":"IF('Project Eligibility'!A38<>\"\", 'Project Eligibility'!E38, \"\")","v":5},{"$f":"IF('Unit Utilization Rate'!A37<>\"\", 'Unit Utilization Rate'!G37, \"\")","v":5},{"$f":"IF('eLOCCS Drawdowns'!A35<>\"\", 'eLOCCS Drawdowns'!E35, \"\")","v":3},{"$f":"IF('Recaptured Funds'!A38<>\"\", 'Recaptured Funds'!E38, \"\")","v":1},{"$f":"IF('Timely APR Submission'!A35<>\"\", 'Timely APR Submission'!E35, \"\")","v":0},{"$f":"IF('Cost Effectiveness'!A40<>\"\", 'Cost Effectiveness'!G40, \"\")","v":5},{"$f":"IF('Cost Effectiveness (Leavers)'!A40<>\"\", 'Cost Effectiveness (Leavers)'!G40, \"\")","v":5},{"$f":"IF('HUD Monitoring'!A36<>\"\", 'HUD Monitoring'!E36, \"\")","v":0},{"$f":"IF('Project Description'!A35<>\"\", 'Project Description'!D35, \"\")","v":6},{"$f":"IF('Opening Doors Goals'!A37<>\"\", 'Opening Doors Goals'!D37, \"\")","v":5},{"$f":"IF('Severity of Needs'!A38<>\"\", 'Severity of Needs'!E38, \"\")","v":0},{"$f":"IF('Prioritization of PSH'!A36<>\"\", 'Prioritization of PSH'!E36, \"\")","v":2.5},{"$f":"IF('Housing First Approach'!A35<>\"\", 'Housing First Approach'!E35, \"\")","v":5},{"$f":"IF('CoC Participation'!A37<>\"\", 'CoC Participation'!D37, \"\")","v":11},{"$f":"IF('CoC Meetings'!A37<>\"\", 'CoC Meetings'!D37, \"\")","v":1},{"$f":"IF('HMIS Data Quality'!A35<>\"\",'HMIS Data Quality'!E35,\"\")","v":5},{"$f":"IF('HMIS Data Timeliness'!A35<>\"\",'HMIS Data Timeliness'!E35,\"\")","v":0},{"$f":"IF('HMIS Bed Inventory'!A35<>\"\",'HMIS Bed Inventory'!E35,\"\")","v":0}]
[{"$f":"IF('CoC Renewal Ranking Report'!D39<>\"\",'CoC Renewal Ranking Report'!D39,\"\")","v":"Lehigh County Conference of Churches"},{"$f":"IF('CoC Renewal Ranking Report'!E39<>\"\",'CoC Renewal Ranking Report'!E39,\"\")","v":"Pathways TBRA for Families, Youth and Veterans"},{"$f":"IF('CoC Renewal Ranking Report'!F39<>\"\",'CoC Renewal Ranking Report'!F39,\"\")","v":"PA0583L3T"},{"$f":"IF('CoC Renewal Ranking Report'!G39<>\"\",'CoC Renewal Ranking Report'!G39,\"\")","v":"PH"},null,88,null,{"$f":"IF('Exit-Retention to PH Measure'!A39<>\"\", 'Exit-Retention to PH Measure'!E39, \"\")","v":10},{"$f":"IF('Returns to Homelessness'!A39<>\"\", 'Returns to Homelessness'!E39, \"\")","v":1},{"$f":"IF('Length of Stay (TH Only)'!A40<>\"\", 'Length of Stay (TH Only)'!E40, \"\")","v":""},{"$f":"IF('Income Growth Measure'!A39<>\"\", 'Income Growth Measure'!F39, \"\")","v":8},{"$f":"IF('Mainstream Benefits Measure'!A37<>\"\", 'Mainstream Benefits Measure'!E37, \"\")","v":5},{"$f":"IF('Project Eligibility'!A39<>\"\", 'Project Eligibility'!E39, \"\")","v":5},{"$f":"IF('Unit Utilization Rate'!A38<>\"\", 'Unit Utilization Rate'!G38, \"\")","v":5},{"$f":"IF('eLOCCS Drawdowns'!A36<>\"\", 'eLOCCS Drawdowns'!E36, \"\")","v":3},{"$f":"IF('Recaptured Funds'!A39<>\"\", 'Recaptured Funds'!E39, \"\")","v":6},{"$f":"IF('Timely APR Submission'!A36<>\"\", 'Timely APR Submission'!E36, \"\")","v":0},{"$f":"IF('Cost Effectiveness'!A41<>\"\", 'Cost Effectiveness'!G41, \"\")","v":2},{"$f":"IF('Cost Effectiveness (Leavers)'!A41<>\"\", 'Cost Effectiveness (Leavers)'!G41, \"\")","v":5},{"$f":"IF('HUD Monitoring'!A37<>\"\", 'HUD Monitoring'!E37, \"\")","v":0},{"$f":"IF('Project Description'!A36<>\"\", 'Project Description'!D36, \"\")","v":6},{"$f":"IF('Opening Doors Goals'!A38<>\"\", 'Opening Doors Goals'!D38, \"\")","v":5},{"$f":"IF('Severity of Needs'!A39<>\"\", 'Severity of Needs'!E39, \"\")","v":2.5},{"$f":"IF('Prioritization of PSH'!A37<>\"\", 'Prioritization of PSH'!E37, \"\")","v":2.5},{"$f":"IF('Housing First Approach'!A36<>\"\", 'Housing First Approach'!E36, \"\")","v":5},{"$f":"IF('CoC Participation'!A38<>\"\", 'CoC Participation'!D38, \"\")","v":11},{"$f":"IF('CoC Meetings'!A38<>\"\", 'CoC Meetings'!D38, \"\")","v":1},{"$f":"IF('HMIS Data Quality'!A36<>\"\",'HMIS Data Quality'!E36,\"\")","v":5},{"$f":"IF('HMIS Data Timeliness'!A36<>\"\",'HMIS Data Timeliness'!E36,\"\")","v":0},{"$f":"IF('HMIS Bed Inventory'!A36<>\"\",'HMIS Bed Inventory'!E36,\"\")","v":0}]
[{"$f":"IF('CoC Renewal Ranking Report'!D40<>\"\",'CoC Renewal Ranking Report'!D40,\"\")","v":"Lehigh County Conference of Churches"},{"$f":"IF('CoC Renewal Ranking Report'!E40<>\"\",'CoC Renewal Ranking Report'!E40,\"\")","v":"Tenant-Based Rental Assistance for the Disabled,Chronically Homeless"},{"$f":"IF('CoC Renewal Ranking Report'!F40<>\"\",'CoC Renewal Ranking Report'!F40,\"\")","v":"PA0222L3T"},{"$f":"IF('CoC Renewal Ranking Report'!G40<>\"\",'CoC Renewal Ranking Report'!G40,\"\")","v":"PH"},null,93,null,{"$f":"IF('Exit-Retention to PH Measure'!A40<>\"\", 'Exit-Retention to PH Measure'!E40, \"\")","v":10},{"$f":"IF('Returns to Homelessness'!A40<>\"\", 'Returns to Homelessness'!E40, \"\")","v":3},{"$f":"IF('Length of Stay (TH Only)'!A41<>\"\", 'Length of Stay (TH Only)'!E41, \"\")","v":""},{"$f":"IF('Income Growth Measure'!A40<>\"\", 'Income Growth Measure'!F40, \"\")","v":8},{"$f":"IF('Mainstream Benefits Measure'!A38<>\"\", 'Mainstream Benefits Measure'!E38, \"\")","v":5},{"$f":"IF('Project Eligibility'!A40<>\"\", 'Project Eligibility'!E40, \"\")","v":5},{"$f":"IF('Unit Utilization Rate'!A39<>\"\", 'Unit Utilization Rate'!G39, \"\")","v":0},{"$f":"IF('eLOCCS Drawdowns'!A37<>\"\", 'eLOCCS Drawdowns'!E37, \"\")","v":3},{"$f":"IF('Recaptured Funds'!A40<>\"\", 'Recaptured Funds'!E40, \"\")","v":6},{"$f":"IF('Timely APR Submission'!A37<>\"\", 'Timely APR Submission'!E37, \"\")","v":0},{"$f":"IF('Cost Effectiveness'!A42<>\"\", 'Cost Effectiveness'!G42, \"\")","v":5},{"$f":"IF('Cost Effectiveness (Leavers)'!A42<>\"\", 'Cost Effectiveness (Leavers)'!G42, \"\")","v":5},{"$f":"IF('HUD Monitoring'!A38<>\"\", 'HUD Monitoring'!E38, \"\")","v":0},{"$f":"IF('Project Description'!A37<>\"\", 'Project Description'!D37, \"\")","v":6},{"$f":"IF('Opening Doors Goals'!A39<>\"\", 'Opening Doors Goals'!D39, \"\")","v":5},{"$f":"IF('Severity of Needs'!A40<>\"\", 'Severity of Needs'!E40, \"\")","v":7.5},{"$f":"IF('Prioritization of PSH'!A38<>\"\", 'Prioritization of PSH'!E38, \"\")","v":2.5},{"$f":"IF('Housing First Approach'!A37<>\"\", 'Housing First Approach'!E37, \"\")","v":5},{"$f":"IF('CoC Participation'!A39<>\"\", 'CoC Participation'!D39, \"\")","v":11},{"$f":"IF('CoC Meetings'!A39<>\"\", 'CoC Meetings'!D39, \"\")","v":1},{"$f":"IF('HMIS Data Quality'!A37<>\"\",'HMIS Data Quality'!E37,\"\")","v":5},{"$f":"IF('HMIS Data Timeliness'!A37<>\"\",'HMIS Data Timeliness'!E37,\"\")","v":0},{"$f":"IF('HMIS Bed Inventory'!A37<>\"\",'HMIS Bed Inventory'!E37,\"\")","v":0}]
[{"$f":"IF('CoC Renewal Ranking Report'!D41<>\"\",'CoC Renewal Ranking Report'!D41,\"\")","v":"Lehigh County Housing Authority"},{"$f":"IF('CoC Renewal Ranking Report'!E41<>\"\",'CoC Renewal Ranking Report'!E41,\"\")","v":"LCHA S+C 2016"},{"$f":"IF('CoC Renewal Ranking Report'!F41<>\"\",'CoC Renewal Ranking Report'!F41,\"\")","v":"PA0215L3T"},{"$f":"IF('CoC Renewal Ranking Report'!G41<>\"\",'CoC Renewal Ranking Report'!G41,\"\")","v":"PH"},null,77.3,null,{"$f":"IF('Exit-Retention to PH Measure'!A41<>\"\", 'Exit-Retention to PH Measure'!E41, \"\")","v":10},{"$f":"IF('Returns to Homelessness'!A41<>\"\", 'Returns to Homelessness'!E41, \"\")","v":3},{"$f":"IF('Length of Stay (TH Only)'!A42<>\"\", 'Length of Stay (TH Only)'!E42, \"\")","v":""},{"$f":"IF('Income Growth Measure'!A41<>\"\", 'Income Growth Measure'!F41, \"\")","v":8},{"$f":"IF('Mainstream Benefits Measure'!A39<>\"\", 'Mainstream Benefits Measure'!E39, \"\")","v":5},{"$f":"IF('Project Eligibility'!A41<>\"\", 'Project Eligibility'!E41, \"\")","v":5},{"$f":"IF('Unit Utilization Rate'!A40<>\"\", 'Unit Utilization Rate'!G40, \"\")","v":5},{"$f":"IF('eLOCCS Drawdowns'!A38<>\"\", 'eLOCCS Drawdowns'!E38, \"\")","v":0},{"$f":"IF('Recaptured Funds'!A41<>\"\", 'Recaptured Funds'!E41, \"\")","v":1},{"$f":"IF('Timely APR Submission'!A38<>\"\", 'Timely APR Submission'!E38, \"\")","v":0},{"$f":"IF('Cost Effectiveness'!A43<>\"\", 'Cost Effectiveness'!G43, \"\")","v":5},{"$f":"IF('Cost Effectiveness (Leavers)'!A43<>\"\", 'Cost Effectiveness (Leavers)'!G43, \"\")","v":5},{"$f":"IF('HUD Monitoring'!A39<>\"\", 'HUD Monitoring'!E39, \"\")","v":0},{"$f":"IF('Project Description'!A38<>\"\", 'Project Description'!D38, \"\")","v":3},{"$f":"IF('Opening Doors Goals'!A40<>\"\", 'Opening Doors Goals'!D40, \"\")","v":0},{"$f":"IF('Severity of Needs'!A41<>\"\", 'Severity of Needs'!E41, \"\")","v":7.5},{"$f":"IF('Prioritization of PSH'!A39<>\"\", 'Prioritization of PSH'!E39, \"\")","v":2.5},{"$f":"IF('Housing First Approach'!A38<>\"\", 'Housing First Approach'!E38, \"\")","v":5},{"$f":"IF('CoC Participation'!A40<>\"\", 'CoC Participation'!D40, \"\")","v":6.3},{"$f":"IF('CoC Meetings'!A40<>\"\", 'CoC Meetings'!D40, \"\")","v":1},{"$f":"IF('HMIS Data Quality'!A38<>\"\",'HMIS Data Quality'!E38,\"\")","v":5},{"$f":"IF('HMIS Data Timeliness'!A38<>\"\",'HMIS Data Timeliness'!E38,\"\")","v":0},{"$f":"IF('HMIS Bed Inventory'!A38<>\"\",'HMIS Bed Inventory'!E38,\"\")","v":0}]
[{"$f":"IF('CoC Renewal Ranking Report'!D42<>\"\",'CoC Renewal Ranking Report'!D42,\"\")","v":"Maranatha"},{"$f":"IF('CoC Renewal Ranking Report'!E42<>\"\",'CoC Renewal Ranking Report'!E42,\"\")","v":"TOTAL PERSON TRANSITIONAL PROGRAM 1 & 2"},{"$f":"IF('CoC Renewal Ranking Report'!F42<>\"\",'CoC Renewal Ranking Report'!F42,\"\")","v":"PA0367L3T"},{"$f":"IF('CoC Renewal Ranking Report'!G42<>\"\",'CoC Renewal Ranking Report'!G42,\"\")","v":"PH-RRH"},null,54,null,{"$f":"IF('Exit-Retention to PH Measure'!A42<>\"\", 'Exit-Retention to PH Measure'!E42, \"\")","v":10},{"$f":"IF('Returns to Homelessness'!A42<>\"\", 'Returns to Homelessness'!E42, \"\")","v":0},{"$f":"IF('Length of Stay (TH Only)'!A43<>\"\", 'Length of Stay (TH Only)'!E43, \"\")","v":""},{"$f":"IF('Income Growth Measure'!A42<>\"\", 'Income Growth Measure'!F42, \"\")","v":0},{"$f":"IF('Mainstream Benefits Measure'!A40<>\"\", 'Mainstream Benefits Measure'!E40, \"\")","v":5},{"$f":"IF('Project Eligibility'!A42<>\"\", 'Project Eligibility'!E42, \"\")","v":0},{"$f":"IF('Unit Utilization Rate'!A41<>\"\", 'Unit Utilization Rate'!G41, \"\")","v":0},{"$f":"IF('eLOCCS Drawdowns'!A39<>\"\", 'eLOCCS Drawdowns'!E39, \"\")","v":3},{"$f":"IF('Recaptured Funds'!A42<>\"\", 'Recaptured Funds'!E42, \"\")","v":6},{"$f":"IF('Timely APR Submission'!A39<>\"\", 'Timely APR Submission'!E39, \"\")","v":0},{"$f":"IF('Cost Effectiveness'!A44<>\"\", 'Cost Effectiveness'!G44, \"\")","v":0},{"$f":"IF('Cost Effectiveness (Leavers)'!A44<>\"\", 'Cost Effectiveness (Leavers)'!G44, \"\")","v":0},{"$f":"IF('HUD Monitoring'!A40<>\"\", 'HUD Monitoring'!E40, \"\")","v":0},{"$f":"IF('Project Description'!A39<>\"\", 'Project Description'!D39, \"\")","v":0},{"$f":"IF('Opening Doors Goals'!A41<>\"\", 'Opening Doors Goals'!D41, \"\")","v":5},{"$f":"IF('Severity of Needs'!A42<>\"\", 'Severity of Needs'!E42, \"\")","v":0},{"$f":"IF('Prioritization of PSH'!A40<>\"\", 'Prioritization of PSH'!E40, \"\")","v":0},{"$f":"IF('Housing First Approach'!A39<>\"\", 'Housing First Approach'!E39, \"\")","v":5},{"$f":"IF('CoC Participation'!A41<>\"\", 'CoC Participation'!D41, \"\")","v":11},{"$f":"IF('CoC Meetings'!A41<>\"\", 'CoC Meetings'!D41, \"\")","v":4},{"$f":"IF('HMIS Data Quality'!A39<>\"\",'HMIS Data Quality'!E39,\"\")","v":5},{"$f":"IF('HMIS Data Timeliness'!A39<>\"\",'HMIS Data Timeliness'!E39,\"\")","v":0},{"$f":"IF('HMIS Bed Inventory'!A39<>\"\",'HMIS Bed Inventory'!E39,\"\")","v":0}]
[{"$f":"IF('CoC Renewal Ranking Report'!D43<>\"\",'CoC Renewal Ranking Report'!D43,\"\")","v":"Mifflin County"},{"$f":"IF('CoC Renewal Ranking Report'!E43<>\"\",'CoC Renewal Ranking Report'!E43,\"\")","v":"Mifflin County Permanent Housing Renewal"},{"$f":"IF('CoC Renewal Ranking Report'!F43<>\"\",'CoC Renewal Ranking Report'!F43,\"\")","v":"PA0175L3T"},{"$f":"IF('CoC Renewal Ranking Report'!G43<>\"\",'CoC Renewal Ranking Report'!G43,\"\")","v":"PH"},null,60.8,null,{"$f":"IF('Exit-Retention to PH Measure'!A43<>\"\", 'Exit-Retention to PH Measure'!E43, \"\")","v":0},{"$f":"IF('Returns to Homelessness'!A43<>\"\", 'Returns to Homelessness'!E43, \"\")","v":3},{"$f":"IF('Length of Stay (TH Only)'!A44<>\"\", 'Length of Stay (TH Only)'!E44, \"\")","v":""},{"$f":"IF('Income Growth Measure'!A43<>\"\", 'Income Growth Measure'!F43, \"\")","v":8},{"$f":"IF('Mainstream Benefits Measure'!A41<>\"\", 'Mainstream Benefits Measure'!E41, \"\")","v":2},{"$f":"IF('Project Eligibility'!A43<>\"\", 'Project Eligibility'!E43, \"\")","v":5},{"$f":"IF('Unit Utilization Rate'!A42<>\"\", 'Unit Utilization Rate'!G42, \"\")","v":0},{"$f":"IF('eLOCCS Drawdowns'!A40<>\"\", 'eLOCCS Drawdowns'!E40, \"\")","v":0},{"$f":"IF('Recaptured Funds'!A43<>\"\", 'Recaptured Funds'!E43, \"\")","v":0},{"$f":"IF('Timely APR Submission'!A40<>\"\", 'Timely APR Submission'!E40, \"\")","v":0},{"$f":"IF('Cost Effectiveness'!A45<>\"\", 'Cost Effectiveness'!G45, \"\")","v":4},{"$f":"IF('Cost Effectiveness (Leavers)'!A45<>\"\", 'Cost Effectiveness (Leavers)'!G45, \"\")","v":0},{"$f":"IF('HUD Monitoring'!A41<>\"\", 'HUD Monitoring'!E41, \"\")","v":0},{"$f":"IF('Project Description'!A40<>\"\", 'Project Description'!D40, \"\")","v":3},{"$f":"IF('Opening Doors Goals'!A42<>\"\", 'Opening Doors Goals'!D42, \"\")","v":5},{"$f":"IF('Severity of Needs'!A43<>\"\", 'Severity of Needs'!E43, \"\")","v":7.5},{"$f":"IF('Prioritization of PSH'!A41<>\"\", 'Prioritization of PSH'!E41, \"\")","v":2.5},{"$f":"IF('Housing First Approach'!A40<>\"\", 'Housing First Approach'!E40, \"\")","v":5},{"$f":"IF('CoC Participation'!A42<>\"\", 'CoC Participation'!D42, \"\")","v":8.8000000000000007},{"$f":"IF('CoC Meetings'!A42<>\"\", 'CoC Meetings'!D42, \"\")","v":2},{"$f":"IF('HMIS Data Quality'!A40<>\"\",'HMIS Data Quality'!E40,\"\")","v":5},{"$f":"IF('HMIS Data Timeliness'!A40<>\"\",'HMIS Data Timeliness'!E40,\"\")","v":0},{"$f":"IF('HMIS Bed Inventory'!A40<>\"\",'HMIS Bed Inventory'!E40,\"\")","v":0}]
[{"$f":"IF('CoC Renewal Ranking Report'!D44<>\"\",'CoC Renewal Ranking Report'!D44,\"\")","v":"Northampton County Housing Authority"},{"$f":"IF('CoC Renewal Ranking Report'!E44<>\"\",'CoC Renewal Ranking Report'!E44,\"\")","v":"NCHA S+C 2016"},{"$f":"IF('CoC Renewal Ranking Report'!F44<>\"\",'CoC Renewal Ranking Report'!F44,\"\")","v":"PA0212L3T"},{"$f":"IF('CoC Renewal Ranking Report'!G44<>\"\",'CoC Renewal Ranking Report'!G44,\"\")","v":"PH"},null,59.3,null,{"$f":"IF('Exit-Retention to PH Measure'!A44<>\"\", 'Exit-Retention to PH Measure'!E44, \"\")","v":3},{"$f":"IF('Returns to Homelessness'!A44<>\"\", 'Returns to Homelessness'!E44, \"\")","v":3},{"$f":"IF('Length of Stay (TH Only)'!A45<>\"\", 'Length of Stay (TH Only)'!E45, \"\")","v":""},{"$f":"IF('Income Growth Measure'!A44<>\"\", 'Income Growth Measure'!F44, \"\")","v":0},{"$f":"IF('Mainstream Benefits Measure'!A42<>\"\", 'Mainstream Benefits Measure'!E42, \"\")","v":5},{"$f":"IF('Project Eligibility'!A44<>\"\", 'Project Eligibility'!E44, \"\")","v":5},{"$f":"IF('Unit Utilization Rate'!A43<>\"\", 'Unit Utilization Rate'!G43, \"\")","v":5},{"$f":"IF('eLOCCS Drawdowns'!A41<>\"\", 'eLOCCS Drawdowns'!E41, \"\")","v":3},{"$f":"IF('Recaptured Funds'!A44<>\"\", 'Recaptured Funds'!E44, \"\")","v":0},{"$f":"IF('Timely APR Submission'!A41<>\"\", 'Timely APR Submission'!E41, \"\")","v":0},{"$f":"IF('Cost Effectiveness'!A46<>\"\", 'Cost Effectiveness'!G46, \"\")","v":5},{"$f":"IF('Cost Effectiveness (Leavers)'!A46<>\"\", 'Cost Effectiveness (Leavers)'!G46, \"\")","v":5},{"$f":"IF('HUD Monitoring'!A42<>\"\", 'HUD Monitoring'!E42, \"\")","v":0},{"$f":"IF('Project Description'!A41<>\"\", 'Project Description'!D41, \"\")","v":3},{"$f":"IF('Opening Doors Goals'!A43<>\"\", 'Opening Doors Goals'!D43, \"\")","v":0},{"$f":"IF('Severity of Needs'!A44<>\"\", 'Severity of Needs'!E44, \"\")","v":7.5},{"$f":"IF('Prioritization of PSH'!A42<>\"\", 'Prioritization of PSH'!E42, \"\")","v":2.5},{"$f":"IF('Housing First Approach'!A41<>\"\", 'Housing First Approach'!E41, \"\")","v":5},{"$f":"IF('CoC Participation'!A43<>\"\", 'CoC Participation'!D43, \"\")","v":6.3},{"$f":"IF('CoC Meetings'!A43<>\"\", 'CoC Meetings'!D43, \"\")","v":1},{"$f":"IF('HMIS Data Quality'!A41<>\"\",'HMIS Data Quality'!E41,\"\")","v":0},{"$f":"IF('HMIS Data Timeliness'!A41<>\"\",'HMIS Data Timeliness'!E41,\"\")","v":0},{"$f":"IF('HMIS Bed Inventory'!A41<>\"\",'HMIS Bed Inventory'!E41,\"\")","v":0}]
[{"$f":"IF('CoC Renewal Ranking Report'!D45<>\"\",'CoC Renewal Ranking Report'!D45,\"\")","v":"Northern Cambria Community Development Corporation"},{"$f":"IF('CoC Renewal Ranking Report'!E45<>\"\",'CoC Renewal Ranking Report'!E45,\"\")","v":"Independence Gardens"},{"$f":"IF('CoC Renewal Ranking Report'!F45<>\"\",'CoC Renewal Ranking Report'!F45,\"\")","v":"PA0360L3E"},{"$f":"IF('CoC Renewal Ranking Report'!G45<>\"\",'CoC Renewal Ranking Report'!G45,\"\")","v":"PH"},null,87,null,{"$f":"IF('Exit-Retention to PH Measure'!A45<>\"\", 'Exit-Retention to PH Measure'!E45, \"\")","v":10},{"$f":"IF('Returns to Homelessness'!A45<>\"\", 'Returns to Homelessness'!E45, \"\")","v":3},{"$f":"IF('Length of Stay (TH Only)'!A46<>\"\", 'Length of Stay (TH Only)'!E46, \"\")","v":""},{"$f":"IF('Income Growth Measure'!A45<>\"\", 'Income Growth Measure'!F45, \"\")","v":8},{"$f":"IF('Mainstream Benefits Measure'!A43<>\"\", 'Mainstream Benefits Measure'!E43, \"\")","v":5},{"$f":"IF('Project Eligibility'!A45<>\"\", 'Project Eligibility'!E45, \"\")","v":5},{"$f":"IF('Unit Utilization Rate'!A44<>\"\", 'Unit Utilization Rate'!G44, \"\")","v":5},{"$f":"IF('eLOCCS Drawdowns'!A42<>\"\", 'eLOCCS Drawdowns'!E42, \"\")","v":0},{"$f":"IF('Recaptured Funds'!A45<>\"\", 'Recaptured Funds'!E45, \"\")","v":6},{"$f":"IF('Timely APR Submission'!A42<>\"\", 'Timely APR Submission'!E42, \"\")","v":0},{"$f":"IF('Cost Effectiveness'!A47<>\"\", 'Cost Effectiveness'!G47, \"\")","v":5},{"$f":"IF('Cost Effectiveness (Leavers)'!A47<>\"\", 'Cost Effectiveness (Leavers)'!G47, \"\")","v":5},{"$f":"IF('HUD Monitoring'!A43<>\"\", 'HUD Monitoring'!E43, \"\")","v":0},{"$f":"IF('Project Description'!A42<>\"\", 'Project Description'!D42, \"\")","v":2},{"$f":"IF('Opening Doors Goals'!A44<>\"\", 'Opening Doors Goals'!D44, \"\")","v":5},{"$f":"IF('Severity of Needs'!A45<>\"\", 'Severity of Needs'!E45, \"\")","v":2.5},{"$f":"IF('Prioritization of PSH'!A43<>\"\", 'Prioritization of PSH'!E43, \"\")","v":2.5},{"$f":"IF('Housing First Approach'!A42<>\"\", 'Housing First Approach'!E42, \"\")","v":5},{"$f":"IF('CoC Participation'!A44<>\"\", 'CoC Participation'!D44, \"\")","v":10},{"$f":"IF('CoC Meetings'!A44<>\"\", 'CoC Meetings'!D44, \"\")","v":3},{"$f":"IF('HMIS Data Quality'!A42<>\"\",'HMIS Data Quality'!E42,\"\")","v":5},{"$f":"IF('HMIS Data Timeliness'!A42<>\"\",'HMIS Data Timeliness'!E42,\"\")","v":0},{"$f":"IF('HMIS Bed Inventory'!A42<>\"\",'HMIS Bed Inventory'!E42,\"\")","v":0}]
[{"$f":"IF('CoC Renewal Ranking Report'!D46<>\"\",'CoC Renewal Ranking Report'!D46,\"\")","v":"Northern Cambria Community Development Corporation"},{"$f":"IF('CoC Renewal Ranking Report'!E46<>\"\",'CoC Renewal Ranking Report'!E46,\"\")","v":"Schoolhouse Gardens"},{"$f":"IF('CoC Renewal Ranking Report'!F46<>\"\",'CoC Renewal Ranking Report'!F46,\"\")","v":"PA0481L3E"},{"$f":"IF('CoC Renewal Ranking Report'!G46<>\"\",'CoC Renewal Ranking Report'!G46,\"\")","v":"PH"},null,88,null,{"$f":"IF('Exit-Retention to PH Measure'!A46<>\"\", 'Exit-Retention to PH Measure'!E46, \"\")","v":10},{"$f":"IF('Returns to Homelessness'!A46<>\"\", 'Returns to Homelessness'!E46, \"\")","v":3},{"$f":"IF('Length of Stay (TH Only)'!A47<>\"\", 'Length of Stay (TH Only)'!E47, \"\")","v":""},{"$f":"IF('Income Growth Measure'!A46<>\"\", 'Income Growth Measure'!F46, \"\")","v":8},{"$f":"IF('Mainstream Benefits Measure'!A44<>\"\", 'Mainstream Benefits Measure'!E44, \"\")","v":5},{"$f":"IF('Project Eligibility'!A46<>\"\", 'Project Eligibility'!E46, \"\")","v":5},{"$f":"IF('Unit Utilization Rate'!A45<>\"\", 'Unit Utilization Rate'!G45, \"\")","v":3},{"$f":"IF('eLOCCS Drawdowns'!A43<>\"\", 'eLOCCS Drawdowns'!E43, \"\")","v":3},{"$f":"IF('Recaptured Funds'!A46<>\"\", 'Recaptured Funds'!E46, \"\")","v":6},{"$f":"IF('Timely APR Submission'!A43<>\"\", 'Timely APR Submission'!E43, \"\")","v":0},{"$f":"IF('Cost Effectiveness'!A48<>\"\", 'Cost Effectiveness'!G48, \"\")","v":5},{"$f":"IF('Cost Effectiveness (Leavers)'!A48<>\"\", 'Cost Effectiveness (Leavers)'!G48, \"\")","v":5},{"$f":"IF('HUD Monitoring'!A44<>\"\", 'HUD Monitoring'!E44, \"\")","v":0},{"$f":"IF('Project Description'!A43<>\"\", 'Project Description'!D43, \"\")","v":2},{"$f":"IF('Opening Doors Goals'!A45<>\"\", 'Opening Doors Goals'!D45, \"\")","v":5},{"$f":"IF('Severity of Needs'!A46<>\"\", 'Severity of Needs'!E46, \"\")","v":2.5},{"$f":"IF('Prioritization of PSH'!A44<>\"\", 'Prioritization of PSH'!E44, \"\")","v":2.5},{"$f":"IF('Housing First Approach'!A43<>\"\", 'Housing First Approach'!E43, \"\")","v":5},{"$f":"IF('CoC Participation'!A45<>\"\", 'CoC Participation'!D45, \"\")","v":10},{"$f":"IF('CoC Meetings'!A45<>\"\", 'CoC Meetings'!D45, \"\")","v":3},{"$f":"IF('HMIS Data Quality'!A43<>\"\",'HMIS Data Quality'!E43,\"\")","v":5},{"$f":"IF('HMIS Data Timeliness'!A43<>\"\",'HMIS Data Timeliness'!E43,\"\")","v":0},{"$f":"IF('HMIS Bed Inventory'!A43<>\"\",'HMIS Bed Inventory'!E43,\"\")","v":0}]
[{"$f":"IF('CoC Renewal Ranking Report'!D47<>\"\",'CoC Renewal Ranking Report'!D47,\"\")","v":"Northumberland County MH/MR"},{"$f":"IF('CoC Renewal Ranking Report'!E47<>\"\",'CoC Renewal Ranking Report'!E47,\"\")","v":"Sharing Support"},{"$f":"IF('CoC Renewal Ranking Report'!F47<>\"\",'CoC Renewal Ranking Report'!F47,\"\")","v":"PA0364L3T"},{"$f":"IF('CoC Renewal Ranking Report'!G47<>\"\",'CoC Renewal Ranking Report'!G47,\"\")","v":"PH"},null,66.8,null,{"$f":"IF('Exit-Retention to PH Measure'!A47<>\"\", 'Exit-Retention to PH Measure'!E47, \"\")","v":3},{"$f":"IF('Returns to Homelessness'!A47<>\"\", 'Returns to Homelessness'!E47, \"\")","v":3},{"$f":"IF('Length of Stay (TH Only)'!A48<>\"\", 'Length of Stay (TH Only)'!E48, \"\")","v":""},{"$f":"IF('Income Growth Measure'!A47<>\"\", 'Income Growth Measure'!F47, \"\")","v":8},{"$f":"IF('Mainstream Benefits Measure'!A45<>\"\", 'Mainstream Benefits Measure'!E45, \"\")","v":5},{"$f":"IF('Project Eligibility'!A47<>\"\", 'Project Eligibility'!E47, \"\")","v":5},{"$f":"IF('Unit Utilization Rate'!A46<>\"\", 'Unit Utilization Rate'!G46, \"\")","v":5},{"$f":"IF('eLOCCS Drawdowns'!A44<>\"\", 'eLOCCS Drawdowns'!E44, \"\")","v":0},{"$f":"IF('Recaptured Funds'!A47<>\"\", 'Recaptured Funds'!E47, \"\")","v":6},{"$f":"IF('Timely APR Submission'!A44<>\"\", 'Timely APR Submission'!E44, \"\")","v":0},{"$f":"IF('Cost Effectiveness'!A49<>\"\", 'Cost Effectiveness'!G49, \"\")","v":2},{"$f":"IF('Cost Effectiveness (Leavers)'!A49<>\"\", 'Cost Effectiveness (Leavers)'!G49, \"\")","v":0},{"$f":"IF('HUD Monitoring'!A45<>\"\", 'HUD Monitoring'!E45, \"\")","v":0},{"$f":"IF('Project Description'!A44<>\"\", 'Project Description'!D44, \"\")","v":0},{"$f":"IF('Opening Doors Goals'!A46<>\"\", 'Opening Doors Goals'!D46, \"\")","v":5},{"$f":"IF('Severity of Needs'!A47<>\"\", 'Severity of Needs'!E47, \"\")","v":2.5},{"$f":"IF('Prioritization of PSH'!A45<>\"\", 'Prioritization of PSH'!E45, \"\")","v":2.5},{"$f":"IF('Housing First Approach'!A44<>\"\", 'Housing First Approach'!E44, \"\")","v":5},{"$f":"IF('CoC Participation'!A46<>\"\", 'CoC Participation'!D46, \"\")","v":8.8000000000000007},{"$f":"IF('CoC Meetings'!A46<>\"\", 'CoC Meetings'!D46, \"\")","v":1},{"$f":"IF('HMIS Data Quality'!A44<>\"\",'HMIS Data Quality'!E44,\"\")","v":5},{"$f":"IF('HMIS Data Timeliness'!A44<>\"\",'HMIS Data Timeliness'!E44,\"\")","v":0},{"$f":"IF('HMIS Bed Inventory'!A44<>\"\",'HMIS Bed Inventory'!E44,\"\")","v":0}]
[{"$f":"IF('CoC Renewal Ranking Report'!D48<>\"\",'CoC Renewal Ranking Report'!D48,\"\")","v":"Resources for Human Development, Inc."},{"$f":"IF('CoC Renewal Ranking Report'!E48<>\"\",'CoC Renewal Ranking Report'!E48,\"\")","v":"Crossroads Family"},{"$f":"IF('CoC Renewal Ranking Report'!F48<>\"\",'CoC Renewal Ranking Report'!F48,\"\")","v":"PA0205L3T"},{"$f":"IF('CoC Renewal Ranking Report'!G48<>\"\",'CoC Renewal Ranking Report'!G48,\"\")","v":"PH"},null,71.5,null,{"$f":"IF('Exit-Retention to PH Measure'!A48<>\"\", 'Exit-Retention to PH Measure'!E48, \"\")","v":10},{"$f":"IF('Returns to Homelessness'!A48<>\"\", 'Returns to Homelessness'!E48, \"\")","v":3},{"$f":"IF('Length of Stay (TH Only)'!A49<>\"\", 'Length of Stay (TH Only)'!E49, \"\")","v":""},{"$f":"IF('Income Growth Measure'!A48<>\"\", 'Income Growth Measure'!F48, \"\")","v":8},{"$f":"IF('Mainstream Benefits Measure'!A46<>\"\", 'Mainstream Benefits Measure'!E46, \"\")","v":5},{"$f":"IF('Project Eligibility'!A48<>\"\", 'Project Eligibility'!E48, \"\")","v":0},{"$f":"IF('Unit Utilization Rate'!A47<>\"\", 'Unit Utilization Rate'!G47, \"\")","v":5},{"$f":"IF('eLOCCS Drawdowns'!A45<>\"\", 'eLOCCS Drawdowns'!E45, \"\")","v":0},{"$f":"IF('Recaptured Funds'!A48<>\"\", 'Recaptured Funds'!E48, \"\")","v":1},{"$f":"IF('Timely APR Submission'!A45<>\"\", 'Timely APR Submission'!E45, \"\")","v":0},{"$f":"IF('Cost Effectiveness'!A50<>\"\", 'Cost Effectiveness'!G50, \"\")","v":0},{"$f":"IF('Cost Effectiveness (Leavers)'!A50<>\"\", 'Cost Effectiveness (Leavers)'!G50, \"\")","v":0},{"$f":"IF('HUD Monitoring'!A46<>\"\", 'HUD Monitoring'!E46, \"\")","v":0},{"$f":"IF('Project Description'!A45<>\"\", 'Project Description'!D45, \"\")","v":5.5},{"$f":"IF('Opening Doors Goals'!A47<>\"\", 'Opening Doors Goals'!D47, \"\")","v":5},{"$f":"IF('Severity of Needs'!A48<>\"\", 'Severity of Needs'!E48, \"\")","v":2.5},{"$f":"IF('Prioritization of PSH'!A46<>\"\", 'Prioritization of PSH'!E46, \"\")","v":2.5},{"$f":"IF('Housing First Approach'!A45<>\"\", 'Housing First Approach'!E45, \"\")","v":5},{"$f":"IF('CoC Participation'!A47<>\"\", 'CoC Participation'!D47, \"\")","v":10},{"$f":"IF('CoC Meetings'!A47<>\"\", 'CoC Meetings'!D47, \"\")","v":4},{"$f":"IF('HMIS Data Quality'!A45<>\"\",'HMIS Data Quality'!E45,\"\")","v":5},{"$f":"IF('HMIS Data Timeliness'!A45<>\"\",'HMIS Data Timeliness'!E45,\"\")","v":0},{"$f":"IF('HMIS Bed Inventory'!A45<>\"\",'HMIS Bed Inventory'!E45,\"\")","v":0}]
[{"$f":"IF('CoC Renewal Ranking Report'!D49<>\"\",'CoC Renewal Ranking Report'!D49,\"\")","v":"Resources for Human Development, Inc."},{"$f":"IF('CoC Renewal Ranking Report'!E49<>\"\",'CoC Renewal Ranking Report'!E49,\"\")","v":"Crossroads Housing Bonus"},{"$f":"IF('CoC Renewal Ranking Report'!F49<>\"\",'CoC Renewal Ranking Report'!F49,\"\")","v":"PA0449L3T"},{"$f":"IF('CoC Renewal Ranking Report'!G49<>\"\",'CoC Renewal Ranking Report'!G49,\"\")","v":"PH"},null,91.5,null,{"$f":"IF('Exit-Retention to PH Measure'!A49<>\"\", 'Exit-Retention to PH Measure'!E49, \"\")","v":10},{"$f":"IF('Returns to Homelessness'!A49<>\"\", 'Returns to Homelessness'!E49, \"\")","v":3},{"$f":"IF('Length of Stay (TH Only)'!A50<>\"\", 'Length of Stay (TH Only)'!E50, \"\")","v":""},{"$f":"IF('Income Growth Measure'!A49<>\"\", 'Income Growth Measure'!F49, \"\")","v":8},{"$f":"IF('Mainstream Benefits Measure'!A47<>\"\", 'Mainstream Benefits Measure'!E47, \"\")","v":5},{"$f":"IF('Project Eligibility'!A49<>\"\", 'Project Eligibility'!E49, \"\")","v":5},{"$f":"IF('Unit Utilization Rate'!A48<>\"\", 'Unit Utilization Rate'!G48, \"\")","v":3},{"$f":"IF('eLOCCS Drawdowns'!A46<>\"\", 'eLOCCS Drawdowns'!E46, \"\")","v":0},{"$f":"IF('Recaptured Funds'!A49<>\"\", 'Recaptured Funds'!E49, \"\")","v":3},{"$f":"IF('Timely APR Submission'!A46<>\"\", 'Timely APR Submission'!E46, \"\")","v":0},{"$f":"IF('Cost Effectiveness'!A51<>\"\", 'Cost Effectiveness'!G51, \"\")","v":5},{"$f":"IF('Cost Effectiveness (Leavers)'!A51<>\"\", 'Cost Effectiveness (Leavers)'!G51, \"\")","v":5},{"$f":"IF('HUD Monitoring'!A47<>\"\", 'HUD Monitoring'!E47, \"\")","v":0},{"$f":"IF('Project Description'!A46<>\"\", 'Project Description'!D46, \"\")","v":5.5},{"$f":"IF('Opening Doors Goals'!A48<>\"\", 'Opening Doors Goals'!D48, \"\")","v":5},{"$f":"IF('Severity of Needs'!A49<>\"\", 'Severity of Needs'!E49, \"\")","v":7.5},{"$f":"IF('Prioritization of PSH'!A47<>\"\", 'Prioritization of PSH'!E47, \"\")","v":2.5},{"$f":"IF('Housing First Approach'!A46<>\"\", 'Housing First Approach'!E46, \"\")","v":5},{"$f":"IF('CoC Participation'!A48<>\"\", 'CoC Participation'!D48, \"\")","v":10},{"$f":"IF('CoC Meetings'!A48<>\"\", 'CoC Meetings'!D48, \"\")","v":4},{"$f":"IF('HMIS Data Quality'!A46<>\"\",'HMIS Data Quality'!E46,\"\")","v":5},{"$f":"IF('HMIS Data Timeliness'!A46<>\"\",'HMIS Data Timeliness'!E46,\"\")","v":0},{"$f":"IF('HMIS Bed Inventory'!A46<>\"\",'HMIS Bed Inventory'!E46,\"\")","v":0}]
[{"$f":"IF('CoC Renewal Ranking Report'!D50<>\"\",'CoC Renewal Ranking Report'!D50,\"\")","v":"Resources for Human Development, Inc."},{"$f":"IF('CoC Renewal Ranking Report'!E50<>\"\",'CoC Renewal Ranking Report'!E50,\"\")","v":"Crossroads Individual"},{"$f":"IF('CoC Renewal Ranking Report'!F50<>\"\",'CoC Renewal Ranking Report'!F50,\"\")","v":"PA0206L3T"},{"$f":"IF('CoC Renewal Ranking Report'!G50<>\"\",'CoC Renewal Ranking Report'!G50,\"\")","v":"PH"},null,84.5,null,{"$f":"IF('Exit-Retention to PH Measure'!A50<>\"\", 'Exit-Retention to PH Measure'!E50, \"\")","v":10},{"$f":"IF('Returns to Homelessness'!A50<>\"\", 'Returns to Homelessness'!E50, \"\")","v":3},{"$f":"IF('Length of Stay (TH Only)'!A51<>\"\", 'Length of Stay (TH Only)'!E51, \"\")","v":""},{"$f":"IF('Income Growth Measure'!A50<>\"\", 'Income Growth Measure'!F50, \"\")","v":8},{"$f":"IF('Mainstream Benefits Measure'!A48<>\"\", 'Mainstream Benefits Measure'!E48, \"\")","v":5},{"$f":"IF('Project Eligibility'!A50<>\"\", 'Project Eligibility'!E50, \"\")","v":5},{"$f":"IF('Unit Utilization Rate'!A49<>\"\", 'Unit Utilization Rate'!G49, \"\")","v":5},{"$f":"IF('eLOCCS Drawdowns'!A47<>\"\", 'eLOCCS Drawdowns'!E47, \"\")","v":3},{"$f":"IF('Recaptured Funds'!A50<>\"\", 'Recaptured Funds'!E50, \"\")","v":6},{"$f":"IF('Timely APR Submission'!A47<>\"\", 'Timely APR Submission'!E47, \"\")","v":0},{"$f":"IF('Cost Effectiveness'!A52<>\"\", 'Cost Effectiveness'!G52, \"\")","v":0},{"$f":"IF('Cost Effectiveness (Leavers)'!A52<>\"\", 'Cost Effectiveness (Leavers)'!G52, \"\")","v":0},{"$f":"IF('HUD Monitoring'!A48<>\"\", 'HUD Monitoring'!E48, \"\")","v":0},{"$f":"IF('Project Description'!A47<>\"\", 'Project Description'!D47, \"\")","v":5.5},{"$f":"IF('Opening Doors Goals'!A49<>\"\", 'Opening Doors Goals'!D49, \"\")","v":5},{"$f":"IF('Severity of Needs'!A50<>\"\", 'Severity of Needs'!E50, \"\")","v":2.5},{"$f":"IF('Prioritization of PSH'!A48<>\"\", 'Prioritization of PSH'!E48, \"\")","v":2.5},{"$f":"IF('Housing First Approach'!A47<>\"\", 'Housing First Approach'!E47, \"\")","v":5},{"$f":"IF('CoC Participation'!A49<>\"\", 'CoC Participation'!D49, \"\")","v":10},{"$f":"IF('CoC Meetings'!A49<>\"\", 'CoC Meetings'!D49, \"\")","v":4},{"$f":"IF('HMIS Data Quality'!A47<>\"\",'HMIS Data Quality'!E47,\"\")","v":5},{"$f":"IF('HMIS Data Timeliness'!A47<>\"\",'HMIS Data Timeliness'!E47,\"\")","v":0},{"$f":"IF('HMIS Bed Inventory'!A47<>\"\",'HMIS Bed Inventory'!E47,\"\")","v":0}]
[{"$f":"IF('CoC Renewal Ranking Report'!D51<>\"\",'CoC Renewal Ranking Report'!D51,\"\")","v":"Resources for Human Development, Inc."},{"$f":"IF('CoC Renewal Ranking Report'!E51<>\"\",'CoC Renewal Ranking Report'!E51,\"\")","v":"Crossroads Schuylkill Co. Permanent Supportive Housing"},{"$f":"IF('CoC Renewal Ranking Report'!F51<>\"\",'CoC Renewal Ranking Report'!F51,\"\")","v":"PA0708L3T"},{"$f":"IF('CoC Renewal Ranking Report'!G51<>\"\",'CoC Renewal Ranking Report'!G51,\"\")","v":"PH"},null,75.5,null,{"$f":"IF('Exit-Retention to PH Measure'!A51<>\"\", 'Exit-Retention to PH Measure'!E51, \"\")","v":10},{"$f":"IF('Returns to Homelessness'!A51<>\"\", 'Returns to Homelessness'!E51, \"\")","v":3},{"$f":"IF('Length of Stay (TH Only)'!A52<>\"\", 'Length of Stay (TH Only)'!E52, \"\")","v":""},{"$f":"IF('Income Growth Measure'!A51<>\"\", 'Income Growth Measure'!F51, \"\")","v":8},{"$f":"IF('Mainstream Benefits Measure'!A49<>\"\", 'Mainstream Benefits Measure'!E49, \"\")","v":2},{"$f":"IF('Project Eligibility'!A51<>\"\", 'Project Eligibility'!E51, \"\")","v":5},{"$f":"IF('Unit Utilization Rate'!A50<>\"\", 'Unit Utilization Rate'!G50, \"\")","v":0},{"$f":"IF('eLOCCS Drawdowns'!A48<>\"\", 'eLOCCS Drawdowns'!E48, \"\")","v":3},{"$f":"IF('Recaptured Funds'!A51<>\"\", 'Recaptured Funds'!E51, \"\")","v":0},{"$f":"IF('Timely APR Submission'!A48<>\"\", 'Timely APR Submission'!E48, \"\")","v":0},{"$f":"IF('Cost Effectiveness'!A53<>\"\", 'Cost Effectiveness'!G53, \"\")","v":0},{"$f":"IF('Cost Effectiveness (Leavers)'!A53<>\"\", 'Cost Effectiveness (Leavers)'!G53, \"\")","v":0},{"$f":"IF('HUD Monitoring'!A49<>\"\", 'HUD Monitoring'!E49, \"\")","v":0},{"$f":"IF('Project Description'!A48<>\"\", 'Project Description'!D48, \"\")","v":5.5},{"$f":"IF('Opening Doors Goals'!A50<>\"\", 'Opening Doors Goals'!D50, \"\")","v":5},{"$f":"IF('Severity of Needs'!A51<>\"\", 'Severity of Needs'!E51, \"\")","v":7.5},{"$f":"IF('Prioritization of PSH'!A49<>\"\", 'Prioritization of PSH'!E49, \"\")","v":2.5},{"$f":"IF('Housing First Approach'!A48<>\"\", 'Housing First Approach'!E48, \"\")","v":5},{"$f":"IF('CoC Participation'!A50<>\"\", 'CoC Participation'!D50, \"\")","v":10},{"$f":"IF('CoC Meetings'!A50<>\"\", 'CoC Meetings'!D50, \"\")","v":4},{"$f":"IF('HMIS Data Quality'!A48<>\"\",'HMIS Data Quality'!E48,\"\")","v":5},{"$f":"IF('HMIS Data Timeliness'!A48<>\"\",'HMIS Data Timeliness'!E48,\"\")","v":0},{"$f":"IF('HMIS Bed Inventory'!A48<>\"\",'HMIS Bed Inventory'!E48,\"\")","v":0}]
[{"$f":"IF('CoC Renewal Ranking Report'!D52<>\"\",'CoC Renewal Ranking Report'!D52,\"\")","v":"Resources for Human Development, Inc."},{"$f":"IF('CoC Renewal Ranking Report'!E52<>\"\",'CoC Renewal Ranking Report'!E52,\"\")","v":"LV ACT Housing Supports"},{"$f":"IF('CoC Renewal Ranking Report'!F52<>\"\",'CoC Renewal Ranking Report'!F52,\"\")","v":"PA0211L3T"},{"$f":"IF('CoC Renewal Ranking Report'!G52<>\"\",'CoC Renewal Ranking Report'!G52,\"\")","v":"PH"},null,88,null,{"$f":"IF('Exit-Retention to PH Measure'!A52<>\"\", 'Exit-Retention to PH Measure'!E52, \"\")","v":3},{"$f":"IF('Returns to Homelessness'!A52<>\"\", 'Returns to Homelessness'!E52, \"\")","v":3},{"$f":"IF('Length of Stay (TH Only)'!A53<>\"\", 'Length of Stay (TH Only)'!E53, \"\")","v":""},{"$f":"IF('Income Growth Measure'!A52<>\"\", 'Income Growth Measure'!F52, \"\")","v":8},{"$f":"IF('Mainstream Benefits Measure'!A50<>\"\", 'Mainstream Benefits Measure'!E50, \"\")","v":5},{"$f":"IF('Project Eligibility'!A52<>\"\", 'Project Eligibility'!E52, \"\")","v":5},{"$f":"IF('Unit Utilization Rate'!A51<>\"\", 'Unit Utilization Rate'!G51, \"\")","v":1},{"$f":"IF('eLOCCS Drawdowns'!A49<>\"\", 'eLOCCS Drawdowns'!E49, \"\")","v":3},{"$f":"IF('Recaptured Funds'!A52<>\"\", 'Recaptured Funds'!E52, \"\")","v":6},{"$f":"IF('Timely APR Submission'!A49<>\"\", 'Timely APR Submission'!E49, \"\")","v":0},{"$f":"IF('Cost Effectiveness'!A54<>\"\", 'Cost Effectiveness'!G54, \"\")","v":5},{"$f":"IF('Cost Effectiveness (Leavers)'!A54<>\"\", 'Cost Effectiveness (Leavers)'!G54, \"\")","v":5},{"$f":"IF('HUD Monitoring'!A50<>\"\", 'HUD Monitoring'!E50, \"\")","v":0},{"$f":"IF('Project Description'!A49<>\"\", 'Project Description'!D49, \"\")","v":4},{"$f":"IF('Opening Doors Goals'!A51<>\"\", 'Opening Doors Goals'!D51, \"\")","v":5},{"$f":"IF('Severity of Needs'!A52<>\"\", 'Severity of Needs'!E52, \"\")","v":7.5},{"$f":"IF('Prioritization of PSH'!A50<>\"\", 'Prioritization of PSH'!E50, \"\")","v":2.5},{"$f":"IF('Housing First Approach'!A49<>\"\", 'Housing First Approach'!E49, \"\")","v":5},{"$f":"IF('CoC Participation'!A51<>\"\", 'CoC Participation'!D51, \"\")","v":11},{"$f":"IF('CoC Meetings'!A51<>\"\", 'CoC Meetings'!D51, \"\")","v":4},{"$f":"IF('HMIS Data Quality'!A49<>\"\",'HMIS Data Quality'!E49,\"\")","v":5},{"$f":"IF('HMIS Data Timeliness'!A49<>\"\",'HMIS Data Timeliness'!E49,\"\")","v":0},{"$f":"IF('HMIS Bed Inventory'!A49<>\"\",'HMIS Bed Inventory'!E49,\"\")","v":0}]
[{"$f":"IF('CoC Renewal Ranking Report'!D53<>\"\",'CoC Renewal Ranking Report'!D53,\"\")","v":"Tableland Services, Inc."},{"$f":"IF('CoC Renewal Ranking Report'!E53<>\"\",'CoC Renewal Ranking Report'!E53,\"\")","v":"Permanent Housing with Disabilities (SHP)"},{"$f":"IF('CoC Renewal Ranking Report'!F53<>\"\",'CoC Renewal Ranking Report'!F53,\"\")","v":"PA0444L3E"},{"$f":"IF('CoC Renewal Ranking Report'!G53<>\"\",'CoC Renewal Ranking Report'!G53,\"\")","v":"PH"},null,88,null,{"$f":"IF('Exit-Retention to PH Measure'!A53<>\"\", 'Exit-Retention to PH Measure'!E53, \"\")","v":10},{"$f":"IF('Returns to Homelessness'!A53<>\"\", 'Returns to Homelessness'!E53, \"\")","v":3},{"$f":"IF('Length of Stay (TH Only)'!A54<>\"\", 'Length of Stay (TH Only)'!E54, \"\")","v":""},{"$f":"IF('Income Growth Measure'!A53<>\"\", 'Income Growth Measure'!F53, \"\")","v":8},{"$f":"IF('Mainstream Benefits Measure'!A51<>\"\", 'Mainstream Benefits Measure'!E51, \"\")","v":5},{"$f":"IF('Project Eligibility'!A53<>\"\", 'Project Eligibility'!E53, \"\")","v":0},{"$f":"IF('Unit Utilization Rate'!A52<>\"\", 'Unit Utilization Rate'!G52, \"\")","v":3},{"$f":"IF('eLOCCS Drawdowns'!A50<>\"\", 'eLOCCS Drawdowns'!E50, \"\")","v":3},{"$f":"IF('Recaptured Funds'!A53<>\"\", 'Recaptured Funds'!E53, \"\")","v":6},{"$f":"IF('Timely APR Submission'!A50<>\"\", 'Timely APR Submission'!E50, \"\")","v":0},{"$f":"IF('Cost Effectiveness'!A55<>\"\", 'Cost Effectiveness'!G55, \"\")","v":5},{"$f":"IF('Cost Effectiveness (Leavers)'!A55<>\"\", 'Cost Effectiveness (Leavers)'!G55, \"\")","v":5},{"$f":"IF('HUD Monitoring'!A51<>\"\", 'HUD Monitoring'!E51, \"\")","v":0},{"$f":"IF('Project Description'!A50<>\"\", 'Project Description'!D50, \"\")","v":4},{"$f":"IF('Opening Doors Goals'!A52<>\"\", 'Opening Doors Goals'!D52, \"\")","v":5},{"$f":"IF('Severity of Needs'!A53<>\"\", 'Severity of Needs'!E53, \"\")","v":7.5},{"$f":"IF('Prioritization of PSH'!A51<>\"\", 'Prioritization of PSH'!E51, \"\")","v":2.5},{"$f":"IF('Housing First Approach'!A50<>\"\", 'Housing First Approach'!E50, \"\")","v":5},{"$f":"IF('CoC Participation'!A52<>\"\", 'CoC Participation'!D52, \"\")","v":10},{"$f":"IF('CoC Meetings'!A52<>\"\", 'CoC Meetings'!D52, \"\")","v":1},{"$f":"IF('HMIS Data Quality'!A50<>\"\",'HMIS Data Quality'!E50,\"\")","v":5},{"$f":"IF('HMIS Data Timeliness'!A50<>\"\",'HMIS Data Timeliness'!E50,\"\")","v":0},{"$f":"IF('HMIS Bed Inventory'!A50<>\"\",'HMIS Bed Inventory'!E50,\"\")","v":0}]
[{"$f":"IF('CoC Renewal Ranking Report'!D54<>\"\",'CoC Renewal Ranking Report'!D54,\"\")","v":"Tableland Services, Inc."},{"$f":"IF('CoC Renewal Ranking Report'!E54<>\"\",'CoC Renewal Ranking Report'!E54,\"\")","v":"Permanent Supportive Housing CH Project"},{"$f":"IF('CoC Renewal Ranking Report'!F54<>\"\",'CoC Renewal Ranking Report'!F54,\"\")","v":"PA0705L3E"},{"$f":"IF('CoC Renewal Ranking Report'!G54<>\"\",'CoC Renewal Ranking Report'!G54,\"\")","v":"PH"},null,84,null,{"$f":"IF('Exit-Retention to PH Measure'!A54<>\"\", 'Exit-Retention to PH Measure'!E54, \"\")","v":10},{"$f":"IF('Returns to Homelessness'!A54<>\"\", 'Returns to Homelessness'!E54, \"\")","v":3},{"$f":"IF('Length of Stay (TH Only)'!A55<>\"\", 'Length of Stay (TH Only)'!E55, \"\")","v":""},{"$f":"IF('Income Growth Measure'!A54<>\"\", 'Income Growth Measure'!F54, \"\")","v":8},{"$f":"IF('Mainstream Benefits Measure'!A52<>\"\", 'Mainstream Benefits Measure'!E52, \"\")","v":5},{"$f":"IF('Project Eligibility'!A54<>\"\", 'Project Eligibility'!E54, \"\")","v":0},{"$f":"IF('Unit Utilization Rate'!A53<>\"\", 'Unit Utilization Rate'!G53, \"\")","v":5},{"$f":"IF('eLOCCS Drawdowns'!A51<>\"\", 'eLOCCS Drawdowns'!E51, \"\")","v":3},{"$f":"IF('Recaptured Funds'!A54<>\"\", 'Recaptured Funds'!E54, \"\")","v":0},{"$f":"IF('Timely APR Submission'!A51<>\"\", 'Timely APR Submission'!E51, \"\")","v":0},{"$f":"IF('Cost Effectiveness'!A56<>\"\", 'Cost Effectiveness'!G56, \"\")","v":5},{"$f":"IF('Cost Effectiveness (Leavers)'!A56<>\"\", 'Cost Effectiveness (Leavers)'!G56, \"\")","v":5},{"$f":"IF('HUD Monitoring'!A52<>\"\", 'HUD Monitoring'!E52, \"\")","v":0},{"$f":"IF('Project Description'!A51<>\"\", 'Project Description'!D51, \"\")","v":4},{"$f":"IF('Opening Doors Goals'!A53<>\"\", 'Opening Doors Goals'!D53, \"\")","v":5},{"$f":"IF('Severity of Needs'!A54<>\"\", 'Severity of Needs'!E54, \"\")","v":7.5},{"$f":"IF('Prioritization of PSH'!A52<>\"\", 'Prioritization of PSH'!E52, \"\")","v":2.5},{"$f":"IF('Housing First Approach'!A51<>\"\", 'Housing First Approach'!E51, \"\")","v":5},{"$f":"IF('CoC Participation'!A53<>\"\", 'CoC Participation'!D53, \"\")","v":10},{"$f":"IF('CoC Meetings'!A53<>\"\", 'CoC Meetings'!D53, \"\")","v":1},{"$f":"IF('HMIS Data Quality'!A51<>\"\",'HMIS Data Quality'!E51,\"\")","v":5},{"$f":"IF('HMIS Data Timeliness'!A51<>\"\",'HMIS Data Timeliness'!E51,\"\")","v":0},{"$f":"IF('HMIS Bed Inventory'!A51<>\"\",'HMIS Bed Inventory'!E51,\"\")","v":0}]
[{"$f":"IF('CoC Renewal Ranking Report'!D55<>\"\",'CoC Renewal Ranking Report'!D55,\"\")","v":"The Salvation Army, a New York Corporation"},{"$f":"IF('CoC Renewal Ranking Report'!E55<>\"\",'CoC Renewal Ranking Report'!E55,\"\")","v":"Allentown Hospitality House Permanent Housing Program"},{"$f":"IF('CoC Renewal Ranking Report'!F55<>\"\",'CoC Renewal Ranking Report'!F55,\"\")","v":"PA0634L3T"},{"$f":"IF('CoC Renewal Ranking Report'!G55<>\"\",'CoC Renewal Ranking Report'!G55,\"\")","v":"PH"},null,62.2,null,{"$f":"IF('Exit-Retention to PH Measure'!A55<>\"\", 'Exit-Retention to PH Measure'!E55, \"\")","v":3},{"$f":"IF('Returns to Homelessness'!A55<>\"\", 'Returns to Homelessness'!E55, \"\")","v":3},{"$f":"IF('Length of Stay (TH Only)'!A56<>\"\", 'Length of Stay (TH Only)'!E56, \"\")","v":""},{"$f":"IF('Income Growth Measure'!A55<>\"\", 'Income Growth Measure'!F55, \"\")","v":8},{"$f":"IF('Mainstream Benefits Measure'!A53<>\"\", 'Mainstream Benefits Measure'!E53, \"\")","v":5},{"$f":"IF('Project Eligibility'!A55<>\"\", 'Project Eligibility'!E55, \"\")","v":5},{"$f":"IF('Unit Utilization Rate'!A54<>\"\", 'Unit Utilization Rate'!G54, \"\")","v":0},{"$f":"IF('eLOCCS Drawdowns'!A52<>\"\", 'eLOCCS Drawdowns'!E52, \"\")","v":0},{"$f":"IF('Recaptured Funds'!A55<>\"\", 'Recaptured Funds'!E55, \"\")","v":3},{"$f":"IF('Timely APR Submission'!A52<>\"\", 'Timely APR Submission'!E52, \"\")","v":0},{"$f":"IF('Cost Effectiveness'!A57<>\"\", 'Cost Effectiveness'!G57, \"\")","v":0},{"$f":"IF('Cost Effectiveness (Leavers)'!A57<>\"\", 'Cost Effectiveness (Leavers)'!G57, \"\")","v":0},{"$f":"IF('HUD Monitoring'!A53<>\"\", 'HUD Monitoring'!E53, \"\")","v":0},{"$f":"IF('Project Description'!A52<>\"\", 'Project Description'!D52, \"\")","v":4.5},{"$f":"IF('Opening Doors Goals'!A54<>\"\", 'Opening Doors Goals'!D54, \"\")","v":5},{"$f":"IF('Severity of Needs'!A55<>\"\", 'Severity of Needs'!E55, \"\")","v":2.5},{"$f":"IF('Prioritization of PSH'!A53<>\"\", 'Prioritization of PSH'!E53, \"\")","v":2.5},{"$f":"IF('Housing First Approach'!A52<>\"\", 'Housing First Approach'!E52, \"\")","v":5},{"$f":"IF('CoC Participation'!A54<>\"\", 'CoC Participation'!D54, \"\")","v":9.6999999999999993},{"$f":"IF('CoC Meetings'!A54<>\"\", 'CoC Meetings'!D54, \"\")","v":1},{"$f":"IF('HMIS Data Quality'!A52<>\"\",'HMIS Data Quality'!E52,\"\")","v":5},{"$f":"IF('HMIS Data Timeliness'!A52<>\"\",'HMIS Data Timeliness'!E52,\"\")","v":0},{"$f":"IF('HMIS Bed Inventory'!A52<>\"\",'HMIS Bed Inventory'!E52,\"\")","v":0}]
[{"$f":"IF('CoC Renewal Ranking Report'!D56<>\"\",'CoC Renewal Ranking Report'!D56,\"\")","v":"The Salvation Army, a New York Corporation"},{"$f":"IF('CoC Renewal Ranking Report'!E56<>\"\",'CoC Renewal Ranking Report'!E56,\"\")","v":"Salvation Army Carlisle PH Project"},{"$f":"IF('CoC Renewal Ranking Report'!F56<>\"\",'CoC Renewal Ranking Report'!F56,\"\")","v":"PA0655L3T"},{"$f":"IF('CoC Renewal Ranking Report'!G56<>\"\",'CoC Renewal Ranking Report'!G56,\"\")","v":"PH"},null,77.5,null,{"$f":"IF('Exit-Retention to PH Measure'!A56<>\"\", 'Exit-Retention to PH Measure'!E56, \"\")","v":10},{"$f":"IF('Returns to Homelessness'!A56<>\"\", 'Returns to Homelessness'!E56, \"\")","v":3},{"$f":"IF('Length of Stay (TH Only)'!A57<>\"\", 'Length of Stay (TH Only)'!E57, \"\")","v":""},{"$f":"IF('Income Growth Measure'!A56<>\"\", 'Income Growth Measure'!F56, \"\")","v":8},{"$f":"IF('Mainstream Benefits Measure'!A54<>\"\", 'Mainstream Benefits Measure'!E54, \"\")","v":5},{"$f":"IF('Project Eligibility'!A56<>\"\", 'Project Eligibility'!E56, \"\")","v":5},{"$f":"IF('Unit Utilization Rate'!A55<>\"\", 'Unit Utilization Rate'!G55, \"\")","v":0},{"$f":"IF('eLOCCS Drawdowns'!A53<>\"\", 'eLOCCS Drawdowns'!E53, \"\")","v":3},{"$f":"IF('Recaptured Funds'!A56<>\"\", 'Recaptured Funds'!E56, \"\")","v":0},{"$f":"IF('Timely APR Submission'!A53<>\"\", 'Timely APR Submission'!E53, \"\")","v":0},{"$f":"IF('Cost Effectiveness'!A58<>\"\", 'Cost Effectiveness'!G58, \"\")","v":0},{"$f":"IF('Cost Effectiveness (Leavers)'!A58<>\"\", 'Cost Effectiveness (Leavers)'!G58, \"\")","v":0},{"$f":"IF('HUD Monitoring'!A54<>\"\", 'HUD Monitoring'!E54, \"\")","v":0},{"$f":"IF('Project Description'!A53<>\"\", 'Project Description'!D53, \"\")","v":4.5},{"$f":"IF('Opening Doors Goals'!A55<>\"\", 'Opening Doors Goals'!D55, \"\")","v":5},{"$f":"IF('Severity of Needs'!A56<>\"\", 'Severity of Needs'!E56, \"\")","v":7.5},{"$f":"IF('Prioritization of PSH'!A54<>\"\", 'Prioritization of PSH'!E54, \"\")","v":2.5},{"$f":"IF('Housing First Approach'!A53<>\"\", 'Housing First Approach'!E53, \"\")","v":5},{"$f":"IF('CoC Participation'!A55<>\"\", 'CoC Participation'!D55, \"\")","v":10},{"$f":"IF('CoC Meetings'!A55<>\"\", 'CoC Meetings'!D55, \"\")","v":4},{"$f":"IF('HMIS Data Quality'!A53<>\"\",'HMIS Data Quality'!E53,\"\")","v":5},{"$f":"IF('HMIS Data Timeliness'!A53<>\"\",'HMIS Data Timeliness'!E53,\"\")","v":0},{"$f":"IF('HMIS Bed Inventory'!A53<>\"\",'HMIS Bed Inventory'!E53,\"\")","v":0}]
[{"$f":"IF('CoC Renewal Ranking Report'!D57<>\"\",'CoC Renewal Ranking Report'!D57,\"\")","v":"Union-Snyder Community Action Agency"},{"$f":"IF('CoC Renewal Ranking Report'!E57<>\"\",'CoC Renewal Ranking Report'!E57,\"\")","v":"Union-Snyder Rapid ReHousing Program"},{"$f":"IF('CoC Renewal Ranking Report'!F57<>\"\",'CoC Renewal Ranking Report'!F57,\"\")","v":"PA0374L3T"},{"$f":"IF('CoC Renewal Ranking Report'!G57<>\"\",'CoC Renewal Ranking Report'!G57,\"\")","v":"PH-RRH"},null,77.5,null,{"$f":"IF('Exit-Retention to PH Measure'!A57<>\"\", 'Exit-Retention to PH Measure'!E57, \"\")","v":10},{"$f":"IF('Returns to Homelessness'!A57<>\"\", 'Returns to Homelessness'!E57, \"\")","v":3},{"$f":"IF('Length of Stay (TH Only)'!A58<>\"\", 'Length of Stay (TH Only)'!E58, \"\")","v":""},{"$f":"IF('Income Growth Measure'!A57<>\"\", 'Income Growth Measure'!F57, \"\")","v":8},{"$f":"IF('Mainstream Benefits Measure'!A55<>\"\", 'Mainstream Benefits Measure'!E55, \"\")","v":5},{"$f":"IF('Project Eligibility'!A57<>\"\", 'Project Eligibility'!E57, \"\")","v":5},{"$f":"IF('Unit Utilization Rate'!A56<>\"\", 'Unit Utilization Rate'!G56, \"\")","v":5},{"$f":"IF('eLOCCS Drawdowns'!A54<>\"\", 'eLOCCS Drawdowns'!E54, \"\")","v":3},{"$f":"IF('Recaptured Funds'!A57<>\"\", 'Recaptured Funds'!E57, \"\")","v":0},{"$f":"IF('Timely APR Submission'!A54<>\"\", 'Timely APR Submission'!E54, \"\")","v":0},{"$f":"IF('Cost Effectiveness'!A59<>\"\", 'Cost Effectiveness'!G59, \"\")","v":5},{"$f":"IF('Cost Effectiveness (Leavers)'!A59<>\"\", 'Cost Effectiveness (Leavers)'!G59, \"\")","v":5},{"$f":"IF('HUD Monitoring'!A55<>\"\", 'HUD Monitoring'!E55, \"\")","v":0},{"$f":"IF('Project Description'!A54<>\"\", 'Project Description'!D54, \"\")","v":4.5},{"$f":"IF('Opening Doors Goals'!A56<>\"\", 'Opening Doors Goals'!D56, \"\")","v":0},{"$f":"IF('Severity of Needs'!A57<>\"\", 'Severity of Needs'!E57, \"\")","v":0},{"$f":"IF('Prioritization of PSH'!A55<>\"\", 'Prioritization of PSH'!E55, \"\")","v":0},{"$f":"IF('Housing First Approach'!A54<>\"\", 'Housing First Approach'!E54, \"\")","v":5},{"$f":"IF('CoC Participation'!A56<>\"\", 'CoC Participation'!D56, \"\")","v":10},{"$f":"IF('CoC Meetings'!A56<>\"\", 'CoC Meetings'!D56, \"\")","v":4},{"$f":"IF('HMIS Data Quality'!A54<>\"\",'HMIS Data Quality'!E54,\"\")","v":5},{"$f":"IF('HMIS Data Timeliness'!A54<>\"\",'HMIS Data Timeliness'!E54,\"\")","v":0},{"$f":"IF('HMIS Bed Inventory'!A54<>\"\",'HMIS Bed Inventory'!E54,\"\")","v":0}]
[{"$f":"IF('CoC Renewal Ranking Report'!D58<>\"\",'CoC Renewal Ranking Report'!D58,\"\")","v":"United Christian Ministries"},{"$f":"IF('CoC Renewal Ranking Report'!E58<>\"\",'CoC Renewal Ranking Report'!E58,\"\")","v":"Kenner Garnet Renewal 2016"},{"$f":"IF('CoC Renewal Ranking Report'!F58<>\"\",'CoC Renewal Ranking Report'!F58,\"\")","v":"PA0210L3T"},{"$f":"IF('CoC Renewal Ranking Report'!G58<>\"\",'CoC Renewal Ranking Report'!G58,\"\")","v":"PH"},null,73,null,{"$f":"IF('Exit-Retention to PH Measure'!A58<>\"\", 'Exit-Retention to PH Measure'!E58, \"\")","v":10},{"$f":"IF('Returns to Homelessness'!A58<>\"\", 'Returns to Homelessness'!E58, \"\")","v":1},{"$f":"IF('Length of Stay (TH Only)'!A59<>\"\", 'Length of Stay (TH Only)'!E59, \"\")","v":""},{"$f":"IF('Income Growth Measure'!A58<>\"\", 'Income Growth Measure'!F58, \"\")","v":8},{"$f":"IF('Mainstream Benefits Measure'!A56<>\"\", 'Mainstream Benefits Measure'!E56, \"\")","v":5},{"$f":"IF('Project Eligibility'!A58<>\"\", 'Project Eligibility'!E58, \"\")","v":5},{"$f":"IF('Unit Utilization Rate'!A57<>\"\", 'Unit Utilization Rate'!G57, \"\")","v":3},{"$f":"IF('eLOCCS Drawdowns'!A55<>\"\", 'eLOCCS Drawdowns'!E55, \"\")","v":0},{"$f":"IF('Recaptured Funds'!A58<>\"\", 'Recaptured Funds'!E58, \"\")","v":6},{"$f":"IF('Timely APR Submission'!A55<>\"\", 'Timely APR Submission'!E55, \"\")","v":0},{"$f":"IF('Cost Effectiveness'!A60<>\"\", 'Cost Effectiveness'!G60, \"\")","v":0},{"$f":"IF('Cost Effectiveness (Leavers)'!A60<>\"\", 'Cost Effectiveness (Leavers)'!G60, \"\")","v":0},{"$f":"IF('HUD Monitoring'!A56<>\"\", 'HUD Monitoring'!E56, \"\")","v":0},{"$f":"IF('Project Description'!A55<>\"\", 'Project Description'!D55, \"\")","v":1},{"$f":"IF('Opening Doors Goals'!A57<>\"\", 'Opening Doors Goals'!D57, \"\")","v":0},{"$f":"IF('Severity of Needs'!A58<>\"\", 'Severity of Needs'!E58, \"\")","v":7.5},{"$f":"IF('Prioritization of PSH'!A56<>\"\", 'Prioritization of PSH'!E56, \"\")","v":2.5},{"$f":"IF('Housing First Approach'!A55<>\"\", 'Housing First Approach'!E55, \"\")","v":5},{"$f":"IF('CoC Participation'!A57<>\"\", 'CoC Participation'!D57, \"\")","v":10},{"$f":"IF('CoC Meetings'!A57<>\"\", 'CoC Meetings'!D57, \"\")","v":4},{"$f":"IF('HMIS Data Quality'!A55<>\"\",'HMIS Data Quality'!E55,\"\")","v":5},{"$f":"IF('HMIS Data Timeliness'!A55<>\"\",'HMIS Data Timeliness'!E55,\"\")","v":0},{"$f":"IF('HMIS Bed Inventory'!A55<>\"\",'HMIS Bed Inventory'!E55,\"\")","v":0}]
[{"$f":"IF('CoC Renewal Ranking Report'!D59<>\"\",'CoC Renewal Ranking Report'!D59,\"\")","v":"Valley Housing Development Corporation "},{"$f":"IF('CoC Renewal Ranking Report'!E59<>\"\",'CoC Renewal Ranking Report'!E59,\"\")","v":"VHDC SHP #2 2016"},{"$f":"IF('CoC Renewal Ranking Report'!F59<>\"\",'CoC Renewal Ranking Report'!F59,\"\")","v":"PA0216L3T"},{"$f":"IF('CoC Renewal Ranking Report'!G59<>\"\",'CoC Renewal Ranking Report'!G59,\"\")","v":"PH"},null,74.3,null,{"$f":"IF('Exit-Retention to PH Measure'!A59<>\"\", 'Exit-Retention to PH Measure'!E59, \"\")","v":10},{"$f":"IF('Returns to Homelessness'!A59<>\"\", 'Returns to Homelessness'!E59, \"\")","v":3},{"$f":"IF('Length of Stay (TH Only)'!A60<>\"\", 'Length of Stay (TH Only)'!E60, \"\")","v":""},{"$f":"IF('Income Growth Measure'!A59<>\"\", 'Income Growth Measure'!F59, \"\")","v":8},{"$f":"IF('Mainstream Benefits Measure'!A57<>\"\", 'Mainstream Benefits Measure'!E57, \"\")","v":5},{"$f":"IF('Project Eligibility'!A59<>\"\", 'Project Eligibility'!E59, \"\")","v":5},{"$f":"IF('Unit Utilization Rate'!A58<>\"\", 'Unit Utilization Rate'!G58, \"\")","v":5},{"$f":"IF('eLOCCS Drawdowns'!A56<>\"\", 'eLOCCS Drawdowns'!E56, \"\")","v":3},{"$f":"IF('Recaptured Funds'!A59<>\"\", 'Recaptured Funds'!E59, \"\")","v":1},{"$f":"IF('Timely APR Submission'!A56<>\"\", 'Timely APR Submission'!E56, \"\")","v":0},{"$f":"IF('Cost Effectiveness'!A61<>\"\", 'Cost Effectiveness'!G61, \"\")","v":5},{"$f":"IF('Cost Effectiveness (Leavers)'!A61<>\"\", 'Cost Effectiveness (Leavers)'!G61, \"\")","v":5},{"$f":"IF('HUD Monitoring'!A57<>\"\", 'HUD Monitoring'!E57, \"\")","v":0},{"$f":"IF('Project Description'!A56<>\"\", 'Project Description'!D56, \"\")","v":2},{"$f":"IF('Opening Doors Goals'!A58<>\"\", 'Opening Doors Goals'!D58, \"\")","v":0},{"$f":"IF('Severity of Needs'!A59<>\"\", 'Severity of Needs'!E59, \"\")","v":2.5},{"$f":"IF('Prioritization of PSH'!A57<>\"\", 'Prioritization of PSH'!E57, \"\")","v":2.5},{"$f":"IF('Housing First Approach'!A56<>\"\", 'Housing First Approach'!E56, \"\")","v":5},{"$f":"IF('CoC Participation'!A58<>\"\", 'CoC Participation'!D58, \"\")","v":6.3},{"$f":"IF('CoC Meetings'!A58<>\"\", 'CoC Meetings'!D58, \"\")","v":1},{"$f":"IF('HMIS Data Quality'!A56<>\"\",'HMIS Data Quality'!E56,\"\")","v":5},{"$f":"IF('HMIS Data Timeliness'!A56<>\"\",'HMIS Data Timeliness'!E56,\"\")","v":0},{"$f":"IF('HMIS Bed Inventory'!A56<>\"\",'HMIS Bed Inventory'!E56,\"\")","v":0}]
[{"$f":"IF('CoC Renewal Ranking Report'!D60<>\"\",'CoC Renewal Ranking Report'!D60,\"\")","v":"Valley Housing Development Corporation "},{"$f":"IF('CoC Renewal Ranking Report'!E60<>\"\",'CoC Renewal Ranking Report'!E60,\"\")","v":"VHDC SHP #3 2016"},{"$f":"IF('CoC Renewal Ranking Report'!F60<>\"\",'CoC Renewal Ranking Report'!F60,\"\")","v":"PA0217L3T"},{"$f":"IF('CoC Renewal Ranking Report'!G60<>\"\",'CoC Renewal Ranking Report'!G60,\"\")","v":"PH"},null,74.3,null,{"$f":"IF('Exit-Retention to PH Measure'!A60<>\"\", 'Exit-Retention to PH Measure'!E60, \"\")","v":10},{"$f":"IF('Returns to Homelessness'!A60<>\"\", 'Returns to Homelessness'!E60, \"\")","v":3},{"$f":"IF('Length of Stay (TH Only)'!A61<>\"\", 'Length of Stay (TH Only)'!E61, \"\")","v":""},{"$f":"IF('Income Growth Measure'!A60<>\"\", 'Income Growth Measure'!F60, \"\")","v":8},{"$f":"IF('Mainstream Benefits Measure'!A58<>\"\", 'Mainstream Benefits Measure'!E58, \"\")","v":5},{"$f":"IF('Project Eligibility'!A60<>\"\", 'Project Eligibility'!E60, \"\")","v":5},{"$f":"IF('Unit Utilization Rate'!A59<>\"\", 'Unit Utilization Rate'!G59, \"\")","v":5},{"$f":"IF('eLOCCS Drawdowns'!A57<>\"\", 'eLOCCS Drawdowns'!E57, \"\")","v":3},{"$f":"IF('Recaptured Funds'!A60<>\"\", 'Recaptured Funds'!E60, \"\")","v":1},{"$f":"IF('Timely APR Submission'!A57<>\"\", 'Timely APR Submission'!E57, \"\")","v":0},{"$f":"IF('Cost Effectiveness'!A62<>\"\", 'Cost Effectiveness'!G62, \"\")","v":5},{"$f":"IF('Cost Effectiveness (Leavers)'!A62<>\"\", 'Cost Effectiveness (Leavers)'!G62, \"\")","v":5},{"$f":"IF('HUD Monitoring'!A58<>\"\", 'HUD Monitoring'!E58, \"\")","v":0},{"$f":"IF('Project Description'!A57<>\"\", 'Project Description'!D57, \"\")","v":2},{"$f":"IF('Opening Doors Goals'!A59<>\"\", 'Opening Doors Goals'!D59, \"\")","v":0},{"$f":"IF('Severity of Needs'!A60<>\"\", 'Severity of Needs'!E60, \"\")","v":2.5},{"$f":"IF('Prioritization of PSH'!A58<>\"\", 'Prioritization of PSH'!E58, \"\")","v":2.5},{"$f":"IF('Housing First Approach'!A57<>\"\", 'Housing First Approach'!E57, \"\")","v":5},{"$f":"IF('CoC Participation'!A59<>\"\", 'CoC Participation'!D59, \"\")","v":6.3},{"$f":"IF('CoC Meetings'!A59<>\"\", 'CoC Meetings'!D59, \"\")","v":1},{"$f":"IF('HMIS Data Quality'!A57<>\"\",'HMIS Data Quality'!E57,\"\")","v":5},{"$f":"IF('HMIS Data Timeliness'!A57<>\"\",'HMIS Data Timeliness'!E57,\"\")","v":0},{"$f":"IF('HMIS Bed Inventory'!A57<>\"\",'HMIS Bed Inventory'!E57,\"\")","v":0}]
[{"$f":"IF('CoC Renewal Ranking Report'!D61<>\"\",'CoC Renewal Ranking Report'!D61,\"\")","v":"Valley Housing Development Corporation "},{"$f":"IF('CoC Renewal Ranking Report'!E61<>\"\",'CoC Renewal Ranking Report'!E61,\"\")","v":"VHDC SHP #4 2016"},{"$f":"IF('CoC Renewal Ranking Report'!F61<>\"\",'CoC Renewal Ranking Report'!F61,\"\")","v":"PA0385L3T"},{"$f":"IF('CoC Renewal Ranking Report'!G61<>\"\",'CoC Renewal Ranking Report'!G61,\"\")","v":"PH"},null,69.3,null,{"$f":"IF('Exit-Retention to PH Measure'!A61<>\"\", 'Exit-Retention to PH Measure'!E61, \"\")","v":10},{"$f":"IF('Returns to Homelessness'!A61<>\"\", 'Returns to Homelessness'!E61, \"\")","v":3},{"$f":"IF('Length of Stay (TH Only)'!A62<>\"\", 'Length of Stay (TH Only)'!E62, \"\")","v":""},{"$f":"IF('Income Growth Measure'!A61<>\"\", 'Income Growth Measure'!F61, \"\")","v":8},{"$f":"IF('Mainstream Benefits Measure'!A59<>\"\", 'Mainstream Benefits Measure'!E59, \"\")","v":5},{"$f":"IF('Project Eligibility'!A61<>\"\", 'Project Eligibility'!E61, \"\")","v":0},{"$f":"IF('Unit Utilization Rate'!A60<>\"\", 'Unit Utilization Rate'!G60, \"\")","v":5},{"$f":"IF('eLOCCS Drawdowns'!A58<>\"\", 'eLOCCS Drawdowns'!E58, \"\")","v":0},{"$f":"IF('Recaptured Funds'!A61<>\"\", 'Recaptured Funds'!E61, \"\")","v":1},{"$f":"IF('Timely APR Submission'!A58<>\"\", 'Timely APR Submission'!E58, \"\")","v":0},{"$f":"IF('Cost Effectiveness'!A63<>\"\", 'Cost Effectiveness'!G63, \"\")","v":4},{"$f":"IF('Cost Effectiveness (Leavers)'!A63<>\"\", 'Cost Effectiveness (Leavers)'!G63, \"\")","v":4},{"$f":"IF('HUD Monitoring'!A59<>\"\", 'HUD Monitoring'!E59, \"\")","v":0},{"$f":"IF('Project Description'!A58<>\"\", 'Project Description'!D58, \"\")","v":2},{"$f":"IF('Opening Doors Goals'!A60<>\"\", 'Opening Doors Goals'!D60, \"\")","v":0},{"$f":"IF('Severity of Needs'!A61<>\"\", 'Severity of Needs'!E61, \"\")","v":7.5},{"$f":"IF('Prioritization of PSH'!A59<>\"\", 'Prioritization of PSH'!E59, \"\")","v":2.5},{"$f":"IF('Housing First Approach'!A58<>\"\", 'Housing First Approach'!E58, \"\")","v":5},{"$f":"IF('CoC Participation'!A60<>\"\", 'CoC Participation'!D60, \"\")","v":6.3},{"$f":"IF('CoC Meetings'!A60<>\"\", 'CoC Meetings'!D60, \"\")","v":1},{"$f":"IF('HMIS Data Quality'!A58<>\"\",'HMIS Data Quality'!E58,\"\")","v":5},{"$f":"IF('HMIS Data Timeliness'!A58<>\"\",'HMIS Data Timeliness'!E58,\"\")","v":0},{"$f":"IF('HMIS Bed Inventory'!A58<>\"\",'HMIS Bed Inventory'!E58,\"\")","v":0}]
[{"$f":"IF('CoC Renewal Ranking Report'!D62<>\"\",'CoC Renewal Ranking Report'!D62,\"\")","v":""},{"$f":"IF('CoC Renewal Ranking Report'!E62<>\"\",'CoC Renewal Ranking Report'!E62,\"\")","v":""},{"$f":"IF('CoC Renewal Ranking Report'!F62<>\"\",'CoC Renewal Ranking Report'!F62,\"\")","v":""},{"$f":"IF('CoC Renewal Ranking Report'!G62<>\"\",'CoC Renewal Ranking Report'!G62,\"\")","v":""},null,"",null,{"$f":"IF('Exit-Retention to PH Measure'!A62<>\"\", 'Exit-Retention to PH Measure'!E62, \"\")","v":""},{"$f":"IF('Returns to Homelessness'!A62<>\"\", 'Returns to Homelessness'!E62, \"\")","v":""},{"$f":"IF('Length of Stay (TH Only)'!A63<>\"\", 'Length of Stay (TH Only)'!E63, \"\")","v":""},{"$f":"IF('Income Growth Measure'!A62<>\"\", 'Income Growth Measure'!F62, \"\")","v":""},{"$f":"IF('Mainstream Benefits Measure'!A60<>\"\", 'Mainstream Benefits Measure'!E60, \"\")","v":""},{"$f":"IF('Project Eligibility'!A62<>\"\", 'Project Eligibility'!E62, \"\")","v":""},{"$f":"IF('Unit Utilization Rate'!A61<>\"\", 'Unit Utilization Rate'!G61, \"\")","v":""},{"$f":"IF('eLOCCS Drawdowns'!A59<>\"\", 'eLOCCS Drawdowns'!E59, \"\")","v":""},{"$f":"IF('Recaptured Funds'!A62<>\"\", 'Recaptured Funds'!E62, \"\")","v":""},{"$f":"IF('Timely APR Submission'!A59<>\"\", 'Timely APR Submission'!E59, \"\")","v":""},{"$f":"IF('Cost Effectiveness'!A64<>\"\", 'Cost Effectiveness'!G64, \"\")","v":""},{"$f":"IF('Cost Effectiveness (Leavers)'!A64<>\"\", 'Cost Effectiveness (Leavers)'!G64, \"\")","v":""},{"$f":"IF('HUD Monitoring'!A60<>\"\", 'HUD Monitoring'!E60, \"\")","v":""},{"$f":"IF('Project Description'!A59<>\"\", 'Project Description'!D59, \"\")","v":""},{"$f":"IF('Opening Doors Goals'!A61<>\"\", 'Opening Doors Goals'!D61, \"\")","v":""},{"$f":"IF('Severity of Needs'!A62<>\"\", 'Severity of Needs'!E62, \"\")","v":""},{"$f":"IF('Prioritization of PSH'!A60<>\"\", 'Prioritization of PSH'!E60, \"\")","v":""},{"$f":"IF('Housing First Approach'!A59<>\"\", 'Housing First Approach'!E59, \"\")","v":""},{"$f":"IF('CoC Participation'!A61<>\"\", 'CoC Participation'!D61, \"\")","v":""},{"$f":"IF('CoC Meetings'!A61<>\"\", 'CoC Meetings'!D61, \"\")","v":""},{"$f":"IF('HMIS Data Quality'!A59<>\"\",'HMIS Data Quality'!E59,\"\")","v":""},{"$f":"IF('HMIS Data Timeliness'!A59<>\"\",'HMIS Data Timeliness'!E59,\"\")","v":""},{"$f":"IF('HMIS Bed Inventory'!A59<>\"\",'HMIS Bed Inventory'!E59,\"\")","v":""}]
[{"$f":"IF('CoC Renewal Ranking Report'!D63<>\"\",'CoC Renewal Ranking Report'!D63,\"\")","v":""},{"$f":"IF('CoC Renewal Ranking Report'!E63<>\"\",'CoC Renewal Ranking Report'!E63,\"\")","v":""},{"$f":"IF('CoC Renewal Ranking Report'!F63<>\"\",'CoC Renewal Ranking Report'!F63,\"\")","v":""},{"$f":"IF('CoC Renewal Ranking Report'!G63<>\"\",'CoC Renewal Ranking Report'!G63,\"\")","v":""},null,"",null,{"$f":"IF('Exit-Retention to PH Measure'!A63<>\"\", 'Exit-Retention to PH Measure'!E63, \"\")","v":""},{"$f":"IF('Returns to Homelessness'!A63<>\"\", 'Returns to Homelessness'!E63, \"\")","v":""},{"$f":"IF('Length of Stay (TH Only)'!A64<>\"\", 'Length of Stay (TH Only)'!E64, \"\")","v":""},{"$f":"IF('Income Growth Measure'!A63<>\"\", 'Income Growth Measure'!F63, \"\")","v":""},{"$f":"IF('Mainstream Benefits Measure'!A61<>\"\", 'Mainstream Benefits Measure'!E61, \"\")","v":""},{"$f":"IF('Project Eligibility'!A63<>\"\", 'Project Eligibility'!E63, \"\")","v":""},{"$f":"IF('Unit Utilization Rate'!A62<>\"\", 'Unit Utilization Rate'!G62, \"\")","v":""},{"$f":"IF('eLOCCS Drawdowns'!A60<>\"\", 'eLOCCS Drawdowns'!E60, \"\")","v":""},{"$f":"IF('Recaptured Funds'!A63<>\"\", 'Recaptured Funds'!E63, \"\")","v":""},{"$f":"IF('Timely APR Submission'!A60<>\"\", 'Timely APR Submission'!E60, \"\")","v":""},{"$f":"IF('Cost Effectiveness'!A65<>\"\", 'Cost Effectiveness'!G65, \"\")","v":""},{"$f":"IF('Cost Effectiveness (Leavers)'!A65<>\"\", 'Cost Effectiveness (Leavers)'!G65, \"\")","v":""},{"$f":"IF('HUD Monitoring'!A61<>\"\", 'HUD Monitoring'!E61, \"\")","v":""},{"$f":"IF('Project Description'!A60<>\"\", 'Project Description'!D60, \"\")","v":""},{"$f":"IF('Opening Doors Goals'!A62<>\"\", 'Opening Doors Goals'!D62, \"\")","v":""},{"$f":"IF('Severity of Needs'!A63<>\"\", 'Severity of Needs'!E63, \"\")","v":""},{"$f":"IF('Prioritization of PSH'!A61<>\"\", 'Prioritization of PSH'!E61, \"\")","v":""},{"$f":"IF('Housing First Approach'!A60<>\"\", 'Housing First Approach'!E60, \"\")","v":""},{"$f":"IF('CoC Participation'!A62<>\"\", 'CoC Participation'!D62, \"\")","v":""},{"$f":"IF('CoC Meetings'!A62<>\"\", 'CoC Meetings'!D62, \"\")","v":""},{"$f":"IF('HMIS Data Quality'!A60<>\"\",'HMIS Data Quality'!E60,\"\")","v":""},{"$f":"IF('HMIS Data Timeliness'!A60<>\"\",'HMIS Data Timeliness'!E60,\"\")","v":""},{"$f":"IF('HMIS Bed Inventory'!A60<>\"\",'HMIS Bed Inventory'!E60,\"\")","v":""}]
[{"$f":"IF('CoC Renewal Ranking Report'!D64<>\"\",'CoC Renewal Ranking Report'!D64,\"\")","v":""},{"$f":"IF('CoC Renewal Ranking Report'!E64<>\"\",'CoC Renewal Ranking Report'!E64,\"\")","v":""},{"$f":"IF('CoC Renewal Ranking Report'!F64<>\"\",'CoC Renewal Ranking Report'!F64,\"\")","v":""},{"$f":"IF('CoC Renewal Ranking Report'!G64<>\"\",'CoC Renewal Ranking Report'!G64,\"\")","v":""},null,"",null,{"$f":"IF('Exit-Retention to PH Measure'!A64<>\"\", 'Exit-Retention to PH Measure'!E64, \"\")","v":""},{"$f":"IF('Returns to Homelessness'!A64<>\"\", 'Returns to Homelessness'!E64, \"\")","v":""},{"$f":"IF('Length of Stay (TH Only)'!A65<>\"\", 'Length of Stay (TH Only)'!E65, \"\")","v":""},{"$f":"IF('Income Growth Measure'!A64<>\"\", 'Income Growth Measure'!F64, \"\")","v":""},{"$f":"IF('Mainstream Benefits Measure'!A62<>\"\", 'Mainstream Benefits Measure'!E62, \"\")","v":""},{"$f":"IF('Project Eligibility'!A64<>\"\", 'Project Eligibility'!E64, \"\")","v":""},{"$f":"IF('Unit Utilization Rate'!A63<>\"\", 'Unit Utilization Rate'!G63, \"\")","v":""},{"$f":"IF('eLOCCS Drawdowns'!A61<>\"\", 'eLOCCS Drawdowns'!E61, \"\")","v":""},{"$f":"IF('Recaptured Funds'!A64<>\"\", 'Recaptured Funds'!E64, \"\")","v":""},{"$f":"IF('Timely APR Submission'!A61<>\"\", 'Timely APR Submission'!E61, \"\")","v":""},{"$f":"IF('Cost Effectiveness'!A66<>\"\", 'Cost Effectiveness'!G66, \"\")","v":""},{"$f":"IF('Cost Effectiveness (Leavers)'!A66<>\"\", 'Cost Effectiveness (Leavers)'!G66, \"\")","v":""},{"$f":"IF('HUD Monitoring'!A62<>\"\", 'HUD Monitoring'!E62, \"\")","v":""},{"$f":"IF('Project Description'!A61<>\"\", 'Project Description'!D61, \"\")","v":""},{"$f":"IF('Opening Doors Goals'!A63<>\"\", 'Opening Doors Goals'!D63, \"\")","v":""},{"$f":"IF('Severity of Needs'!A64<>\"\", 'Severity of Needs'!E64, \"\")","v":""},{"$f":"IF('Prioritization of PSH'!A62<>\"\", 'Prioritization of PSH'!E62, \"\")","v":""},{"$f":"IF('Housing First Approach'!A61<>\"\", 'Housing First Approach'!E61, \"\")","v":""},{"$f":"IF('CoC Participation'!A63<>\"\", 'CoC Participation'!D63, \"\")","v":""},{"$f":"IF('CoC Meetings'!A63<>\"\", 'CoC Meetings'!D63, \"\")","v":""},{"$f":"IF('HMIS Data Quality'!A61<>\"\",'HMIS Data Quality'!E61,\"\")","v":""},{"$f":"IF('HMIS Data Timeliness'!A61<>\"\",'HMIS Data Timeliness'!E61,\"\")","v":""},{"$f":"IF('HMIS Bed Inventory'!A61<>\"\",'HMIS Bed Inventory'!E61,\"\")","v":""}]
[{"$f":"IF('CoC Renewal Ranking Report'!D65<>\"\",'CoC Renewal Ranking Report'!D65,\"\")","v":""},{"$f":"IF('CoC Renewal Ranking Report'!E65<>\"\",'CoC Renewal Ranking Report'!E65,\"\")","v":""},{"$f":"IF('CoC Renewal Ranking Report'!F65<>\"\",'CoC Renewal Ranking Report'!F65,\"\")","v":""},{"$f":"IF('CoC Renewal Ranking Report'!G65<>\"\",'CoC Renewal Ranking Report'!G65,\"\")","v":""},null,"",null,{"$f":"IF('Exit-Retention to PH Measure'!A65<>\"\", 'Exit-Retention to PH Measure'!E65, \"\")","v":""},{"$f":"IF('Returns to Homelessness'!A65<>\"\", 'Returns to Homelessness'!E65, \"\")","v":""},{"$f":"IF('Length of Stay (TH Only)'!A66<>\"\", 'Length of Stay (TH Only)'!E66, \"\")","v":""},{"$f":"IF('Income Growth Measure'!A65<>\"\", 'Income Growth Measure'!F65, \"\")","v":""},{"$f":"IF('Mainstream Benefits Measure'!A63<>\"\", 'Mainstream Benefits Measure'!E63, \"\")","v":""},{"$f":"IF('Project Eligibility'!A65<>\"\", 'Project Eligibility'!E65, \"\")","v":""},{"$f":"IF('Unit Utilization Rate'!A64<>\"\", 'Unit Utilization Rate'!G64, \"\")","v":""},{"$f":"IF('eLOCCS Drawdowns'!A62<>\"\", 'eLOCCS Drawdowns'!E62, \"\")","v":""},{"$f":"IF('Recaptured Funds'!A65<>\"\", 'Recaptured Funds'!E65, \"\")","v":""},{"$f":"IF('Timely APR Submission'!A62<>\"\", 'Timely APR Submission'!E62, \"\")","v":""},{"$f":"IF('Cost Effectiveness'!A67<>\"\", 'Cost Effectiveness'!G67, \"\")","v":""},{"$f":"IF('Cost Effectiveness (Leavers)'!A67<>\"\", 'Cost Effectiveness (Leavers)'!G67, \"\")","v":""},{"$f":"IF('HUD Monitoring'!A63<>\"\", 'HUD Monitoring'!E63, \"\")","v":""},{"$f":"IF('Project Description'!A62<>\"\", 'Project Description'!D62, \"\")","v":""},{"$f":"IF('Opening Doors Goals'!A64<>\"\", 'Opening Doors Goals'!D64, \"\")","v":""},{"$f":"IF('Severity of Needs'!A65<>\"\", 'Severity of Needs'!E65, \"\")","v":""},{"$f":"IF('Prioritization of PSH'!A63<>\"\", 'Prioritization of PSH'!E63, \"\")","v":""},{"$f":"IF('Housing First Approach'!A62<>\"\", 'Housing First Approach'!E62, \"\")","v":""},{"$f":"IF('CoC Participation'!A64<>\"\", 'CoC Participation'!D64, \"\")","v":""},{"$f":"IF('CoC Meetings'!A64<>\"\", 'CoC Meetings'!D64, \"\")","v":""},{"$f":"IF('HMIS Data Quality'!A62<>\"\",'HMIS Data Quality'!E62,\"\")","v":""},{"$f":"IF('HMIS Data Timeliness'!A62<>\"\",'HMIS Data Timeliness'!E62,\"\")","v":""},{"$f":"IF('HMIS Bed Inventory'!A62<>\"\",'HMIS Bed Inventory'!E62,\"\")","v":""}]
[{"$f":"IF('CoC Renewal Ranking Report'!D66<>\"\",'CoC Renewal Ranking Report'!D66,\"\")","v":""},{"$f":"IF('CoC Renewal Ranking Report'!E66<>\"\",'CoC Renewal Ranking Report'!E66,\"\")","v":""},{"$f":"IF('CoC Renewal Ranking Report'!F66<>\"\",'CoC Renewal Ranking Report'!F66,\"\")","v":""},{"$f":"IF('CoC Renewal Ranking Report'!G66<>\"\",'CoC Renewal Ranking Report'!G66,\"\")","v":""},null,"",null,{"$f":"IF('Exit-Retention to PH Measure'!A66<>\"\", 'Exit-Retention to PH Measure'!E66, \"\")","v":""},{"$f":"IF('Returns to Homelessness'!A66<>\"\", 'Returns to Homelessness'!E66, \"\")","v":""},{"$f":"IF('Length of Stay (TH Only)'!A67<>\"\", 'Length of Stay (TH Only)'!E67, \"\")","v":""},{"$f":"IF('Income Growth Measure'!A66<>\"\", 'Income Growth Measure'!F66, \"\")","v":""},{"$f":"IF('Mainstream Benefits Measure'!A64<>\"\", 'Mainstream Benefits Measure'!E64, \"\")","v":""},{"$f":"IF('Project Eligibility'!A66<>\"\", 'Project Eligibility'!E66, \"\")","v":""},{"$f":"IF('Unit Utilization Rate'!A65<>\"\", 'Unit Utilization Rate'!G65, \"\")","v":""},{"$f":"IF('eLOCCS Drawdowns'!A63<>\"\", 'eLOCCS Drawdowns'!E63, \"\")","v":""},{"$f":"IF('Recaptured Funds'!A66<>\"\", 'Recaptured Funds'!E66, \"\")","v":""},{"$f":"IF('Timely APR Submission'!A63<>\"\", 'Timely APR Submission'!E63, \"\")","v":""},{"$f":"IF('Cost Effectiveness'!A68<>\"\", 'Cost Effectiveness'!G68, \"\")","v":""},{"$f":"IF('Cost Effectiveness (Leavers)'!A68<>\"\", 'Cost Effectiveness (Leavers)'!G68, \"\")","v":""},{"$f":"IF('HUD Monitoring'!A64<>\"\", 'HUD Monitoring'!E64, \"\")","v":""},{"$f":"IF('Project Description'!A63<>\"\", 'Project Description'!D63, \"\")","v":""},{"$f":"IF('Opening Doors Goals'!A65<>\"\", 'Opening Doors Goals'!D65, \"\")","v":""},{"$f":"IF('Severity of Needs'!A66<>\"\", 'Severity of Needs'!E66, \"\")","v":""},{"$f":"IF('Prioritization of PSH'!A64<>\"\", 'Prioritization of PSH'!E64, \"\")","v":""},{"$f":"IF('Housing First Approach'!A63<>\"\", 'Housing First Approach'!E63, \"\")","v":""},{"$f":"IF('CoC Participation'!A65<>\"\", 'CoC Participation'!D65, \"\")","v":""},{"$f":"IF('CoC Meetings'!A65<>\"\", 'CoC Meetings'!D65, \"\")","v":""},{"$f":"IF('HMIS Data Quality'!A63<>\"\",'HMIS Data Quality'!E63,\"\")","v":""},{"$f":"IF('HMIS Data Timeliness'!A63<>\"\",'HMIS Data Timeliness'!E63,\"\")","v":""},{"$f":"IF('HMIS Bed Inventory'!A63<>\"\",'HMIS Bed Inventory'!E63,\"\")","v":""}]
[{"$f":"IF('CoC Renewal Ranking Report'!D67<>\"\",'CoC Renewal Ranking Report'!D67,\"\")","v":""},{"$f":"IF('CoC Renewal Ranking Report'!E67<>\"\",'CoC Renewal Ranking Report'!E67,\"\")","v":""},{"$f":"IF('CoC Renewal Ranking Report'!F67<>\"\",'CoC Renewal Ranking Report'!F67,\"\")","v":""},{"$f":"IF('CoC Renewal Ranking Report'!G67<>\"\",'CoC Renewal Ranking Report'!G67,\"\")","v":""},null,"",null,{"$f":"IF('Exit-Retention to PH Measure'!A67<>\"\", 'Exit-Retention to PH Measure'!E67, \"\")","v":""},{"$f":"IF('Returns to Homelessness'!A67<>\"\", 'Returns to Homelessness'!E67, \"\")","v":""},{"$f":"IF('Length of Stay (TH Only)'!A68<>\"\", 'Length of Stay (TH Only)'!E68, \"\")","v":""},{"$f":"IF('Income Growth Measure'!A67<>\"\", 'Income Growth Measure'!F67, \"\")","v":""},{"$f":"IF('Mainstream Benefits Measure'!A65<>\"\", 'Mainstream Benefits Measure'!E65, \"\")","v":""},{"$f":"IF('Project Eligibility'!A67<>\"\", 'Project Eligibility'!E67, \"\")","v":""},{"$f":"IF('Unit Utilization Rate'!A66<>\"\", 'Unit Utilization Rate'!G66, \"\")","v":""},{"$f":"IF('eLOCCS Drawdowns'!A64<>\"\", 'eLOCCS Drawdowns'!E64, \"\")","v":""},{"$f":"IF('Recaptured Funds'!A67<>\"\", 'Recaptured Funds'!E67, \"\")","v":""},{"$f":"IF('Timely APR Submission'!A64<>\"\", 'Timely APR Submission'!E64, \"\")","v":""},{"$f":"IF('Cost Effectiveness'!A69<>\"\", 'Cost Effectiveness'!G69, \"\")","v":""},{"$f":"IF('Cost Effectiveness (Leavers)'!A69<>\"\", 'Cost Effectiveness (Leavers)'!G69, \"\")","v":""},{"$f":"IF('HUD Monitoring'!A65<>\"\", 'HUD Monitoring'!E65, \"\")","v":""},{"$f":"IF('Project Description'!A64<>\"\", 'Project Description'!D64, \"\")","v":""},{"$f":"IF('Opening Doors Goals'!A66<>\"\", 'Opening Doors Goals'!D66, \"\")","v":""},{"$f":"IF('Severity of Needs'!A67<>\"\", 'Severity of Needs'!E67, \"\")","v":""},{"$f":"IF('Prioritization of PSH'!A65<>\"\", 'Prioritization of PSH'!E65, \"\")","v":""},{"$f":"IF('Housing First Approach'!A64<>\"\", 'Housing First Approach'!E64, \"\")","v":""},{"$f":"IF('CoC Participation'!A66<>\"\", 'CoC Participation'!D66, \"\")","v":""},{"$f":"IF('CoC Meetings'!A66<>\"\", 'CoC Meetings'!D66, \"\")","v":""},{"$f":"IF('HMIS Data Quality'!A64<>\"\",'HMIS Data Quality'!E64,\"\")","v":""},{"$f":"IF('HMIS Data Timeliness'!A64<>\"\",'HMIS Data Timeliness'!E64,\"\")","v":""},{"$f":"IF('HMIS Bed Inventory'!A64<>\"\",'HMIS Bed Inventory'!E64,\"\")","v":""}]
[{"$f":"IF('CoC Renewal Ranking Report'!D68<>\"\",'CoC Renewal Ranking Report'!D68,\"\")","v":""},{"$f":"IF('CoC Renewal Ranking Report'!E68<>\"\",'CoC Renewal Ranking Report'!E68,\"\")","v":""},{"$f":"IF('CoC Renewal Ranking Report'!F68<>\"\",'CoC Renewal Ranking Report'!F68,\"\")","v":""},{"$f":"IF('CoC Renewal Ranking Report'!G68<>\"\",'CoC Renewal Ranking Report'!G68,\"\")","v":""},null,"",null,{"$f":"IF('Exit-Retention to PH Measure'!A68<>\"\", 'Exit-Retention to PH Measure'!E68, \"\")","v":""},{"$f":"IF('Returns to Homelessness'!A68<>\"\", 'Returns to Homelessness'!E68, \"\")","v":""},{"$f":"IF('Length of Stay (TH Only)'!A69<>\"\", 'Length of Stay (TH Only)'!E69, \"\")","v":""},{"$f":"IF('Income Growth Measure'!A68<>\"\", 'Income Growth Measure'!F68, \"\")","v":""},{"$f":"IF('Mainstream Benefits Measure'!A66<>\"\", 'Mainstream Benefits Measure'!E66, \"\")","v":""},{"$f":"IF('Project Eligibility'!A68<>\"\", 'Project Eligibility'!E68, \"\")","v":""},{"$f":"IF('Unit Utilization Rate'!A67<>\"\", 'Unit Utilization Rate'!G67, \"\")","v":""},{"$f":"IF('eLOCCS Drawdowns'!A65<>\"\", 'eLOCCS Drawdowns'!E65, \"\")","v":""},{"$f":"IF('Recaptured Funds'!A68<>\"\", 'Recaptured Funds'!E68, \"\")","v":""},{"$f":"IF('Timely APR Submission'!A65<>\"\", 'Timely APR Submission'!E65, \"\")","v":""},{"$f":"IF('Cost Effectiveness'!A70<>\"\", 'Cost Effectiveness'!G70, \"\")","v":""},{"$f":"IF('Cost Effectiveness (Leavers)'!A70<>\"\", 'Cost Effectiveness (Leavers)'!G70, \"\")","v":""},{"$f":"IF('HUD Monitoring'!A66<>\"\", 'HUD Monitoring'!E66, \"\")","v":""},{"$f":"IF('Project Description'!A65<>\"\", 'Project Description'!D65, \"\")","v":""},{"$f":"IF('Opening Doors Goals'!A67<>\"\", 'Opening Doors Goals'!D67, \"\")","v":""},{"$f":"IF('Severity of Needs'!A68<>\"\", 'Severity of Needs'!E68, \"\")","v":""},{"$f":"IF('Prioritization of PSH'!A66<>\"\", 'Prioritization of PSH'!E66, \"\")","v":""},{"$f":"IF('Housing First Approach'!A65<>\"\", 'Housing First Approach'!E65, \"\")","v":""},{"$f":"IF('CoC Participation'!A67<>\"\", 'CoC Participation'!D67, \"\")","v":""},{"$f":"IF('CoC Meetings'!A67<>\"\", 'CoC Meetings'!D67, \"\")","v":""},{"$f":"IF('HMIS Data Quality'!A65<>\"\",'HMIS Data Quality'!E65,\"\")","v":""},{"$f":"IF('HMIS Data Timeliness'!A65<>\"\",'HMIS Data Timeliness'!E65,\"\")","v":""},{"$f":"IF('HMIS Bed Inventory'!A65<>\"\",'HMIS Bed Inventory'!E65,\"\")","v":""}]
[{"$f":"IF('CoC Renewal Ranking Report'!D69<>\"\",'CoC Renewal Ranking Report'!D69,\"\")","v":""},{"$f":"IF('CoC Renewal Ranking Report'!E69<>\"\",'CoC Renewal Ranking Report'!E69,\"\")","v":""},{"$f":"IF('CoC Renewal Ranking Report'!F69<>\"\",'CoC Renewal Ranking Report'!F69,\"\")","v":""},{"$f":"IF('CoC Renewal Ranking Report'!G69<>\"\",'CoC Renewal Ranking Report'!G69,\"\")","v":""},null,"",null,{"$f":"IF('Exit-Retention to PH Measure'!A69<>\"\", 'Exit-Retention to PH Measure'!E69, \"\")","v":""},{"$f":"IF('Returns to Homelessness'!A69<>\"\", 'Returns to Homelessness'!E69, \"\")","v":""},{"$f":"IF('Length of Stay (TH Only)'!A70<>\"\", 'Length of Stay (TH Only)'!E70, \"\")","v":""},{"$f":"IF('Income Growth Measure'!A69<>\"\", 'Income Growth Measure'!F69, \"\")","v":""},{"$f":"IF('Mainstream Benefits Measure'!A67<>\"\", 'Mainstream Benefits Measure'!E67, \"\")","v":""},{"$f":"IF('Project Eligibility'!A69<>\"\", 'Project Eligibility'!E69, \"\")","v":""},{"$f":"IF('Unit Utilization Rate'!A68<>\"\", 'Unit Utilization Rate'!G68, \"\")","v":""},{"$f":"IF('eLOCCS Drawdowns'!A66<>\"\", 'eLOCCS Drawdowns'!E66, \"\")","v":""},{"$f":"IF('Recaptured Funds'!A69<>\"\", 'Recaptured Funds'!E69, \"\")","v":""},{"$f":"IF('Timely APR Submission'!A66<>\"\", 'Timely APR Submission'!E66, \"\")","v":""},{"$f":"IF('Cost Effectiveness'!A71<>\"\", 'Cost Effectiveness'!G71, \"\")","v":""},{"$f":"IF('Cost Effectiveness (Leavers)'!A71<>\"\", 'Cost Effectiveness (Leavers)'!G71, \"\")","v":""},{"$f":"IF('HUD Monitoring'!A67<>\"\", 'HUD Monitoring'!E67, \"\")","v":""},{"$f":"IF('Project Description'!A66<>\"\", 'Project Description'!D66, \"\")","v":""},{"$f":"IF('Opening Doors Goals'!A68<>\"\", 'Opening Doors Goals'!D68, \"\")","v":""},{"$f":"IF('Severity of Needs'!A69<>\"\", 'Severity of Needs'!E69, \"\")","v":""},{"$f":"IF('Prioritization of PSH'!A67<>\"\", 'Prioritization of PSH'!E67, \"\")","v":""},{"$f":"IF('Housing First Approach'!A66<>\"\", 'Housing First Approach'!E66, \"\")","v":""},{"$f":"IF('CoC Participation'!A68<>\"\", 'CoC Participation'!D68, \"\")","v":""},{"$f":"IF('CoC Meetings'!A68<>\"\", 'CoC Meetings'!D68, \"\")","v":""},{"$f":"IF('HMIS Data Quality'!A66<>\"\",'HMIS Data Quality'!E66,\"\")","v":""},{"$f":"IF('HMIS Data Timeliness'!A66<>\"\",'HMIS Data Timeliness'!E66,\"\")","v":""},{"$f":"IF('HMIS Bed Inventory'!A66<>\"\",'HMIS Bed Inventory'!E66,\"\")","v":""}]
[{"$f":"IF('CoC Renewal Ranking Report'!D70<>\"\",'CoC Renewal Ranking Report'!D70,\"\")","v":""},{"$f":"IF('CoC Renewal Ranking Report'!E70<>\"\",'CoC Renewal Ranking Report'!E70,\"\")","v":""},{"$f":"IF('CoC Renewal Ranking Report'!F70<>\"\",'CoC Renewal Ranking Report'!F70,\"\")","v":""},{"$f":"IF('CoC Renewal Ranking Report'!G70<>\"\",'CoC Renewal Ranking Report'!G70,\"\")","v":""},null,"",null,{"$f":"IF('Exit-Retention to PH Measure'!A70<>\"\", 'Exit-Retention to PH Measure'!E70, \"\")","v":""},{"$f":"IF('Returns to Homelessness'!A70<>\"\", 'Returns to Homelessness'!E70, \"\")","v":""},{"$f":"IF('Length of Stay (TH Only)'!A71<>\"\", 'Length of Stay (TH Only)'!E71, \"\")","v":""},{"$f":"IF('Income Growth Measure'!A70<>\"\", 'Income Growth Measure'!F70, \"\")","v":""},{"$f":"IF('Mainstream Benefits Measure'!A68<>\"\", 'Mainstream Benefits Measure'!E68, \"\")","v":""},{"$f":"IF('Project Eligibility'!A70<>\"\", 'Project Eligibility'!E70, \"\")","v":""},{"$f":"IF('Unit Utilization Rate'!A69<>\"\", 'Unit Utilization Rate'!G69, \"\")","v":""},{"$f":"IF('eLOCCS Drawdowns'!A67<>\"\", 'eLOCCS Drawdowns'!E67, \"\")","v":""},{"$f":"IF('Recaptured Funds'!A70<>\"\", 'Recaptured Funds'!E70, \"\")","v":""},{"$f":"IF('Timely APR Submission'!A67<>\"\", 'Timely APR Submission'!E67, \"\")","v":""},{"$f":"IF('Cost Effectiveness'!A72<>\"\", 'Cost Effectiveness'!G72, \"\")","v":""},{"$f":"IF('Cost Effectiveness (Leavers)'!A72<>\"\", 'Cost Effectiveness (Leavers)'!G72, \"\")","v":""},{"$f":"IF('HUD Monitoring'!A68<>\"\", 'HUD Monitoring'!E68, \"\")","v":""},{"$f":"IF('Project Description'!A67<>\"\", 'Project Description'!D67, \"\")","v":""},{"$f":"IF('Opening Doors Goals'!A69<>\"\", 'Opening Doors Goals'!D69, \"\")","v":""},{"$f":"IF('Severity of Needs'!A70<>\"\", 'Severity of Needs'!E70, \"\")","v":""},{"$f":"IF('Prioritization of PSH'!A68<>\"\", 'Prioritization of PSH'!E68, \"\")","v":""},{"$f":"IF('Housing First Approach'!A67<>\"\", 'Housing First Approach'!E67, \"\")","v":""},{"$f":"IF('CoC Participation'!A69<>\"\", 'CoC Participation'!D69, \"\")","v":""},{"$f":"IF('CoC Meetings'!A69<>\"\", 'CoC Meetings'!D69, \"\")","v":""},{"$f":"IF('HMIS Data Quality'!A67<>\"\",'HMIS Data Quality'!E67,\"\")","v":""},{"$f":"IF('HMIS Data Timeliness'!A67<>\"\",'HMIS Data Timeliness'!E67,\"\")","v":""},{"$f":"IF('HMIS Bed Inventory'!A67<>\"\",'HMIS Bed Inventory'!E67,\"\")","v":""}]
[{"$f":"IF('CoC Renewal Ranking Report'!D71<>\"\",'CoC Renewal Ranking Report'!D71,\"\")","v":""},{"$f":"IF('CoC Renewal Ranking Report'!E71<>\"\",'CoC Renewal Ranking Report'!E71,\"\")","v":""},{"$f":"IF('CoC Renewal Ranking Report'!F71<>\"\",'CoC Renewal Ranking Report'!F71,\"\")","v":""},{"$f":"IF('CoC Renewal Ranking Report'!G71<>\"\",'CoC Renewal Ranking Report'!G71,\"\")","v":""},null,"",null,{"$f":"IF('Exit-Retention to PH Measure'!A71<>\"\", 'Exit-Retention to PH Measure'!E71, \"\")","v":""},{"$f":"IF('Returns to Homelessness'!A71<>\"\", 'Returns to Homelessness'!E71, \"\")","v":""},{"$f":"IF('Length of Stay (TH Only)'!A72<>\"\", 'Length of Stay (TH Only)'!E72, \"\")","v":""},{"$f":"IF('Income Growth Measure'!A71<>\"\", 'Income Growth Measure'!F71, \"\")","v":""},{"$f":"IF('Mainstream Benefits Measure'!A69<>\"\", 'Mainstream Benefits Measure'!E69, \"\")","v":""},{"$f":"IF('Project Eligibility'!A71<>\"\", 'Project Eligibility'!E71, \"\")","v":""},{"$f":"IF('Unit Utilization Rate'!A70<>\"\", 'Unit Utilization Rate'!G70, \"\")","v":""},{"$f":"IF('eLOCCS Drawdowns'!A68<>\"\", 'eLOCCS Drawdowns'!E68, \"\")","v":""},{"$f":"IF('Recaptured Funds'!A71<>\"\", 'Recaptured Funds'!E71, \"\")","v":""},{"$f":"IF('Timely APR Submission'!A68<>\"\", 'Timely APR Submission'!E68, \"\")","v":""},{"$f":"IF('Cost Effectiveness'!A73<>\"\", 'Cost Effectiveness'!G73, \"\")","v":""},{"$f":"IF('Cost Effectiveness (Leavers)'!A73<>\"\", 'Cost Effectiveness (Leavers)'!G73, \"\")","v":""},{"$f":"IF('HUD Monitoring'!A69<>\"\", 'HUD Monitoring'!E69, \"\")","v":""},{"$f":"IF('Project Description'!A68<>\"\", 'Project Description'!D68, \"\")","v":""},{"$f":"IF('Opening Doors Goals'!A70<>\"\", 'Opening Doors Goals'!D70, \"\")","v":""},{"$f":"IF('Severity of Needs'!A71<>\"\", 'Severity of Needs'!E71, \"\")","v":""},{"$f":"IF('Prioritization of PSH'!A69<>\"\", 'Prioritization of PSH'!E69, \"\")","v":""},{"$f":"IF('Housing First Approach'!A68<>\"\", 'Housing First Approach'!E68, \"\")","v":""},{"$f":"IF('CoC Participation'!A70<>\"\", 'CoC Participation'!D70, \"\")","v":""},{"$f":"IF('CoC Meetings'!A70<>\"\", 'CoC Meetings'!D70, \"\")","v":""},{"$f":"IF('HMIS Data Quality'!A68<>\"\",'HMIS Data Quality'!E68,\"\")","v":""},{"$f":"IF('HMIS Data Timeliness'!A68<>\"\",'HMIS Data Timeliness'!E68,\"\")","v":""},{"$f":"IF('HMIS Bed Inventory'!A68<>\"\",'HMIS Bed Inventory'!E68,\"\")","v":""}]
[{"$f":"IF('CoC Renewal Ranking Report'!D72<>\"\",'CoC Renewal Ranking Report'!D72,\"\")","v":""},{"$f":"IF('CoC Renewal Ranking Report'!E72<>\"\",'CoC Renewal Ranking Report'!E72,\"\")","v":""},{"$f":"IF('CoC Renewal Ranking Report'!F72<>\"\",'CoC Renewal Ranking Report'!F72,\"\")","v":""},{"$f":"IF('CoC Renewal Ranking Report'!G72<>\"\",'CoC Renewal Ranking Report'!G72,\"\")","v":""},null,"",null,{"$f":"IF('Exit-Retention to PH Measure'!A72<>\"\", 'Exit-Retention to PH Measure'!E72, \"\")","v":""},{"$f":"IF('Returns to Homelessness'!A72<>\"\", 'Returns to Homelessness'!E72, \"\")","v":""},{"$f":"IF('Length of Stay (TH Only)'!A73<>\"\", 'Length of Stay (TH Only)'!E73, \"\")","v":""},{"$f":"IF('Income Growth Measure'!A72<>\"\", 'Income Growth Measure'!F72, \"\")","v":""},{"$f":"IF('Mainstream Benefits Measure'!A70<>\"\", 'Mainstream Benefits Measure'!E70, \"\")","v":""},{"$f":"IF('Project Eligibility'!A72<>\"\", 'Project Eligibility'!E72, \"\")","v":""},{"$f":"IF('Unit Utilization Rate'!A71<>\"\", 'Unit Utilization Rate'!G71, \"\")","v":""},{"$f":"IF('eLOCCS Drawdowns'!A69<>\"\", 'eLOCCS Drawdowns'!E69, \"\")","v":""},{"$f":"IF('Recaptured Funds'!A72<>\"\", 'Recaptured Funds'!E72, \"\")","v":""},{"$f":"IF('Timely APR Submission'!A69<>\"\", 'Timely APR Submission'!E69, \"\")","v":""},{"$f":"IF('Cost Effectiveness'!A74<>\"\", 'Cost Effectiveness'!G74, \"\")","v":""},{"$f":"IF('Cost Effectiveness (Leavers)'!A74<>\"\", 'Cost Effectiveness (Leavers)'!G74, \"\")","v":""},{"$f":"IF('HUD Monitoring'!A70<>\"\", 'HUD Monitoring'!E70, \"\")","v":""},{"$f":"IF('Project Description'!A69<>\"\", 'Project Description'!D69, \"\")","v":""},{"$f":"IF('Opening Doors Goals'!A71<>\"\", 'Opening Doors Goals'!D71, \"\")","v":""},{"$f":"IF('Severity of Needs'!A72<>\"\", 'Severity of Needs'!E72, \"\")","v":""},{"$f":"IF('Prioritization of PSH'!A70<>\"\", 'Prioritization of PSH'!E70, \"\")","v":""},{"$f":"IF('Housing First Approach'!A69<>\"\", 'Housing First Approach'!E69, \"\")","v":""},{"$f":"IF('CoC Participation'!A71<>\"\", 'CoC Participation'!D71, \"\")","v":""},{"$f":"IF('CoC Meetings'!A71<>\"\", 'CoC Meetings'!D71, \"\")","v":""},{"$f":"IF('HMIS Data Quality'!A69<>\"\",'HMIS Data Quality'!E69,\"\")","v":""},{"$f":"IF('HMIS Data Timeliness'!A69<>\"\",'HMIS Data Timeliness'!E69,\"\")","v":""},{"$f":"IF('HMIS Bed Inventory'!A69<>\"\",'HMIS Bed Inventory'!E69,\"\")","v":""}]
[{"$f":"IF('CoC Renewal Ranking Report'!D73<>\"\",'CoC Renewal Ranking Report'!D73,\"\")","v":""},{"$f":"IF('CoC Renewal Ranking Report'!E73<>\"\",'CoC Renewal Ranking Report'!E73,\"\")","v":""},{"$f":"IF('CoC Renewal Ranking Report'!F73<>\"\",'CoC Renewal Ranking Report'!F73,\"\")","v":""},{"$f":"IF('CoC Renewal Ranking Report'!G73<>\"\",'CoC Renewal Ranking Report'!G73,\"\")","v":""},null,"",null,{"$f":"IF('Exit-Retention to PH Measure'!A73<>\"\", 'Exit-Retention to PH Measure'!E73, \"\")","v":""},{"$f":"IF('Returns to Homelessness'!A73<>\"\", 'Returns to Homelessness'!E73, \"\")","v":""},{"$f":"IF('Length of Stay (TH Only)'!A74<>\"\", 'Length of Stay (TH Only)'!E74, \"\")","v":""},{"$f":"IF('Income Growth Measure'!A73<>\"\", 'Income Growth Measure'!F73, \"\")","v":""},{"$f":"IF('Mainstream Benefits Measure'!A71<>\"\", 'Mainstream Benefits Measure'!E71, \"\")","v":""},{"$f":"IF('Project Eligibility'!A73<>\"\", 'Project Eligibility'!E73, \"\")","v":""},{"$f":"IF('Unit Utilization Rate'!A72<>\"\", 'Unit Utilization Rate'!G72, \"\")","v":""},{"$f":"IF('eLOCCS Drawdowns'!A70<>\"\", 'eLOCCS Drawdowns'!E70, \"\")","v":""},{"$f":"IF('Recaptured Funds'!A73<>\"\", 'Recaptured Funds'!E73, \"\")","v":""},{"$f":"IF('Timely APR Submission'!A70<>\"\", 'Timely APR Submission'!E70, \"\")","v":""},{"$f":"IF('Cost Effectiveness'!A75<>\"\", 'Cost Effectiveness'!G75, \"\")","v":""},{"$f":"IF('Cost Effectiveness (Leavers)'!A75<>\"\", 'Cost Effectiveness (Leavers)'!G75, \"\")","v":""},{"$f":"IF('HUD Monitoring'!A71<>\"\", 'HUD Monitoring'!E71, \"\")","v":""},{"$f":"IF('Project Description'!A70<>\"\", 'Project Description'!D70, \"\")","v":""},{"$f":"IF('Opening Doors Goals'!A72<>\"\", 'Opening Doors Goals'!D72, \"\")","v":""},{"$f":"IF('Severity of Needs'!A73<>\"\", 'Severity of Needs'!E73, \"\")","v":""},{"$f":"IF('Prioritization of PSH'!A71<>\"\", 'Prioritization of PSH'!E71, \"\")","v":""},{"$f":"IF('Housing First Approach'!A70<>\"\", 'Housing First Approach'!E70, \"\")","v":""},{"$f":"IF('CoC Participation'!A72<>\"\", 'CoC Participation'!D72, \"\")","v":""},{"$f":"IF('CoC Meetings'!A72<>\"\", 'CoC Meetings'!D72, \"\")","v":""},{"$f":"IF('HMIS Data Quality'!A70<>\"\",'HMIS Data Quality'!E70,\"\")","v":""},{"$f":"IF('HMIS Data Timeliness'!A70<>\"\",'HMIS Data Timeliness'!E70,\"\")","v":""},{"$f":"IF('HMIS Bed Inventory'!A70<>\"\",'HMIS Bed Inventory'!E70,\"\")","v":""}]
[{"$f":"IF('CoC Renewal Ranking Report'!D74<>\"\",'CoC Renewal Ranking Report'!D74,\"\")","v":""},{"$f":"IF('CoC Renewal Ranking Report'!E74<>\"\",'CoC Renewal Ranking Report'!E74,\"\")","v":""},{"$f":"IF('CoC Renewal Ranking Report'!F74<>\"\",'CoC Renewal Ranking Report'!F74,\"\")","v":""},{"$f":"IF('CoC Renewal Ranking Report'!G74<>\"\",'CoC Renewal Ranking Report'!G74,\"\")","v":""},null,{"$f":"IF(A71<>\"\",SUM(G71:AD71), \"\")","v":""},null,{"$f":"IF('Exit-Retention to PH Measure'!A74<>\"\", 'Exit-Retention to PH Measure'!E74, \"\")","v":""},{"$f":"IF('Returns to Homelessness'!A74<>\"\", 'Returns to Homelessness'!E74, \"\")","v":""},{"$f":"IF('Length of Stay (TH Only)'!A75<>\"\", 'Length of Stay (TH Only)'!E75, \"\")","v":""},{"$f":"IF('Income Growth Measure'!A74<>\"\", 'Income Growth Measure'!F74, \"\")","v":""},{"$f":"IF('Mainstream Benefits Measure'!A72<>\"\", 'Mainstream Benefits Measure'!E72, \"\")","v":""},{"$f":"IF('Project Eligibility'!A74<>\"\", 'Project Eligibility'!E74, \"\")","v":""},{"$f":"IF('Unit Utilization Rate'!A73<>\"\", 'Unit Utilization Rate'!G73, \"\")","v":""},{"$f":"IF('eLOCCS Drawdowns'!A71<>\"\", 'eLOCCS Drawdowns'!E71, \"\")","v":""},{"$f":"IF('Recaptured Funds'!A74<>\"\", 'Recaptured Funds'!E74, \"\")","v":""},{"$f":"IF('Timely APR Submission'!A71<>\"\", 'Timely APR Submission'!E71, \"\")","v":""},{"$f":"IF('Cost Effectiveness'!A76<>\"\", 'Cost Effectiveness'!G76, \"\")","v":""},{"$f":"IF('Cost Effectiveness (Leavers)'!A76<>\"\", 'Cost Effectiveness (Leavers)'!G76, \"\")","v":""},{"$f":"IF('HUD Monitoring'!A72<>\"\", 'HUD Monitoring'!E72, \"\")","v":""},{"$f":"IF('Project Description'!A71<>\"\", 'Project Description'!D71, \"\")","v":""},{"$f":"IF('Opening Doors Goals'!A73<>\"\", 'Opening Doors Goals'!D73, \"\")","v":""},{"$f":"IF('Severity of Needs'!A74<>\"\", 'Severity of Needs'!E74, \"\")","v":""},{"$f":"IF('Prioritization of PSH'!A72<>\"\", 'Prioritization of PSH'!E72, \"\")","v":""},{"$f":"IF('Housing First Approach'!A71<>\"\", 'Housing First Approach'!E71, \"\")","v":""},{"$f":"IF('CoC Participation'!A73<>\"\", 'CoC Participation'!D73, \"\")","v":""},{"$f":"IF('CoC Meetings'!A73<>\"\", 'CoC Meetings'!D73, \"\")","v":""},{"$f":"IF('HMIS Data Quality'!A71<>\"\",'HMIS Data Quality'!E71,\"\")","v":""},{"$f":"IF('HMIS Data Timeliness'!A71<>\"\",'HMIS Data Timeliness'!E71,\"\")","v":""},{"$f":"IF('HMIS Bed Inventory'!A71<>\"\",'HMIS Bed Inventory'!E71,\"\")","v":""}]
[{"$f":"IF('CoC Renewal Ranking Report'!D75<>\"\",'CoC Renewal Ranking Report'!D75,\"\")","v":""},{"$f":"IF('CoC Renewal Ranking Report'!E75<>\"\",'CoC Renewal Ranking Report'!E75,\"\")","v":""},{"$f":"IF('CoC Renewal Ranking Report'!F75<>\"\",'CoC Renewal Ranking Report'!F75,\"\")","v":""},{"$f":"IF('CoC Renewal Ranking Report'!G75<>\"\",'CoC Renewal Ranking Report'!G75,\"\")","v":""},null,"",null,{"$f":"IF('Exit-Retention to PH Measure'!A75<>\"\", 'Exit-Retention to PH Measure'!E75, \"\")","v":""},{"$f":"IF('Returns to Homelessness'!A75<>\"\", 'Returns to Homelessness'!E75, \"\")","v":""},{"$f":"IF('Length of Stay (TH Only)'!A76<>\"\", 'Length of Stay (TH Only)'!E76, \"\")","v":""},{"$f":"IF('Income Growth Measure'!A75<>\"\", 'Income Growth Measure'!F75, \"\")","v":""},{"$f":"IF('Mainstream Benefits Measure'!A73<>\"\", 'Mainstream Benefits Measure'!E73, \"\")","v":""},{"$f":"IF('Project Eligibility'!A75<>\"\", 'Project Eligibility'!E75, \"\")","v":""},{"$f":"IF('Unit Utilization Rate'!A74<>\"\", 'Unit Utilization Rate'!G74, \"\")","v":""},{"$f":"IF('eLOCCS Drawdowns'!A72<>\"\", 'eLOCCS Drawdowns'!E72, \"\")","v":""},{"$f":"IF('Recaptured Funds'!A75<>\"\", 'Recaptured Funds'!E75, \"\")","v":""},{"$f":"IF('Timely APR Submission'!A72<>\"\", 'Timely APR Submission'!E72, \"\")","v":""},{"$f":"IF('Cost Effectiveness'!A77<>\"\", 'Cost Effectiveness'!G77, \"\")","v":""},{"$f":"IF('Cost Effectiveness (Leavers)'!A77<>\"\", 'Cost Effectiveness (Leavers)'!G77, \"\")","v":""},{"$f":"IF('HUD Monitoring'!A73<>\"\", 'HUD Monitoring'!E73, \"\")","v":""},{"$f":"IF('Project Description'!A72<>\"\", 'Project Description'!D72, \"\")","v":""},{"$f":"IF('Opening Doors Goals'!A74<>\"\", 'Opening Doors Goals'!D74, \"\")","v":""},{"$f":"IF('Severity of Needs'!A75<>\"\", 'Severity of Needs'!E75, \"\")","v":""},{"$f":"IF('Prioritization of PSH'!A73<>\"\", 'Prioritization of PSH'!E73, \"\")","v":""},{"$f":"IF('Housing First Approach'!A72<>\"\", 'Housing First Approach'!E72, \"\")","v":""},{"$f":"IF('CoC Participation'!A74<>\"\", 'CoC Participation'!D74, \"\")","v":""},{"$f":"IF('CoC Meetings'!A74<>\"\", 'CoC Meetings'!D74, \"\")","v":""},{"$f":"IF('HMIS Data Quality'!A72<>\"\",'HMIS Data Quality'!E72,\"\")","v":""},{"$f":"IF('HMIS Data Timeliness'!A72<>\"\",'HMIS Data Timeliness'!E72,\"\")","v":""},{"$f":"IF('HMIS Bed Inventory'!A72<>\"\",'HMIS Bed Inventory'!E72,\"\")","v":""}]
[{"$f":"IF('CoC Renewal Ranking Report'!D76<>\"\",'CoC Renewal Ranking Report'!D76,\"\")","v":""},{"$f":"IF('CoC Renewal Ranking Report'!E76<>\"\",'CoC Renewal Ranking Report'!E76,\"\")","v":""},{"$f":"IF('CoC Renewal Ranking Report'!F76<>\"\",'CoC Renewal Ranking Report'!F76,\"\")","v":""},{"$f":"IF('CoC Renewal Ranking Report'!G76<>\"\",'CoC Renewal Ranking Report'!G76,\"\")","v":""},null,"",null,{"$f":"IF('Exit-Retention to PH Measure'!A76<>\"\", 'Exit-Retention to PH Measure'!E76, \"\")","v":""},{"$f":"IF('Returns to Homelessness'!A76<>\"\", 'Returns to Homelessness'!E76, \"\")","v":""},{"$f":"IF('Length of Stay (TH Only)'!A77<>\"\", 'Length of Stay (TH Only)'!E77, \"\")","v":""},{"$f":"IF('Income Growth Measure'!A76<>\"\", 'Income Growth Measure'!F76, \"\")","v":""},{"$f":"IF('Mainstream Benefits Measure'!A74<>\"\", 'Mainstream Benefits Measure'!E74, \"\")","v":""},{"$f":"IF('Project Eligibility'!A76<>\"\", 'Project Eligibility'!E76, \"\")","v":""},{"$f":"IF('Unit Utilization Rate'!A75<>\"\", 'Unit Utilization Rate'!G75, \"\")","v":""},{"$f":"IF('eLOCCS Drawdowns'!A73<>\"\", 'eLOCCS Drawdowns'!E73, \"\")","v":""},{"$f":"IF('Recaptured Funds'!A76<>\"\", 'Recaptured Funds'!E76, \"\")","v":""},{"$f":"IF('Timely APR Submission'!A73<>\"\", 'Timely APR Submission'!E73, \"\")","v":""},{"$f":"IF('Cost Effectiveness'!A78<>\"\", 'Cost Effectiveness'!G78, \"\")","v":""},{"$f":"IF('Cost Effectiveness (Leavers)'!A78<>\"\", 'Cost Effectiveness (Leavers)'!G78, \"\")","v":""},{"$f":"IF('HUD Monitoring'!A74<>\"\", 'HUD Monitoring'!E74, \"\")","v":""},{"$f":"IF('Project Description'!A73<>\"\", 'Project Description'!D73, \"\")","v":""},{"$f":"IF('Opening Doors Goals'!A75<>\"\", 'Opening Doors Goals'!D75, \"\")","v":""},{"$f":"IF('Severity of Needs'!A76<>\"\", 'Severity of Needs'!E76, \"\")","v":""},{"$f":"IF('Prioritization of PSH'!A74<>\"\", 'Prioritization of PSH'!E74, \"\")","v":""},{"$f":"IF('Housing First Approach'!A73<>\"\", 'Housing First Approach'!E73, \"\")","v":""},{"$f":"IF('CoC Participation'!A75<>\"\", 'CoC Participation'!D75, \"\")","v":""},{"$f":"IF('CoC Meetings'!A75<>\"\", 'CoC Meetings'!D75, \"\")","v":""},{"$f":"IF('HMIS Data Quality'!A73<>\"\",'HMIS Data Quality'!E73,\"\")","v":""},{"$f":"IF('HMIS Data Timeliness'!A73<>\"\",'HMIS Data Timeliness'!E73,\"\")","v":""},{"$f":"IF('HMIS Bed Inventory'!A73<>\"\",'HMIS Bed Inventory'!E73,\"\")","v":""}]
[{"$f":"IF('CoC Renewal Ranking Report'!D77<>\"\",'CoC Renewal Ranking Report'!D77,\"\")","v":""},{"$f":"IF('CoC Renewal Ranking Report'!E77<>\"\",'CoC Renewal Ranking Report'!E77,\"\")","v":""},{"$f":"IF('CoC Renewal Ranking Report'!F77<>\"\",'CoC Renewal Ranking Report'!F77,\"\")","v":""},{"$f":"IF('CoC Renewal Ranking Report'!G77<>\"\",'CoC Renewal Ranking Report'!G77,\"\")","v":""},null,"",null,{"$f":"IF('Exit-Retention to PH Measure'!A77<>\"\", 'Exit-Retention to PH Measure'!E77, \"\")","v":""},{"$f":"IF('Returns to Homelessness'!A77<>\"\", 'Returns to Homelessness'!E77, \"\")","v":""},{"$f":"IF('Length of Stay (TH Only)'!A78<>\"\", 'Length of Stay (TH Only)'!E78, \"\")","v":""},{"$f":"IF('Income Growth Measure'!A77<>\"\", 'Income Growth Measure'!F77, \"\")","v":""},{"$f":"IF('Mainstream Benefits Measure'!A75<>\"\", 'Mainstream Benefits Measure'!E75, \"\")","v":""},{"$f":"IF('Project Eligibility'!A77<>\"\", 'Project Eligibility'!E77, \"\")","v":""},{"$f":"IF('Unit Utilization Rate'!A76<>\"\", 'Unit Utilization Rate'!G76, \"\")","v":""},{"$f":"IF('eLOCCS Drawdowns'!A74<>\"\", 'eLOCCS Drawdowns'!E74, \"\")","v":""},{"$f":"IF('Recaptured Funds'!A77<>\"\", 'Recaptured Funds'!E77, \"\")","v":""},{"$f":"IF('Timely APR Submission'!A74<>\"\", 'Timely APR Submission'!E74, \"\")","v":""},{"$f":"IF('Cost Effectiveness'!A79<>\"\", 'Cost Effectiveness'!G79, \"\")","v":""},{"$f":"IF('Cost Effectiveness (Leavers)'!A79<>\"\", 'Cost Effectiveness (Leavers)'!G79, \"\")","v":""},{"$f":"IF('HUD Monitoring'!A75<>\"\", 'HUD Monitoring'!E75, \"\")","v":""},{"$f":"IF('Project Description'!A74<>\"\", 'Project Description'!D74, \"\")","v":""},{"$f":"IF('Opening Doors Goals'!A76<>\"\", 'Opening Doors Goals'!D76, \"\")","v":""},{"$f":"IF('Severity of Needs'!A77<>\"\", 'Severity of Needs'!E77, \"\")","v":""},{"$f":"IF('Prioritization of PSH'!A75<>\"\", 'Prioritization of PSH'!E75, \"\")","v":""},{"$f":"IF('Housing First Approach'!A74<>\"\", 'Housing First Approach'!E74, \"\")","v":""},{"$f":"IF('CoC Participation'!A76<>\"\", 'CoC Participation'!D76, \"\")","v":""},{"$f":"IF('CoC Meetings'!A76<>\"\", 'CoC Meetings'!D76, \"\")","v":""},{"$f":"IF('HMIS Data Quality'!A74<>\"\",'HMIS Data Quality'!E74,\"\")","v":""},{"$f":"IF('HMIS Data Timeliness'!A74<>\"\",'HMIS Data Timeliness'!E74,\"\")","v":""},{"$f":"IF('HMIS Bed Inventory'!A74<>\"\",'HMIS Bed Inventory'!E74,\"\")","v":""}]
[{"$f":"IF('CoC Renewal Ranking Report'!D78<>\"\",'CoC Renewal Ranking Report'!D78,\"\")","v":""},{"$f":"IF('CoC Renewal Ranking Report'!E78<>\"\",'CoC Renewal Ranking Report'!E78,\"\")","v":""},{"$f":"IF('CoC Renewal Ranking Report'!F78<>\"\",'CoC Renewal Ranking Report'!F78,\"\")","v":""},{"$f":"IF('CoC Renewal Ranking Report'!G78<>\"\",'CoC Renewal Ranking Report'!G78,\"\")","v":""},null,"",null,{"$f":"IF('Exit-Retention to PH Measure'!A78<>\"\", 'Exit-Retention to PH Measure'!E78, \"\")","v":""},{"$f":"IF('Returns to Homelessness'!A78<>\"\", 'Returns to Homelessness'!E78, \"\")","v":""},{"$f":"IF('Length of Stay (TH Only)'!A79<>\"\", 'Length of Stay (TH Only)'!E79, \"\")","v":""},{"$f":"IF('Income Growth Measure'!A78<>\"\", 'Income Growth Measure'!F78, \"\")","v":""},{"$f":"IF('Mainstream Benefits Measure'!A76<>\"\", 'Mainstream Benefits Measure'!E76, \"\")","v":""},{"$f":"IF('Project Eligibility'!A78<>\"\", 'Project Eligibility'!E78, \"\")","v":""},{"$f":"IF('Unit Utilization Rate'!A77<>\"\", 'Unit Utilization Rate'!G77, \"\")","v":""},{"$f":"IF('eLOCCS Drawdowns'!A75<>\"\", 'eLOCCS Drawdowns'!E75, \"\")","v":""},{"$f":"IF('Recaptured Funds'!A78<>\"\", 'Recaptured Funds'!E78, \"\")","v":""},{"$f":"IF('Timely APR Submission'!A75<>\"\", 'Timely APR Submission'!E75, \"\")","v":""},{"$f":"IF('Cost Effectiveness'!A80<>\"\", 'Cost Effectiveness'!G80, \"\")","v":""},{"$f":"IF('Cost Effectiveness (Leavers)'!A80<>\"\", 'Cost Effectiveness (Leavers)'!G80, \"\")","v":""},{"$f":"IF('HUD Monitoring'!A76<>\"\", 'HUD Monitoring'!E76, \"\")","v":""},{"$f":"IF('Project Description'!A75<>\"\", 'Project Description'!D75, \"\")","v":""},{"$f":"IF('Opening Doors Goals'!A77<>\"\", 'Opening Doors Goals'!D77, \"\")","v":""},{"$f":"IF('Severity of Needs'!A78<>\"\", 'Severity of Needs'!E78, \"\")","v":""},{"$f":"IF('Prioritization of PSH'!A76<>\"\", 'Prioritization of PSH'!E76, \"\")","v":""},{"$f":"IF('Housing First Approach'!A75<>\"\", 'Housing First Approach'!E75, \"\")","v":""},{"$f":"IF('CoC Participation'!A77<>\"\", 'CoC Participation'!D77, \"\")","v":""},{"$f":"IF('CoC Meetings'!A77<>\"\", 'CoC Meetings'!D77, \"\")","v":""},{"$f":"IF('HMIS Data Quality'!A75<>\"\",'HMIS Data Quality'!E75,\"\")","v":""},{"$f":"IF('HMIS Data Timeliness'!A75<>\"\",'HMIS Data Timeliness'!E75,\"\")","v":""},{"$f":"IF('HMIS Bed Inventory'!A75<>\"\",'HMIS Bed Inventory'!E75,\"\")","v":""}]
[{"$f":"IF('CoC Renewal Ranking Report'!D79<>\"\",'CoC Renewal Ranking Report'!D79,\"\")","v":""},{"$f":"IF('CoC Renewal Ranking Report'!E79<>\"\",'CoC Renewal Ranking Report'!E79,\"\")","v":""},{"$f":"IF('CoC Renewal Ranking Report'!F79<>\"\",'CoC Renewal Ranking Report'!F79,\"\")","v":""},{"$f":"IF('CoC Renewal Ranking Report'!G79<>\"\",'CoC Renewal Ranking Report'!G79,\"\")","v":""},null,"",null,{"$f":"IF('Exit-Retention to PH Measure'!A79<>\"\", 'Exit-Retention to PH Measure'!E79, \"\")","v":""},{"$f":"IF('Returns to Homelessness'!A79<>\"\", 'Returns to Homelessness'!E79, \"\")","v":""},{"$f":"IF('Length of Stay (TH Only)'!A80<>\"\", 'Length of Stay (TH Only)'!E80, \"\")","v":""},{"$f":"IF('Income Growth Measure'!A79<>\"\", 'Income Growth Measure'!F79, \"\")","v":""},{"$f":"IF('Mainstream Benefits Measure'!A77<>\"\", 'Mainstream Benefits Measure'!E77, \"\")","v":""},{"$f":"IF('Project Eligibility'!A79<>\"\", 'Project Eligibility'!E79, \"\")","v":""},{"$f":"IF('Unit Utilization Rate'!A78<>\"\", 'Unit Utilization Rate'!G78, \"\")","v":""},{"$f":"IF('eLOCCS Drawdowns'!A76<>\"\", 'eLOCCS Drawdowns'!E76, \"\")","v":""},{"$f":"IF('Recaptured Funds'!A79<>\"\", 'Recaptured Funds'!E79, \"\")","v":""},{"$f":"IF('Timely APR Submission'!A76<>\"\", 'Timely APR Submission'!E76, \"\")","v":""},{"$f":"IF('Cost Effectiveness'!A81<>\"\", 'Cost Effectiveness'!G81, \"\")","v":""},{"$f":"IF('Cost Effectiveness (Leavers)'!A81<>\"\", 'Cost Effectiveness (Leavers)'!G81, \"\")","v":""},{"$f":"IF('HUD Monitoring'!A77<>\"\", 'HUD Monitoring'!E77, \"\")","v":""},{"$f":"IF('Project Description'!A76<>\"\", 'Project Description'!D76, \"\")","v":""},{"$f":"IF('Opening Doors Goals'!A78<>\"\", 'Opening Doors Goals'!D78, \"\")","v":""},{"$f":"IF('Severity of Needs'!A79<>\"\", 'Severity of Needs'!E79, \"\")","v":""},{"$f":"IF('Prioritization of PSH'!A77<>\"\", 'Prioritization of PSH'!E77, \"\")","v":""},{"$f":"IF('Housing First Approach'!A76<>\"\", 'Housing First Approach'!E76, \"\")","v":""},{"$f":"IF('CoC Participation'!A78<>\"\", 'CoC Participation'!D78, \"\")","v":""},{"$f":"IF('CoC Meetings'!A78<>\"\", 'CoC Meetings'!D78, \"\")","v":""},{"$f":"IF('HMIS Data Quality'!A76<>\"\",'HMIS Data Quality'!E76,\"\")","v":""},{"$f":"IF('HMIS Data Timeliness'!A76<>\"\",'HMIS Data Timeliness'!E76,\"\")","v":""},{"$f":"IF('HMIS Bed Inventory'!A76<>\"\",'HMIS Bed Inventory'!E76,\"\")","v":""}]
[{"$f":"IF('CoC Renewal Ranking Report'!D80<>\"\",'CoC Renewal Ranking Report'!D80,\"\")","v":""},{"$f":"IF('CoC Renewal Ranking Report'!E80<>\"\",'CoC Renewal Ranking Report'!E80,\"\")","v":""},{"$f":"IF('CoC Renewal Ranking Report'!F80<>\"\",'CoC Renewal Ranking Report'!F80,\"\")","v":""},{"$f":"IF('CoC Renewal Ranking Report'!G80<>\"\",'CoC Renewal Ranking Report'!G80,\"\")","v":""},null,"",null,{"$f":"IF('Exit-Retention to PH Measure'!A80<>\"\", 'Exit-Retention to PH Measure'!E80, \"\")","v":""},{"$f":"IF('Returns to Homelessness'!A80<>\"\", 'Returns to Homelessness'!E80, \"\")","v":""},{"$f":"IF('Length of Stay (TH Only)'!A81<>\"\", 'Length of Stay (TH Only)'!E81, \"\")","v":""},{"$f":"IF('Income Growth Measure'!A80<>\"\", 'Income Growth Measure'!F80, \"\")","v":""},{"$f":"IF('Mainstream Benefits Measure'!A78<>\"\", 'Mainstream Benefits Measure'!E78, \"\")","v":""},{"$f":"IF('Project Eligibility'!A80<>\"\", 'Project Eligibility'!E80, \"\")","v":""},{"$f":"IF('Unit Utilization Rate'!A79<>\"\", 'Unit Utilization Rate'!G79, \"\")","v":""},{"$f":"IF('eLOCCS Drawdowns'!A77<>\"\", 'eLOCCS Drawdowns'!E77, \"\")","v":""},{"$f":"IF('Recaptured Funds'!A80<>\"\", 'Recaptured Funds'!E80, \"\")","v":""},{"$f":"IF('Timely APR Submission'!A77<>\"\", 'Timely APR Submission'!E77, \"\")","v":""},{"$f":"IF('Cost Effectiveness'!A82<>\"\", 'Cost Effectiveness'!G82, \"\")","v":""},{"$f":"IF('Cost Effectiveness (Leavers)'!A82<>\"\", 'Cost Effectiveness (Leavers)'!G82, \"\")","v":""},{"$f":"IF('HUD Monitoring'!A78<>\"\", 'HUD Monitoring'!E78, \"\")","v":""},{"$f":"IF('Project Description'!A77<>\"\", 'Project Description'!D77, \"\")","v":""},{"$f":"IF('Opening Doors Goals'!A79<>\"\", 'Opening Doors Goals'!D79, \"\")","v":""},{"$f":"IF('Severity of Needs'!A80<>\"\", 'Severity of Needs'!E80, \"\")","v":""},{"$f":"IF('Prioritization of PSH'!A78<>\"\", 'Prioritization of PSH'!E78, \"\")","v":""},{"$f":"IF('Housing First Approach'!A77<>\"\", 'Housing First Approach'!E77, \"\")","v":""},{"$f":"IF('CoC Participation'!A79<>\"\", 'CoC Participation'!D79, \"\")","v":""},{"$f":"IF('CoC Meetings'!A79<>\"\", 'CoC Meetings'!D79, \"\")","v":""},{"$f":"IF('HMIS Data Quality'!A77<>\"\",'HMIS Data Quality'!E77,\"\")","v":""},{"$f":"IF('HMIS Data Timeliness'!A77<>\"\",'HMIS Data Timeliness'!E77,\"\")","v":""},{"$f":"IF('HMIS Bed Inventory'!A77<>\"\",'HMIS Bed Inventory'!E77,\"\")","v":""}]
[{"$f":"IF('CoC Renewal Ranking Report'!D81<>\"\",'CoC Renewal Ranking Report'!D81,\"\")","v":""},{"$f":"IF('CoC Renewal Ranking Report'!E81<>\"\",'CoC Renewal Ranking Report'!E81,\"\")","v":""},{"$f":"IF('CoC Renewal Ranking Report'!F81<>\"\",'CoC Renewal Ranking Report'!F81,\"\")","v":""},{"$f":"IF('CoC Renewal Ranking Report'!G81<>\"\",'CoC Renewal Ranking Report'!G81,\"\")","v":""},null,"",null,{"$f":"IF('Exit-Retention to PH Measure'!A81<>\"\", 'Exit-Retention to PH Measure'!E81, \"\")","v":""},{"$f":"IF('Returns to Homelessness'!A81<>\"\", 'Returns to Homelessness'!E81, \"\")","v":""},{"$f":"IF('Length of Stay (TH Only)'!A82<>\"\", 'Length of Stay (TH Only)'!E82, \"\")","v":""},{"$f":"IF('Income Growth Measure'!A81<>\"\", 'Income Growth Measure'!F81, \"\")","v":""},{"$f":"IF('Mainstream Benefits Measure'!A79<>\"\", 'Mainstream Benefits Measure'!E79, \"\")","v":""},{"$f":"IF('Project Eligibility'!A81<>\"\", 'Project Eligibility'!E81, \"\")","v":""},{"$f":"IF('Unit Utilization Rate'!A80<>\"\", 'Unit Utilization Rate'!G80, \"\")","v":""},{"$f":"IF('eLOCCS Drawdowns'!A78<>\"\", 'eLOCCS Drawdowns'!E78, \"\")","v":""},{"$f":"IF('Recaptured Funds'!A81<>\"\", 'Recaptured Funds'!E81, \"\")","v":""},{"$f":"IF('Timely APR Submission'!A78<>\"\", 'Timely APR Submission'!E78, \"\")","v":""},{"$f":"IF('Cost Effectiveness'!A83<>\"\", 'Cost Effectiveness'!G83, \"\")","v":""},{"$f":"IF('Cost Effectiveness (Leavers)'!A83<>\"\", 'Cost Effectiveness (Leavers)'!G83, \"\")","v":""},{"$f":"IF('HUD Monitoring'!A79<>\"\", 'HUD Monitoring'!E79, \"\")","v":""},{"$f":"IF('Project Description'!A78<>\"\", 'Project Description'!D78, \"\")","v":""},{"$f":"IF('Opening Doors Goals'!A80<>\"\", 'Opening Doors Goals'!D80, \"\")","v":""},{"$f":"IF('Severity of Needs'!A81<>\"\", 'Severity of Needs'!E81, \"\")","v":""},{"$f":"IF('Prioritization of PSH'!A79<>\"\", 'Prioritization of PSH'!E79, \"\")","v":""},{"$f":"IF('Housing First Approach'!A78<>\"\", 'Housing First Approach'!E78, \"\")","v":""},{"$f":"IF('CoC Participation'!A80<>\"\", 'CoC Participation'!D80, \"\")","v":""},{"$f":"IF('CoC Meetings'!A80<>\"\", 'CoC Meetings'!D80, \"\")","v":""},{"$f":"IF('HMIS Data Quality'!A78<>\"\",'HMIS Data Quality'!E78,\"\")","v":""},{"$f":"IF('HMIS Data Timeliness'!A78<>\"\",'HMIS Data Timeliness'!E78,\"\")","v":""},{"$f":"IF('HMIS Bed Inventory'!A78<>\"\",'HMIS Bed Inventory'!E78,\"\")","v":""}]
[{"$f":"IF('CoC Renewal Ranking Report'!D82<>\"\",'CoC Renewal Ranking Report'!D82,\"\")","v":""},{"$f":"IF('CoC Renewal Ranking Report'!E82<>\"\",'CoC Renewal Ranking Report'!E82,\"\")","v":""},{"$f":"IF('CoC Renewal Ranking Report'!F82<>\"\",'CoC Renewal Ranking Report'!F82,\"\")","v":""},{"$f":"IF('CoC Renewal Ranking Report'!G82<>\"\",'CoC Renewal Ranking Report'!G82,\"\")","v":""},null,"",null,{"$f":"IF('Exit-Retention to PH Measure'!A82<>\"\", 'Exit-Retention to PH Measure'!E82, \"\")","v":""},{"$f":"IF('Returns to Homelessness'!A82<>\"\", 'Returns to Homelessness'!E82, \"\")","v":""},{"$f":"IF('Length of Stay (TH Only)'!A83<>\"\", 'Length of Stay (TH Only)'!E83, \"\")","v":""},{"$f":"IF('Income Growth Measure'!A82<>\"\", 'Income Growth Measure'!F82, \"\")","v":""},{"$f":"IF('Mainstream Benefits Measure'!A80<>\"\", 'Mainstream Benefits Measure'!E80, \"\")","v":""},{"$f":"IF('Project Eligibility'!A82<>\"\", 'Project Eligibility'!E82, \"\")","v":""},{"$f":"IF('Unit Utilization Rate'!A81<>\"\", 'Unit Utilization Rate'!G81, \"\")","v":""},{"$f":"IF('eLOCCS Drawdowns'!A79<>\"\", 'eLOCCS Drawdowns'!E79, \"\")","v":""},{"$f":"IF('Recaptured Funds'!A82<>\"\", 'Recaptured Funds'!E82, \"\")","v":""},{"$f":"IF('Timely APR Submission'!A79<>\"\", 'Timely APR Submission'!E79, \"\")","v":""},{"$f":"IF('Cost Effectiveness'!A84<>\"\", 'Cost Effectiveness'!G84, \"\")","v":""},{"$f":"IF('Cost Effectiveness (Leavers)'!A84<>\"\", 'Cost Effectiveness (Leavers)'!G84, \"\")","v":""},{"$f":"IF('HUD Monitoring'!A80<>\"\", 'HUD Monitoring'!E80, \"\")","v":""},{"$f":"IF('Project Description'!A79<>\"\", 'Project Description'!D79, \"\")","v":""},{"$f":"IF('Opening Doors Goals'!A81<>\"\", 'Opening Doors Goals'!D81, \"\")","v":""},{"$f":"IF('Severity of Needs'!A82<>\"\", 'Severity of Needs'!E82, \"\")","v":""},{"$f":"IF('Prioritization of PSH'!A80<>\"\", 'Prioritization of PSH'!E80, \"\")","v":""},{"$f":"IF('Housing First Approach'!A79<>\"\", 'Housing First Approach'!E79, \"\")","v":""},{"$f":"IF('CoC Participation'!A81<>\"\", 'CoC Participation'!D81, \"\")","v":""},{"$f":"IF('CoC Meetings'!A81<>\"\", 'CoC Meetings'!D81, \"\")","v":""},{"$f":"IF('HMIS Data Quality'!A79<>\"\",'HMIS Data Quality'!E79,\"\")","v":""},{"$f":"IF('HMIS Data Timeliness'!A79<>\"\",'HMIS Data Timeliness'!E79,\"\")","v":""},{"$f":"IF('HMIS Bed Inventory'!A79<>\"\",'HMIS Bed Inventory'!E79,\"\")","v":""}]
[{"$f":"IF('CoC Renewal Ranking Report'!D83<>\"\",'CoC Renewal Ranking Report'!D83,\"\")","v":""},{"$f":"IF('CoC Renewal Ranking Report'!E83<>\"\",'CoC Renewal Ranking Report'!E83,\"\")","v":""},{"$f":"IF('CoC Renewal Ranking Report'!F83<>\"\",'CoC Renewal Ranking Report'!F83,\"\")","v":""},{"$f":"IF('CoC Renewal Ranking Report'!G83<>\"\",'CoC Renewal Ranking Report'!G83,\"\")","v":""},null,"",null,{"$f":"IF('Exit-Retention to PH Measure'!A83<>\"\", 'Exit-Retention to PH Measure'!E83, \"\")","v":""},{"$f":"IF('Returns to Homelessness'!A83<>\"\", 'Returns to Homelessness'!E83, \"\")","v":""},{"$f":"IF('Length of Stay (TH Only)'!A84<>\"\", 'Length of Stay (TH Only)'!E84, \"\")","v":""},{"$f":"IF('Income Growth Measure'!A83<>\"\", 'Income Growth Measure'!F83, \"\")","v":""},{"$f":"IF('Mainstream Benefits Measure'!A81<>\"\", 'Mainstream Benefits Measure'!E81, \"\")","v":""},{"$f":"IF('Project Eligibility'!A83<>\"\", 'Project Eligibility'!E83, \"\")","v":""},{"$f":"IF('Unit Utilization Rate'!A82<>\"\", 'Unit Utilization Rate'!G82, \"\")","v":""},{"$f":"IF('eLOCCS Drawdowns'!A80<>\"\", 'eLOCCS Drawdowns'!E80, \"\")","v":""},{"$f":"IF('Recaptured Funds'!A83<>\"\", 'Recaptured Funds'!E83, \"\")","v":""},{"$f":"IF('Timely APR Submission'!A80<>\"\", 'Timely APR Submission'!E80, \"\")","v":""},{"$f":"IF('Cost Effectiveness'!A85<>\"\", 'Cost Effectiveness'!G85, \"\")","v":""},{"$f":"IF('Cost Effectiveness (Leavers)'!A85<>\"\", 'Cost Effectiveness (Leavers)'!G85, \"\")","v":""},{"$f":"IF('HUD Monitoring'!A81<>\"\", 'HUD Monitoring'!E81, \"\")","v":""},{"$f":"IF('Project Description'!A80<>\"\", 'Project Description'!D80, \"\")","v":""},{"$f":"IF('Opening Doors Goals'!A82<>\"\", 'Opening Doors Goals'!D82, \"\")","v":""},{"$f":"IF('Severity of Needs'!A83<>\"\", 'Severity of Needs'!E83, \"\")","v":""},{"$f":"IF('Prioritization of PSH'!A81<>\"\", 'Prioritization of PSH'!E81, \"\")","v":""},{"$f":"IF('Housing First Approach'!A80<>\"\", 'Housing First Approach'!E80, \"\")","v":""},{"$f":"IF('CoC Participation'!A82<>\"\", 'CoC Participation'!D82, \"\")","v":""},{"$f":"IF('CoC Meetings'!A82<>\"\", 'CoC Meetings'!D82, \"\")","v":""},{"$f":"IF('HMIS Data Quality'!A80<>\"\",'HMIS Data Quality'!E80,\"\")","v":""},{"$f":"IF('HMIS Data Timeliness'!A80<>\"\",'HMIS Data Timeliness'!E80,\"\")","v":""},{"$f":"IF('HMIS Bed Inventory'!A80<>\"\",'HMIS Bed Inventory'!E80,\"\")","v":""}]
[{"$f":"IF('CoC Renewal Ranking Report'!D84<>\"\",'CoC Renewal Ranking Report'!D84,\"\")","v":""},{"$f":"IF('CoC Renewal Ranking Report'!E84<>\"\",'CoC Renewal Ranking Report'!E84,\"\")","v":""},{"$f":"IF('CoC Renewal Ranking Report'!F84<>\"\",'CoC Renewal Ranking Report'!F84,\"\")","v":""},{"$f":"IF('CoC Renewal Ranking Report'!G84<>\"\",'CoC Renewal Ranking Report'!G84,\"\")","v":""},null,"",null,{"$f":"IF('Exit-Retention to PH Measure'!A84<>\"\", 'Exit-Retention to PH Measure'!E84, \"\")","v":""},{"$f":"IF('Returns to Homelessness'!A84<>\"\", 'Returns to Homelessness'!E84, \"\")","v":""},{"$f":"IF('Length of Stay (TH Only)'!A85<>\"\", 'Length of Stay (TH Only)'!E85, \"\")","v":""},{"$f":"IF('Income Growth Measure'!A84<>\"\", 'Income Growth Measure'!F84, \"\")","v":""},{"$f":"IF('Mainstream Benefits Measure'!A82<>\"\", 'Mainstream Benefits Measure'!E82, \"\")","v":""},{"$f":"IF('Project Eligibility'!A84<>\"\", 'Project Eligibility'!E84, \"\")","v":""},{"$f":"IF('Unit Utilization Rate'!A83<>\"\", 'Unit Utilization Rate'!G83, \"\")","v":""},{"$f":"IF('eLOCCS Drawdowns'!A81<>\"\", 'eLOCCS Drawdowns'!E81, \"\")","v":""},{"$f":"IF('Recaptured Funds'!A84<>\"\", 'Recaptured Funds'!E84, \"\")","v":""},{"$f":"IF('Timely APR Submission'!A81<>\"\", 'Timely APR Submission'!E81, \"\")","v":""},{"$f":"IF('Cost Effectiveness'!A86<>\"\", 'Cost Effectiveness'!G86, \"\")","v":""},{"$f":"IF('Cost Effectiveness (Leavers)'!A86<>\"\", 'Cost Effectiveness (Leavers)'!G86, \"\")","v":""},{"$f":"IF('HUD Monitoring'!A82<>\"\", 'HUD Monitoring'!E82, \"\")","v":""},{"$f":"IF('Project Description'!A81<>\"\", 'Project Description'!D81, \"\")","v":""},{"$f":"IF('Opening Doors Goals'!A83<>\"\", 'Opening Doors Goals'!D83, \"\")","v":""},{"$f":"IF('Severity of Needs'!A84<>\"\", 'Severity of Needs'!E84, \"\")","v":""},{"$f":"IF('Prioritization of PSH'!A82<>\"\", 'Prioritization of PSH'!E82, \"\")","v":""},{"$f":"IF('Housing First Approach'!A81<>\"\", 'Housing First Approach'!E81, \"\")","v":""},{"$f":"IF('CoC Participation'!A83<>\"\", 'CoC Participation'!D83, \"\")","v":""},{"$f":"IF('CoC Meetings'!A83<>\"\", 'CoC Meetings'!D83, \"\")","v":""},{"$f":"IF('HMIS Data Quality'!A81<>\"\",'HMIS Data Quality'!E81,\"\")","v":""},{"$f":"IF('HMIS Data Timeliness'!A81<>\"\",'HMIS Data Timeliness'!E81,\"\")","v":""},{"$f":"IF('HMIS Bed Inventory'!A81<>\"\",'HMIS Bed Inventory'!E81,\"\")","v":""}]
[{"$f":"IF('CoC Renewal Ranking Report'!D85<>\"\",'CoC Renewal Ranking Report'!D85,\"\")","v":""},{"$f":"IF('CoC Renewal Ranking Report'!E85<>\"\",'CoC Renewal Ranking Report'!E85,\"\")","v":""},{"$f":"IF('CoC Renewal Ranking Report'!F85<>\"\",'CoC Renewal Ranking Report'!F85,\"\")","v":""},{"$f":"IF('CoC Renewal Ranking Report'!G85<>\"\",'CoC Renewal Ranking Report'!G85,\"\")","v":""},null,"",null,{"$f":"IF('Exit-Retention to PH Measure'!A85<>\"\", 'Exit-Retention to PH Measure'!E85, \"\")","v":""},{"$f":"IF('Returns to Homelessness'!A85<>\"\", 'Returns to Homelessness'!E85, \"\")","v":""},{"$f":"IF('Length of Stay (TH Only)'!A86<>\"\", 'Length of Stay (TH Only)'!E86, \"\")","v":""},{"$f":"IF('Income Growth Measure'!A85<>\"\", 'Income Growth Measure'!F85, \"\")","v":""},{"$f":"IF('Mainstream Benefits Measure'!A83<>\"\", 'Mainstream Benefits Measure'!E83, \"\")","v":""},{"$f":"IF('Project Eligibility'!A85<>\"\", 'Project Eligibility'!E85, \"\")","v":""},{"$f":"IF('Unit Utilization Rate'!A84<>\"\", 'Unit Utilization Rate'!G84, \"\")","v":""},{"$f":"IF('eLOCCS Drawdowns'!A82<>\"\", 'eLOCCS Drawdowns'!E82, \"\")","v":""},{"$f":"IF('Recaptured Funds'!A85<>\"\", 'Recaptured Funds'!E85, \"\")","v":""},{"$f":"IF('Timely APR Submission'!A82<>\"\", 'Timely APR Submission'!E82, \"\")","v":""},{"$f":"IF('Cost Effectiveness'!A87<>\"\", 'Cost Effectiveness'!G87, \"\")","v":""},{"$f":"IF('Cost Effectiveness (Leavers)'!A87<>\"\", 'Cost Effectiveness (Leavers)'!G87, \"\")","v":""},{"$f":"IF('HUD Monitoring'!A83<>\"\", 'HUD Monitoring'!E83, \"\")","v":""},{"$f":"IF('Project Description'!A82<>\"\", 'Project Description'!D82, \"\")","v":""},{"$f":"IF('Opening Doors Goals'!A84<>\"\", 'Opening Doors Goals'!D84, \"\")","v":""},{"$f":"IF('Severity of Needs'!A85<>\"\", 'Severity of Needs'!E85, \"\")","v":""},{"$f":"IF('Prioritization of PSH'!A83<>\"\", 'Prioritization of PSH'!E83, \"\")","v":""},{"$f":"IF('Housing First Approach'!A82<>\"\", 'Housing First Approach'!E82, \"\")","v":""},{"$f":"IF('CoC Participation'!A84<>\"\", 'CoC Participation'!D84, \"\")","v":""},{"$f":"IF('CoC Meetings'!A84<>\"\", 'CoC Meetings'!D84, \"\")","v":""},{"$f":"IF('HMIS Data Quality'!A82<>\"\",'HMIS Data Quality'!E82,\"\")","v":""},{"$f":"IF('HMIS Data Timeliness'!A82<>\"\",'HMIS Data Timeliness'!E82,\"\")","v":""},{"$f":"IF('HMIS Bed Inventory'!A82<>\"\",'HMIS Bed Inventory'!E82,\"\")","v":""}]
[{"$f":"IF('CoC Renewal Ranking Report'!D86<>\"\",'CoC Renewal Ranking Report'!D86,\"\")","v":""},{"$f":"IF('CoC Renewal Ranking Report'!E86<>\"\",'CoC Renewal Ranking Report'!E86,\"\")","v":""},{"$f":"IF('CoC Renewal Ranking Report'!F86<>\"\",'CoC Renewal Ranking Report'!F86,\"\")","v":""},{"$f":"IF('CoC Renewal Ranking Report'!G86<>\"\",'CoC Renewal Ranking Report'!G86,\"\")","v":""},null,"",null,{"$f":"IF('Exit-Retention to PH Measure'!A86<>\"\", 'Exit-Retention to PH Measure'!E86, \"\")","v":""},{"$f":"IF('Returns to Homelessness'!A86<>\"\", 'Returns to Homelessness'!E86, \"\")","v":""},{"$f":"IF('Length of Stay (TH Only)'!A87<>\"\", 'Length of Stay (TH Only)'!E87, \"\")","v":""},{"$f":"IF('Income Growth Measure'!A86<>\"\", 'Income Growth Measure'!F86, \"\")","v":""},{"$f":"IF('Mainstream Benefits Measure'!A84<>\"\", 'Mainstream Benefits Measure'!E84, \"\")","v":""},{"$f":"IF('Project Eligibility'!A86<>\"\", 'Project Eligibility'!E86, \"\")","v":""},{"$f":"IF('Unit Utilization Rate'!A85<>\"\", 'Unit Utilization Rate'!G85, \"\")","v":""},{"$f":"IF('eLOCCS Drawdowns'!A83<>\"\", 'eLOCCS Drawdowns'!E83, \"\")","v":""},{"$f":"IF('Recaptured Funds'!A86<>\"\", 'Recaptured Funds'!E86, \"\")","v":""},{"$f":"IF('Timely APR Submission'!A83<>\"\", 'Timely APR Submission'!E83, \"\")","v":""},{"$f":"IF('Cost Effectiveness'!A88<>\"\", 'Cost Effectiveness'!G88, \"\")","v":""},{"$f":"IF('Cost Effectiveness (Leavers)'!A88<>\"\", 'Cost Effectiveness (Leavers)'!G88, \"\")","v":""},{"$f":"IF('HUD Monitoring'!A84<>\"\", 'HUD Monitoring'!E84, \"\")","v":""},{"$f":"IF('Project Description'!A83<>\"\", 'Project Description'!D83, \"\")","v":""},{"$f":"IF('Opening Doors Goals'!A85<>\"\", 'Opening Doors Goals'!D85, \"\")","v":""},{"$f":"IF('Severity of Needs'!A86<>\"\", 'Severity of Needs'!E86, \"\")","v":""},{"$f":"IF('Prioritization of PSH'!A84<>\"\", 'Prioritization of PSH'!E84, \"\")","v":""},{"$f":"IF('Housing First Approach'!A83<>\"\", 'Housing First Approach'!E83, \"\")","v":""},{"$f":"IF('CoC Participation'!A85<>\"\", 'CoC Participation'!D85, \"\")","v":""},{"$f":"IF('CoC Meetings'!A85<>\"\", 'CoC Meetings'!D85, \"\")","v":""},{"$f":"IF('HMIS Data Quality'!A83<>\"\",'HMIS Data Quality'!E83,\"\")","v":""},{"$f":"IF('HMIS Data Timeliness'!A83<>\"\",'HMIS Data Timeliness'!E83,\"\")","v":""},{"$f":"IF('HMIS Bed Inventory'!A83<>\"\",'HMIS Bed Inventory'!E83,\"\")","v":""}]
[{"$f":"IF('CoC Renewal Ranking Report'!D87<>\"\",'CoC Renewal Ranking Report'!D87,\"\")","v":""},{"$f":"IF('CoC Renewal Ranking Report'!E87<>\"\",'CoC Renewal Ranking Report'!E87,\"\")","v":""},{"$f":"IF('CoC Renewal Ranking Report'!F87<>\"\",'CoC Renewal Ranking Report'!F87,\"\")","v":""},{"$f":"IF('CoC Renewal Ranking Report'!G87<>\"\",'CoC Renewal Ranking Report'!G87,\"\")","v":""},null,"",null,{"$f":"IF('Exit-Retention to PH Measure'!A87<>\"\", 'Exit-Retention to PH Measure'!E87, \"\")","v":""},{"$f":"IF('Returns to Homelessness'!A87<>\"\", 'Returns to Homelessness'!E87, \"\")","v":""},{"$f":"IF('Length of Stay (TH Only)'!A88<>\"\", 'Length of Stay (TH Only)'!E88, \"\")","v":""},{"$f":"IF('Income Growth Measure'!A87<>\"\", 'Income Growth Measure'!F87, \"\")","v":""},{"$f":"IF('Mainstream Benefits Measure'!A85<>\"\", 'Mainstream Benefits Measure'!E85, \"\")","v":""},{"$f":"IF('Project Eligibility'!A87<>\"\", 'Project Eligibility'!E87, \"\")","v":""},{"$f":"IF('Unit Utilization Rate'!A86<>\"\", 'Unit Utilization Rate'!G86, \"\")","v":""},{"$f":"IF('eLOCCS Drawdowns'!A84<>\"\", 'eLOCCS Drawdowns'!E84, \"\")","v":""},{"$f":"IF('Recaptured Funds'!A87<>\"\", 'Recaptured Funds'!E87, \"\")","v":""},{"$f":"IF('Timely APR Submission'!A84<>\"\", 'Timely APR Submission'!E84, \"\")","v":""},{"$f":"IF('Cost Effectiveness'!A89<>\"\", 'Cost Effectiveness'!G89, \"\")","v":""},{"$f":"IF('Cost Effectiveness (Leavers)'!A89<>\"\", 'Cost Effectiveness (Leavers)'!G89, \"\")","v":""},{"$f":"IF('HUD Monitoring'!A85<>\"\", 'HUD Monitoring'!E85, \"\")","v":""},{"$f":"IF('Project Description'!A84<>\"\", 'Project Description'!D84, \"\")","v":""},{"$f":"IF('Opening Doors Goals'!A86<>\"\", 'Opening Doors Goals'!D86, \"\")","v":""},{"$f":"IF('Severity of Needs'!A87<>\"\", 'Severity of Needs'!E87, \"\")","v":""},{"$f":"IF('Prioritization of PSH'!A85<>\"\", 'Prioritization of PSH'!E85, \"\")","v":""},{"$f":"IF('Housing First Approach'!A84<>\"\", 'Housing First Approach'!E84, \"\")","v":""},{"$f":"IF('CoC Participation'!A86<>\"\", 'CoC Participation'!D86, \"\")","v":""},{"$f":"IF('CoC Meetings'!A86<>\"\", 'CoC Meetings'!D86, \"\")","v":""},{"$f":"IF('HMIS Data Quality'!A84<>\"\",'HMIS Data Quality'!E84,\"\")","v":""},{"$f":"IF('HMIS Data Timeliness'!A84<>\"\",'HMIS Data Timeliness'!E84,\"\")","v":""},{"$f":"IF('HMIS Bed Inventory'!A84<>\"\",'HMIS Bed Inventory'!E84,\"\")","v":""}]
[{"$f":"IF('CoC Renewal Ranking Report'!D88<>\"\",'CoC Renewal Ranking Report'!D88,\"\")","v":""},{"$f":"IF('CoC Renewal Ranking Report'!E88<>\"\",'CoC Renewal Ranking Report'!E88,\"\")","v":""},{"$f":"IF('CoC Renewal Ranking Report'!F88<>\"\",'CoC Renewal Ranking Report'!F88,\"\")","v":""},{"$f":"IF('CoC Renewal Ranking Report'!G88<>\"\",'CoC Renewal Ranking Report'!G88,\"\")","v":""},null,"",null,{"$f":"IF('Exit-Retention to PH Measure'!A88<>\"\", 'Exit-Retention to PH Measure'!E88, \"\")","v":""},{"$f":"IF('Returns to Homelessness'!A88<>\"\", 'Returns to Homelessness'!E88, \"\")","v":""},{"$f":"IF('Length of Stay (TH Only)'!A89<>\"\", 'Length of Stay (TH Only)'!E89, \"\")","v":""},{"$f":"IF('Income Growth Measure'!A88<>\"\", 'Income Growth Measure'!F88, \"\")","v":""},{"$f":"IF('Mainstream Benefits Measure'!A86<>\"\", 'Mainstream Benefits Measure'!E86, \"\")","v":""},{"$f":"IF('Project Eligibility'!A88<>\"\", 'Project Eligibility'!E88, \"\")","v":""},{"$f":"IF('Unit Utilization Rate'!A87<>\"\", 'Unit Utilization Rate'!G87, \"\")","v":""},{"$f":"IF('eLOCCS Drawdowns'!A85<>\"\", 'eLOCCS Drawdowns'!E85, \"\")","v":""},{"$f":"IF('Recaptured Funds'!A88<>\"\", 'Recaptured Funds'!E88, \"\")","v":""},{"$f":"IF('Timely APR Submission'!A85<>\"\", 'Timely APR Submission'!E85, \"\")","v":""},{"$f":"IF('Cost Effectiveness'!A90<>\"\", 'Cost Effectiveness'!G90, \"\")","v":""},{"$f":"IF('Cost Effectiveness (Leavers)'!A90<>\"\", 'Cost Effectiveness (Leavers)'!G90, \"\")","v":""},{"$f":"IF('HUD Monitoring'!A86<>\"\", 'HUD Monitoring'!E86, \"\")","v":""},{"$f":"IF('Project Description'!A85<>\"\", 'Project Description'!D85, \"\")","v":""},{"$f":"IF('Opening Doors Goals'!A87<>\"\", 'Opening Doors Goals'!D87, \"\")","v":""},{"$f":"IF('Severity of Needs'!A88<>\"\", 'Severity of Needs'!E88, \"\")","v":""},{"$f":"IF('Prioritization of PSH'!A86<>\"\", 'Prioritization of PSH'!E86, \"\")","v":""},{"$f":"IF('Housing First Approach'!A85<>\"\", 'Housing First Approach'!E85, \"\")","v":""},{"$f":"IF('CoC Participation'!A87<>\"\", 'CoC Participation'!D87, \"\")","v":""},{"$f":"IF('CoC Meetings'!A87<>\"\", 'CoC Meetings'!D87, \"\")","v":""},{"$f":"IF('HMIS Data Quality'!A85<>\"\",'HMIS Data Quality'!E85,\"\")","v":""},{"$f":"IF('HMIS Data Timeliness'!A85<>\"\",'HMIS Data Timeliness'!E85,\"\")","v":""},{"$f":"IF('HMIS Bed Inventory'!A85<>\"\",'HMIS Bed Inventory'!E85,\"\")","v":""}]
[{"$f":"IF('CoC Renewal Ranking Report'!D89<>\"\",'CoC Renewal Ranking Report'!D89,\"\")","v":""},{"$f":"IF('CoC Renewal Ranking Report'!E89<>\"\",'CoC Renewal Ranking Report'!E89,\"\")","v":""},{"$f":"IF('CoC Renewal Ranking Report'!F89<>\"\",'CoC Renewal Ranking Report'!F89,\"\")","v":""},{"$f":"IF('CoC Renewal Ranking Report'!G89<>\"\",'CoC Renewal Ranking Report'!G89,\"\")","v":""},null,"",null,{"$f":"IF('Exit-Retention to PH Measure'!A89<>\"\", 'Exit-Retention to PH Measure'!E89, \"\")","v":""},{"$f":"IF('Returns to Homelessness'!A89<>\"\", 'Returns to Homelessness'!E89, \"\")","v":""},{"$f":"IF('Length of Stay (TH Only)'!A90<>\"\", 'Length of Stay (TH Only)'!E90, \"\")","v":""},{"$f":"IF('Income Growth Measure'!A89<>\"\", 'Income Growth Measure'!F89, \"\")","v":""},{"$f":"IF('Mainstream Benefits Measure'!A87<>\"\", 'Mainstream Benefits Measure'!E87, \"\")","v":""},{"$f":"IF('Project Eligibility'!A89<>\"\", 'Project Eligibility'!E89, \"\")","v":""},{"$f":"IF('Unit Utilization Rate'!A88<>\"\", 'Unit Utilization Rate'!G88, \"\")","v":""},{"$f":"IF('eLOCCS Drawdowns'!A86<>\"\", 'eLOCCS Drawdowns'!E86, \"\")","v":""},{"$f":"IF('Recaptured Funds'!A89<>\"\", 'Recaptured Funds'!E89, \"\")","v":""},{"$f":"IF('Timely APR Submission'!A86<>\"\", 'Timely APR Submission'!E86, \"\")","v":""},{"$f":"IF('Cost Effectiveness'!A91<>\"\", 'Cost Effectiveness'!G91, \"\")","v":""},{"$f":"IF('Cost Effectiveness (Leavers)'!A91<>\"\", 'Cost Effectiveness (Leavers)'!G91, \"\")","v":""},{"$f":"IF('HUD Monitoring'!A87<>\"\", 'HUD Monitoring'!E87, \"\")","v":""},{"$f":"IF('Project Description'!A86<>\"\", 'Project Description'!D86, \"\")","v":""},{"$f":"IF('Opening Doors Goals'!A88<>\"\", 'Opening Doors Goals'!D88, \"\")","v":""},{"$f":"IF('Severity of Needs'!A89<>\"\", 'Severity of Needs'!E89, \"\")","v":""},{"$f":"IF('Prioritization of PSH'!A87<>\"\", 'Prioritization of PSH'!E87, \"\")","v":""},{"$f":"IF('Housing First Approach'!A86<>\"\", 'Housing First Approach'!E86, \"\")","v":""},{"$f":"IF('CoC Participation'!A88<>\"\", 'CoC Participation'!D88, \"\")","v":""},{"$f":"IF('CoC Meetings'!A88<>\"\", 'CoC Meetings'!D88, \"\")","v":""},{"$f":"IF('HMIS Data Quality'!A86<>\"\",'HMIS Data Quality'!E86,\"\")","v":""},{"$f":"IF('HMIS Data Timeliness'!A86<>\"\",'HMIS Data Timeliness'!E86,\"\")","v":""},{"$f":"IF('HMIS Bed Inventory'!A86<>\"\",'HMIS Bed Inventory'!E86,\"\")","v":""}]
[{"$f":"IF('CoC Renewal Ranking Report'!D90<>\"\",'CoC Renewal Ranking Report'!D90,\"\")","v":""},{"$f":"IF('CoC Renewal Ranking Report'!E90<>\"\",'CoC Renewal Ranking Report'!E90,\"\")","v":""},{"$f":"IF('CoC Renewal Ranking Report'!F90<>\"\",'CoC Renewal Ranking Report'!F90,\"\")","v":""},{"$f":"IF('CoC Renewal Ranking Report'!G90<>\"\",'CoC Renewal Ranking Report'!G90,\"\")","v":""},null,"",null,{"$f":"IF('Exit-Retention to PH Measure'!A90<>\"\", 'Exit-Retention to PH Measure'!E90, \"\")","v":""},{"$f":"IF('Returns to Homelessness'!A90<>\"\", 'Returns to Homelessness'!E90, \"\")","v":""},{"$f":"IF('Length of Stay (TH Only)'!A91<>\"\", 'Length of Stay (TH Only)'!E91, \"\")","v":""},{"$f":"IF('Income Growth Measure'!A90<>\"\", 'Income Growth Measure'!F90, \"\")","v":""},{"$f":"IF('Mainstream Benefits Measure'!A88<>\"\", 'Mainstream Benefits Measure'!E88, \"\")","v":""},{"$f":"IF('Project Eligibility'!A90<>\"\", 'Project Eligibility'!E90, \"\")","v":""},{"$f":"IF('Unit Utilization Rate'!A89<>\"\", 'Unit Utilization Rate'!G89, \"\")","v":""},{"$f":"IF('eLOCCS Drawdowns'!A87<>\"\", 'eLOCCS Drawdowns'!E87, \"\")","v":""},{"$f":"IF('Recaptured Funds'!A90<>\"\", 'Recaptured Funds'!E90, \"\")","v":""},{"$f":"IF('Timely APR Submission'!A87<>\"\", 'Timely APR Submission'!E87, \"\")","v":""},{"$f":"IF('Cost Effectiveness'!A92<>\"\", 'Cost Effectiveness'!G92, \"\")","v":""},{"$f":"IF('Cost Effectiveness (Leavers)'!A92<>\"\", 'Cost Effectiveness (Leavers)'!G92, \"\")","v":""},{"$f":"IF('HUD Monitoring'!A88<>\"\", 'HUD Monitoring'!E88, \"\")","v":""},{"$f":"IF('Project Description'!A87<>\"\", 'Project Description'!D87, \"\")","v":""},{"$f":"IF('Opening Doors Goals'!A89<>\"\", 'Opening Doors Goals'!D89, \"\")","v":""},{"$f":"IF('Severity of Needs'!A90<>\"\", 'Severity of Needs'!E90, \"\")","v":""},{"$f":"IF('Prioritization of PSH'!A88<>\"\", 'Prioritization of PSH'!E88, \"\")","v":""},{"$f":"IF('Housing First Approach'!A87<>\"\", 'Housing First Approach'!E87, \"\")","v":""},{"$f":"IF('CoC Participation'!A89<>\"\", 'CoC Participation'!D89, \"\")","v":""},{"$f":"IF('CoC Meetings'!A89<>\"\", 'CoC Meetings'!D89, \"\")","v":""},{"$f":"IF('HMIS Data Quality'!A87<>\"\",'HMIS Data Quality'!E87,\"\")","v":""},{"$f":"IF('HMIS Data Timeliness'!A87<>\"\",'HMIS Data Timeliness'!E87,\"\")","v":""},{"$f":"IF('HMIS Bed Inventory'!A87<>\"\",'HMIS Bed Inventory'!E87,\"\")","v":""}]
[{"$f":"IF('CoC Renewal Ranking Report'!D91<>\"\",'CoC Renewal Ranking Report'!D91,\"\")","v":""},{"$f":"IF('CoC Renewal Ranking Report'!E91<>\"\",'CoC Renewal Ranking Report'!E91,\"\")","v":""},{"$f":"IF('CoC Renewal Ranking Report'!F91<>\"\",'CoC Renewal Ranking Report'!F91,\"\")","v":""},{"$f":"IF('CoC Renewal Ranking Report'!G91<>\"\",'CoC Renewal Ranking Report'!G91,\"\")","v":""},null,"",null,{"$f":"IF('Exit-Retention to PH Measure'!A91<>\"\", 'Exit-Retention to PH Measure'!E91, \"\")","v":""},{"$f":"IF('Returns to Homelessness'!A91<>\"\", 'Returns to Homelessness'!E91, \"\")","v":""},{"$f":"IF('Length of Stay (TH Only)'!A92<>\"\", 'Length of Stay (TH Only)'!E92, \"\")","v":""},{"$f":"IF('Income Growth Measure'!A91<>\"\", 'Income Growth Measure'!F91, \"\")","v":""},{"$f":"IF('Mainstream Benefits Measure'!A89<>\"\", 'Mainstream Benefits Measure'!E89, \"\")","v":""},{"$f":"IF('Project Eligibility'!A91<>\"\", 'Project Eligibility'!E91, \"\")","v":""},{"$f":"IF('Unit Utilization Rate'!A90<>\"\", 'Unit Utilization Rate'!G90, \"\")","v":""},{"$f":"IF('eLOCCS Drawdowns'!A88<>\"\", 'eLOCCS Drawdowns'!E88, \"\")","v":""},{"$f":"IF('Recaptured Funds'!A91<>\"\", 'Recaptured Funds'!E91, \"\")","v":""},{"$f":"IF('Timely APR Submission'!A88<>\"\", 'Timely APR Submission'!E88, \"\")","v":""},{"$f":"IF('Cost Effectiveness'!A93<>\"\", 'Cost Effectiveness'!G93, \"\")","v":""},{"$f":"IF('Cost Effectiveness (Leavers)'!A93<>\"\", 'Cost Effectiveness (Leavers)'!G93, \"\")","v":""},{"$f":"IF('HUD Monitoring'!A89<>\"\", 'HUD Monitoring'!E89, \"\")","v":""},{"$f":"IF('Project Description'!A88<>\"\", 'Project Description'!D88, \"\")","v":""},{"$f":"IF('Opening Doors Goals'!A90<>\"\", 'Opening Doors Goals'!D90, \"\")","v":""},{"$f":"IF('Severity of Needs'!A91<>\"\", 'Severity of Needs'!E91, \"\")","v":""},{"$f":"IF('Prioritization of PSH'!A89<>\"\", 'Prioritization of PSH'!E89, \"\")","v":""},{"$f":"IF('Housing First Approach'!A88<>\"\", 'Housing First Approach'!E88, \"\")","v":""},{"$f":"IF('CoC Participation'!A90<>\"\", 'CoC Participation'!D90, \"\")","v":""},{"$f":"IF('CoC Meetings'!A90<>\"\", 'CoC Meetings'!D90, \"\")","v":""},{"$f":"IF('HMIS Data Quality'!A88<>\"\",'HMIS Data Quality'!E88,\"\")","v":""},{"$f":"IF('HMIS Data Timeliness'!A88<>\"\",'HMIS Data Timeliness'!E88,\"\")","v":""},{"$f":"IF('HMIS Bed Inventory'!A88<>\"\",'HMIS Bed Inventory'!E88,\"\")","v":""}]
[{"$f":"IF('CoC Renewal Ranking Report'!D92<>\"\",'CoC Renewal Ranking Report'!D92,\"\")","v":""},{"$f":"IF('CoC Renewal Ranking Report'!E92<>\"\",'CoC Renewal Ranking Report'!E92,\"\")","v":""},{"$f":"IF('CoC Renewal Ranking Report'!F92<>\"\",'CoC Renewal Ranking Report'!F92,\"\")","v":""},{"$f":"IF('CoC Renewal Ranking Report'!G92<>\"\",'CoC Renewal Ranking Report'!G92,\"\")","v":""},null,"",null,{"$f":"IF('Exit-Retention to PH Measure'!A92<>\"\", 'Exit-Retention to PH Measure'!E92, \"\")","v":""},{"$f":"IF('Returns to Homelessness'!A92<>\"\", 'Returns to Homelessness'!E92, \"\")","v":""},{"$f":"IF('Length of Stay (TH Only)'!A93<>\"\", 'Length of Stay (TH Only)'!E93, \"\")","v":""},{"$f":"IF('Income Growth Measure'!A92<>\"\", 'Income Growth Measure'!F92, \"\")","v":""},{"$f":"IF('Mainstream Benefits Measure'!A90<>\"\", 'Mainstream Benefits Measure'!E90, \"\")","v":""},{"$f":"IF('Project Eligibility'!A92<>\"\", 'Project Eligibility'!E92, \"\")","v":""},{"$f":"IF('Unit Utilization Rate'!A91<>\"\", 'Unit Utilization Rate'!G91, \"\")","v":""},{"$f":"IF('eLOCCS Drawdowns'!A89<>\"\", 'eLOCCS Drawdowns'!E89, \"\")","v":""},{"$f":"IF('Recaptured Funds'!A92<>\"\", 'Recaptured Funds'!E92, \"\")","v":""},{"$f":"IF('Timely APR Submission'!A89<>\"\", 'Timely APR Submission'!E89, \"\")","v":""},{"$f":"IF('Cost Effectiveness'!A94<>\"\", 'Cost Effectiveness'!G94, \"\")","v":""},{"$f":"IF('Cost Effectiveness (Leavers)'!A94<>\"\", 'Cost Effectiveness (Leavers)'!G94, \"\")","v":""},{"$f":"IF('HUD Monitoring'!A90<>\"\", 'HUD Monitoring'!E90, \"\")","v":""},{"$f":"IF('Project Description'!A89<>\"\", 'Project Description'!D89, \"\")","v":""},{"$f":"IF('Opening Doors Goals'!A91<>\"\", 'Opening Doors Goals'!D91, \"\")","v":""},{"$f":"IF('Severity of Needs'!A92<>\"\", 'Severity of Needs'!E92, \"\")","v":""},{"$f":"IF('Prioritization of PSH'!A90<>\"\", 'Prioritization of PSH'!E90, \"\")","v":""},{"$f":"IF('Housing First Approach'!A89<>\"\", 'Housing First Approach'!E89, \"\")","v":""},{"$f":"IF('CoC Participation'!A91<>\"\", 'CoC Participation'!D91, \"\")","v":""},{"$f":"IF('CoC Meetings'!A91<>\"\", 'CoC Meetings'!D91, \"\")","v":""},{"$f":"IF('HMIS Data Quality'!A89<>\"\",'HMIS Data Quality'!E89,\"\")","v":""},{"$f":"IF('HMIS Data Timeliness'!A89<>\"\",'HMIS Data Timeliness'!E89,\"\")","v":""},{"$f":"IF('HMIS Bed Inventory'!A89<>\"\",'HMIS Bed Inventory'!E89,\"\")","v":""}]
[{"$f":"IF('CoC Renewal Ranking Report'!D93<>\"\",'CoC Renewal Ranking Report'!D93,\"\")","v":""},{"$f":"IF('CoC Renewal Ranking Report'!E93<>\"\",'CoC Renewal Ranking Report'!E93,\"\")","v":""},{"$f":"IF('CoC Renewal Ranking Report'!F93<>\"\",'CoC Renewal Ranking Report'!F93,\"\")","v":""},{"$f":"IF('CoC Renewal Ranking Report'!G93<>\"\",'CoC Renewal Ranking Report'!G93,\"\")","v":""},null,"",null,{"$f":"IF('Exit-Retention to PH Measure'!A93<>\"\", 'Exit-Retention to PH Measure'!E93, \"\")","v":""},{"$f":"IF('Returns to Homelessness'!A93<>\"\", 'Returns to Homelessness'!E93, \"\")","v":""},{"$f":"IF('Length of Stay (TH Only)'!A94<>\"\", 'Length of Stay (TH Only)'!E94, \"\")","v":""},{"$f":"IF('Income Growth Measure'!A93<>\"\", 'Income Growth Measure'!F93, \"\")","v":""},{"$f":"IF('Mainstream Benefits Measure'!A91<>\"\", 'Mainstream Benefits Measure'!E91, \"\")","v":""},{"$f":"IF('Project Eligibility'!A93<>\"\", 'Project Eligibility'!E93, \"\")","v":""},{"$f":"IF('Unit Utilization Rate'!A92<>\"\", 'Unit Utilization Rate'!G92, \"\")","v":""},{"$f":"IF('eLOCCS Drawdowns'!A90<>\"\", 'eLOCCS Drawdowns'!E90, \"\")","v":""},{"$f":"IF('Recaptured Funds'!A93<>\"\", 'Recaptured Funds'!E93, \"\")","v":""},{"$f":"IF('Timely APR Submission'!A90<>\"\", 'Timely APR Submission'!E90, \"\")","v":""},{"$f":"IF('Cost Effectiveness'!A95<>\"\", 'Cost Effectiveness'!G95, \"\")","v":""},{"$f":"IF('Cost Effectiveness (Leavers)'!A95<>\"\", 'Cost Effectiveness (Leavers)'!G95, \"\")","v":""},{"$f":"IF('HUD Monitoring'!A91<>\"\", 'HUD Monitoring'!E91, \"\")","v":""},{"$f":"IF('Project Description'!A90<>\"\", 'Project Description'!D90, \"\")","v":""},{"$f":"IF('Opening Doors Goals'!A92<>\"\", 'Opening Doors Goals'!D92, \"\")","v":""},{"$f":"IF('Severity of Needs'!A93<>\"\", 'Severity of Needs'!E93, \"\")","v":""},{"$f":"IF('Prioritization of PSH'!A91<>\"\", 'Prioritization of PSH'!E91, \"\")","v":""},{"$f":"IF('Housing First Approach'!A90<>\"\", 'Housing First Approach'!E90, \"\")","v":""},{"$f":"IF('CoC Participation'!A92<>\"\", 'CoC Participation'!D92, \"\")","v":""},{"$f":"IF('CoC Meetings'!A92<>\"\", 'CoC Meetings'!D92, \"\")","v":""},{"$f":"IF('HMIS Data Quality'!A90<>\"\",'HMIS Data Quality'!E90,\"\")","v":""},{"$f":"IF('HMIS Data Timeliness'!A90<>\"\",'HMIS Data Timeliness'!E90,\"\")","v":""},{"$f":"IF('HMIS Bed Inventory'!A90<>\"\",'HMIS Bed Inventory'!E90,\"\")","v":""}]
[{"$f":"IF('CoC Renewal Ranking Report'!D94<>\"\",'CoC Renewal Ranking Report'!D94,\"\")","v":""},{"$f":"IF('CoC Renewal Ranking Report'!E94<>\"\",'CoC Renewal Ranking Report'!E94,\"\")","v":""},{"$f":"IF('CoC Renewal Ranking Report'!F94<>\"\",'CoC Renewal Ranking Report'!F94,\"\")","v":""},{"$f":"IF('CoC Renewal Ranking Report'!G94<>\"\",'CoC Renewal Ranking Report'!G94,\"\")","v":""},null,"",null,{"$f":"IF('Exit-Retention to PH Measure'!A94<>\"\", 'Exit-Retention to PH Measure'!E94, \"\")","v":""},{"$f":"IF('Returns to Homelessness'!A94<>\"\", 'Returns to Homelessness'!E94, \"\")","v":""},{"$f":"IF('Length of Stay (TH Only)'!A95<>\"\", 'Length of Stay (TH Only)'!E95, \"\")","v":""},{"$f":"IF('Income Growth Measure'!A94<>\"\", 'Income Growth Measure'!F94, \"\")","v":""},{"$f":"IF('Mainstream Benefits Measure'!A92<>\"\", 'Mainstream Benefits Measure'!E92, \"\")","v":""},{"$f":"IF('Project Eligibility'!A94<>\"\", 'Project Eligibility'!E94, \"\")","v":""},{"$f":"IF('Unit Utilization Rate'!A93<>\"\", 'Unit Utilization Rate'!G93, \"\")","v":""},{"$f":"IF('eLOCCS Drawdowns'!A91<>\"\", 'eLOCCS Drawdowns'!E91, \"\")","v":""},{"$f":"IF('Recaptured Funds'!A94<>\"\", 'Recaptured Funds'!E94, \"\")","v":""},{"$f":"IF('Timely APR Submission'!A91<>\"\", 'Timely APR Submission'!E91, \"\")","v":""},{"$f":"IF('Cost Effectiveness'!A96<>\"\", 'Cost Effectiveness'!G96, \"\")","v":""},{"$f":"IF('Cost Effectiveness (Leavers)'!A96<>\"\", 'Cost Effectiveness (Leavers)'!G96, \"\")","v":""},{"$f":"IF('HUD Monitoring'!A92<>\"\", 'HUD Monitoring'!E92, \"\")","v":""},{"$f":"IF('Project Description'!A91<>\"\", 'Project Description'!D91, \"\")","v":""},{"$f":"IF('Opening Doors Goals'!A93<>\"\", 'Opening Doors Goals'!D93, \"\")","v":""},{"$f":"IF('Severity of Needs'!A94<>\"\", 'Severity of Needs'!E94, \"\")","v":""},{"$f":"IF('Prioritization of PSH'!A92<>\"\", 'Prioritization of PSH'!E92, \"\")","v":""},{"$f":"IF('Housing First Approach'!A91<>\"\", 'Housing First Approach'!E91, \"\")","v":""},{"$f":"IF('CoC Participation'!A93<>\"\", 'CoC Participation'!D93, \"\")","v":""},{"$f":"IF('CoC Meetings'!A93<>\"\", 'CoC Meetings'!D93, \"\")","v":""},{"$f":"IF('HMIS Data Quality'!A91<>\"\",'HMIS Data Quality'!E91,\"\")","v":""},{"$f":"IF('HMIS Data Timeliness'!A91<>\"\",'HMIS Data Timeliness'!E91,\"\")","v":""},{"$f":"IF('HMIS Bed Inventory'!A91<>\"\",'HMIS Bed Inventory'!E91,\"\")","v":""}]
[{"$f":"IF('CoC Renewal Ranking Report'!D95<>\"\",'CoC Renewal Ranking Report'!D95,\"\")","v":""},{"$f":"IF('CoC Renewal Ranking Report'!E95<>\"\",'CoC Renewal Ranking Report'!E95,\"\")","v":""},{"$f":"IF('CoC Renewal Ranking Report'!F95<>\"\",'CoC Renewal Ranking Report'!F95,\"\")","v":""},{"$f":"IF('CoC Renewal Ranking Report'!G95<>\"\",'CoC Renewal Ranking Report'!G95,\"\")","v":""},null,"",null,{"$f":"IF('Exit-Retention to PH Measure'!A95<>\"\", 'Exit-Retention to PH Measure'!E95, \"\")","v":""},{"$f":"IF('Returns to Homelessness'!A95<>\"\", 'Returns to Homelessness'!E95, \"\")","v":""},{"$f":"IF('Length of Stay (TH Only)'!A96<>\"\", 'Length of Stay (TH Only)'!E96, \"\")","v":""},{"$f":"IF('Income Growth Measure'!A95<>\"\", 'Income Growth Measure'!F95, \"\")","v":""},{"$f":"IF('Mainstream Benefits Measure'!A93<>\"\", 'Mainstream Benefits Measure'!E93, \"\")","v":""},{"$f":"IF('Project Eligibility'!A95<>\"\", 'Project Eligibility'!E95, \"\")","v":""},{"$f":"IF('Unit Utilization Rate'!A94<>\"\", 'Unit Utilization Rate'!G94, \"\")","v":""},{"$f":"IF('eLOCCS Drawdowns'!A92<>\"\", 'eLOCCS Drawdowns'!E92, \"\")","v":""},{"$f":"IF('Recaptured Funds'!A95<>\"\", 'Recaptured Funds'!E95, \"\")","v":""},{"$f":"IF('Timely APR Submission'!A92<>\"\", 'Timely APR Submission'!E92, \"\")","v":""},{"$f":"IF('Cost Effectiveness'!A97<>\"\", 'Cost Effectiveness'!G97, \"\")","v":""},{"$f":"IF('Cost Effectiveness (Leavers)'!A97<>\"\", 'Cost Effectiveness (Leavers)'!G97, \"\")","v":""},{"$f":"IF('HUD Monitoring'!A93<>\"\", 'HUD Monitoring'!E93, \"\")","v":""},{"$f":"IF('Project Description'!A92<>\"\", 'Project Description'!D92, \"\")","v":""},{"$f":"IF('Opening Doors Goals'!A94<>\"\", 'Opening Doors Goals'!D94, \"\")","v":""},{"$f":"IF('Severity of Needs'!A95<>\"\", 'Severity of Needs'!E95, \"\")","v":""},{"$f":"IF('Prioritization of PSH'!A93<>\"\", 'Prioritization of PSH'!E93, \"\")","v":""},{"$f":"IF('Housing First Approach'!A92<>\"\", 'Housing First Approach'!E92, \"\")","v":""},{"$f":"IF('CoC Participation'!A94<>\"\", 'CoC Participation'!D94, \"\")","v":""},{"$f":"IF('CoC Meetings'!A94<>\"\", 'CoC Meetings'!D94, \"\")","v":""},{"$f":"IF('HMIS Data Quality'!A92<>\"\",'HMIS Data Quality'!E92,\"\")","v":""},{"$f":"IF('HMIS Data Timeliness'!A92<>\"\",'HMIS Data Timeliness'!E92,\"\")","v":""},{"$f":"IF('HMIS Bed Inventory'!A92<>\"\",'HMIS Bed Inventory'!E92,\"\")","v":""}]
[{"$f":"IF('CoC Renewal Ranking Report'!D96<>\"\",'CoC Renewal Ranking Report'!D96,\"\")","v":""},{"$f":"IF('CoC Renewal Ranking Report'!E96<>\"\",'CoC Renewal Ranking Report'!E96,\"\")","v":""},{"$f":"IF('CoC Renewal Ranking Report'!F96<>\"\",'CoC Renewal Ranking Report'!F96,\"\")","v":""},{"$f":"IF('CoC Renewal Ranking Report'!G96<>\"\",'CoC Renewal Ranking Report'!G96,\"\")","v":""},null,"",null,{"$f":"IF('Exit-Retention to PH Measure'!A96<>\"\", 'Exit-Retention to PH Measure'!E96, \"\")","v":""},{"$f":"IF('Returns to Homelessness'!A96<>\"\", 'Returns to Homelessness'!E96, \"\")","v":""},{"$f":"IF('Length of Stay (TH Only)'!A97<>\"\", 'Length of Stay (TH Only)'!E97, \"\")","v":""},{"$f":"IF('Income Growth Measure'!A96<>\"\", 'Income Growth Measure'!F96, \"\")","v":""},{"$f":"IF('Mainstream Benefits Measure'!A94<>\"\", 'Mainstream Benefits Measure'!E94, \"\")","v":""},{"$f":"IF('Project Eligibility'!A96<>\"\", 'Project Eligibility'!E96, \"\")","v":""},{"$f":"IF('Unit Utilization Rate'!A95<>\"\", 'Unit Utilization Rate'!G95, \"\")","v":""},{"$f":"IF('eLOCCS Drawdowns'!A93<>\"\", 'eLOCCS Drawdowns'!E93, \"\")","v":""},{"$f":"IF('Recaptured Funds'!A96<>\"\", 'Recaptured Funds'!E96, \"\")","v":""},{"$f":"IF('Timely APR Submission'!A93<>\"\", 'Timely APR Submission'!E93, \"\")","v":""},{"$f":"IF('Cost Effectiveness'!A98<>\"\", 'Cost Effectiveness'!G98, \"\")","v":""},{"$f":"IF('Cost Effectiveness (Leavers)'!A98<>\"\", 'Cost Effectiveness (Leavers)'!G98, \"\")","v":""},{"$f":"IF('HUD Monitoring'!A94<>\"\", 'HUD Monitoring'!E94, \"\")","v":""},{"$f":"IF('Project Description'!A93<>\"\", 'Project Description'!D93, \"\")","v":""},{"$f":"IF('Opening Doors Goals'!A95<>\"\", 'Opening Doors Goals'!D95, \"\")","v":""},{"$f":"IF('Severity of Needs'!A96<>\"\", 'Severity of Needs'!E96, \"\")","v":""},{"$f":"IF('Prioritization of PSH'!A94<>\"\", 'Prioritization of PSH'!E94, \"\")","v":""},{"$f":"IF('Housing First Approach'!A93<>\"\", 'Housing First Approach'!E93, \"\")","v":""},{"$f":"IF('CoC Participation'!A95<>\"\", 'CoC Participation'!D95, \"\")","v":""},{"$f":"IF('CoC Meetings'!A95<>\"\", 'CoC Meetings'!D95, \"\")","v":""},{"$f":"IF('HMIS Data Quality'!A93<>\"\",'HMIS Data Quality'!E93,\"\")","v":""},{"$f":"IF('HMIS Data Timeliness'!A93<>\"\",'HMIS Data Timeliness'!E93,\"\")","v":""},{"$f":"IF('HMIS Bed Inventory'!A93<>\"\",'HMIS Bed Inventory'!E93,\"\")","v":""}]
[{"$f":"IF('CoC Renewal Ranking Report'!D97<>\"\",'CoC Renewal Ranking Report'!D97,\"\")","v":""},{"$f":"IF('CoC Renewal Ranking Report'!E97<>\"\",'CoC Renewal Ranking Report'!E97,\"\")","v":""},{"$f":"IF('CoC Renewal Ranking Report'!F97<>\"\",'CoC Renewal Ranking Report'!F97,\"\")","v":""},{"$f":"IF('CoC Renewal Ranking Report'!G97<>\"\",'CoC Renewal Ranking Report'!G97,\"\")","v":""},null,"",null,{"$f":"IF('Exit-Retention to PH Measure'!A97<>\"\", 'Exit-Retention to PH Measure'!E97, \"\")","v":""},{"$f":"IF('Returns to Homelessness'!A97<>\"\", 'Returns to Homelessness'!E97, \"\")","v":""},{"$f":"IF('Length of Stay (TH Only)'!A98<>\"\", 'Length of Stay (TH Only)'!E98, \"\")","v":""},{"$f":"IF('Income Growth Measure'!A97<>\"\", 'Income Growth Measure'!F97, \"\")","v":""},{"$f":"IF('Mainstream Benefits Measure'!A95<>\"\", 'Mainstream Benefits Measure'!E95, \"\")","v":""},{"$f":"IF('Project Eligibility'!A97<>\"\", 'Project Eligibility'!E97, \"\")","v":""},{"$f":"IF('Unit Utilization Rate'!A96<>\"\", 'Unit Utilization Rate'!G96, \"\")","v":""},{"$f":"IF('eLOCCS Drawdowns'!A94<>\"\", 'eLOCCS Drawdowns'!E94, \"\")","v":""},{"$f":"IF('Recaptured Funds'!A97<>\"\", 'Recaptured Funds'!E97, \"\")","v":""},{"$f":"IF('Timely APR Submission'!A94<>\"\", 'Timely APR Submission'!E94, \"\")","v":""},{"$f":"IF('Cost Effectiveness'!A99<>\"\", 'Cost Effectiveness'!G99, \"\")","v":""},{"$f":"IF('Cost Effectiveness (Leavers)'!A99<>\"\", 'Cost Effectiveness (Leavers)'!G99, \"\")","v":""},{"$f":"IF('HUD Monitoring'!A95<>\"\", 'HUD Monitoring'!E95, \"\")","v":""},{"$f":"IF('Project Description'!A94<>\"\", 'Project Description'!D94, \"\")","v":""},{"$f":"IF('Opening Doors Goals'!A96<>\"\", 'Opening Doors Goals'!D96, \"\")","v":""},{"$f":"IF('Severity of Needs'!A97<>\"\", 'Severity of Needs'!E97, \"\")","v":""},{"$f":"IF('Prioritization of PSH'!A95<>\"\", 'Prioritization of PSH'!E95, \"\")","v":""},{"$f":"IF('Housing First Approach'!A94<>\"\", 'Housing First Approach'!E94, \"\")","v":""},{"$f":"IF('CoC Participation'!A96<>\"\", 'CoC Participation'!D96, \"\")","v":""},{"$f":"IF('CoC Meetings'!A96<>\"\", 'CoC Meetings'!D96, \"\")","v":""},{"$f":"IF('HMIS Data Quality'!A94<>\"\",'HMIS Data Quality'!E94,\"\")","v":""},{"$f":"IF('HMIS Data Timeliness'!A94<>\"\",'HMIS Data Timeliness'!E94,\"\")","v":""},{"$f":"IF('HMIS Bed Inventory'!A94<>\"\",'HMIS Bed Inventory'!E94,\"\")","v":""}]
[{"$f":"IF('CoC Renewal Ranking Report'!D98<>\"\",'CoC Renewal Ranking Report'!D98,\"\")","v":""},{"$f":"IF('CoC Renewal Ranking Report'!E98<>\"\",'CoC Renewal Ranking Report'!E98,\"\")","v":""},{"$f":"IF('CoC Renewal Ranking Report'!F98<>\"\",'CoC Renewal Ranking Report'!F98,\"\")","v":""},{"$f":"IF('CoC Renewal Ranking Report'!G98<>\"\",'CoC Renewal Ranking Report'!G98,\"\")","v":""},null,"",null,{"$f":"IF('Exit-Retention to PH Measure'!A98<>\"\", 'Exit-Retention to PH Measure'!E98, \"\")","v":""},{"$f":"IF('Returns to Homelessness'!A98<>\"\", 'Returns to Homelessness'!E98, \"\")","v":""},{"$f":"IF('Length of Stay (TH Only)'!A99<>\"\", 'Length of Stay (TH Only)'!E99, \"\")","v":""},{"$f":"IF('Income Growth Measure'!A98<>\"\", 'Income Growth Measure'!F98, \"\")","v":""},{"$f":"IF('Mainstream Benefits Measure'!A96<>\"\", 'Mainstream Benefits Measure'!E96, \"\")","v":""},{"$f":"IF('Project Eligibility'!A98<>\"\", 'Project Eligibility'!E98, \"\")","v":""},{"$f":"IF('Unit Utilization Rate'!A97<>\"\", 'Unit Utilization Rate'!G97, \"\")","v":""},{"$f":"IF('eLOCCS Drawdowns'!A95<>\"\", 'eLOCCS Drawdowns'!E95, \"\")","v":""},{"$f":"IF('Recaptured Funds'!A98<>\"\", 'Recaptured Funds'!E98, \"\")","v":""},{"$f":"IF('Timely APR Submission'!A95<>\"\", 'Timely APR Submission'!E95, \"\")","v":""},{"$f":"IF('Cost Effectiveness'!A100<>\"\", 'Cost Effectiveness'!G100, \"\")","v":""},{"$f":"IF('Cost Effectiveness (Leavers)'!A100<>\"\", 'Cost Effectiveness (Leavers)'!G100, \"\")","v":""},{"$f":"IF('HUD Monitoring'!A96<>\"\", 'HUD Monitoring'!E96, \"\")","v":""},{"$f":"IF('Project Description'!A95<>\"\", 'Project Description'!D95, \"\")","v":""},{"$f":"IF('Opening Doors Goals'!A97<>\"\", 'Opening Doors Goals'!D97, \"\")","v":""},{"$f":"IF('Severity of Needs'!A98<>\"\", 'Severity of Needs'!E98, \"\")","v":""},{"$f":"IF('Prioritization of PSH'!A96<>\"\", 'Prioritization of PSH'!E96, \"\")","v":""},{"$f":"IF('Housing First Approach'!A95<>\"\", 'Housing First Approach'!E95, \"\")","v":""},{"$f":"IF('CoC Participation'!A97<>\"\", 'CoC Participation'!D97, \"\")","v":""},{"$f":"IF('CoC Meetings'!A97<>\"\", 'CoC Meetings'!D97, \"\")","v":""},{"$f":"IF('HMIS Data Quality'!A95<>\"\",'HMIS Data Quality'!E95,\"\")","v":""},{"$f":"IF('HMIS Data Timeliness'!A95<>\"\",'HMIS Data Timeliness'!E95,\"\")","v":""},{"$f":"IF('HMIS Bed Inventory'!A95<>\"\",'HMIS Bed Inventory'!E95,\"\")","v":""}]
[{"$f":"IF('CoC Renewal Ranking Report'!D99<>\"\",'CoC Renewal Ranking Report'!D99,\"\")","v":""},{"$f":"IF('CoC Renewal Ranking Report'!E99<>\"\",'CoC Renewal Ranking Report'!E99,\"\")","v":""},{"$f":"IF('CoC Renewal Ranking Report'!F99<>\"\",'CoC Renewal Ranking Report'!F99,\"\")","v":""},{"$f":"IF('CoC Renewal Ranking Report'!G99<>\"\",'CoC Renewal Ranking Report'!G99,\"\")","v":""},null,"",null,{"$f":"IF('Exit-Retention to PH Measure'!A99<>\"\", 'Exit-Retention to PH Measure'!E99, \"\")","v":""},{"$f":"IF('Returns to Homelessness'!A99<>\"\", 'Returns to Homelessness'!E99, \"\")","v":""},{"$f":"IF('Length of Stay (TH Only)'!A100<>\"\", 'Length of Stay (TH Only)'!E100, \"\")","v":""},{"$f":"IF('Income Growth Measure'!A99<>\"\", 'Income Growth Measure'!F99, \"\")","v":""},{"$f":"IF('Mainstream Benefits Measure'!A97<>\"\", 'Mainstream Benefits Measure'!E97, \"\")","v":""},{"$f":"IF('Project Eligibility'!A99<>\"\", 'Project Eligibility'!E99, \"\")","v":""},{"$f":"IF('Unit Utilization Rate'!A98<>\"\", 'Unit Utilization Rate'!G98, \"\")","v":""},{"$f":"IF('eLOCCS Drawdowns'!A96<>\"\", 'eLOCCS Drawdowns'!E96, \"\")","v":""},{"$f":"IF('Recaptured Funds'!A99<>\"\", 'Recaptured Funds'!E99, \"\")","v":""},{"$f":"IF('Timely APR Submission'!A96<>\"\", 'Timely APR Submission'!E96, \"\")","v":""},{"$f":"IF('Cost Effectiveness'!A101<>\"\", 'Cost Effectiveness'!G101, \"\")","v":""},{"$f":"IF('Cost Effectiveness (Leavers)'!A101<>\"\", 'Cost Effectiveness (Leavers)'!G101, \"\")","v":""},{"$f":"IF('HUD Monitoring'!A97<>\"\", 'HUD Monitoring'!E97, \"\")","v":""},{"$f":"IF('Project Description'!A96<>\"\", 'Project Description'!D96, \"\")","v":""},{"$f":"IF('Opening Doors Goals'!A98<>\"\", 'Opening Doors Goals'!D98, \"\")","v":""},{"$f":"IF('Severity of Needs'!A99<>\"\", 'Severity of Needs'!E99, \"\")","v":""},{"$f":"IF('Prioritization of PSH'!A97<>\"\", 'Prioritization of PSH'!E97, \"\")","v":""},{"$f":"IF('Housing First Approach'!A96<>\"\", 'Housing First Approach'!E96, \"\")","v":""},{"$f":"IF('CoC Participation'!A98<>\"\", 'CoC Participation'!D98, \"\")","v":""},{"$f":"IF('CoC Meetings'!A98<>\"\", 'CoC Meetings'!D98, \"\")","v":""},{"$f":"IF('HMIS Data Quality'!A96<>\"\",'HMIS Data Quality'!E96,\"\")","v":""},{"$f":"IF('HMIS Data Timeliness'!A96<>\"\",'HMIS Data Timeliness'!E96,\"\")","v":""},{"$f":"IF('HMIS Bed Inventory'!A96<>\"\",'HMIS Bed Inventory'!E96,\"\")","v":""}]
[{"$f":"IF('CoC Renewal Ranking Report'!D100<>\"\",'CoC Renewal Ranking Report'!D100,\"\")","v":""},{"$f":"IF('CoC Renewal Ranking Report'!E100<>\"\",'CoC Renewal Ranking Report'!E100,\"\")","v":""},{"$f":"IF('CoC Renewal Ranking Report'!F100<>\"\",'CoC Renewal Ranking Report'!F100,\"\")","v":""},{"$f":"IF('CoC Renewal Ranking Report'!G100<>\"\",'CoC Renewal Ranking Report'!G100,\"\")","v":""},null,"",null,{"$f":"IF('Exit-Retention to PH Measure'!A100<>\"\", 'Exit-Retention to PH Measure'!E100, \"\")","v":""},{"$f":"IF('Returns to Homelessness'!A100<>\"\", 'Returns to Homelessness'!E100, \"\")","v":""},{"$f":"IF('Length of Stay (TH Only)'!A101<>\"\", 'Length of Stay (TH Only)'!E101, \"\")","v":""},{"$f":"IF('Income Growth Measure'!A100<>\"\", 'Income Growth Measure'!F100, \"\")","v":""},{"$f":"IF('Mainstream Benefits Measure'!A98<>\"\", 'Mainstream Benefits Measure'!E98, \"\")","v":""},{"$f":"IF('Project Eligibility'!A100<>\"\", 'Project Eligibility'!E100, \"\")","v":""},{"$f":"IF('Unit Utilization Rate'!A99<>\"\", 'Unit Utilization Rate'!G99, \"\")","v":""},{"$f":"IF('eLOCCS Drawdowns'!A97<>\"\", 'eLOCCS Drawdowns'!E97, \"\")","v":""},{"$f":"IF('Recaptured Funds'!A100<>\"\", 'Recaptured Funds'!E100, \"\")","v":""},{"$f":"IF('Timely APR Submission'!A97<>\"\", 'Timely APR Submission'!E97, \"\")","v":""},{"$f":"IF('Cost Effectiveness'!A102<>\"\", 'Cost Effectiveness'!G102, \"\")","v":""},{"$f":"IF('Cost Effectiveness (Leavers)'!A102<>\"\", 'Cost Effectiveness (Leavers)'!G102, \"\")","v":""},{"$f":"IF('HUD Monitoring'!A98<>\"\", 'HUD Monitoring'!E98, \"\")","v":""},{"$f":"IF('Project Description'!A97<>\"\", 'Project Description'!D97, \"\")","v":""},{"$f":"IF('Opening Doors Goals'!A99<>\"\", 'Opening Doors Goals'!D99, \"\")","v":""},{"$f":"IF('Severity of Needs'!A100<>\"\", 'Severity of Needs'!E100, \"\")","v":""},{"$f":"IF('Prioritization of PSH'!A98<>\"\", 'Prioritization of PSH'!E98, \"\")","v":""},{"$f":"IF('Housing First Approach'!A97<>\"\", 'Housing First Approach'!E97, \"\")","v":""},{"$f":"IF('CoC Participation'!A99<>\"\", 'CoC Participation'!D99, \"\")","v":""},{"$f":"IF('CoC Meetings'!A99<>\"\", 'CoC Meetings'!D99, \"\")","v":""},{"$f":"IF('HMIS Data Quality'!A97<>\"\",'HMIS Data Quality'!E97,\"\")","v":""},{"$f":"IF('HMIS Data Timeliness'!A97<>\"\",'HMIS Data Timeliness'!E97,\"\")","v":""},{"$f":"IF('HMIS Bed Inventory'!A97<>\"\",'HMIS Bed Inventory'!E97,\"\")","v":""}]
[{"$f":"IF('CoC Renewal Ranking Report'!D101<>\"\",'CoC Renewal Ranking Report'!D101,\"\")","v":""},{"$f":"IF('CoC Renewal Ranking Report'!E101<>\"\",'CoC Renewal Ranking Report'!E101,\"\")","v":""},{"$f":"IF('CoC Renewal Ranking Report'!F101<>\"\",'CoC Renewal Ranking Report'!F101,\"\")","v":""},{"$f":"IF('CoC Renewal Ranking Report'!G101<>\"\",'CoC Renewal Ranking Report'!G101,\"\")","v":""},null,"",null,{"$f":"IF('Exit-Retention to PH Measure'!A101<>\"\", 'Exit-Retention to PH Measure'!E101, \"\")","v":""},{"$f":"IF('Returns to Homelessness'!A101<>\"\", 'Returns to Homelessness'!E101, \"\")","v":""},{"$f":"IF('Length of Stay (TH Only)'!A102<>\"\", 'Length of Stay (TH Only)'!E102, \"\")","v":""},{"$f":"IF('Income Growth Measure'!A101<>\"\", 'Income Growth Measure'!F101, \"\")","v":""},{"$f":"IF('Mainstream Benefits Measure'!A99<>\"\", 'Mainstream Benefits Measure'!E99, \"\")","v":""},{"$f":"IF('Project Eligibility'!A101<>\"\", 'Project Eligibility'!E101, \"\")","v":""},{"$f":"IF('Unit Utilization Rate'!A100<>\"\", 'Unit Utilization Rate'!G100, \"\")","v":""},{"$f":"IF('eLOCCS Drawdowns'!A98<>\"\", 'eLOCCS Drawdowns'!E98, \"\")","v":""},{"$f":"IF('Recaptured Funds'!A101<>\"\", 'Recaptured Funds'!E101, \"\")","v":""},{"$f":"IF('Timely APR Submission'!A98<>\"\", 'Timely APR Submission'!E98, \"\")","v":""},{"$f":"IF('Cost Effectiveness'!A103<>\"\", 'Cost Effectiveness'!G103, \"\")","v":""},{"$f":"IF('Cost Effectiveness (Leavers)'!A103<>\"\", 'Cost Effectiveness (Leavers)'!G103, \"\")","v":""},{"$f":"IF('HUD Monitoring'!A99<>\"\", 'HUD Monitoring'!E99, \"\")","v":""},{"$f":"IF('Project Description'!A98<>\"\", 'Project Description'!D98, \"\")","v":""},{"$f":"IF('Opening Doors Goals'!A100<>\"\", 'Opening Doors Goals'!D100, \"\")","v":""},{"$f":"IF('Severity of Needs'!A101<>\"\", 'Severity of Needs'!E101, \"\")","v":""},{"$f":"IF('Prioritization of PSH'!A99<>\"\", 'Prioritization of PSH'!E99, \"\")","v":""},{"$f":"IF('Housing First Approach'!A98<>\"\", 'Housing First Approach'!E98, \"\")","v":""},{"$f":"IF('CoC Participation'!A100<>\"\", 'CoC Participation'!D100, \"\")","v":""},{"$f":"IF('CoC Meetings'!A100<>\"\", 'CoC Meetings'!D100, \"\")","v":""},{"$f":"IF('HMIS Data Quality'!A98<>\"\",'HMIS Data Quality'!E98,\"\")","v":""},{"$f":"IF('HMIS Data Timeliness'!A98<>\"\",'HMIS Data Timeliness'!E98,\"\")","v":""},{"$f":"IF('HMIS Bed Inventory'!A98<>\"\",'HMIS Bed Inventory'!E98,\"\")","v":""}]
[{"$f":"IF('CoC Renewal Ranking Report'!D102<>\"\",'CoC Renewal Ranking Report'!D102,\"\")","v":""},{"$f":"IF('CoC Renewal Ranking Report'!E102<>\"\",'CoC Renewal Ranking Report'!E102,\"\")","v":""},{"$f":"IF('CoC Renewal Ranking Report'!F102<>\"\",'CoC Renewal Ranking Report'!F102,\"\")","v":""},{"$f":"IF('CoC Renewal Ranking Report'!G102<>\"\",'CoC Renewal Ranking Report'!G102,\"\")","v":""},null,"",null,{"$f":"IF('Exit-Retention to PH Measure'!A102<>\"\", 'Exit-Retention to PH Measure'!E102, \"\")","v":""},{"$f":"IF('Returns to Homelessness'!A102<>\"\", 'Returns to Homelessness'!E102, \"\")","v":""},{"$f":"IF('Length of Stay (TH Only)'!A103<>\"\", 'Length of Stay (TH Only)'!E103, \"\")","v":""},{"$f":"IF('Income Growth Measure'!A102<>\"\", 'Income Growth Measure'!F102, \"\")","v":""},{"$f":"IF('Mainstream Benefits Measure'!A100<>\"\", 'Mainstream Benefits Measure'!E100, \"\")","v":""},{"$f":"IF('Project Eligibility'!A102<>\"\", 'Project Eligibility'!E102, \"\")","v":""},{"$f":"IF('Unit Utilization Rate'!A101<>\"\", 'Unit Utilization Rate'!G101, \"\")","v":""},{"$f":"IF('eLOCCS Drawdowns'!A99<>\"\", 'eLOCCS Drawdowns'!E99, \"\")","v":""},{"$f":"IF('Recaptured Funds'!A102<>\"\", 'Recaptured Funds'!E102, \"\")","v":""},{"$f":"IF('Timely APR Submission'!A99<>\"\", 'Timely APR Submission'!E99, \"\")","v":""},{"$f":"IF('Cost Effectiveness'!A104<>\"\", 'Cost Effectiveness'!G104, \"\")","v":""},{"$f":"IF('Cost Effectiveness (Leavers)'!A104<>\"\", 'Cost Effectiveness (Leavers)'!G104, \"\")","v":""},{"$f":"IF('HUD Monitoring'!A100<>\"\", 'HUD Monitoring'!E100, \"\")","v":""},{"$f":"IF('Project Description'!A99<>\"\", 'Project Description'!D99, \"\")","v":""},{"$f":"IF('Opening Doors Goals'!A101<>\"\", 'Opening Doors Goals'!D101, \"\")","v":""},{"$f":"IF('Severity of Needs'!A102<>\"\", 'Severity of Needs'!E102, \"\")","v":""},{"$f":"IF('Prioritization of PSH'!A100<>\"\", 'Prioritization of PSH'!E100, \"\")","v":""},{"$f":"IF('Housing First Approach'!A99<>\"\", 'Housing First Approach'!E99, \"\")","v":""},{"$f":"IF('CoC Participation'!A101<>\"\", 'CoC Participation'!D101, \"\")","v":""},{"$f":"IF('CoC Meetings'!A101<>\"\", 'CoC Meetings'!D101, \"\")","v":""},{"$f":"IF('HMIS Data Quality'!A99<>\"\",'HMIS Data Quality'!E99,\"\")","v":""},{"$f":"IF('HMIS Data Timeliness'!A99<>\"\",'HMIS Data Timeliness'!E99,\"\")","v":""},{"$f":"IF('HMIS Bed Inventory'!A99<>\"\",'HMIS Bed Inventory'!E99,\"\")","v":""}]
[{"$f":"IF('CoC Renewal Ranking Report'!D103<>\"\",'CoC Renewal Ranking Report'!D103,\"\")","v":""},{"$f":"IF('CoC Renewal Ranking Report'!E103<>\"\",'CoC Renewal Ranking Report'!E103,\"\")","v":""},{"$f":"IF('CoC Renewal Ranking Report'!F103<>\"\",'CoC Renewal Ranking Report'!F103,\"\")","v":""},{"$f":"IF('CoC Renewal Ranking Report'!G103<>\"\",'CoC Renewal Ranking Report'!G103,\"\")","v":""},null,"",null,{"$f":"IF('Exit-Retention to PH Measure'!A103<>\"\", 'Exit-Retention to PH Measure'!E103, \"\")","v":""},{"$f":"IF('Returns to Homelessness'!A103<>\"\", 'Returns to Homelessness'!E103, \"\")","v":""},{"$f":"IF('Length of Stay (TH Only)'!A104<>\"\", 'Length of Stay (TH Only)'!E104, \"\")","v":""},{"$f":"IF('Income Growth Measure'!A103<>\"\", 'Income Growth Measure'!F103, \"\")","v":""},{"$f":"IF('Mainstream Benefits Measure'!A101<>\"\", 'Mainstream Benefits Measure'!E101, \"\")","v":""},{"$f":"IF('Project Eligibility'!A103<>\"\", 'Project Eligibility'!E103, \"\")","v":""},{"$f":"IF('Unit Utilization Rate'!A102<>\"\", 'Unit Utilization Rate'!G102, \"\")","v":""},{"$f":"IF('eLOCCS Drawdowns'!A100<>\"\", 'eLOCCS Drawdowns'!E100, \"\")","v":""},{"$f":"IF('Recaptured Funds'!A103<>\"\", 'Recaptured Funds'!E103, \"\")","v":""},{"$f":"IF('Timely APR Submission'!A100<>\"\", 'Timely APR Submission'!E100, \"\")","v":""},{"$f":"IF('Cost Effectiveness'!A105<>\"\", 'Cost Effectiveness'!G105, \"\")","v":""},{"$f":"IF('Cost Effectiveness (Leavers)'!A105<>\"\", 'Cost Effectiveness (Leavers)'!G105, \"\")","v":""},{"$f":"IF('HUD Monitoring'!A101<>\"\", 'HUD Monitoring'!E101, \"\")","v":""},{"$f":"IF('Project Description'!A100<>\"\", 'Project Description'!D100, \"\")","v":""},{"$f":"IF('Opening Doors Goals'!A102<>\"\", 'Opening Doors Goals'!D102, \"\")","v":""},{"$f":"IF('Severity of Needs'!A103<>\"\", 'Severity of Needs'!E103, \"\")","v":""},{"$f":"IF('Prioritization of PSH'!A101<>\"\", 'Prioritization of PSH'!E101, \"\")","v":""},{"$f":"IF('Housing First Approach'!A100<>\"\", 'Housing First Approach'!E100, \"\")","v":""},{"$f":"IF('CoC Participation'!A102<>\"\", 'CoC Participation'!D102, \"\")","v":""},{"$f":"IF('CoC Meetings'!A102<>\"\", 'CoC Meetings'!D102, \"\")","v":""},{"$f":"IF('HMIS Data Quality'!A100<>\"\",'HMIS Data Quality'!E100,\"\")","v":""},{"$f":"IF('HMIS Data Timeliness'!A100<>\"\",'HMIS Data Timeliness'!E100,\"\")","v":""},{"$f":"IF('HMIS Bed Inventory'!A100<>\"\",'HMIS Bed Inventory'!E100,\"\")","v":""}]
[{"$f":"IF('CoC Renewal Ranking Report'!D104<>\"\",'CoC Renewal Ranking Report'!D104,\"\")","v":""},{"$f":"IF('CoC Renewal Ranking Report'!E104<>\"\",'CoC Renewal Ranking Report'!E104,\"\")","v":""},{"$f":"IF('CoC Renewal Ranking Report'!F104<>\"\",'CoC Renewal Ranking Report'!F104,\"\")","v":""},{"$f":"IF('CoC Renewal Ranking Report'!G104<>\"\",'CoC Renewal Ranking Report'!G104,\"\")","v":""},null,"",null,{"$f":"IF('Exit-Retention to PH Measure'!A104<>\"\", 'Exit-Retention to PH Measure'!E104, \"\")","v":""},{"$f":"IF('Returns to Homelessness'!A104<>\"\", 'Returns to Homelessness'!E104, \"\")","v":""},{"$f":"IF('Length of Stay (TH Only)'!A105<>\"\", 'Length of Stay (TH Only)'!E105, \"\")","v":""},{"$f":"IF('Income Growth Measure'!A104<>\"\", 'Income Growth Measure'!F104, \"\")","v":""},{"$f":"IF('Mainstream Benefits Measure'!A102<>\"\", 'Mainstream Benefits Measure'!E102, \"\")","v":""},{"$f":"IF('Project Eligibility'!A104<>\"\", 'Project Eligibility'!E104, \"\")","v":""},{"$f":"IF('Unit Utilization Rate'!A103<>\"\", 'Unit Utilization Rate'!G103, \"\")","v":""},{"$f":"IF('eLOCCS Drawdowns'!A101<>\"\", 'eLOCCS Drawdowns'!E101, \"\")","v":""},{"$f":"IF('Recaptured Funds'!A104<>\"\", 'Recaptured Funds'!E104, \"\")","v":""},{"$f":"IF('Timely APR Submission'!A101<>\"\", 'Timely APR Submission'!E101, \"\")","v":""},{"$f":"IF('Cost Effectiveness'!A106<>\"\", 'Cost Effectiveness'!G106, \"\")","v":""},{"$f":"IF('Cost Effectiveness (Leavers)'!A106<>\"\", 'Cost Effectiveness (Leavers)'!G106, \"\")","v":""},{"$f":"IF('HUD Monitoring'!A102<>\"\", 'HUD Monitoring'!E102, \"\")","v":""},{"$f":"IF('Project Description'!A101<>\"\", 'Project Description'!D101, \"\")","v":""},{"$f":"IF('Opening Doors Goals'!A103<>\"\", 'Opening Doors Goals'!D103, \"\")","v":""},{"$f":"IF('Severity of Needs'!A104<>\"\", 'Severity of Needs'!E104, \"\")","v":""},{"$f":"IF('Prioritization of PSH'!A102<>\"\", 'Prioritization of PSH'!E102, \"\")","v":""},{"$f":"IF('Housing First Approach'!A101<>\"\", 'Housing First Approach'!E101, \"\")","v":""},{"$f":"IF('CoC Participation'!A103<>\"\", 'CoC Participation'!D103, \"\")","v":""},{"$f":"IF('CoC Meetings'!A103<>\"\", 'CoC Meetings'!D103, \"\")","v":""},{"$f":"IF('HMIS Data Quality'!A101<>\"\",'HMIS Data Quality'!E101,\"\")","v":""},{"$f":"IF('HMIS Data Timeliness'!A101<>\"\",'HMIS Data Timeliness'!E101,\"\")","v":""},{"$f":"IF('HMIS Bed Inventory'!A101<>\"\",'HMIS Bed Inventory'!E101,\"\")","v":""}]
[{"$f":"IF('CoC Renewal Ranking Report'!D105<>\"\",'CoC Renewal Ranking Report'!D105,\"\")","v":""},{"$f":"IF('CoC Renewal Ranking Report'!E105<>\"\",'CoC Renewal Ranking Report'!E105,\"\")","v":""},{"$f":"IF('CoC Renewal Ranking Report'!F105<>\"\",'CoC Renewal Ranking Report'!F105,\"\")","v":""},{"$f":"IF('CoC Renewal Ranking Report'!G105<>\"\",'CoC Renewal Ranking Report'!G105,\"\")","v":""},null,"",null,{"$f":"IF('Exit-Retention to PH Measure'!A105<>\"\", 'Exit-Retention to PH Measure'!E105, \"\")","v":""},{"$f":"IF('Returns to Homelessness'!A105<>\"\", 'Returns to Homelessness'!E105, \"\")","v":""},{"$f":"IF('Length of Stay (TH Only)'!A106<>\"\", 'Length of Stay (TH Only)'!E106, \"\")","v":""},{"$f":"IF('Income Growth Measure'!A105<>\"\", 'Income Growth Measure'!F105, \"\")","v":""},{"$f":"IF('Mainstream Benefits Measure'!A103<>\"\", 'Mainstream Benefits Measure'!E103, \"\")","v":""},{"$f":"IF('Project Eligibility'!A105<>\"\", 'Project Eligibility'!E105, \"\")","v":""},{"$f":"IF('Unit Utilization Rate'!A104<>\"\", 'Unit Utilization Rate'!G104, \"\")","v":""},{"$f":"IF('eLOCCS Drawdowns'!A102<>\"\", 'eLOCCS Drawdowns'!E102, \"\")","v":""},{"$f":"IF('Recaptured Funds'!A105<>\"\", 'Recaptured Funds'!E105, \"\")","v":""},{"$f":"IF('Timely APR Submission'!A102<>\"\", 'Timely APR Submission'!E102, \"\")","v":""},{"$f":"IF('Cost Effectiveness'!A107<>\"\", 'Cost Effectiveness'!G107, \"\")","v":""},{"$f":"IF('Cost Effectiveness (Leavers)'!A107<>\"\", 'Cost Effectiveness (Leavers)'!G107, \"\")","v":""},{"$f":"IF('HUD Monitoring'!A103<>\"\", 'HUD Monitoring'!E103, \"\")","v":""},{"$f":"IF('Project Description'!A102<>\"\", 'Project Description'!D102, \"\")","v":""},{"$f":"IF('Opening Doors Goals'!A104<>\"\", 'Opening Doors Goals'!D104, \"\")","v":""},{"$f":"IF('Severity of Needs'!A105<>\"\", 'Severity of Needs'!E105, \"\")","v":""},{"$f":"IF('Prioritization of PSH'!A103<>\"\", 'Prioritization of PSH'!E103, \"\")","v":""},{"$f":"IF('Housing First Approach'!A102<>\"\", 'Housing First Approach'!E102, \"\")","v":""},{"$f":"IF('CoC Participation'!A104<>\"\", 'CoC Participation'!D104, \"\")","v":""},{"$f":"IF('CoC Meetings'!A104<>\"\", 'CoC Meetings'!D104, \"\")","v":""},{"$f":"IF('HMIS Data Quality'!A102<>\"\",'HMIS Data Quality'!E102,\"\")","v":""},{"$f":"IF('HMIS Data Timeliness'!A102<>\"\",'HMIS Data Timeliness'!E102,\"\")","v":""},{"$f":"IF('HMIS Bed Inventory'!A102<>\"\",'HMIS Bed Inventory'!E102,\"\")","v":""}]

{"sheet":"CoC Renewal Ranking Report","index":2,"n_rows":61,"n_cols":76,"rows_kept":61,"cut":false,"hidden":false,"merged":[[6,62,6,63],[6,56,6,61],[6,33,6,42],[6,43,6,53],[6,64,6,75],[6,15,6,32],[6,54,6,55],[1,6,1,9],[2,6,2,9],[3,6,3,9],[6,0,6,10],[6,12,6,14]]}
[]
[null,null,null,null,null,null,"CoC Renewal Ranking Report"]
[null,null,null,null,null,null,"between 5/1/2016 and 4/30/2017"]
[null,null,null,null,null,null,"CoC: Eastern Pennsylvania"]
[]
[]
["Project Information",null,null,null,null,null,null,null,null,null,null,"LOS","Housing Measure",null,null,"Income Growth and Mainstream Benefit Measures",null,null,null,null,null,null,null,null,null,null,null,null,null,null,null,null,null,"Return to Homelessness",null,null,null,null,null,null,null,null,null,"HMIS Data Quality / Vulnerable Populations",null,null,null,null,null,null,null,null,null,null,"HMIS Participation / Households",null,"Unit Utilization",null,null,null,null,null,"HMIS Add-On Elements (Complete Manually)",null,"Non-HMIS Data Points (Complete Manually)"]
["CoC","HMIS Agency Name","HMIS Project Name","GIW Agency Name","GIW Project Name","Grant #","ProgramType","Total Number of Clients","Total Number of Households","Total Number Of Adults","Total Number of Leavers","Avg LOS (TH Only)","Housing Stability Targeted","Housing Stability Achieved","Housing Stability Outcome %","Earned Income Targeted","Earned Income Achieved","Earned Income Outcome %","Non-Earned Income Targeted","Non-Earned Income Achieved","Non-Earned Income Outcome %","Total Income Targeted","Total Income Achieved","Total Income Outcome %","Households - Zero Income at Entry","Households - Zero Income at Entry %","Mainstream Benefits Targeted","Mainstream Benefits Achieved","Mainstream Benefit Achieved %","SNAP Achieved","SNAP Achieved %","Insurance Achieved","Insurance Achieved %","Exited to Permanant Housing","Exit to PH LOS (Months)","# of Returns (< 6)","% of Returns (< 6)","# of Returns (6-12)","% of Returns (6-12)","# of Returns (13+) ","% of Returns (13+)","# of Returns Total","% of Returns Total ","Universal Data Quality (Missing %)","Universal Data Quality (DK/R %)","Univeral Data Quality (Total %)","Data Timeliness (Days)","Rooms Setup","Vulnerable Populations","% of\nVulnerable Population","Vulnerability Score","Project Eligibility Targeted","Project Eligibility Achieved","Project Eligibility Achieved %","HMIS Other Projects","Households Retained/Exited to PH","Household Served - January","Household Served - April","Household Served - July","Household Served - October","Houseshold Served: Quarterly","Households Served: Annual","Youth Dedicated - Income Growth","Physical Unit (Qtr. Avg.) - Unit Utilization","eLoccs Drawdown","Funds Spent","Timely APR Submission","Cost Effectiveness (Services + Admin Costs)","HUD Monitoring","Project Description","Opening Doors Goals","Prioritization of PSH","Housing First Approach","CoC Participation","CoC Meetings","Cost Effectiveness (ARD Amount)"]
[]
["PA-509","Blair County Community Action Agency","Blair County CAA CoC RRH 1","Blair County Community Action Program","Rapid Re-Housing","PA0704L3E","PH-RRH",70,23,27,57,0,57,51,0.89470000000000005,24,7,0.29170000000000001,24,1,4.1700000000000001E-2,24,7,0.29170000000000001,1,{"$f":"Y10/I10","v":4.3478260869565216E-2},27,21,{"$f":"AB10/AA10","v":0.77777777777777779},20,null,26,null,51,0,1,1.9599999999999999E-2,0,0,0,0,1,1.9599999999999999E-2,0,1.1000000000000001E-3,1.1000000000000001E-3,92.13,0,8,0.4,0.5,27,27,1,4,18,19,7,11,6,10.75,13.55,null,10,"No",0.58824893864288597,"On Time",145925,null,3.5,5,"n/a","Yes",10,4,126489]
["PA-509","Redevelopment Authority of Cambria   ","Cambria County S+C Program Cnty","Cambria County","Cambria County Comprehensive Housing Program","PA0578C3E","PH",35,28,33,9,0,35,28,0.8,22,4,0.18179999999999999,23,8,0.3478,23,20,0.86960000000000004,9,0.32142857142857145,33,25,0.75757575757575757,25,null,16,null,2,0,0,0,0,0,0,0,0,0,2.64E-2,1.32E-2,3.9600000000000003E-2,429.8,0,28,1,1.43,33,21,0.63639999999999997,1,22,18,20,18,20,19,17.920000000000002,null,19,"No",null,"8+ Days",9764,null,1.5,5,"Y","Yes",3.3,1,363720]
["PA-509","Catholic Charities of Allentown Diocese","CC of Allentown PSH Program","Catholic Charities of the Diocese of Allentown","Catholic Charities Allentown Permanent Housing Program","PA0520L3T","PH",20,11,13,3,0,20,20,1,10,2,0.2,11,6,0.54549999999999998,11,10,0.90910000000000002,0,0,13,9,0.69230769230769229,2,null,13,null,3,0,0,0,0,0,0,0,0,0,3.4599999999999999E-2,0,3.4599999999999999E-2,25.85,0,11,1,1.64,13,13,1,4,11,10,10,9,10,9.75,9.59,null,8,"Yes",0.76950883257035052,"On Time",7495,null,0.5,5,"Y","Yes",10,3,75799]
["PA-509","Catholic Social Services","Catholic Social Services - Pike PSHP Program","Catholic Social Services of the Diocese of Scranton, Inc.","PSHP Pike County","PA0519L3T","PH",6,6,6,0,0,6,6,1,4,1,0.25,6,0,0,6,6,1,1,0.16666666666666666,6,4,0.66666666666666663,4,null,6,null,0,0,0,0,0,0,0,0,0,0,1.2800000000000001E-2,2.5600000000000001E-2,3.85E-2,201,6,6,1,2.33,6,6,1,1,6,6,6,6,5,5.75,6,null,6,"No",0.84821231574191791,"On Time",26396,null,4.5,5,"Y","Yes",8.9,3,95179]
["PA-509","Catholic Social Services","Catholic Social Services - Monroe Rural Permanent","Catholic Social Services of the Diocese of Scranton, Inc.","Rural Permanent Supportive Housing Program","PA0386L3T","PH",9,9,9,0,0,9,9,1,8,0,0,8,2,0.25,8,3,0.375,2,0.22222222222222221,9,7,0.77777777777777779,7,null,4,null,0,0,0,0,0,0,0,0,0,0,4.2700000000000002E-2,0,4.2700000000000002E-2,443.22,9,9,1,2.33,9,9,1,1,9,8,9,8,9,8.5,8.17,null,8,"Yes",0.81547304738771631,"1 - 7 Days",46124,null,4,5,"Y","Yes",8.9,3,132566]
["PA-509","Catholic Social Services","Catholic Social Services - Wayne / Susquehanna RPS","Catholic Social Services of the Diocese of Scranton, Inc.","Susquehanna/Wayne PSHP","PA0450L3T","PH",11,11,11,2,0,11,11,1,7,0,0,8,1,0.125,8,5,0.625,7,0.63636363636363635,11,11,1,9,null,11,null,2,0,0,0,0,0,0,0,0,0,4.2000000000000003E-2,1.4E-2,5.5899999999999998E-2,46.27,11,11,1,2.82,11,11,1,1,11,8,9,9,9,8.75,8.19,null,9,"No",0.9516327755604933,"1 - 7 Days",27108,null,4,5,"Y","Yes",8.9,3,94961]
["PA-509","Center for Community Action","CCA - RR (Housing First) Program","Center for Community Action","Bedford,Fulton, Huntingdon RRH","PA0661L3E","PH-RRH",156,48,70,141,0,140,137,0.97860000000000003,62,2,3.2300000000000002E-2,62,3,4.8399999999999999E-2,62,5,8.0600000000000005E-2,13,0.27083333333333331,70,55,0.7857142857142857,46,null,66,null,137,0,0,0,0,0,0,0,0,0,1.5E-3,1E-3,2.5000000000000001E-3,120.79,0,12,0.25,0.33,70,68,0.97140000000000004,5,46,13,7,14,0,8.5,13.74,null,9,"Yes",1,"On Time",38755,null,4.5,5,"Y","Yes",10,4,98875]
["PA-509","Franklin County Human Services","Franklin County Human Services S+C Program","County of Franklin","Franklin/ Fulton S+C Project 2017","PA0649L3T","PH",17,17,17,5,0,16,15,0.9375,14,1,7.1400000000000005E-2,14,8,0.57140000000000002,14,10,0.71430000000000005,6,0.35294117647058826,17,15,0.88235294117647056,15,null,15,null,3,0,0,0,0,0,0,0,0,0,3.1699999999999999E-2,4.4999999999999997E-3,3.1699999999999999E-2,88.06,10,17,1,2.5299999999999998,17,16,0.94120000000000004,1,15,12,12,12,12,12,12.45,null,10,"No",0.99233837111670864,"On Time",6276,null,1,5,"Y","Yes",10,3,85752]
["PA-509","Franklin County Human Services","Franklin County Human Services SHP I/II Program","County of Franklin","Franklin/Fulton Homeless Assistance Project 2017","PA0182L3T","PH",31,21,31,3,0,28,28,1,27,7,0.25919999999999999,30,17,0.56659999999999999,30,21,0.7,1,4.7619047619047616E-2,31,31,1,31,null,31,null,0,0,0,0,0,0,0,0,0,0,5.5199999999999999E-2,0,5.5199999999999999E-2,260.58999999999997,22,31,1,2.4,31,28,0.9032,2,28,30,28,30,28,29,29.63,null,20,"Yes",0.99,"On Time",36640,null,2,5,"Y","Yes",10,3,154158]
["PA-509","Lycoming-Clinton Joinder Board","Lycoming-Clinton Joinder PSH Program","County of Lycoming DBA Lycoming- Clinton Joinder Board","Lycoming/Clinton Renewal #5","PA0445L3T","PH",17,16,17,8,0,17,15,0.88239999999999996,14,5,0.35709999999999997,14,4,0.28570000000000001,14,12,0.85709999999999997,9,0.5625,17,15,0.88235294117647056,15,null,15,null,6,0,0,0,0,0,0,0,0,0,0,0,0,5,22,17,1,1.59,17,17,1,0,15,8,9,13,7,9.25,10.55,null,8,"No",0.98114980186213463,"8+ Days",24463,null,4.5,5,"Y","Yes",10,3,83023]
["PA-509","Fitzmaurice Community Services, Inc.","Fitzmaurice Pathfinders PSH Program","Fitzmaurice Community Services, Inc","Pathfinders","PA0214L3T","PH",27,25,26,6,0,25,24,0.96,21,1,4.7600000000000003E-2,22,12,0.54549999999999998,22,11,0.5,1,0.04,26,21,0.80769230769230771,16,null,25,null,3,0,1,0.33329999999999999,1,0.33329999999999999,0,0,2,0.66669999999999996,2.2800000000000001E-2,1.4200000000000001E-2,3.4200000000000001E-2,497.22,14,25,0.96150000000000002,1.69,26,22,0.84619999999999995,0,23,21,20,19,19,19.75,19.559999999999999,null,24,"Yes",1,"On Time",190759,null,5.5,5,"Y","Yes",11,4,241520]
["PA-509","Home Nursing Agency Community Services","HomeNA - HARP Scattered Site - PSH Program","Home Nursing AgencyCommunity Services","Housing Assistance and Rental Program","PA0184L3E","PH",44,32,32,17,0,43,38,0.88370000000000004,28,0,0,28,7,0.25,28,17,0.60709999999999997,12,0.375,32,20,0.625,20,null,32,null,11,0,1,9.0899999999999995E-2,0,0,0,0,1,9.0899999999999995E-2,5.1999999999999998E-3,0,5.1999999999999998E-3,103.23,37,32,1,1.84,32,32,1,4,27,20,19,25,17,20.25,21.96,null,25,"Yes",1,"1 - 7 Days",81520,null,4.5,5,"Y","Yes",10,4,201112]
["PA-509","Monroe County Housing Authority","Housing Authority of Monroe County S+C PSH Program","Housing Authority of Monroe County","Renewal Application Shelter Plus Care MC 2016","PA0219L3T","PH",35,18,20,1,0,35,35,1,16,1,6.25E-2,17,7,0.4118,17,13,0.76470000000000005,5,0.27777777777777779,20,19,0.95,17,null,19,null,1,0,0,0,0,0,0,0,0,0,4.4000000000000003E-3,0,4.4000000000000003E-3,800.11,0,17,1,1.24,20,16,0.8,0,17,15,17,15,17,16,14.5,null,15,"Yes",0.88324474319764057,"On Time",10965,null,3,5,"Y","Yes",4.4000000000000004,1,183429]
["PA-509","Cumberland County Housing Authority","CCHRA - Carlisle Supportive Housing Program","Housing Authority of the County of Cumberland","Carlisle Supportive Housing Program","PA0553L3T","PH",4,4,4,0,0,4,4,1,3,0,0,3,2,0.66669999999999996,3,2,0.66669999999999996,2,0.5,4,3,0.75,3,null,4,null,0,0,0,0,0,0,0,0,0,0,1.9199999999999998E-2,1.9199999999999998E-2,3.85E-2,68.5,5,4,1,2,4,4,1,10,4,4,4,4,4,4,4,null,4,"Yes",0.98743961352657006,"On Time",6313,null,2.5,5,"Y","Yes",11,4,17595]
["PA-509","Perry Housing Partnership    ","PHP Permanent Supportive Housing SHP Program","Housing Authority of the County of Cumberland","Perry County Permanent SHP","PA0446L3T","PH",21,10,14,6,0,21,21,1,10,0,0,10,6,0.6,10,8,0.8,2,0.2,14,12,0.8571428571428571,11,null,12,null,6,0,0,0,0,0,0,0,0,0,2.5600000000000001E-2,0,2.5600000000000001E-2,111.33,4,11,1,1.55,14,14,1,0,11,9,9,8,9,8.75,8.2899999999999991,null,8,"No",0.88039560127128536,"8+ Days",25495,null,1.5,5,"Y","Yes",11,4,98483]
["PA-509","Perry Housing Partnership    ","Perry County Transitional II","Housing Authority of the County of Cumberland","Perry County Transitional II","PA0514L3T","PH-RRH",60,24,28,23,0,23,23,1,14,10,0.71430000000000005,14,1,7.1400000000000005E-2,14,10,0.71430000000000005,9,0.375,28,25,0.8928571428571429,22,null,27,null,23,0,0,0,0,0,0,0,0,0,2.5999999999999999E-3,0,2.5999999999999999E-3,13.5,0,12,0.48,0.52,28,28,1,0,25,21,15,16,11,15.75,17.61,null,13,"Yes",0.99572952564517003,"On Time",35117,null,2,0,"n/a","Yes",11,4,163949]
["PA-509","Perry Housing Partnership    ","PHP Veterans Permanent Supportive Housing","Housing Authority of the County of Cumberland","Perry County Veterans Program","PA0177L3T","PH",5,5,5,0,0,5,5,1,3,0,0,4,3,0.75,4,3,0.75,0,0,5,5,1,3,null,5,null,0,0,0,0,0,0,0,0,0,0,0,0,0,234.4,4,5,1,1.8,5,5,1,0,5,5,5,4,5,4.75,4.62,null,5,"No",0.94294405093906564,"8+ Days",20745,null,2.5,5,"Y","Yes",11,4,40519]
["PA-509","Cumberland County Housing Authority","CCHRA - Rapid Rehousing II","Housing Authority of the County of Cumberland","Rapid Rehousing II","PA0513L3T","PH-RRH",22,14,15,2,0,2,1,0.5,1,0,0,2,1,0.5,2,1,0.5,4,0.2857142857142857,15,10,0.66666666666666663,10,null,9,null,1,0,0,0,0,0,0,0,0,0,0,3.5000000000000001E-3,3.5000000000000001E-3,20.82,0,9,0.64290000000000003,1.21,15,13,0.86670000000000003,10,13,10,12,1,9,8,4.5,null,10,"Yes",0.41951787339603452,"8+ Days",15898,null,1,5,"n/a","Yes",11,4,112066]
["PA-509","Cumberland County Housing Authority","Safe Harbour SHP","Housing Authority of the County of Cumberland","Safe Harbour SHP","PA0447L3T","PH",28,18,20,6,0,28,26,0.92859999999999998,17,1,5.8799999999999998E-2,17,4,0.23530000000000001,17,11,0.64710000000000001,5,0.27777777777777779,20,15,0.75,14,null,17,null,4,0,0,0,0,0,0,0,0,0,1.6500000000000001E-2,2.7000000000000001E-3,1.9199999999999998E-2,117.46,0,18,1,2.2200000000000002,20,17,0.85,10,16,11,13,14,12,12.5,12.95,null,12,"Yes",0.98171020366951312,"On Time",25592,null,0.5,0,"Y","Yes",11,4,138656]
["PA-509","Cumberland County Housing Authority","CCHRA - Shelter + Care Chronic","Housing Authority of the County of Cumberland","Shelter + Care Chronic","PA0647L3T","PH",26,25,25,1,0,26,26,1,21,1,4.7600000000000003E-2,22,8,0.36359999999999998,22,13,0.59089999999999998,5,0.2,25,24,0.96,23,null,24,null,1,0,0,0,0,0,0,0,0,0,1.78E-2,8.8999999999999999E-3,2.6599999999999999E-2,148.27000000000001,15,25,1,1.68,25,25,1,10,25,24,24,24,23,23.75,23.87,null,20,"Yes",0.75821970854988285,"1 - 7 Days",7674,null,0.5,5,"Y","Yes",11,4,176634]
["PA-509","Cumberland County Housing Authority","CCHRA - Shelter + Care Non-Chronic","Housing Authority of the County of Cumberland","Shelter + Care Non-Chronic","PA0174L3T","PH",54,27,32,9,0,54,48,0.88890000000000002,31,2,6.4500000000000002E-2,31,9,0.2903,31,19,0.6129,4,0.14814814814814814,32,31,0.96875,28,null,31,null,3,0,0,0,0,0,0,0,0,0,1.9900000000000001E-2,8.5000000000000006E-3,2.7099999999999999E-2,295.48,5,21,0.80769999999999997,1.19,32,26,0.8125,10,22,24,21,21,19,21.25,21.88,null,20,"Yes",1,"On Time",13122,null,1.5,5,"Y","Yes",11,4,210594]
["PA-509","Cumberland County Housing Authority","CCHRA - West Shore SHPI","Housing Authority of the County of Cumberland","West Shore SHP I","PA0178L3T","PH",19,8,13,2,0,19,18,0.94740000000000002,11,1,9.0899999999999995E-2,11,1,9.0899999999999995E-2,11,3,0.2727,0,0,13,11,0.84615384615384615,11,null,9,null,1,0,0,0,0,0,0,0,0,0,8.0999999999999996E-3,4.0000000000000001E-3,1.21E-2,96,6,7,0.875,1.75,13,8,0.61539999999999995,10,8,6,8,6,8,7,6.15,null,6,"Yes",1,"On Time",7248,null,1,5,"Y","Yes",11,4,62832]
["PA-509","Cumberland County Housing Authority","CCHRA - West Shore SHP II","Housing Authority of the County of Cumberland","West Shore SHP II","PA0443L3T","PH",11,9,9,3,0,11,11,1,9,2,0.22220000000000001,9,2,0.22220000000000001,9,7,0.77780000000000005,4,0.44444444444444442,9,9,1,9,null,9,null,3,0,0,0,0,0,0,0,0,0,1.4E-2,7.0000000000000001E-3,2.1000000000000001E-2,128.63999999999999,6,9,1,1.89,9,9,1,10,9,6,6,6,6,6,6.25,null,6,"Yes",1,"On Time",7138,null,1,5,"Y","Yes",11,4,60466]
["PA-509","Housing Development Corp. of NE PA","HDCNEPA PSH-3 Program","Housing Development Corporation of NEPA","HDC SHP 3 2016","PA0384L3T","PH",40,14,19,8,0,40,39,0.97499999999999998,12,0,0,13,10,0.76919999999999999,13,9,0.69230000000000003,2,0.14285714285714285,19,18,0.94736842105263153,18,null,18,null,7,0,0,0,0,0,0,0,0,0,5.7999999999999996E-3,0,5.7999999999999996E-3,622.65,12,10,0.71430000000000005,1.29,19,18,0.94740000000000002,0,13,9,10,9,10,9.5,9.0500000000000007,null,10,"No",0.78555284332338848,"8+ Days",37578,null,4,0,"Y","Yes",10,4,154854]
["PA-509","Housing Development Corp. of NE PA","HDCNEPA PSH-6 Program","Housing Development Corporation of NEPA","HDC SHP 6 2016","PA0582L3T","PH",28,13,20,0,0,28,28,1,13,0,0,14,7,0.5,14,12,0.85709999999999997,4,0.30769230769230771,20,17,0.85,15,null,20,null,0,0,0,0,0,0,0,0,0,0,0,0,0,12,12,11,0.84619999999999995,1.54,20,19,0.95,0,13,13,13,11,13,12.5,12.16,null,11,"Yes",0.69835852731150883,"On Time",41373,null,4,5,"Y","Yes",10,4,161745]
["PA-509","Housing Transitions, Inc.","HOUSING TRANSITIONS - PERMANENT SUPPORTIVE HOUSING","Housing Transitions, Inc.","Nittany House Apartments","PA0176L3T","PH",13,8,9,6,0,13,13,1,5,3,0.6,5,0,0,5,3,0.6,0,0,9,8,0.88888888888888884,8,null,9,null,6,0,0,0,0,0,0,0,0,0,0,0,0,56.38,4,8,1,1.75,9,9,1,0,8,4,5,5,4,4.5,4.22,null,6,"Yes",0.92673992673992678,"On Time",4379,null,5,5,"Y","Yes",10,4,72345]
["PA-509","Lehigh County Conference of Churches","LCCC - Outreach and Case Management for the Disbld","Lehigh County Conference of Churches","Outreach and Case Management for the Disabled, Chronically Homeless","PA0213L3T","SSO",35,35,35,1,0,0,0,0,31,6,0.19350000000000001,33,16,0.48480000000000001,33,21,0.63639999999999997,27,0.77142857142857146,35,31,0.88571428571428568,30,null,34,null,0,0,0,0,0,0,0,0,0,0,0,0,0,147.97,0,35,1,1.77,35,35,1,3,0,35,34,35,34,34.5,34.54,null,37,"Yes",0.96508507098356877,"On Time",97559,null,5.5,5,"n/a","Yes",11,1,164686]
["PA-509","Lehigh County Conference of Churches","LCCC - Pathways Housing Program","Lehigh County Conference of Churches","Pathways Housing","PA0658L3T","PH",33,14,15,2,0,32,32,1,14,2,0.1429,14,6,0.42859999999999998,14,12,0.85709999999999997,3,0.21428571428571427,15,15,1,14,null,15,null,1,0,0,0,0,0,0,0,0,0,9.2999999999999992E-3,0,9.2999999999999992E-3,109.42,12,14,1,1.21,15,15,1,3,13,12,12,13,11,12,12.43,null,13,"Yes",0.92425760934436019,"On Time",39142,null,6,5,"Y","Yes",11,1,187664]
["PA-509","Lehigh County Conference of Churches","LCCC - Pathways Housing II Program","Lehigh County Conference of Churches","Pathways Housing 2","PA0669L3T","PH",32,18,19,2,0,31,31,1,9,2,0.22220000000000001,10,6,0.6,10,7,0.7,6,0.33333333333333331,19,16,0.84210526315789469,16,null,17,null,1,0,0,0,0,0,0,0,0,0,0,0,0,-69.88,14,18,1,1.17,19,19,1,3,17,13,17,9,16,13.75,11.43,null,12,"Yes",0.86147265786689964,"On Time",34372,null,6,5,"Y","Yes",11,1,173944]
["PA-509","Lehigh County Conference of Churches","LCCC - Pathways TBRA for Families, Youth and Vets","Lehigh County Conference of Churches","Pathways TBRA for Families, Youth and Veterans","PA0583L3T","PH",65,24,30,12,0,63,63,1,20,3,0.15,21,9,0.42859999999999998,21,16,0.76190000000000002,6,0.25,30,27,0.9,26,null,28,null,10,0,1,0.1,0,0,0,0,1,0.1,0,0,0,97.51,27,25,1,1.32,30,30,1,3,23,20,21,18,17,19,18.62,null,18,"Yes",0.9897847782915622,"On Time",59124,null,6,5,"Y","Yes",11,1,275948]
["PA-509","Lehigh County Conference of Churches","LCCC - Tenant-Based Rental Assistance","Lehigh County Conference of Churches","Tenant-Based Rental Assistance for the Disabled,Chronically Homeless","PA0222L3T","PH",24,24,24,5,0,22,22,1,13,2,0.15379999999999999,13,6,0.46150000000000002,13,10,0.76919999999999999,12,0.5,24,18,0.75,18,null,22,null,3,0,0,0,0,0,0,0,0,0,0,0,0,-745.17,23,24,1,1.88,24,24,1,3,22,19,19,11,19,17,16.25,null,22,"Yes",0.99225589225589228,"On Time",32706,null,6,5,"Y","Yes",11,1,210870]
["PA-509","Lehigh County Housing Authority","LCHA S+C Program","Lehigh County Housing Authority","LCHA S+C 2016","PA0215L3T","PH",35,28,29,2,0,35,35,1,22,3,0.13639999999999999,23,14,0.60870000000000002,23,18,0.78259999999999996,4,0.14285714285714285,29,28,0.96551724137931039,27,null,27,null,2,0,0,0,0,0,0,0,0,0,3.5200000000000002E-2,0,3.5200000000000002E-2,451.26,0,28,1,1.64,29,28,0.96550000000000002,0,28,27,27,23,27,26,23.81,null,22,"No",0.84669668553465793,"On Time",11770,null,3,0,"Y","Yes",6.3,1,188326]
["PA-509","Maranatha Ministries","Maranatha Ministries RRH Program","Maranatha","TOTAL PERSON TRANSITIONAL PROGRAM 1 & 2","PA0367L3T","PH-RRH",34,11,12,5,0,5,5,1,7,1,0.1429,7,1,0.1429,7,1,0.1429,1,{"$f":"Y42/I42","v":9.0909090909090912E-2},12,10,{"$f":"AB42/AA42","v":0.83333333333333337},10,null,12,null,5,13,1,0.2,0,0,0,0,1,0.2,0,0,0,52.79,13,1,9.0899999999999995E-2,0.09,12,9,0.75,1,2,9,9,7,7,8,7.81,null,10,"Yes",1,"1 - 7 Days",172074,null,0,5,"n/a","Yes",11,4,286578]
["PA-509","Shelter Services, Inc.   ","Shelter Services - Mifflin County - PSH Program","Mifflin County","Mifflin County Permanent Housing Renewal","PA0175L3T","PH",10,10,10,6,0,10,4,0.4,7,0,0,7,0,0,7,6,0.85709999999999997,5,0.5,10,6,0.6,6,null,7,null,0,0,0,0,0,0,0,0,0,0,0,7.7000000000000002E-3,7.7000000000000002E-3,63.1,0,10,1,2.2000000000000002,10,10,1,2,4,4,4,5,3,4,3.75,null,10,"No",0.32995412078745412,"On Time",22069,null,3,5,"Y","Yes",8.8000000000000007,2,83916]
["PA-509","Northampton County Housing Authority","NCHA S+C Program","Northampton County Housing Authority","NCHA S+C 2016","PA0212L3T","PH",12,11,11,1,0,12,11,0.91669999999999996,10,1,0.1,10,1,0.1,10,2,0.2,1,9.0909090909090912E-2,11,11,1,10,null,11,null,0,0,0,0,0,0,0,0,0,0,5.7700000000000001E-2,0,5.7700000000000001E-2,996.58,0,11,1,1.91,11,11,1,0,10,10,10,10,10,10,10.1,null,10,"Yes",0.75654169854628917,"On Time",6237,null,3,0,"Y","Yes",6.3,1,98025]
["PA-509","Northern Cambria Community Development","NCCDC Independence Gardens PSH Program","Northern Cambria Community Development Corporation","Independence Gardens","PA0360L3E","PH",18,18,18,2,0,18,18,1,12,1,8.3299999999999999E-2,15,14,0.93330000000000002,15,14,0.93330000000000002,0,0,18,16,0.88888888888888884,16,null,17,null,2,0,0,0,0,0,0,0,0,0,0,0,0,170.39,17,18,1,1.5,18,18,1,1,18,16,16,16,16,16,15.53,null,16,"No",1,"On Time",26542,null,2,5,"Y","Yes",10,3,145983]
["PA-509","Northern Cambria Community Development","NCCDC Schoolhouse Gardens PSH Program","Northern Cambria Community Development Corporation","Schoolhouse Gardens","PA0481L3E","PH",13,12,13,6,0,12,12,1,8,0,0,11,5,0.45450000000000002,11,8,0.72729999999999995,0,0,13,11,0.84615384615384615,10,null,12,null,5,0,0,0,0,0,0,0,0,0,0,0,0,60.92,9,12,1,1.42,13,12,0.92310000000000003,1,11,8,7,7,7,7.25,7.42,null,8,"Yes",0.98434542132380776,"On Time",12247,null,2,5,"Y","Yes",10,3,60749]
["PA-509","Northumberland County MH/MR","Northumberland County MH/MR SHP Program","Northumberland County MH/MR","Sharing Support","PA0364L3T","PH",15,15,15,3,0,15,12,0.8,10,0,0,10,7,0.7,10,6,0.6,3,0.2,15,14,0.93333333333333335,12,null,12,null,0,0,0,0,0,0,0,0,0,0,4.1000000000000002E-2,1.03E-2,4.6199999999999998E-2,32,10,14,0.93330000000000002,1.33,15,14,0.93330000000000002,0,12,12,12,11,12,11.75,11.13,null,12,"No",1,"8+ Days",37277,null,0,5,"Y","Yes",8.8000000000000007,1,88591]
["PA-509","Resources for Human Development, Inc. ","RHD - Crossroads Family Housing (SHP) Program","Resources for Human Development, Inc.","Crossroads Family","PA0205L3T","PH",40,13,18,3,0,39,39,1,15,3,0.2,15,4,0.26669999999999999,15,9,0.6,0,0,18,15,0.83333333333333337,14,null,15,null,2,0,0,0,0,0,0,0,0,0,1.9E-3,0,1.9E-3,223.18,11,13,1,1.54,18,16,0.88890000000000002,3,12,12,12,11,11,11.5,11.62,null,11,"No",0.87945418299850586,"On Time",125152,null,5.5,5,"Y","Yes",10,4,252319]
["PA-509","Resources for Human Development, Inc.","RHD - Crossroads Bonus Supportive Housing Program","Resources for Human Development, Inc.","Crossroads Housing Bonus","PA0449L3T","PH",15,11,13,4,0,15,15,1,8,2,0.25,8,3,0.375,8,6,0.75,5,0.45454545454545453,13,11,0.84615384615384615,11,null,12,null,4,0,0,0,0,0,0,0,0,0,0,0,0,61.47,1,11,1,1.91,13,13,1,3,11,9,9,9,9,9,8.0299999999999994,null,10,"No",0.92939923982779393,"On Time",16073,null,5.5,5,"Y","Yes",10,4,107081]
["PA-509","Resources for Human Development, Inc. ","RHD - Crossroads Individual Housing Program","Resources for Human Development, Inc.","Crossroads Individual","PA0206L3T","PH",32,30,30,3,0,30,30,1,22,0,0,24,18,0.75,24,22,0.91669999999999996,13,0.43333333333333335,30,28,0.93333333333333335,27,null,29,null,1,0,0,0,0,0,0,0,0,0,0,0,0,147.34,37,30,1,1.57,30,30,1,3,28,25,27,25,27,26,25.8,null,26,"Yes",0.98914457479476459,"On Time",151313,null,5.5,5,"Y","Yes",10,4,339001]
["PA-509","Resources for Human Development, Inc.","RHD - Crossroads Schuylkill County PSH Program","Resources for Human Development, Inc.","Crossroads Schuylkill Co. Permanent Supportive Housing","PA0708L3T","PH",5,5,5,0,0,5,5,1,1,0,0,1,0,0,1,1,1,5,1,5,3,0.6,3,null,5,null,0,0,0,0,0,0,0,0,0,0,0,0,0,86.2,0,5,1,2,5,5,1,3,5,2,5,2,5,3.5,2.5099999999999998,null,12,"Yes",0.74168707457655525,"On Time",36273,null,5.5,5,"Y","Yes",10,4,107393]
["PA-509","Resources for Human Development, Inc. ","RHD - LVACT Housing Support PSH Program","Resources for Human Development, Inc.","LV ACT Housing Supports","PA0211L3T","PH",24,22,23,4,0,23,20,0.86960000000000004,19,2,0.1053,20,11,0.55000000000000004,20,15,0.75,5,0.22727272727272727,23,21,0.91304347826086951,17,null,23,null,0,0,0,0,0,0,0,0,0,0,0,3.2000000000000002E-3,3.2000000000000002E-3,176.75,0,22,1,2.77,23,22,0.95650000000000002,3,18,17,18,19,17,17.75,18.010000000000002,null,20,"Yes",1,"8+ Days",10592,null,4,5,"Y","Yes",11,4,179200]
["PA-509","Community Action Partnership of Somerset","CAPFSC - Permanent Supportive Housing Program","Tableland Services, Inc.","Permanent Housing with Disabilities (SHP)","PA0444L3E","PH",74,39,46,33,0,74,73,0.98650000000000004,28,6,0.21429999999999999,28,7,0.25,28,23,0.82140000000000002,13,0.33333333333333331,46,45,0.97826086956521741,45,null,46,null,32,0,0,0,0,0,0,0,0,0,1.04E-2,0,1.04E-2,30.68,18,35,0.92110000000000003,2.2400000000000002,46,36,0.78259999999999996,1,37,20,21,16,19,19,18.309999999999999,null,21,"Yes",0.98517857901218842,"8+ Days",45980,null,4,5,"Y","Yes",10,1,188376]
["PA-509","Community Action Partnership of Somerset","CAPFSC - Permanent Supportive Housing CH Project","Tableland Services, Inc.","Permanent Supportive Housing CH Project","PA0705L3E","PH",3,2,3,1,0,3,3,1,1,0,0,1,0,0,1,1,1,0,0,3,3,1,3,null,3,null,1,0,0,0,0,0,0,0,0,0,0,0,0,17.329999999999998,0,2,1,4,3,2,0.66669999999999996,1,2,2,2,1,2,1.75,1.54,null,1,"Yes",0.74609534619750284,"8+ Days",1581,null,4,5,"Y","Yes",10,1,7929]
["PA-509","Salvation Army of the Lehigh Valley    ","Salvation Army Lehigh PSH - Hospitality House","The Salvation Army, a New York Corporation","Allentown Hospitality House Permanent Housing Program","PA0634L3T","PH",7,7,7,2,0,7,6,0.85709999999999997,3,2,0.66669999999999996,3,0,0,3,2,0.66669999999999996,4,0.5714285714285714,7,6,0.8571428571428571,6,null,7,null,1,0,0,0,0,0,0,0,0,0,0,0,0,48.14,0,7,1,1.43,7,7,1,2,6,5,5,6,4,5,5.5,null,6,"No",0.90959105676764918,"On Time",50674,null,4.5,5,"Y","Yes",9.6999999999999993,1,153591]
["PA-509","Salvation Army Carlisle    ","Salvation Army Carlisle - PSH Program","The Salvation Army, a New York Corporation","Salvation Army Carlisle PH Project","PA0655L3T","PH",7,7,7,3,0,6,6,1,6,1,0.16669999999999999,6,0,0,6,3,0.5,2,0.2857142857142857,7,7,1,7,null,7,null,2,0,0,0,0,0,0,0,0,0,1.0999999999999999E-2,0,1.0999999999999999E-2,80.430000000000007,6,7,1,2.57,7,7,1,0,6,3,5,2,5,3.75,2.68,null,5,"Yes",0.32198100364096882,"On Time",23354,null,4.5,5,"Y","Yes",10,4,63170]
["PA-509","Union-Snyder Community Action Agency ","Union-Snyder CAA SHP Program","Union-Snyder Community Action Agency","Union-Snyder Rapid ReHousing Program","PA0374L3T","PH-RRH",39,15,15,23,0,23,20,0.86960000000000004,11,3,0.2727,11,2,0.18179999999999999,11,5,0.45450000000000002,5,0.33333333333333331,15,12,0.8,10,null,15,null,20,0,0,0,0,0,0,0,0,0,2.3699999999999999E-2,2E-3,2.5600000000000001E-2,29.54,0,6,0.4,0.6,15,15,1,0,13,6,6,7,5,6,6.45,null,6,"Yes",0.74987048633517228,"On Time",49077,null,4.5,0,"n/a","Yes",10,4,110027]
["PA-509","United Christian Ministries Inc   ","UCM Kenner Court/Garnet House","United Christian Ministries","Kenner Garnet Renewal 2016","PA0210L3T","PH",27,27,27,13,0,27,25,0.92589999999999995,18,2,0.1111,18,3,0.16669999999999999,18,14,0.77780000000000005,15,0.55555555555555558,27,23,0.85185185185185186,23,null,26,null,11,0,1,9.0899999999999995E-2,0,0,0,0,1,9.0899999999999995E-2,1.4200000000000001E-2,1.7100000000000001E-2,2.8500000000000001E-2,43.37,15,26,0.96299999999999997,2.0699999999999998,27,25,0.92589999999999995,0,25,15,14,14,13,14,14.32,null,15,"No",1,"8+ Days",90403,null,1,0,"Y","Yes",10,4,90403]
["PA-509","Valley Housing Development Corporation ","VHDC SHP 2 PSH Program","Valley Housing Development Corporation ","VHDC SHP #2 2016","PA0216L3T","PH",30,24,25,2,0,28,28,1,23,4,0.1739,25,19,0.76,25,20,0.8,1,4.1666666666666664E-2,25,25,1,24,null,25,null,0,0,0,0,0,0,0,0,0,0,4.6199999999999998E-2,0,4.6199999999999998E-2,991.4,0,24,1,1.54,25,24,0.96,0,22,22,22,24,21,22.25,22.84,null,22,"Yes",0.88340872868024511,"8+ Days",12072,null,2,0,"Y","Yes",6.3,1,193248]
["PA-509","Valley Housing Development Corporation ","VHDC SHP 3 PSH Program","Valley Housing Development Corporation ","VHDC SHP #3 2016","PA0217L3T","PH",19,16,16,2,0,18,18,1,13,0,0,13,7,0.53849999999999998,13,7,0.53849999999999998,1,6.25E-2,16,16,1,13,null,16,null,1,0,0,0,0,0,0,0,0,0,3.6400000000000002E-2,4.0000000000000001E-3,4.0500000000000001E-2,949.95,0,16,1,1.63,16,15,0.9375,0,15,14,14,14,14,14,14.35,null,13,"Yes",0.85723340581047358,"8+ Days",7793,null,2,0,"Y","Yes",6.3,1,124637]
["PA-509","Valley Housing Development Corporation","VHDC SHP 4 PSH Program","Valley Housing Development Corporation ","VHDC SHP #4 2016","PA0385L3T","PH",16,14,15,2,0,16,15,0.9375,13,2,0.15379999999999999,15,12,0.8,15,12,0.8,1,7.1428571428571425E-2,15,14,0.93333333333333335,13,null,15,null,1,0,0,0,0,0,0,0,0,0,4.8099999999999997E-2,0,4.8099999999999997E-2,955.13,0,14,1,1.79,15,13,0.86670000000000003,0,13,13,12,14,12,12.75,13.09,null,11,"No",0.86686130984128151,"On Time",30470,null,2,0,"Y","Yes",6.3,1,108746]

{"sheet":"Exit-Retention to PH (Sortable)","index":3,"n_rows":77,"n_cols":5,"rows_kept":77,"cut":false,"hidden":true,"merged":[]}
["Exit/Retention to Permanent Housing Measure "]
[]
["Agency Name","Project Name","Project Type","%","Score"]
["Blair County Community Action Agency","Blair CAP Journey","PH-RRH",0.8095,10]
["Blair County Community Action Agency","Blair County CAA SSO 1","SSO",0.67159999999999997,3]
["Blair County Community Action Agency","Blair County CAA THP 1","PH-RRH",0.96360000000000001,10]
["Catholic Charities of Allentown Diocese","CC of Allentown PSH Program","PH",1,10]
["Catholic Social Services","Catholic Social Services - Monroe Rural Permanent","PH",1,10]
["Catholic Social Services","Catholic Social Services - Pike PSHP Program","PH",1,10]
["Catholic Social Services","Catholic Social Services - Wayne / Susquehanna RPS","PH",1,10]
["Center for Community Action","CCA - RR (Housing First) Program","PH-RRH",1,10]
["Community Action Committee of LV","CACLV Ferry Street TH Program","TH",1,10]
["Community Action Partnership of Somerset","CAPFSC - Permanent Supportive Housing CH Project","PH",1,10]
["Community Action Partnership of Somerset","CAPFSC - Permanent Supportive Housing Program","PH",0.96509999999999996,10]
["Community Action Partnership of Somerset","CAPFSC - Transitional Housing Program","PH-RRH",0.8276,10]
["Cumberland County Housing Authority","CCHRA - Carlisle Supportive Housing Program","PH",0.8,3]
["Cumberland County Housing Authority","CCHRA - Rapid Rehousing II","PH-RRH",1,10]
["Cumberland County Housing Authority","CCHRA - Shelter + Care Chronic","PH",0.91300000000000003,3]
["Cumberland County Housing Authority","CCHRA - Shelter + Care Non-Chronic","PH",0.94640000000000002,10]
["Cumberland County Housing Authority","CCHRA - West Shore SHP I","PH",1,10]
["Cumberland County Housing Authority","CCHRA - West Shore SHP II","PH",0.84619999999999995,3]
["Cumberland County Housing Authority","Safe Harbour SHP","PH",1,10]
["Fitzmaurice Community Services, Inc.","Fitzmaurice Pathfinders PSH Program","PH",0.84619999999999995,3]
["Franklin County Human Services","Franklin County Human Services S+C Program","PH",0.94440000000000002,10]
["Franklin County Human Services","Franklin County Human Services SHP Program","PH",0.95450000000000002,10]
["Home Nursing Agency Community Services","HomeNA - HARP Scattered Site - PSH Program","PH",0.83930000000000005,3]
["Housing Development Corp. of NE PA","HDCNEPA PSH-3 Program","PH",1,10]
["Housing Development Corp. of NE PA","HDCNEPA PSH-6 Program","PH",0.92310000000000003,3]
["Housing Transitions, Inc.","HOUSING TRANSITIONS - PERMANENT SUPPORTIVE HOUSING","PH",0.92859999999999998,3]
["Housing Transitions, Inc.","HOUSING TRANSITIONS - SUPPORTIVE HOUSING PROJECT","TH",0.76470000000000005,3]
["Lebanon County Community Action Partner.","LCCAP Bridge Transitional Housing Program","TH",1,10]
["Lebanon County Housing Authority","Lebanon PFP PSH Program","PH",1,10]
["Lehigh County Conference of Churches","LCCC - Outreach and Case Management for the Disbld","SSO",1,10]
["Lehigh County Conference of Churches","LCCC - Pathways Housing II Program","PH",1,10]
["Lehigh County Conference of Churches","LCCC - Pathways Housing Program","PH",1,10]
["Lehigh County Conference of Churches","LCCC - Pathways TBRA for Families, Youth and Vets","PH",0.98309999999999997,10]
["Lehigh County Conference of Churches","LCCC - Tenant-Based Rental Assistance","PH",0.875,3]
["Lehigh County Housing Authority","LCHA S+C Program","PH",0.97670000000000001,10]
["Lycoming-Clinton Joinder Board    ","Lycoming-Clinton Joinder PSH Program","PH",0.94440000000000002,10]
["Maranatha Ministries    ","Candleheart Ministries Transition to Perm. Housing","TH",0.26669999999999999,0]
["Maranatha Ministries    ","Maranatha Ministries SHP TH Program","PH-RRH",0.75,3]
["Monroe County Housing Authority    ","Housing Authority of Monroe County S+C PSH Program","PH",0.94289999999999996,10]
["New Bethany Ministries    ","New Bethany Ministries SHP - Restoration House","TH",0.83779999999999999,10]
["Northampton County Housing Authority ","NCHA S+C Program","PH",1,10]
["Northern Cambria Community    ","NCCDC Independence Gardens PSH Development Program","PH",1,10]
["Northern Cambria Community    ","NCCDC Schoolhouse Gardens PSH Program Development","PH",0.90910000000000002,3]
["Northumberland County MH/MR ","Northumberland County MH/MR SHP Program","PH",0.84619999999999995,3]
["Perry Housing Partnership  ","Perry County Transitional II","PH-RRH",0.85289999999999999,10]
["Perry Housing Partnership    ","PHP Veterans Permanent Supportive Housing Program","PH",1,10]
["Perry Housing Partnership    ","PHP Permanent Supportive Housing SHP Program","PH",1,10]
["Perry Housing Partnership    ","PHP Transitional Housing for Homeless Program","TH",1,10]
["Resources for Human Development, Inc.","RHD - Crossroads Individual Housing Program","PH",0.875,3]
["Resources for Human Development, Inc. ","RHD - Crossroads Bonus Supportive Housing Program","PH",0.77780000000000005,0]
["Resources for Human Development, Inc. ","RHD - Crossroads Family Housing (SHP) Program","PH",1,10]
["Resources for Human Development, Inc. ","RHD - LVACT Housing Support PSH Program","PH",0.84,3]
["Resources for Human Development, Inc. ","RHD - Monroe Transitional Living Program","TH",1,10]
["Salvation Army Carlisle","Salvation Army Carlisle - PSH Program","PH",1,10]
["Salvation Army of the Lehigh Valley","Salvation Army Lehigh PSH - Hospitality House","PH",1,10]
["Shelter Services, Inc.","Shelter Services - Mifflin County - PSH Program","PH",1,10]
["THE PROGRAM for Women and Families, Inc.","The PROGRAM Transitional Residence CoC Program","TH",0.4,0]
["Turning Point Interfaith Mission","TP - Adams County Housing Authority Gettysburg SHP","TH",1,10]
["Turning Point Interfaith Mission","Turning Point Adams TH Program","TH",0.33329999999999999,0]
["Union-Snyder Community Action Agency","Union-Snyder CAA SHP Program","PH-RRH",1,10]
["United Christian Ministries Inc","UCM Davids by the Lake","TH",1,10]
["United Christian Ministries Inc","UCM Kenner Court/Garnet House","PH",0.92,3]
["Valley Housing Development Corporation","VHDC SHP 3 PSH Program","PH",1,10]
["Valley Housing Development Corporation","VHDC SHP 4 PSH Program","PH",1,10]
["Valley Housing Development Corporation ","VHDC SHP 2 PSH Program","PH",1,10]
["Valley Youth House Committee, Inc.","Valley Youth House - SHF - TH Program","TH",0.93330000000000002,10]
["Valley Youth House Committee, Inc.","Valley Youth House - SHP for Youth - TH Program","TH",0.82499999999999996,10]
["YWCA of Williamsport","YWCA Williamsport - Liberty House TH","TH",0.85099999999999998,10]
["Domestic Violence Intervention of Lebanon County, Inc.","DVI-SHP FY2015*","TH",1,10]
["Schuylkill Women in Crisis","TH for Victims of Domestic Violence*","TH",1,10]
["YWCA of Williamsport","Liberty Options FY2015*","TH",0.88,10]
["Blair County Community Action Agency","Blair CAP CoC Rapid Rehousing Project","PH-RRH","",""]
["Resources for Human Development, Inc.","Crossroads Schuylkill Co. Permanent Supportive Housing","PH","",""]
["Waynesboro New Hope","Waynesboro New Hope Apartments","PH","",""]

{"sheet":"Exit-Retention to PH Measure","index":4,"n_rows":102,"n_cols":5,"rows_kept":102,"cut":false,"hidden":false,"merged":[]}
[null,"% of Permanent Housing Exits/Retentions"]
[null,"Criteria"]
[null,"93% -100% for PH = 10 points"]
[null,"80% -100% for TH, RRH, SSO = 10 Points"]
[null,"80% - 92% for PH = 3 points"]
[null,"53% - 79% for TH, RRH, SSO = 3 points"]
[]
["Agency Name","Project Name","Project Type","%","Score"]
[{"$f":"IF('CoC Renewal Ranking Report'!D9<>\"\",'CoC Renewal Ranking Report'!D9,\"\")","v":""},{"$f":"IF('CoC Renewal Ranking Report'!E9<>\"\",'CoC Renewal Ranking Report'!E9,\"\")","v":""},{"$f":"IF('CoC Renewal Ranking Report'!G9<>\"\",'CoC Renewal Ranking Report'!G9,\"\")","v":""},{"$f":"IF('CoC Renewal Ranking Report'!O9<>\"\",'CoC Renewal Ranking Report'!O9,\"\")","v":""},{"$f":"IF(AND(A9<>\"\",D9<>\"\"),IF(C9=\"PH\",IF(D9>=0.925,10,IF(AND(D9 < 0.925, D9 >= 0.8),3,0)),IF(D9>=0.8,10,IF(AND(D9 < 0.8, D9 >= 0.53), 3,0))),\"\")","v":""}]
[{"$f":"IF('CoC Renewal Ranking Report'!D10<>\"\",'CoC Renewal Ranking Report'!D10,\"\")","v":"Blair County Community Action Program"},{"$f":"IF('CoC Renewal Ranking Report'!E10<>\"\",'CoC Renewal Ranking Report'!E10,\"\")","v":"Rapid Re-Housing"},{"$f":"IF('CoC Renewal Ranking Report'!G10<>\"\",'CoC Renewal Ranking Report'!G10,\"\")","v":"PH-RRH"},{"$f":"IF('CoC Renewal Ranking Report'!O10<>\"\",'CoC Renewal Ranking Report'!O10,\"\")","v":0.89470000000000005},{"$f":"IF(AND(A10<>\"\",D10<>\"\"),IF(C10=\"PH\",IF(D10>=0.925,10,IF(AND(D10 < 0.925, D10 >= 0.8),3,0)),IF(D10>=0.8,10,IF(AND(D10 < 0.8, D10 >= 0.53), 3,0))),\"\")","v":10}]
[{"$f":"IF('CoC Renewal Ranking Report'!D11<>\"\",'CoC Renewal Ranking Report'!D11,\"\")","v":"Cambria County"},{"$f":"IF('CoC Renewal Ranking Report'!E11<>\"\",'CoC Renewal Ranking Report'!E11,\"\")","v":"Cambria County Comprehensive Housing Program"},{"$f":"IF('CoC Renewal Ranking Report'!G11<>\"\",'CoC Renewal Ranking Report'!G11,\"\")","v":"PH"},{"$f":"IF('CoC Renewal Ranking Report'!O11<>\"\",'CoC Renewal Ranking Report'!O11,\"\")","v":0.8},3]
[{"$f":"IF('CoC Renewal Ranking Report'!D12<>\"\",'CoC Renewal Ranking Report'!D12,\"\")","v":"Catholic Charities of the Diocese of Allentown"},{"$f":"IF('CoC Renewal Ranking Report'!E12<>\"\",'CoC Renewal Ranking Report'!E12,\"\")","v":"Catholic Charities Allentown Permanent Housing Program"},{"$f":"IF('CoC Renewal Ranking Report'!G12<>\"\",'CoC Renewal Ranking Report'!G12,\"\")","v":"PH"},{"$f":"IF('CoC Renewal Ranking Report'!O12<>\"\",'CoC Renewal Ranking Report'!O12,\"\")","v":1},10]
[{"$f":"IF('CoC Renewal Ranking Report'!D13<>\"\",'CoC Renewal Ranking Report'!D13,\"\")","v":"Catholic Social Services of the Diocese of Scranton, Inc."},{"$f":"IF('CoC Renewal Ranking Report'!E13<>\"\",'CoC Renewal Ranking Report'!E13,\"\")","v":"PSHP Pike County"},{"$f":"IF('CoC Renewal Ranking Report'!G13<>\"\",'CoC Renewal Ranking Report'!G13,\"\")","v":"PH"},{"$f":"IF('CoC Renewal Ranking Report'!O13<>\"\",'CoC Renewal Ranking Report'!O13,\"\")","v":1},10]
[{"$f":"IF('CoC Renewal Ranking Report'!D14<>\"\",'CoC Renewal Ranking Report'!D14,\"\")","v":"Catholic Social Services of the Diocese of Scranton, Inc."},{"$f":"IF('CoC Renewal Ranking Report'!E14<>\"\",'CoC Renewal Ranking Report'!E14,\"\")","v":"Rural Permanent Supportive Housing Program"},{"$f":"IF('CoC Renewal Ranking Report'!G14<>\"\",'CoC Renewal Ranking Report'!G14,\"\")","v":"PH"},{"$f":"IF('CoC Renewal Ranking Report'!O14<>\"\",'CoC Renewal Ranking Report'!O14,\"\")","v":1},10]
[{"$f":"IF('CoC Renewal Ranking Report'!D15<>\"\",'CoC Renewal Ranking Report'!D15,\"\")","v":"Catholic Social Services of the Diocese of Scranton, Inc."},{"$f":"IF('CoC Renewal Ranking Report'!E15<>\"\",'CoC Renewal Ranking Report'!E15,\"\")","v":"Susquehanna/Wayne PSHP"},{"$f":"IF('CoC Renewal Ranking Report'!G15<>\"\",'CoC Renewal Ranking Report'!G15,\"\")","v":"PH"},{"$f":"IF('CoC Renewal Ranking Report'!O15<>\"\",'CoC Renewal Ranking Report'!O15,\"\")","v":1},10]
[{"$f":"IF('CoC Renewal Ranking Report'!D16<>\"\",'CoC Renewal Ranking Report'!D16,\"\")","v":"Center for Community Action"},{"$f":"IF('CoC Renewal Ranking Report'!E16<>\"\",'CoC Renewal Ranking Report'!E16,\"\")","v":"Bedford,Fulton, Huntingdon RRH"},{"$f":"IF('CoC Renewal Ranking Report'!G16<>\"\",'CoC Renewal Ranking Report'!G16,\"\")","v":"PH-RRH"},{"$f":"IF('CoC Renewal Ranking Report'!O16<>\"\",'CoC Renewal Ranking Report'!O16,\"\")","v":0.97860000000000003},10]
[{"$f":"IF('CoC Renewal Ranking Report'!D17<>\"\",'CoC Renewal Ranking Report'!D17,\"\")","v":"County of Franklin"},{"$f":"IF('CoC Renewal Ranking Report'!E17<>\"\",'CoC Renewal Ranking Report'!E17,\"\")","v":"Franklin/ Fulton S+C Project 2017"},{"$f":"IF('CoC Renewal Ranking Report'!G17<>\"\",'CoC Renewal Ranking Report'!G17,\"\")","v":"PH"},{"$f":"IF('CoC Renewal Ranking Report'!O17<>\"\",'CoC Renewal Ranking Report'!O17,\"\")","v":0.9375},10]
[{"$f":"IF('CoC Renewal Ranking Report'!D18<>\"\",'CoC Renewal Ranking Report'!D18,\"\")","v":"County of Franklin"},{"$f":"IF('CoC Renewal Ranking Report'!E18<>\"\",'CoC Renewal Ranking Report'!E18,\"\")","v":"Franklin/Fulton Homeless Assistance Project 2017"},{"$f":"IF('CoC Renewal Ranking Report'!G18<>\"\",'CoC Renewal Ranking Report'!G18,\"\")","v":"PH"},{"$f":"IF('CoC Renewal Ranking Report'!O18<>\"\",'CoC Renewal Ranking Report'!O18,\"\")","v":1},10]
[{"$f":"IF('CoC Renewal Ranking Report'!D19<>\"\",'CoC Renewal Ranking Report'!D19,\"\")","v":"County of Lycoming DBA Lycoming- Clinton Joinder Board"},{"$f":"IF('CoC Renewal Ranking Report'!E19<>\"\",'CoC Renewal Ranking Report'!E19,\"\")","v":"Lycoming/Clinton Renewal #5"},{"$f":"IF('CoC Renewal Ranking Report'!G19<>\"\",'CoC Renewal Ranking Report'!G19,\"\")","v":"PH"},{"$f":"IF('CoC Renewal Ranking Report'!O19<>\"\",'CoC Renewal Ranking Report'!O19,\"\")","v":0.88239999999999996},3]
[{"$f":"IF('CoC Renewal Ranking Report'!D20<>\"\",'CoC Renewal Ranking Report'!D20,\"\")","v":"Fitzmaurice Community Services, Inc"},{"$f":"IF('CoC Renewal Ranking Report'!E20<>\"\",'CoC Renewal Ranking Report'!E20,\"\")","v":"Pathfinders"},{"$f":"IF('CoC Renewal Ranking Report'!G20<>\"\",'CoC Renewal Ranking Report'!G20,\"\")","v":"PH"},{"$f":"IF('CoC Renewal Ranking Report'!O20<>\"\",'CoC Renewal Ranking Report'!O20,\"\")","v":0.96},10]
[{"$f":"IF('CoC Renewal Ranking Report'!D21<>\"\",'CoC Renewal Ranking Report'!D21,\"\")","v":"Home Nursing AgencyCommunity Services"},{"$f":"IF('CoC Renewal Ranking Report'!E21<>\"\",'CoC Renewal Ranking Report'!E21,\"\")","v":"Housing Assistance and Rental Program"},{"$f":"IF('CoC Renewal Ranking Report'!G21<>\"\",'CoC Renewal Ranking Report'!G21,\"\")","v":"PH"},{"$f":"IF('CoC Renewal Ranking Report'!O21<>\"\",'CoC Renewal Ranking Report'!O21,\"\")","v":0.88370000000000004},3]
[{"$f":"IF('CoC Renewal Ranking Report'!D22<>\"\",'CoC Renewal Ranking Report'!D22,\"\")","v":"Housing Authority of Monroe County"},{"$f":"IF('CoC Renewal Ranking Report'!E22<>\"\",'CoC Renewal Ranking Report'!E22,\"\")","v":"Renewal Application Shelter Plus Care MC 2016"},{"$f":"IF('CoC Renewal Ranking Report'!G22<>\"\",'CoC Renewal Ranking Report'!G22,\"\")","v":"PH"},{"$f":"IF('CoC Renewal Ranking Report'!O22<>\"\",'CoC Renewal Ranking Report'!O22,\"\")","v":1},10]
[{"$f":"IF('CoC Renewal Ranking Report'!D23<>\"\",'CoC Renewal Ranking Report'!D23,\"\")","v":"Housing Authority of the County of Cumberland"},{"$f":"IF('CoC Renewal Ranking Report'!E23<>\"\",'CoC Renewal Ranking Report'!E23,\"\")","v":"Carlisle Supportive Housing Program"},{"$f":"IF('CoC Renewal Ranking Report'!G23<>\"\",'CoC Renewal Ranking Report'!G23,\"\")","v":"PH"},{"$f":"IF('CoC Renewal Ranking Report'!O23<>\"\",'CoC Renewal Ranking Report'!O23,\"\")","v":1},10]
[{"$f":"IF('CoC Renewal Ranking Report'!D24<>\"\",'CoC Renewal Ranking Report'!D24,\"\")","v":"Housing Authority of the County of Cumberland"},{"$f":"IF('CoC Renewal Ranking Report'!E24<>\"\",'CoC Renewal Ranking Report'!E24,\"\")","v":"Perry County Permanent SHP"},{"$f":"IF('CoC Renewal Ranking Report'!G24<>\"\",'CoC Renewal Ranking Report'!G24,\"\")","v":"PH"},{"$f":"IF('CoC Renewal Ranking Report'!O24<>\"\",'CoC Renewal Ranking Report'!O24,\"\")","v":1},10]
[{"$f":"IF('CoC Renewal Ranking Report'!D25<>\"\",'CoC Renewal Ranking Report'!D25,\"\")","v":"Housing Authority of the County of Cumberland"},{"$f":"IF('CoC Renewal Ranking Report'!E25<>\"\",'CoC Renewal Ranking Report'!E25,\"\")","v":"Perry County Transitional II"},{"$f":"IF('CoC Renewal Ranking Report'!G25<>\"\",'CoC Renewal Ranking Report'!G25,\"\")","v":"PH-RRH"},{"$f":"IF('CoC Renewal Ranking Report'!O25<>\"\",'CoC Renewal Ranking Report'!O25,\"\")","v":1},10]
[{"$f":"IF('CoC Renewal Ranking Report'!D26<>\"\",'CoC Renewal Ranking Report'!D26,\"\")","v":"Housing Authority of the County of Cumberland"},{"$f":"IF('CoC Renewal Ranking Report'!E26<>\"\",'CoC Renewal Ranking Report'!E26,\"\")","v":"Perry County Veterans Program"},{"$f":"IF('CoC Renewal Ranking Report'!G26<>\"\",'CoC Renewal Ranking Report'!G26,\"\")","v":"PH"},{"$f":"IF('CoC Renewal Ranking Report'!O26<>\"\",'CoC Renewal Ranking Report'!O26,\"\")","v":1},10]
[{"$f":"IF('CoC Renewal Ranking Report'!D27<>\"\",'CoC Renewal Ranking Report'!D27,\"\")","v":"Housing Authority of the County of Cumberland"},{"$f":"IF('CoC Renewal Ranking Report'!E27<>\"\",'CoC Renewal Ranking Report'!E27,\"\")","v":"Rapid Rehousing II"},{"$f":"IF('CoC Renewal Ranking Report'!G27<>\"\",'CoC Renewal Ranking Report'!G27,\"\")","v":"PH-RRH"},{"$f":"IF('CoC Renewal Ranking Report'!O27<>\"\",'CoC Renewal Ranking Report'!O27,\"\")","v":0.5},0]
[{"$f":"IF('CoC Renewal Ranking Report'!D28<>\"\",'CoC Renewal Ranking Report'!D28,\"\")","v":"Housing Authority of the County of Cumberland"},{"$f":"IF('CoC Renewal Ranking Report'!E28<>\"\",'CoC Renewal Ranking Report'!E28,\"\")","v":"Safe Harbour SHP"},{"$f":"IF('CoC Renewal Ranking Report'!G28<>\"\",'CoC Renewal Ranking Report'!G28,\"\")","v":"PH"},{"$f":"IF('CoC Renewal Ranking Report'!O28<>\"\",'CoC Renewal Ranking Report'!O28,\"\")","v":0.92859999999999998},10]
[{"$f":"IF('CoC Renewal Ranking Report'!D29<>\"\",'CoC Renewal Ranking Report'!D29,\"\")","v":"Housing Authority of the County of Cumberland"},{"$f":"IF('CoC Renewal Ranking Report'!E29<>\"\",'CoC Renewal Ranking Report'!E29,\"\")","v":"Shelter + Care Chronic"},{"$f":"IF('CoC Renewal Ranking Report'!G29<>\"\",'CoC Renewal Ranking Report'!G29,\"\")","v":"PH"},{"$f":"IF('CoC Renewal Ranking Report'!O29<>\"\",'CoC Renewal Ranking Report'!O29,\"\")","v":1},10]
[{"$f":"IF('CoC Renewal Ranking Report'!D30<>\"\",'CoC Renewal Ranking Report'!D30,\"\")","v":"Housing Authority of the County of Cumberland"},{"$f":"IF('CoC Renewal Ranking Report'!E30<>\"\",'CoC Renewal Ranking Report'!E30,\"\")","v":"Shelter + Care Non-Chronic"},{"$f":"IF('CoC Renewal Ranking Report'!G30<>\"\",'CoC Renewal Ranking Report'!G30,\"\")","v":"PH"},{"$f":"IF('CoC Renewal Ranking Report'!O30<>\"\",'CoC Renewal Ranking Report'!O30,\"\")","v":0.88890000000000002},3]
[{"$f":"IF('CoC Renewal Ranking Report'!D31<>\"\",'CoC Renewal Ranking Report'!D31,\"\")","v":"Housing Authority of the County of Cumberland"},{"$f":"IF('CoC Renewal Ranking Report'!E31<>\"\",'CoC Renewal Ranking Report'!E31,\"\")","v":"West Shore SHP I"},{"$f":"IF('CoC Renewal Ranking Report'!G31<>\"\",'CoC Renewal Ranking Report'!G31,\"\")","v":"PH"},{"$f":"IF('CoC Renewal Ranking Report'!O31<>\"\",'CoC Renewal Ranking Report'!O31,\"\")","v":0.94740000000000002},10]
[{"$f":"IF('CoC Renewal Ranking Report'!D32<>\"\",'CoC Renewal Ranking Report'!D32,\"\")","v":"Housing Authority of the County of Cumberland"},{"$f":"IF('CoC Renewal Ranking Report'!E32<>\"\",'CoC Renewal Ranking Report'!E32,\"\")","v":"West Shore SHP II"},{"$f":"IF('CoC Renewal Ranking Report'!G32<>\"\",'CoC Renewal Ranking Report'!G32,\"\")","v":"PH"},{"$f":"IF('CoC Renewal Ranking Report'!O32<>\"\",'CoC Renewal Ranking Report'!O32,\"\")","v":1},10]
[{"$f":"IF('CoC Renewal Ranking Report'!D33<>\"\",'CoC Renewal Ranking Report'!D33,\"\")","v":"Housing Development Corporation of NEPA"},{"$f":"IF('CoC Renewal Ranking Report'!E33<>\"\",'CoC Renewal Ranking Report'!E33,\"\")","v":"HDC SHP 3 2016"},{"$f":"IF('CoC Renewal Ranking Report'!G33<>\"\",'CoC Renewal Ranking Report'!G33,\"\")","v":"PH"},{"$f":"IF('CoC Renewal Ranking Report'!O33<>\"\",'CoC Renewal Ranking Report'!O33,\"\")","v":0.97499999999999998},10]
[{"$f":"IF('CoC Renewal Ranking Report'!D34<>\"\",'CoC Renewal Ranking Report'!D34,\"\")","v":"Housing Development Corporation of NEPA"},{"$f":"IF('CoC Renewal Ranking Report'!E34<>\"\",'CoC Renewal Ranking Report'!E34,\"\")","v":"HDC SHP 6 2016"},{"$f":"IF('CoC Renewal Ranking Report'!G34<>\"\",'CoC Renewal Ranking Report'!G34,\"\")","v":"PH"},{"$f":"IF('CoC Renewal Ranking Report'!O34<>\"\",'CoC Renewal Ranking Report'!O34,\"\")","v":1},10]
[{"$f":"IF('CoC Renewal Ranking Report'!D35<>\"\",'CoC Renewal Ranking Report'!D35,\"\")","v":"Housing Transitions, Inc."},{"$f":"IF('CoC Renewal Ranking Report'!E35<>\"\",'CoC Renewal Ranking Report'!E35,\"\")","v":"Nittany House Apartments"},{"$f":"IF('CoC Renewal Ranking Report'!G35<>\"\",'CoC Renewal Ranking Report'!G35,\"\")","v":"PH"},{"$f":"IF('CoC Renewal Ranking Report'!O35<>\"\",'CoC Renewal Ranking Report'!O35,\"\")","v":1},10]
[{"$f":"IF('CoC Renewal Ranking Report'!D36<>\"\",'CoC Renewal Ranking Report'!D36,\"\")","v":"Lehigh County Conference of Churches"},{"$f":"IF('CoC Renewal Ranking Report'!E36<>\"\",'CoC Renewal Ranking Report'!E36,\"\")","v":"Outreach and Case Management for the Disabled, Chronically Homeless"},{"$f":"IF('CoC Renewal Ranking Report'!G36<>\"\",'CoC Renewal Ranking Report'!G36,\"\")","v":"SSO"},{"$f":"IF('CoC Renewal Ranking Report'!O36<>\"\",'CoC Renewal Ranking Report'!O36,\"\")","v":0},0]
[{"$f":"IF('CoC Renewal Ranking Report'!D37<>\"\",'CoC Renewal Ranking Report'!D37,\"\")","v":"Lehigh County Conference of Churches"},{"$f":"IF('CoC Renewal Ranking Report'!E37<>\"\",'CoC Renewal Ranking Report'!E37,\"\")","v":"Pathways Housing"},{"$f":"IF('CoC Renewal Ranking Report'!G37<>\"\",'CoC Renewal Ranking Report'!G37,\"\")","v":"PH"},{"$f":"IF('CoC Renewal Ranking Report'!O37<>\"\",'CoC Renewal Ranking Report'!O37,\"\")","v":1},10]
[{"$f":"IF('CoC Renewal Ranking Report'!D38<>\"\",'CoC Renewal Ranking Report'!D38,\"\")","v":"Lehigh County Conference of Churches"},{"$f":"IF('CoC Renewal Ranking Report'!E38<>\"\",'CoC Renewal Ranking Report'!E38,\"\")","v":"Pathways Housing 2"},{"$f":"IF('CoC Renewal Ranking Report'!G38<>\"\",'CoC Renewal Ranking Report'!G38,\"\")","v":"PH"},{"$f":"IF('CoC Renewal Ranking Report'!O38<>\"\",'CoC Renewal Ranking Report'!O38,\"\")","v":1},10]
[{"$f":"IF('CoC Renewal Ranking Report'!D39<>\"\",'CoC Renewal Ranking Report'!D39,\"\")","v":"Lehigh County Conference of Churches"},{"$f":"IF('CoC Renewal Ranking Report'!E39<>\"\",'CoC Renewal Ranking Report'!E39,\"\")","v":"Pathways TBRA for Families, Youth and Veterans"},{"$f":"IF('CoC Renewal Ranking Report'!G39<>\"\",'CoC Renewal Ranking Report'!G39,\"\")","v":"PH"},{"$f":"IF('CoC Renewal Ranking Report'!O39<>\"\",'CoC Renewal Ranking Report'!O39,\"\")","v":1},10]
[{"$f":"IF('CoC Renewal Ranking Report'!D40<>\"\",'CoC Renewal Ranking Report'!D40,\"\")","v":"Lehigh County Conference of Churches"},{"$f":"IF('CoC Renewal Ranking Report'!E40<>\"\",'CoC Renewal Ranking Report'!E40,\"\")","v":"Tenant-Based Rental Assistance for the Disabled,Chronically Homeless"},{"$f":"IF('CoC Renewal Ranking Report'!G40<>\"\",'CoC Renewal Ranking Report'!G40,\"\")","v":"PH"},{"$f":"IF('CoC Renewal Ranking Report'!O40<>\"\",'CoC Renewal Ranking Report'!O40,\"\")","v":1},10]
[{"$f":"IF('CoC Renewal Ranking Report'!D41<>\"\",'CoC Renewal Ranking Report'!D41,\"\")","v":"Lehigh County Housing Authority"},{"$f":"IF('CoC Renewal Ranking Report'!E41<>\"\",'CoC Renewal Ranking Report'!E41,\"\")","v":"LCHA S+C 2016"},{"$f":"IF('CoC Renewal Ranking Report'!G41<>\"\",'CoC Renewal Ranking Report'!G41,\"\")","v":"PH"},{"$f":"IF('CoC Renewal Ranking Report'!O41<>\"\",'CoC Renewal Ranking Report'!O41,\"\")","v":1},10]
[{"$f":"IF('CoC Renewal Ranking Report'!D42<>\"\",'CoC Renewal Ranking Report'!D42,\"\")","v":"Maranatha"},{"$f":"IF('CoC Renewal Ranking Report'!E42<>\"\",'CoC Renewal Ranking Report'!E42,\"\")","v":"TOTAL PERSON TRANSITIONAL PROGRAM 1 & 2"},{"$f":"IF('CoC Renewal Ranking Report'!G42<>\"\",'CoC Renewal Ranking Report'!G42,\"\")","v":"PH-RRH"},{"$f":"IF('CoC Renewal Ranking Report'!O42<>\"\",'CoC Renewal Ranking Report'!O42,\"\")","v":1},10]
[{"$f":"IF('CoC Renewal Ranking Report'!D43<>\"\",'CoC Renewal Ranking Report'!D43,\"\")","v":"Mifflin County"},{"$f":"IF('CoC Renewal Ranking Report'!E43<>\"\",'CoC Renewal Ranking Report'!E43,\"\")","v":"Mifflin County Permanent Housing Renewal"},{"$f":"IF('CoC Renewal Ranking Report'!G43<>\"\",'CoC Renewal Ranking Report'!G43,\"\")","v":"PH"},{"$f":"IF('CoC Renewal Ranking Report'!O43<>\"\",'CoC Renewal Ranking Report'!O43,\"\")","v":0.4},0]
[{"$f":"IF('CoC Renewal Ranking Report'!D44<>\"\",'CoC Renewal Ranking Report'!D44,\"\")","v":"Northampton County Housing Authority"},{"$f":"IF('CoC Renewal Ranking Report'!E44<>\"\",'CoC Renewal Ranking Report'!E44,\"\")","v":"NCHA S+C 2016"},{"$f":"IF('CoC Renewal Ranking Report'!G44<>\"\",'CoC Renewal Ranking Report'!G44,\"\")","v":"PH"},{"$f":"IF('CoC Renewal Ranking Report'!O44<>\"\",'CoC Renewal Ranking Report'!O44,\"\")","v":0.91669999999999996},3]
[{"$f":"IF('CoC Renewal Ranking Report'!D45<>\"\",'CoC Renewal Ranking Report'!D45,\"\")","v":"Northern Cambria Community Development Corporation"},{"$f":"IF('CoC Renewal Ranking Report'!E45<>\"\",'CoC Renewal Ranking Report'!E45,\"\")","v":"Independence Gardens"},{"$f":"IF('CoC Renewal Ranking Report'!G45<>\"\",'CoC Renewal Ranking Report'!G45,\"\")","v":"PH"},{"$f":"IF('CoC Renewal Ranking Report'!O45<>\"\",'CoC Renewal Ranking Report'!O45,\"\")","v":1},10]
[{"$f":"IF('CoC Renewal Ranking Report'!D46<>\"\",'CoC Renewal Ranking Report'!D46,\"\")","v":"Northern Cambria Community Development Corporation"},{"$f":"IF('CoC Renewal Ranking Report'!E46<>\"\",'CoC Renewal Ranking Report'!E46,\"\")","v":"Schoolhouse Gardens"},{"$f":"IF('CoC Renewal Ranking Report'!G46<>\"\",'CoC Renewal Ranking Report'!G46,\"\")","v":"PH"},{"$f":"IF('CoC Renewal Ranking Report'!O46<>\"\",'CoC Renewal Ranking Report'!O46,\"\")","v":1},10]
[{"$f":"IF('CoC Renewal Ranking Report'!D47<>\"\",'CoC Renewal Ranking Report'!D47,\"\")","v":"Northumberland County MH/MR"},{"$f":"IF('CoC Renewal Ranking Report'!E47<>\"\",'CoC Renewal Ranking Report'!E47,\"\")","v":"Sharing Support"},{"$f":"IF('CoC Renewal Ranking Report'!G47<>\"\",'CoC Renewal Ranking Report'!G47,\"\")","v":"PH"},{"$f":"IF('CoC Renewal Ranking Report'!O47<>\"\",'CoC Renewal Ranking Report'!O47,\"\")","v":0.8},3]
[{"$f":"IF('CoC Renewal Ranking Report'!D48<>\"\",'CoC Renewal Ranking Report'!D48,\"\")","v":"Resources for Human Development, Inc."},{"$f":"IF('CoC Renewal Ranking Report'!E48<>\"\",'CoC Renewal Ranking Report'!E48,\"\")","v":"Crossroads Family"},{"$f":"IF('CoC Renewal Ranking Report'!G48<>\"\",'CoC Renewal Ranking Report'!G48,\"\")","v":"PH"},{"$f":"IF('CoC Renewal Ranking Report'!O48<>\"\",'CoC Renewal Ranking Report'!O48,\"\")","v":1},10]
[{"$f":"IF('CoC Renewal Ranking Report'!D49<>\"\",'CoC Renewal Ranking Report'!D49,\"\")","v":"Resources for Human Development, Inc."},{"$f":"IF('CoC Renewal Ranking Report'!E49<>\"\",'CoC Renewal Ranking Report'!E49,\"\")","v":"Crossroads Housing Bonus"},{"$f":"IF('CoC Renewal Ranking Report'!G49<>\"\",'CoC Renewal Ranking Report'!G49,\"\")","v":"PH"},{"$f":"IF('CoC Renewal Ranking Report'!O49<>\"\",'CoC Renewal Ranking Report'!O49,\"\")","v":1},10]
[{"$f":"IF('CoC Renewal Ranking Report'!D50<>\"\",'CoC Renewal Ranking Report'!D50,\"\")","v":"Resources for Human Development, Inc."},{"$f":"IF('CoC Renewal Ranking Report'!E50<>\"\",'CoC Renewal Ranking Report'!E50,\"\")","v":"Crossroads Individual"},{"$f":"IF('CoC Renewal Ranking Report'!G50<>\"\",'CoC Renewal Ranking Report'!G50,\"\")","v":"PH"},{"$f":"IF('CoC Renewal Ranking Report'!O50<>\"\",'CoC Renewal Ranking Report'!O50,\"\")","v":1},10]
[{"$f":"IF('CoC Renewal Ranking Report'!D51<>\"\",'CoC Renewal Ranking Report'!D51,\"\")","v":"Resources for Human Development, Inc."},{"$f":"IF('CoC Renewal Ranking Report'!E51<>\"\",'CoC Renewal Ranking Report'!E51,\"\")","v":"Crossroads Schuylkill Co. Permanent Supportive Housing"},{"$f":"IF('CoC Renewal Ranking Report'!G51<>\"\",'CoC Renewal Ranking Report'!G51,\"\")","v":"PH"},{"$f":"IF('CoC Renewal Ranking Report'!O51<>\"\",'CoC Renewal Ranking Report'!O51,\"\")","v":1},10]
[{"$f":"IF('CoC Renewal Ranking Report'!D52<>\"\",'CoC Renewal Ranking Report'!D52,\"\")","v":"Resources for Human Development, Inc."},{"$f":"IF('CoC Renewal Ranking Report'!E52<>\"\",'CoC Renewal Ranking Report'!E52,\"\")","v":"LV ACT Housing Supports"},{"$f":"IF('CoC Renewal Ranking Report'!G52<>\"\",'CoC Renewal Ranking Report'!G52,\"\")","v":"PH"},{"$f":"IF('CoC Renewal Ranking Report'!O52<>\"\",'CoC Renewal Ranking Report'!O52,\"\")","v":0.86960000000000004},3]
[{"$f":"IF('CoC Renewal Ranking Report'!D53<>\"\",'CoC Renewal Ranking Report'!D53,\"\")","v":"Tableland Services, Inc."},{"$f":"IF('CoC Renewal Ranking Report'!E53<>\"\",'CoC Renewal Ranking Report'!E53,\"\")","v":"Permanent Housing with Disabilities (SHP)"},{"$f":"IF('CoC Renewal Ranking Report'!G53<>\"\",'CoC Renewal Ranking Report'!G53,\"\")","v":"PH"},{"$f":"IF('CoC Renewal Ranking Report'!O53<>\"\",'CoC Renewal Ranking Report'!O53,\"\")","v":0.98650000000000004},10]
[{"$f":"IF('CoC Renewal Ranking Report'!D54<>\"\",'CoC Renewal Ranking Report'!D54,\"\")","v":"Tableland Services, Inc."},{"$f":"IF('CoC Renewal Ranking Report'!E54<>\"\",'CoC Renewal Ranking Report'!E54,\"\")","v":"Permanent Supportive Housing CH Project"},{"$f":"IF('CoC Renewal Ranking Report'!G54<>\"\",'CoC Renewal Ranking Report'!G54,\"\")","v":"PH"},{"$f":"IF('CoC Renewal Ranking Report'!O54<>\"\",'CoC Renewal Ranking Report'!O54,\"\")","v":1},10]
[{"$f":"IF('CoC Renewal Ranking Report'!D55<>\"\",'CoC Renewal Ranking Report'!D55,\"\")","v":"The Salvation Army, a New York Corporation"},{"$f":"IF('CoC Renewal Ranking Report'!E55<>\"\",'CoC Renewal Ranking Report'!E55,\"\")","v":"Allentown Hospitality House Permanent Housing Program"},{"$f":"IF('CoC Renewal Ranking Report'!G55<>\"\",'CoC Renewal Ranking Report'!G55,\"\")","v":"PH"},{"$f":"IF('CoC Renewal Ranking Report'!O55<>\"\",'CoC Renewal Ranking Report'!O55,\"\")","v":0.85709999999999997},3]
[{"$f":"IF('CoC Renewal Ranking Report'!D56<>\"\",'CoC Renewal Ranking Report'!D56,\"\")","v":"The Salvation Army, a New York Corporation"},{"$f":"IF('CoC Renewal Ranking Report'!E56<>\"\",'CoC Renewal Ranking Report'!E56,\"\")","v":"Salvation Army Carlisle PH Project"},{"$f":"IF('CoC Renewal Ranking Report'!G56<>\"\",'CoC Renewal Ranking Report'!G56,\"\")","v":"PH"},{"$f":"IF('CoC Renewal Ranking Report'!O56<>\"\",'CoC Renewal Ranking Report'!O56,\"\")","v":1},10]
[{"$f":"IF('CoC Renewal Ranking Report'!D57<>\"\",'CoC Renewal Ranking Report'!D57,\"\")","v":"Union-Snyder Community Action Agency"},{"$f":"IF('CoC Renewal Ranking Report'!E57<>\"\",'CoC Renewal Ranking Report'!E57,\"\")","v":"Union-Snyder Rapid ReHousing Program"},{"$f":"IF('CoC Renewal Ranking Report'!G57<>\"\",'CoC Renewal Ranking Report'!G57,\"\")","v":"PH-RRH"},{"$f":"IF('CoC Renewal Ranking Report'!O57<>\"\",'CoC Renewal Ranking Report'!O57,\"\")","v":0.86960000000000004},10]
[{"$f":"IF('CoC Renewal Ranking Report'!D58<>\"\",'CoC Renewal Ranking Report'!D58,\"\")","v":"United Christian Ministries"},{"$f":"IF('CoC Renewal Ranking Report'!E58<>\"\",'CoC Renewal Ranking Report'!E58,\"\")","v":"Kenner Garnet Renewal 2016"},{"$f":"IF('CoC Renewal Ranking Report'!G58<>\"\",'CoC Renewal Ranking Report'!G58,\"\")","v":"PH"},{"$f":"IF('CoC Renewal Ranking Report'!O58<>\"\",'CoC Renewal Ranking Report'!O58,\"\")","v":0.92589999999999995},10]
[{"$f":"IF('CoC Renewal Ranking Report'!D59<>\"\",'CoC Renewal Ranking Report'!D59,\"\")","v":"Valley Housing Development Corporation "},{"$f":"IF('CoC Renewal Ranking Report'!E59<>\"\",'CoC Renewal Ranking Report'!E59,\"\")","v":"VHDC SHP #2 2016"},{"$f":"IF('CoC Renewal Ranking Report'!G59<>\"\",'CoC Renewal Ranking Report'!G59,\"\")","v":"PH"},{"$f":"IF('CoC Renewal Ranking Report'!O59<>\"\",'CoC Renewal Ranking Report'!O59,\"\")","v":1},10]
[{"$f":"IF('CoC Renewal Ranking Report'!D60<>\"\",'CoC Renewal Ranking Report'!D60,\"\")","v":"Valley Housing Development Corporation "},{"$f":"IF('CoC Renewal Ranking Report'!E60<>\"\",'CoC Renewal Ranking Report'!E60,\"\")","v":"VHDC SHP #3 2016"},{"$f":"IF('CoC Renewal Ranking Report'!G60<>\"\",'CoC Renewal Ranking Report'!G60,\"\")","v":"PH"},{"$f":"IF('CoC Renewal Ranking Report'!O60<>\"\",'CoC Renewal Ranking Report'!O60,\"\")","v":1},10]
[{"$f":"IF('CoC Renewal Ranking Report'!D61<>\"\",'CoC Renewal Ranking Report'!D61,\"\")","v":"Valley Housing Development Corporation "},{"$f":"IF('CoC Renewal Ranking Report'!E61<>\"\",'CoC Renewal Ranking Report'!E61,\"\")","v":"VHDC SHP #4 2016"},{"$f":"IF('CoC Renewal Ranking Report'!G61<>\"\",'CoC Renewal Ranking Report'!G61,\"\")","v":"PH"},{"$f":"IF('CoC Renewal Ranking Report'!O61<>\"\",'CoC Renewal Ranking Report'!O61,\"\")","v":0.9375},10]
[{"$f":"IF('CoC Renewal Ranking Report'!D62<>\"\",'CoC Renewal Ranking Report'!D62,\"\")","v":""},{"$f":"IF('CoC Renewal Ranking Report'!E62<>\"\",'CoC Renewal Ranking Report'!E62,\"\")","v":""},{"$f":"IF('CoC Renewal Ranking Report'!G62<>\"\",'CoC Renewal Ranking Report'!G62,\"\")","v":""},{"$f":"IF('CoC Renewal Ranking Report'!O62<>\"\",'CoC Renewal Ranking Report'!O62,\"\")","v":""},""]
[{"$f":"IF('CoC Renewal Ranking Report'!D63<>\"\",'CoC Renewal Ranking Report'!D63,\"\")","v":""},{"$f":"IF('CoC Renewal Ranking Report'!E63<>\"\",'CoC Renewal Ranking Report'!E63,\"\")","v":""},{"$f":"IF('CoC Renewal Ranking Report'!G63<>\"\",'CoC Renewal Ranking Report'!G63,\"\")","v":""},{"$f":"IF('CoC Renewal Ranking Report'!O63<>\"\",'CoC Renewal Ranking Report'!O63,\"\")","v":""},""]
[{"$f":"IF('CoC Renewal Ranking Report'!D64<>\"\",'CoC Renewal Ranking Report'!D64,\"\")","v":""},{"$f":"IF('CoC Renewal Ranking Report'!E64<>\"\",'CoC Renewal Ranking Report'!E64,\"\")","v":""},{"$f":"IF('CoC Renewal Ranking Report'!G64<>\"\",'CoC Renewal Ranking Report'!G64,\"\")","v":""},{"$f":"IF('CoC Renewal Ranking Report'!O64<>\"\",'CoC Renewal Ranking Report'!O64,\"\")","v":""},""]
[{"$f":"IF('CoC Renewal Ranking Report'!D65<>\"\",'CoC Renewal Ranking Report'!D65,\"\")","v":""},{"$f":"IF('CoC Renewal Ranking Report'!E65<>\"\",'CoC Renewal Ranking Report'!E65,\"\")","v":""},{"$f":"IF('CoC Renewal Ranking Report'!G65<>\"\",'CoC Renewal Ranking Report'!G65,\"\")","v":""},{"$f":"IF('CoC Renewal Ranking Report'!O65<>\"\",'CoC Renewal Ranking Report'!O65,\"\")","v":""},""]
[{"$f":"IF('CoC Renewal Ranking Report'!D66<>\"\",'CoC Renewal Ranking Report'!D66,\"\")","v":""},{"$f":"IF('CoC Renewal Ranking Report'!E66<>\"\",'CoC Renewal Ranking Report'!E66,\"\")","v":""},{"$f":"IF('CoC Renewal Ranking Report'!G66<>\"\",'CoC Renewal Ranking Report'!G66,\"\")","v":""},{"$f":"IF('CoC Renewal Ranking Report'!O66<>\"\",'CoC Renewal Ranking Report'!O66,\"\")","v":""},""]
[{"$f":"IF('CoC Renewal Ranking Report'!D67<>\"\",'CoC Renewal Ranking Report'!D67,\"\")","v":""},{"$f":"IF('CoC Renewal Ranking Report'!E67<>\"\",'CoC Renewal Ranking Report'!E67,\"\")","v":""},{"$f":"IF('CoC Renewal Ranking Report'!G67<>\"\",'CoC Renewal Ranking Report'!G67,\"\")","v":""},{"$f":"IF('CoC Renewal Ranking Report'!O67<>\"\",'CoC Renewal Ranking Report'!O67,\"\")","v":""},""]
[{"$f":"IF('CoC Renewal Ranking Report'!D68<>\"\",'CoC Renewal Ranking Report'!D68,\"\")","v":""},{"$f":"IF('CoC Renewal Ranking Report'!E68<>\"\",'CoC Renewal Ranking Report'!E68,\"\")","v":""},{"$f":"IF('CoC Renewal Ranking Report'!G68<>\"\",'CoC Renewal Ranking Report'!G68,\"\")","v":""},{"$f":"IF('CoC Renewal Ranking Report'!O68<>\"\",'CoC Renewal Ranking Report'!O68,\"\")","v":""},""]
[{"$f":"IF('CoC Renewal Ranking Report'!D69<>\"\",'CoC Renewal Ranking Report'!D69,\"\")","v":""},{"$f":"IF('CoC Renewal Ranking Report'!E69<>\"\",'CoC Renewal Ranking Report'!E69,\"\")","v":""},{"$f":"IF('CoC Renewal Ranking Report'!G69<>\"\",'CoC Renewal Ranking Report'!G69,\"\")","v":""},{"$f":"IF('CoC Renewal Ranking Report'!O69<>\"\",'CoC Renewal Ranking Report'!O69,\"\")","v":""},""]
[{"$f":"IF('CoC Renewal Ranking Report'!D70<>\"\",'CoC Renewal Ranking Report'!D70,\"\")","v":""},{"$f":"IF('CoC Renewal Ranking Report'!E70<>\"\",'CoC Renewal Ranking Report'!E70,\"\")","v":""},{"$f":"IF('CoC Renewal Ranking Report'!G70<>\"\",'CoC Renewal Ranking Report'!G70,\"\")","v":""},{"$f":"IF('CoC Renewal Ranking Report'!O70<>\"\",'CoC Renewal Ranking Report'!O70,\"\")","v":""},""]
[{"$f":"IF('CoC Renewal Ranking Report'!D71<>\"\",'CoC Renewal Ranking Report'!D71,\"\")","v":""},{"$f":"IF('CoC Renewal Ranking Report'!E71<>\"\",'CoC Renewal Ranking Report'!E71,\"\")","v":""},{"$f":"IF('CoC Renewal Ranking Report'!G71<>\"\",'CoC Renewal Ranking Report'!G71,\"\")","v":""},{"$f":"IF('CoC Renewal Ranking Report'!O71<>\"\",'CoC Renewal Ranking Report'!O71,\"\")","v":""},""]
[{"$f":"IF('CoC Renewal Ranking Report'!D72<>\"\",'CoC Renewal Ranking Report'!D72,\"\")","v":""},{"$f":"IF('CoC Renewal Ranking Report'!E72<>\"\",'CoC Renewal Ranking Report'!E72,\"\")","v":""},{"$f":"IF('CoC Renewal Ranking Report'!G72<>\"\",'CoC Renewal Ranking Report'!G72,\"\")","v":""},{"$f":"IF('CoC Renewal Ranking Report'!O72<>\"\",'CoC Renewal Ranking Report'!O72,\"\")","v":""},""]
[{"$f":"IF('CoC Renewal Ranking Report'!D73<>\"\",'CoC Renewal Ranking Report'!D73,\"\")","v":""},{"$f":"IF('CoC Renewal Ranking Report'!E73<>\"\",'CoC Renewal Ranking Report'!E73,\"\")","v":""},{"$f":"IF('CoC Renewal Ranking Report'!G73<>\"\",'CoC Renewal Ranking Report'!G73,\"\")","v":""},{"$f":"IF('CoC Renewal Ranking Report'!O73<>\"\",'CoC Renewal Ranking Report'!O73,\"\")","v":""},""]
[{"$f":"IF('CoC Renewal Ranking Report'!D74<>\"\",'CoC Renewal Ranking Report'!D74,\"\")","v":""},{"$f":"IF('CoC Renewal Ranking Report'!E74<>\"\",'CoC Renewal Ranking Report'!E74,\"\")","v":""},{"$f":"IF('CoC Renewal Ranking Report'!G74<>\"\",'CoC Renewal Ranking Report'!G74,\"\")","v":""},{"$f":"IF('CoC Renewal Ranking Report'!O74<>\"\",'CoC Renewal Ranking Report'!O74,\"\")","v":""},{"$f":"IF(AND(A74<>\"\",D74<>\"\"),IF(C74=\"PH\",IF(D74>=0.925,10,IF(AND(D74 < 0.925, D74 >= 0.8),3,0)),IF(D74>=0.8,10,IF(AND(D74 < 0.8, D74 >= 0.53), 3,0))),\"\")","v":""}]
[{"$f":"IF('CoC Renewal Ranking Report'!D75<>\"\",'CoC Renewal Ranking Report'!D75,\"\")","v":""},{"$f":"IF('CoC Renewal Ranking Report'!E75<>\"\",'CoC Renewal Ranking Report'!E75,\"\")","v":""},{"$f":"IF('CoC Renewal Ranking Report'!G75<>\"\",'CoC Renewal Ranking Report'!G75,\"\")","v":""},{"$f":"IF('CoC Renewal Ranking Report'!O75<>\"\",'CoC Renewal Ranking Report'!O75,\"\")","v":""},""]
[{"$f":"IF('CoC Renewal Ranking Report'!D76<>\"\",'CoC Renewal Ranking Report'!D76,\"\")","v":""},{"$f":"IF('CoC Renewal Ranking Report'!E76<>\"\",'CoC Renewal Ranking Report'!E76,\"\")","v":""},{"$f":"IF('CoC Renewal Ranking Report'!G76<>\"\",'CoC Renewal Ranking Report'!G76,\"\")","v":""},{"$f":"IF('CoC Renewal Ranking Report'!O76<>\"\",'CoC Renewal Ranking Report'!O76,\"\")","v":""},""]
[{"$f":"IF('CoC Renewal Ranking Report'!D77<>\"\",'CoC Renewal Ranking Report'!D77,\"\")","v":""},{"$f":"IF('CoC Renewal Ranking Report'!E77<>\"\",'CoC Renewal Ranking Report'!E77,\"\")","v":""},{"$f":"IF('CoC Renewal Ranking Report'!G77<>\"\",'CoC Renewal Ranking Report'!G77,\"\")","v":""},{"$f":"IF('CoC Renewal Ranking Report'!O77<>\"\",'CoC Renewal Ranking Report'!O77,\"\")","v":""},""]
[{"$f":"IF('CoC Renewal Ranking Report'!D78<>\"\",'CoC Renewal Ranking Report'!D78,\"\")","v":""},{"$f":"IF('CoC Renewal Ranking Report'!E78<>\"\",'CoC Renewal Ranking Report'!E78,\"\")","v":""},{"$f":"IF('CoC Renewal Ranking Report'!G78<>\"\",'CoC Renewal Ranking Report'!G78,\"\")","v":""},{"$f":"IF('CoC Renewal Ranking Report'!O78<>\"\",'CoC Renewal Ranking Report'!O78,\"\")","v":""},""]
[{"$f":"IF('CoC Renewal Ranking Report'!D79<>\"\",'CoC Renewal Ranking Report'!D79,\"\")","v":""},{"$f":"IF('CoC Renewal Ranking Report'!E79<>\"\",'CoC Renewal Ranking Report'!E79,\"\")","v":""},{"$f":"IF('CoC Renewal Ranking Report'!G79<>\"\",'CoC Renewal Ranking Report'!G79,\"\")","v":""},{"$f":"IF('CoC Renewal Ranking Report'!O79<>\"\",'CoC Renewal Ranking Report'!O79,\"\")","v":""},""]
[{"$f":"IF('CoC Renewal Ranking Report'!D80<>\"\",'CoC Renewal Ranking Report'!D80,\"\")","v":""},{"$f":"IF('CoC Renewal Ranking Report'!E80<>\"\",'CoC Renewal Ranking Report'!E80,\"\")","v":""},{"$f":"IF('CoC Renewal Ranking Report'!G80<>\"\",'CoC Renewal Ranking Report'!G80,\"\")","v":""},{"$f":"IF('CoC Renewal Ranking Report'!O80<>\"\",'CoC Renewal Ranking Report'!O80,\"\")","v":""},""]
[{"$f":"IF('CoC Renewal Ranking Report'!D81<>\"\",'CoC Renewal Ranking Report'!D81,\"\")","v":""},{"$f":"IF('CoC Renewal Ranking Report'!E81<>\"\",'CoC Renewal Ranking Report'!E81,\"\")","v":""},{"$f":"IF('CoC Renewal Ranking Report'!G81<>\"\",'CoC Renewal Ranking Report'!G81,\"\")","v":""},{"$f":"IF('CoC Renewal Ranking Report'!O81<>\"\",'CoC Renewal Ranking Report'!O81,\"\")","v":""},""]
[{"$f":"IF('CoC Renewal Ranking Report'!D82<>\"\",'CoC Renewal Ranking Report'!D82,\"\")","v":""},{"$f":"IF('CoC Renewal Ranking Report'!E82<>\"\",'CoC Renewal Ranking Report'!E82,\"\")","v":""},{"$f":"IF('CoC Renewal Ranking Report'!G82<>\"\",'CoC Renewal Ranking Report'!G82,\"\")","v":""},{"$f":"IF('CoC Renewal Ranking Report'!O82<>\"\",'CoC Renewal Ranking Report'!O82,\"\")","v":""},""]
[{"$f":"IF('CoC Renewal Ranking Report'!D83<>\"\",'CoC Renewal Ranking Report'!D83,\"\")","v":""},{"$f":"IF('CoC Renewal Ranking Report'!E83<>\"\",'CoC Renewal Ranking Report'!E83,\"\")","v":""},{"$f":"IF('CoC Renewal Ranking Report'!G83<>\"\",'CoC Renewal Ranking Report'!G83,\"\")","v":""},{"$f":"IF('CoC Renewal Ranking Report'!O83<>\"\",'CoC Renewal Ranking Report'!O83,\"\")","v":""},""]
[{"$f":"IF('CoC Renewal Ranking Report'!D84<>\"\",'CoC Renewal Ranking Report'!D84,\"\")","v":""},{"$f":"IF('CoC Renewal Ranking Report'!E84<>\"\",'CoC Renewal Ranking Report'!E84,\"\")","v":""},{"$f":"IF('CoC Renewal Ranking Report'!G84<>\"\",'CoC Renewal Ranking Report'!G84,\"\")","v":""},{"$f":"IF('CoC Renewal Ranking Report'!O84<>\"\",'CoC Renewal Ranking Report'!O84,\"\")","v":""},""]
[{"$f":"IF('CoC Renewal Ranking Report'!D85<>\"\",'CoC Renewal Ranking Report'!D85,\"\")","v":""},{"$f":"IF('CoC Renewal Ranking Report'!E85<>\"\",'CoC Renewal Ranking Report'!E85,\"\")","v":""},{"$f":"IF('CoC Renewal Ranking Report'!G85<>\"\",'CoC Renewal Ranking Report'!G85,\"\")","v":""},{"$f":"IF('CoC Renewal Ranking Report'!O85<>\"\",'CoC Renewal Ranking Report'!O85,\"\")","v":""},""]
[{"$f":"IF('CoC Renewal Ranking Report'!D86<>\"\",'CoC Renewal Ranking Report'!D86,\"\")","v":""},{"$f":"IF('CoC Renewal Ranking Report'!E86<>\"\",'CoC Renewal Ranking Report'!E86,\"\")","v":""},{"$f":"IF('CoC Renewal Ranking Report'!G86<>\"\",'CoC Renewal Ranking Report'!G86,\"\")","v":""},{"$f":"IF('CoC Renewal Ranking Report'!O86<>\"\",'CoC Renewal Ranking Report'!O86,\"\")","v":""},""]
[{"$f":"IF('CoC Renewal Ranking Report'!D87<>\"\",'CoC Renewal Ranking Report'!D87,\"\")","v":""},{"$f":"IF('CoC Renewal Ranking Report'!E87<>\"\",'CoC Renewal Ranking Report'!E87,\"\")","v":""},{"$f":"IF('CoC Renewal Ranking Report'!G87<>\"\",'CoC Renewal Ranking Report'!G87,\"\")","v":""},{"$f":"IF('CoC Renewal Ranking Report'!O87<>\"\",'CoC Renewal Ranking Report'!O87,\"\")","v":""},""]
[{"$f":"IF('CoC Renewal Ranking Report'!D88<>\"\",'CoC Renewal Ranking Report'!D88,\"\")","v":""},{"$f":"IF('CoC Renewal Ranking Report'!E88<>\"\",'CoC Renewal Ranking Report'!E88,\"\")","v":""},{"$f":"IF('CoC Renewal Ranking Report'!G88<>\"\",'CoC Renewal Ranking Report'!G88,\"\")","v":""},{"$f":"IF('CoC Renewal Ranking Report'!O88<>\"\",'CoC Renewal Ranking Report'!O88,\"\")","v":""},""]
[{"$f":"IF('CoC Renewal Ranking Report'!D89<>\"\",'CoC Renewal Ranking Report'!D89,\"\")","v":""},{"$f":"IF('CoC Renewal Ranking Report'!E89<>\"\",'CoC Renewal Ranking Report'!E89,\"\")","v":""},{"$f":"IF('CoC Renewal Ranking Report'!G89<>\"\",'CoC Renewal Ranking Report'!G89,\"\")","v":""},{"$f":"IF('CoC Renewal Ranking Report'!O89<>\"\",'CoC Renewal Ranking Report'!O89,\"\")","v":""},""]
[{"$f":"IF('CoC Renewal Ranking Report'!D90<>\"\",'CoC Renewal Ranking Report'!D90,\"\")","v":""},{"$f":"IF('CoC Renewal Ranking Report'!E90<>\"\",'CoC Renewal Ranking Report'!E90,\"\")","v":""},{"$f":"IF('CoC Renewal Ranking Report'!G90<>\"\",'CoC Renewal Ranking Report'!G90,\"\")","v":""},{"$f":"IF('CoC Renewal Ranking Report'!O90<>\"\",'CoC Renewal Ranking Report'!O90,\"\")","v":""},""]
[{"$f":"IF('CoC Renewal Ranking Report'!D91<>\"\",'CoC Renewal Ranking Report'!D91,\"\")","v":""},{"$f":"IF('CoC Renewal Ranking Report'!E91<>\"\",'CoC Renewal Ranking Report'!E91,\"\")","v":""},{"$f":"IF('CoC Renewal Ranking Report'!G91<>\"\",'CoC Renewal Ranking Report'!G91,\"\")","v":""},{"$f":"IF('CoC Renewal Ranking Report'!O91<>\"\",'CoC Renewal Ranking Report'!O91,\"\")","v":""},""]
[{"$f":"IF('CoC Renewal Ranking Report'!D92<>\"\",'CoC Renewal Ranking Report'!D92,\"\")","v":""},{"$f":"IF('CoC Renewal Ranking Report'!E92<>\"\",'CoC Renewal Ranking Report'!E92,\"\")","v":""},{"$f":"IF('CoC Renewal Ranking Report'!G92<>\"\",'CoC Renewal Ranking Report'!G92,\"\")","v":""},{"$f":"IF('CoC Renewal Ranking Report'!O92<>\"\",'CoC Renewal Ranking Report'!O92,\"\")","v":""},""]
[{"$f":"IF('CoC Renewal Ranking Report'!D93<>\"\",'CoC Renewal Ranking Report'!D93,\"\")","v":""},{"$f":"IF('CoC Renewal Ranking Report'!E93<>\"\",'CoC Renewal Ranking Report'!E93,\"\")","v":""},{"$f":"IF('CoC Renewal Ranking Report'!G93<>\"\",'CoC Renewal Ranking Report'!G93,\"\")","v":""},{"$f":"IF('CoC Renewal Ranking Report'!O93<>\"\",'CoC Renewal Ranking Report'!O93,\"\")","v":""},""]
[{"$f":"IF('CoC Renewal Ranking Report'!D94<>\"\",'CoC Renewal Ranking Report'!D94,\"\")","v":""},{"$f":"IF('CoC Renewal Ranking Report'!E94<>\"\",'CoC Renewal Ranking Report'!E94,\"\")","v":""},{"$f":"IF('CoC Renewal Ranking Report'!G94<>\"\",'CoC Renewal Ranking Report'!G94,\"\")","v":""},{"$f":"IF('CoC Renewal Ranking Report'!O94<>\"\",'CoC Renewal Ranking Report'!O94,\"\")","v":""},""]
[{"$f":"IF('CoC Renewal Ranking Report'!D95<>\"\",'CoC Renewal Ranking Report'!D95,\"\")","v":""},{"$f":"IF('CoC Renewal Ranking Report'!E95<>\"\",'CoC Renewal Ranking Report'!E95,\"\")","v":""},{"$f":"IF('CoC Renewal Ranking Report'!G95<>\"\",'CoC Renewal Ranking Report'!G95,\"\")","v":""},{"$f":"IF('CoC Renewal Ranking Report'!O95<>\"\",'CoC Renewal Ranking Report'!O95,\"\")","v":""},""]
[{"$f":"IF('CoC Renewal Ranking Report'!D96<>\"\",'CoC Renewal Ranking Report'!D96,\"\")","v":""},{"$f":"IF('CoC Renewal Ranking Report'!E96<>\"\",'CoC Renewal Ranking Report'!E96,\"\")","v":""},{"$f":"IF('CoC Renewal Ranking Report'!G96<>\"\",'CoC Renewal Ranking Report'!G96,\"\")","v":""},{"$f":"IF('CoC Renewal Ranking Report'!O96<>\"\",'CoC Renewal Ranking Report'!O96,\"\")","v":""},""]
[{"$f":"IF('CoC Renewal Ranking Report'!D97<>\"\",'CoC Renewal Ranking Report'!D97,\"\")","v":""},{"$f":"IF('CoC Renewal Ranking Report'!E97<>\"\",'CoC Renewal Ranking Report'!E97,\"\")","v":""},{"$f":"IF('CoC Renewal Ranking Report'!G97<>\"\",'CoC Renewal Ranking Report'!G97,\"\")","v":""},{"$f":"IF('CoC Renewal Ranking Report'!O97<>\"\",'CoC Renewal Ranking Report'!O97,\"\")","v":""},""]
[{"$f":"IF('CoC Renewal Ranking Report'!D98<>\"\",'CoC Renewal Ranking Report'!D98,\"\")","v":""},{"$f":"IF('CoC Renewal Ranking Report'!E98<>\"\",'CoC Renewal Ranking Report'!E98,\"\")","v":""},{"$f":"IF('CoC Renewal Ranking Report'!G98<>\"\",'CoC Renewal Ranking Report'!G98,\"\")","v":""},{"$f":"IF('CoC Renewal Ranking Report'!O98<>\"\",'CoC Renewal Ranking Report'!O98,\"\")","v":""},""]
[{"$f":"IF('CoC Renewal Ranking Report'!D99<>\"\",'CoC Renewal Ranking Report'!D99,\"\")","v":""},{"$f":"IF('CoC Renewal Ranking Report'!E99<>\"\",'CoC Renewal Ranking Report'!E99,\"\")","v":""},{"$f":"IF('CoC Renewal Ranking Report'!G99<>\"\",'CoC Renewal Ranking Report'!G99,\"\")","v":""},{"$f":"IF('CoC Renewal Ranking Report'!O99<>\"\",'CoC Renewal Ranking Report'!O99,\"\")","v":""},""]
[{"$f":"IF('CoC Renewal Ranking Report'!D100<>\"\",'CoC Renewal Ranking Report'!D100,\"\")","v":""},{"$f":"IF('CoC Renewal Ranking Report'!E100<>\"\",'CoC Renewal Ranking Report'!E100,\"\")","v":""},{"$f":"IF('CoC Renewal Ranking Report'!G100<>\"\",'CoC Renewal Ranking Report'!G100,\"\")","v":""},{"$f":"IF('CoC Renewal Ranking Report'!O100<>\"\",'CoC Renewal Ranking Report'!O100,\"\")","v":""},""]
[{"$f":"IF('CoC Renewal Ranking Report'!D101<>\"\",'CoC Renewal Ranking Report'!D101,\"\")","v":""},{"$f":"IF('CoC Renewal Ranking Report'!E101<>\"\",'CoC Renewal Ranking Report'!E101,\"\")","v":""},{"$f":"IF('CoC Renewal Ranking Report'!G101<>\"\",'CoC Renewal Ranking Report'!G101,\"\")","v":""},{"$f":"IF('CoC Renewal Ranking Report'!O101<>\"\",'CoC Renewal Ranking Report'!O101,\"\")","v":""},""]
[{"$f":"IF('CoC Renewal Ranking Report'!D102<>\"\",'CoC Renewal Ranking Report'!D102,\"\")","v":""},{"$f":"IF('CoC Renewal Ranking Report'!E102<>\"\",'CoC Renewal Ranking Report'!E102,\"\")","v":""},{"$f":"IF('CoC Renewal Ranking Report'!G102<>\"\",'CoC Renewal Ranking Report'!G102,\"\")","v":""},{"$f":"IF('CoC Renewal Ranking Report'!O102<>\"\",'CoC Renewal Ranking Report'!O102,\"\")","v":""},""]

{"sheet":"Returns to Homelessness","index":5,"n_rows":103,"n_cols":5,"rows_kept":103,"cut":false,"hidden":false,"merged":[]}
[null,"Returns to Homelessness"]
[null,"within 6 months after permanent housing exit"]
[null,"<= 4% for SSO = 3 points"]
[null,"5 - 10% for SSO = 1 points"]
[null,"<= 2% for TH/PH = 3 points"]
[null,"3 - 10% for TH/PH = 1 points"]
[]
["Agency Name","Project Name","Project Type","%","Score"]
[{"$f":"IF('CoC Renewal Ranking Report'!D9<>\"\",'CoC Renewal Ranking Report'!D9,\"\")","v":""},{"$f":"IF('CoC Renewal Ranking Report'!E9<>\"\",'CoC Renewal Ranking Report'!E9,\"\")","v":""},{"$f":"IF('CoC Renewal Ranking Report'!G9<>\"\",'CoC Renewal Ranking Report'!G9,\"\")","v":""},{"$f":"IF('CoC Renewal Ranking Report'!AQ9<>\"\",'CoC Renewal Ranking Report'!AK9,\"\")","v":""},{"$f":"IF(A9<>\"\", IF(C9 = \"SSO\", IF(D9 <=0.04, 3, IF(AND(D9 <= 0.1, D9 > 0.04), 1, 0)), IF(D9 <= 0.02, 3, IF(AND(D9 <= 0.1, D9 > 0.02), 1, 0))), \"\")","v":""}]
[{"$f":"IF('CoC Renewal Ranking Report'!D10<>\"\",'CoC Renewal Ranking Report'!D10,\"\")","v":"Blair County Community Action Program"},{"$f":"IF('CoC Renewal Ranking Report'!E10<>\"\",'CoC Renewal Ranking Report'!E10,\"\")","v":"Rapid Re-Housing"},{"$f":"IF('CoC Renewal Ranking Report'!G10<>\"\",'CoC Renewal Ranking Report'!G10,\"\")","v":"PH-RRH"},{"$f":"IF('CoC Renewal Ranking Report'!AQ10<>\"\",'CoC Renewal Ranking Report'!AK10,\"\")","v":1.9599999999999999E-2},{"$f":"IF(A10<>\"\", IF(C10 = \"SSO\", IF(D10 <=0.04, 3, IF(AND(D10 <= 0.1, D10 > 0.04), 1, 0)), IF(D10 <= 0.02, 3, IF(AND(D10 <= 0.1, D10 > 0.02), 1, 0))), \"\")","v":3}]
[{"$f":"IF('CoC Renewal Ranking Report'!D11<>\"\",'CoC Renewal Ranking Report'!D11,\"\")","v":"Cambria County"},{"$f":"IF('CoC Renewal Ranking Report'!E11<>\"\",'CoC Renewal Ranking Report'!E11,\"\")","v":"Cambria County Comprehensive Housing Program"},{"$f":"IF('CoC Renewal Ranking Report'!G11<>\"\",'CoC Renewal Ranking Report'!G11,\"\")","v":"PH"},{"$f":"IF('CoC Renewal Ranking Report'!AQ11<>\"\",'CoC Renewal Ranking Report'!AK11,\"\")","v":0},3]
[{"$f":"IF('CoC Renewal Ranking Report'!D12<>\"\",'CoC Renewal Ranking Report'!D12,\"\")","v":"Catholic Charities of the Diocese of Allentown"},{"$f":"IF('CoC Renewal Ranking Report'!E12<>\"\",'CoC Renewal Ranking Report'!E12,\"\")","v":"Catholic Charities Allentown Permanent Housing Program"},{"$f":"IF('CoC Renewal Ranking Report'!G12<>\"\",'CoC Renewal Ranking Report'!G12,\"\")","v":"PH"},{"$f":"IF('CoC Renewal Ranking Report'!AQ12<>\"\",'CoC Renewal Ranking Report'!AK12,\"\")","v":0},3]
[{"$f":"IF('CoC Renewal Ranking Report'!D13<>\"\",'CoC Renewal Ranking Report'!D13,\"\")","v":"Catholic Social Services of the Diocese of Scranton, Inc."},{"$f":"IF('CoC Renewal Ranking Report'!E13<>\"\",'CoC Renewal Ranking Report'!E13,\"\")","v":"PSHP Pike County"},{"$f":"IF('CoC Renewal Ranking Report'!G13<>\"\",'CoC Renewal Ranking Report'!G13,\"\")","v":"PH"},{"$f":"IF('CoC Renewal Ranking Report'!AQ13<>\"\",'CoC Renewal Ranking Report'!AK13,\"\")","v":0},3]
[{"$f":"IF('CoC Renewal Ranking Report'!D14<>\"\",'CoC Renewal Ranking Report'!D14,\"\")","v":"Catholic Social Services of the Diocese of Scranton, Inc."},{"$f":"IF('CoC Renewal Ranking Report'!E14<>\"\",'CoC Renewal Ranking Report'!E14,\"\")","v":"Rural Permanent Supportive Housing Program"},{"$f":"IF('CoC Renewal Ranking Report'!G14<>\"\",'CoC Renewal Ranking Report'!G14,\"\")","v":"PH"},{"$f":"IF('CoC Renewal Ranking Report'!AQ14<>\"\",'CoC Renewal Ranking Report'!AK14,\"\")","v":0},3]
[{"$f":"IF('CoC Renewal Ranking Report'!D15<>\"\",'CoC Renewal Ranking Report'!D15,\"\")","v":"Catholic Social Services of the Diocese of Scranton, Inc."},{"$f":"IF('CoC Renewal Ranking Report'!E15<>\"\",'CoC Renewal Ranking Report'!E15,\"\")","v":"Susquehanna/Wayne PSHP"},{"$f":"IF('CoC Renewal Ranking Report'!G15<>\"\",'CoC Renewal Ranking Report'!G15,\"\")","v":"PH"},{"$f":"IF('CoC Renewal Ranking Report'!AQ15<>\"\",'CoC Renewal Ranking Report'!AK15,\"\")","v":0},3]
[{"$f":"IF('CoC Renewal Ranking Report'!D16<>\"\",'CoC Renewal Ranking Report'!D16,\"\")","v":"Center for Community Action"},{"$f":"IF('CoC Renewal Ranking Report'!E16<>\"\",'CoC Renewal Ranking Report'!E16,\"\")","v":"Bedford,Fulton, Huntingdon RRH"},{"$f":"IF('CoC Renewal Ranking Report'!G16<>\"\",'CoC Renewal Ranking Report'!G16,\"\")","v":"PH-RRH"},{"$f":"IF('CoC Renewal Ranking Report'!AQ16<>\"\",'CoC Renewal Ranking Report'!AK16,\"\")","v":0},3]
[{"$f":"IF('CoC Renewal Ranking Report'!D17<>\"\",'CoC Renewal Ranking Report'!D17,\"\")","v":"County of Franklin"},{"$f":"IF('CoC Renewal Ranking Report'!E17<>\"\",'CoC Renewal Ranking Report'!E17,\"\")","v":"Franklin/ Fulton S+C Project 2017"},{"$f":"IF('CoC Renewal Ranking Report'!G17<>\"\",'CoC Renewal Ranking Report'!G17,\"\")","v":"PH"},{"$f":"IF('CoC Renewal Ranking Report'!AQ17<>\"\",'CoC Renewal Ranking Report'!AK17,\"\")","v":0},3]
[{"$f":"IF('CoC Renewal Ranking Report'!D18<>\"\",'CoC Renewal Ranking Report'!D18,\"\")","v":"County of Franklin"},{"$f":"IF('CoC Renewal Ranking Report'!E18<>\"\",'CoC Renewal Ranking Report'!E18,\"\")","v":"Franklin/Fulton Homeless Assistance Project 2017"},{"$f":"IF('CoC Renewal Ranking Report'!G18<>\"\",'CoC Renewal Ranking Report'!G18,\"\")","v":"PH"},{"$f":"IF('CoC Renewal Ranking Report'!AQ18<>\"\",'CoC Renewal Ranking Report'!AK18,\"\")","v":0},3]
[{"$f":"IF('CoC Renewal Ranking Report'!D19<>\"\",'CoC Renewal Ranking Report'!D19,\"\")","v":"County of Lycoming DBA Lycoming- Clinton Joinder Board"},{"$f":"IF('CoC Renewal Ranking Report'!E19<>\"\",'CoC Renewal Ranking Report'!E19,\"\")","v":"Lycoming/Clinton Renewal #5"},{"$f":"IF('CoC Renewal Ranking Report'!G19<>\"\",'CoC Renewal Ranking Report'!G19,\"\")","v":"PH"},{"$f":"IF('CoC Renewal Ranking Report'!AQ19<>\"\",'CoC Renewal Ranking Report'!AK19,\"\")","v":0},3]
[{"$f":"IF('CoC Renewal Ranking Report'!D20<>\"\",'CoC Renewal Ranking Report'!D20,\"\")","v":"Fitzmaurice Community Services, Inc"},{"$f":"IF('CoC Renewal Ranking Report'!E20<>\"\",'CoC Renewal Ranking Report'!E20,\"\")","v":"Pathfinders"},{"$f":"IF('CoC Renewal Ranking Report'!G20<>\"\",'CoC Renewal Ranking Report'!G20,\"\")","v":"PH"},{"$f":"IF('CoC Renewal Ranking Report'!AQ20<>\"\",'CoC Renewal Ranking Report'!AK20,\"\")","v":0.33329999999999999},0]
[{"$f":"IF('CoC Renewal Ranking Report'!D21<>\"\",'CoC Renewal Ranking Report'!D21,\"\")","v":"Home Nursing AgencyCommunity Services"},{"$f":"IF('CoC Renewal Ranking Report'!E21<>\"\",'CoC Renewal Ranking Report'!E21,\"\")","v":"Housing Assistance and Rental Program"},{"$f":"IF('CoC Renewal Ranking Report'!G21<>\"\",'CoC Renewal Ranking Report'!G21,\"\")","v":"PH"},{"$f":"IF('CoC Renewal Ranking Report'!AQ21<>\"\",'CoC Renewal Ranking Report'!AK21,\"\")","v":9.0899999999999995E-2},1]
[{"$f":"IF('CoC Renewal Ranking Report'!D22<>\"\",'CoC Renewal Ranking Report'!D22,\"\")","v":"Housing Authority of Monroe County"},{"$f":"IF('CoC Renewal Ranking Report'!E22<>\"\",'CoC Renewal Ranking Report'!E22,\"\")","v":"Renewal Application Shelter Plus Care MC 2016"},{"$f":"IF('CoC Renewal Ranking Report'!G22<>\"\",'CoC Renewal Ranking Report'!G22,\"\")","v":"PH"},{"$f":"IF('CoC Renewal Ranking Report'!AQ22<>\"\",'CoC Renewal Ranking Report'!AK22,\"\")","v":0},3]
[{"$f":"IF('CoC Renewal Ranking Report'!D23<>\"\",'CoC Renewal Ranking Report'!D23,\"\")","v":"Housing Authority of the County of Cumberland"},{"$f":"IF('CoC Renewal Ranking Report'!E23<>\"\",'CoC Renewal Ranking Report'!E23,\"\")","v":"Carlisle Supportive Housing Program"},{"$f":"IF('CoC Renewal Ranking Report'!G23<>\"\",'CoC Renewal Ranking Report'!G23,\"\")","v":"PH"},{"$f":"IF('CoC Renewal Ranking Report'!AQ23<>\"\",'CoC Renewal Ranking Report'!AK23,\"\")","v":0},3]
[{"$f":"IF('CoC Renewal Ranking Report'!D24<>\"\",'CoC Renewal Ranking Report'!D24,\"\")","v":"Housing Authority of the County of Cumberland"},{"$f":"IF('CoC Renewal Ranking Report'!E24<>\"\",'CoC Renewal Ranking Report'!E24,\"\")","v":"Perry County Permanent SHP"},{"$f":"IF('CoC Renewal Ranking Report'!G24<>\"\",'CoC Renewal Ranking Report'!G24,\"\")","v":"PH"},{"$f":"IF('CoC Renewal Ranking Report'!AQ24<>\"\",'CoC Renewal Ranking Report'!AK24,\"\")","v":0},3]
[{"$f":"IF('CoC Renewal Ranking Report'!D25<>\"\",'CoC Renewal Ranking Report'!D25,\"\")","v":"Housing Authority of the County of Cumberland"},{"$f":"IF('CoC Renewal Ranking Report'!E25<>\"\",'CoC Renewal Ranking Report'!E25,\"\")","v":"Perry County Transitional II"},{"$f":"IF('CoC Renewal Ranking Report'!G25<>\"\",'CoC Renewal Ranking Report'!G25,\"\")","v":"PH-RRH"},{"$f":"IF('CoC Renewal Ranking Report'!AQ25<>\"\",'CoC Renewal Ranking Report'!AK25,\"\")","v":0},3]
[{"$f":"IF('CoC Renewal Ranking Report'!D26<>\"\",'CoC Renewal Ranking Report'!D26,\"\")","v":"Housing Authority of the County of Cumberland"},{"$f":"IF('CoC Renewal Ranking Report'!E26<>\"\",'CoC Renewal Ranking Report'!E26,\"\")","v":"Perry County Veterans Program"},{"$f":"IF('CoC Renewal Ranking Report'!G26<>\"\",'CoC Renewal Ranking Report'!G26,\"\")","v":"PH"},{"$f":"IF('CoC Renewal Ranking Report'!AQ26<>\"\",'CoC Renewal Ranking Report'!AK26,\"\")","v":0},3]
[{"$f":"IF('CoC Renewal Ranking Report'!D27<>\"\",'CoC Renewal Ranking Report'!D27,\"\")","v":"Housing Authority of the County of Cumberland"},{"$f":"IF('CoC Renewal Ranking Report'!E27<>\"\",'CoC Renewal Ranking Report'!E27,\"\")","v":"Rapid Rehousing II"},{"$f":"IF('CoC Renewal Ranking Report'!G27<>\"\",'CoC Renewal Ranking Report'!G27,\"\")","v":"PH-RRH"},{"$f":"IF('CoC Renewal Ranking Report'!AQ27<>\"\",'CoC Renewal Ranking Report'!AK27,\"\")","v":0},3]
[{"$f":"IF('CoC Renewal Ranking Report'!D28<>\"\",'CoC Renewal Ranking Report'!D28,\"\")","v":"Housing Authority of the County of Cumberland"},{"$f":"IF('CoC Renewal Ranking Report'!E28<>\"\",'CoC Renewal Ranking Report'!E28,\"\")","v":"Safe Harbour SHP"},{"$f":"IF('CoC Renewal Ranking Report'!G28<>\"\",'CoC Renewal Ranking Report'!G28,\"\")","v":"PH"},{"$f":"IF('CoC Renewal Ranking Report'!AQ28<>\"\",'CoC Renewal Ranking Report'!AK28,\"\")","v":0},3]
[{"$f":"IF('CoC Renewal Ranking Report'!D29<>\"\",'CoC Renewal Ranking Report'!D29,\"\")","v":"Housing Authority of the County of Cumberland"},{"$f":"IF('CoC Renewal Ranking Report'!E29<>\"\",'CoC Renewal Ranking Report'!E29,\"\")","v":"Shelter + Care Chronic"},{"$f":"IF('CoC Renewal Ranking Report'!G29<>\"\",'CoC Renewal Ranking Report'!G29,\"\")","v":"PH"},{"$f":"IF('CoC Renewal Ranking Report'!AQ29<>\"\",'CoC Renewal Ranking Report'!AK29,\"\")","v":0},3]
[{"$f":"IF('CoC Renewal Ranking Report'!D30<>\"\",'CoC Renewal Ranking Report'!D30,\"\")","v":"Housing Authority of the County of Cumberland"},{"$f":"IF('CoC Renewal Ranking Report'!E30<>\"\",'CoC Renewal Ranking Report'!E30,\"\")","v":"Shelter + Care Non-Chronic"},{"$f":"IF('CoC Renewal Ranking Report'!G30<>\"\",'CoC Renewal Ranking Report'!G30,\"\")","v":"PH"},{"$f":"IF('CoC Renewal Ranking Report'!AQ30<>\"\",'CoC Renewal Ranking Report'!AK30,\"\")","v":0},3]
[{"$f":"IF('CoC Renewal Ranking Report'!D31<>\"\",'CoC Renewal Ranking Report'!D31,\"\")","v":"Housing Authority of the County of Cumberland"},{"$f":"IF('CoC Renewal Ranking Report'!E31<>\"\",'CoC Renewal Ranking Report'!E31,\"\")","v":"West Shore SHP I"},{"$f":"IF('CoC Renewal Ranking Report'!G31<>\"\",'CoC Renewal Ranking Report'!G31,\"\")","v":"PH"},{"$f":"IF('CoC Renewal Ranking Report'!AQ31<>\"\",'CoC Renewal Ranking Report'!AK31,\"\")","v":0},3]
[{"$f":"IF('CoC Renewal Ranking Report'!D32<>\"\",'CoC Renewal Ranking Report'!D32,\"\")","v":"Housing Authority of the County of Cumberland"},{"$f":"IF('CoC Renewal Ranking Report'!E32<>\"\",'CoC Renewal Ranking Report'!E32,\"\")","v":"West Shore SHP II"},{"$f":"IF('CoC Renewal Ranking Report'!G32<>\"\",'CoC Renewal Ranking Report'!G32,\"\")","v":"PH"},{"$f":"IF('CoC Renewal Ranking Report'!AQ32<>\"\",'CoC Renewal Ranking Report'!AK32,\"\")","v":0},3]
[{"$f":"IF('CoC Renewal Ranking Report'!D33<>\"\",'CoC Renewal Ranking Report'!D33,\"\")","v":"Housing Development Corporation of NEPA"},{"$f":"IF('CoC Renewal Ranking Report'!E33<>\"\",'CoC Renewal Ranking Report'!E33,\"\")","v":"HDC SHP 3 2016"},{"$f":"IF('CoC Renewal Ranking Report'!G33<>\"\",'CoC Renewal Ranking Report'!G33,\"\")","v":"PH"},{"$f":"IF('CoC Renewal Ranking Report'!AQ33<>\"\",'CoC Renewal Ranking Report'!AK33,\"\")","v":0},3]
[{"$f":"IF('CoC Renewal Ranking Report'!D34<>\"\",'CoC Renewal Ranking Report'!D34,\"\")","v":"Housing Development Corporation of NEPA"},{"$f":"IF('CoC Renewal Ranking Report'!E34<>\"\",'CoC Renewal Ranking Report'!E34,\"\")","v":"HDC SHP 6 2016"},{"$f":"IF('CoC Renewal Ranking Report'!G34<>\"\",'CoC Renewal Ranking Report'!G34,\"\")","v":"PH"},{"$f":"IF('CoC Renewal Ranking Report'!AQ34<>\"\",'CoC Renewal Ranking Report'!AK34,\"\")","v":0},3]
[{"$f":"IF('CoC Renewal Ranking Report'!D35<>\"\",'CoC Renewal Ranking Report'!D35,\"\")","v":"Housing Transitions, Inc."},{"$f":"IF('CoC Renewal Ranking Report'!E35<>\"\",'CoC Renewal Ranking Report'!E35,\"\")","v":"Nittany House Apartments"},{"$f":"IF('CoC Renewal Ranking Report'!G35<>\"\",'CoC Renewal Ranking Report'!G35,\"\")","v":"PH"},{"$f":"IF('CoC Renewal Ranking Report'!AQ35<>\"\",'CoC Renewal Ranking Report'!AK35,\"\")","v":0},3]
[{"$f":"IF('CoC Renewal Ranking Report'!D36<>\"\",'CoC Renewal Ranking Report'!D36,\"\")","v":"Lehigh County Conference of Churches"},{"$f":"IF('CoC Renewal Ranking Report'!E36<>\"\",'CoC Renewal Ranking Report'!E36,\"\")","v":"Outreach and Case Management for the Disabled, Chronically Homeless"},{"$f":"IF('CoC Renewal Ranking Report'!G36<>\"\",'CoC Renewal Ranking Report'!G36,\"\")","v":"SSO"},{"$f":"IF('CoC Renewal Ranking Report'!AQ36<>\"\",'CoC Renewal Ranking Report'!AK36,\"\")","v":0},3]
[{"$f":"IF('CoC Renewal Ranking Report'!D37<>\"\",'CoC Renewal Ranking Report'!D37,\"\")","v":"Lehigh County Conference of Churches"},{"$f":"IF('CoC Renewal Ranking Report'!E37<>\"\",'CoC Renewal Ranking Report'!E37,\"\")","v":"Pathways Housing"},{"$f":"IF('CoC Renewal Ranking Report'!G37<>\"\",'CoC Renewal Ranking Report'!G37,\"\")","v":"PH"},{"$f":"IF('CoC Renewal Ranking Report'!AQ37<>\"\",'CoC Renewal Ranking Report'!AK37,\"\")","v":0},3]
[{"$f":"IF('CoC Renewal Ranking Report'!D38<>\"\",'CoC Renewal Ranking Report'!D38,\"\")","v":"Lehigh County Conference of Churches"},{"$f":"IF('CoC Renewal Ranking Report'!E38<>\"\",'CoC Renewal Ranking Report'!E38,\"\")","v":"Pathways Housing 2"},{"$f":"IF('CoC Renewal Ranking Report'!G38<>\"\",'CoC Renewal Ranking Report'!G38,\"\")","v":"PH"},{"$f":"IF('CoC Renewal Ranking Report'!AQ38<>\"\",'CoC Renewal Ranking Report'!AK38,\"\")","v":0},3]
[{"$f":"IF('CoC Renewal Ranking Report'!D39<>\"\",'CoC Renewal Ranking Report'!D39,\"\")","v":"Lehigh County Conference of Churches"},{"$f":"IF('CoC Renewal Ranking Report'!E39<>\"\",'CoC Renewal Ranking Report'!E39,\"\")","v":"Pathways TBRA for Families, Youth and Veterans"},{"$f":"IF('CoC Renewal Ranking Report'!G39<>\"\",'CoC Renewal Ranking Report'!G39,\"\")","v":"PH"},{"$f":"IF('CoC Renewal Ranking Report'!AQ39<>\"\",'CoC Renewal Ranking Report'!AK39,\"\")","v":0.1},1]
[{"$f":"IF('CoC Renewal Ranking Report'!D40<>\"\",'CoC Renewal Ranking Report'!D40,\"\")","v":"Lehigh County Conference of Churches"},{"$f":"IF('CoC Renewal Ranking Report'!E40<>\"\",'CoC Renewal Ranking Report'!E40,\"\")","v":"Tenant-Based Rental Assistance for the Disabled,Chronically Homeless"},{"$f":"IF('CoC Renewal Ranking Report'!G40<>\"\",'CoC Renewal Ranking Report'!G40,\"\")","v":"PH"},{"$f":"IF('CoC Renewal Ranking Report'!AQ40<>\"\",'CoC Renewal Ranking Report'!AK40,\"\")","v":0},3]
[{"$f":"IF('CoC Renewal Ranking Report'!D41<>\"\",'CoC Renewal Ranking Report'!D41,\"\")","v":"Lehigh County Housing Authority"},{"$f":"IF('CoC Renewal Ranking Report'!E41<>\"\",'CoC Renewal Ranking Report'!E41,\"\")","v":"LCHA S+C 2016"},{"$f":"IF('CoC Renewal Ranking Report'!G41<>\"\",'CoC Renewal Ranking Report'!G41,\"\")","v":"PH"},{"$f":"IF('CoC Renewal Ranking Report'!AQ41<>\"\",'CoC Renewal Ranking Report'!AK41,\"\")","v":0},3]
[{"$f":"IF('CoC Renewal Ranking Report'!D42<>\"\",'CoC Renewal Ranking Report'!D42,\"\")","v":"Maranatha"},{"$f":"IF('CoC Renewal Ranking Report'!E42<>\"\",'CoC Renewal Ranking Report'!E42,\"\")","v":"TOTAL PERSON TRANSITIONAL PROGRAM 1 & 2"},{"$f":"IF('CoC Renewal Ranking Report'!G42<>\"\",'CoC Renewal Ranking Report'!G42,\"\")","v":"PH-RRH"},{"$f":"IF('CoC Renewal Ranking Report'!AQ42<>\"\",'CoC Renewal Ranking Report'!AK42,\"\")","v":0.2},0]
[{"$f":"IF('CoC Renewal Ranking Report'!D43<>\"\",'CoC Renewal Ranking Report'!D43,\"\")","v":"Mifflin County"},{"$f":"IF('CoC Renewal Ranking Report'!E43<>\"\",'CoC Renewal Ranking Report'!E43,\"\")","v":"Mifflin County Permanent Housing Renewal"},{"$f":"IF('CoC Renewal Ranking Report'!G43<>\"\",'CoC Renewal Ranking Report'!G43,\"\")","v":"PH"},{"$f":"IF('CoC Renewal Ranking Report'!AQ43<>\"\",'CoC Renewal Ranking Report'!AK43,\"\")","v":0},3]
[{"$f":"IF('CoC Renewal Ranking Report'!D44<>\"\",'CoC Renewal Ranking Report'!D44,\"\")","v":"Northampton County Housing Authority"},{"$f":"IF('CoC Renewal Ranking Report'!E44<>\"\",'CoC Renewal Ranking Report'!E44,\"\")","v":"NCHA S+C 2016"},{"$f":"IF('CoC Renewal Ranking Report'!G44<>\"\",'CoC Renewal Ranking Report'!G44,\"\")","v":"PH"},{"$f":"IF('CoC Renewal Ranking Report'!AQ44<>\"\",'CoC Renewal Ranking Report'!AK44,\"\")","v":0},3]
[{"$f":"IF('CoC Renewal Ranking Report'!D45<>\"\",'CoC Renewal Ranking Report'!D45,\"\")","v":"Northern Cambria Community Development Corporation"},{"$f":"IF('CoC Renewal Ranking Report'!E45<>\"\",'CoC Renewal Ranking Report'!E45,\"\")","v":"Independence Gardens"},{"$f":"IF('CoC Renewal Ranking Report'!G45<>\"\",'CoC Renewal Ranking Report'!G45,\"\")","v":"PH"},{"$f":"IF('CoC Renewal Ranking Report'!AQ45<>\"\",'CoC Renewal Ranking Report'!AK45,\"\")","v":0},3]
[{"$f":"IF('CoC Renewal Ranking Report'!D46<>\"\",'CoC Renewal Ranking Report'!D46,\"\")","v":"Northern Cambria Community Development Corporation"},{"$f":"IF('CoC Renewal Ranking Report'!E46<>\"\",'CoC Renewal Ranking Report'!E46,\"\")","v":"Schoolhouse Gardens"},{"$f":"IF('CoC Renewal Ranking Report'!G46<>\"\",'CoC Renewal Ranking Report'!G46,\"\")","v":"PH"},{"$f":"IF('CoC Renewal Ranking Report'!AQ46<>\"\",'CoC Renewal Ranking Report'!AK46,\"\")","v":0},3]
[{"$f":"IF('CoC Renewal Ranking Report'!D47<>\"\",'CoC Renewal Ranking Report'!D47,\"\")","v":"Northumberland County MH/MR"},{"$f":"IF('CoC Renewal Ranking Report'!E47<>\"\",'CoC Renewal Ranking Report'!E47,\"\")","v":"Sharing Support"},{"$f":"IF('CoC Renewal Ranking Report'!G47<>\"\",'CoC Renewal Ranking Report'!G47,\"\")","v":"PH"},{"$f":"IF('CoC Renewal Ranking Report'!AQ47<>\"\",'CoC Renewal Ranking Report'!AK47,\"\")","v":0},3]
[{"$f":"IF('CoC Renewal Ranking Report'!D48<>\"\",'CoC Renewal Ranking Report'!D48,\"\")","v":"Resources for Human Development, Inc."},{"$f":"IF('CoC Renewal Ranking Report'!E48<>\"\",'CoC Renewal Ranking Report'!E48,\"\")","v":"Crossroads Family"},{"$f":"IF('CoC Renewal Ranking Report'!G48<>\"\",'CoC Renewal Ranking Report'!G48,\"\")","v":"PH"},{"$f":"IF('CoC Renewal Ranking Report'!AQ48<>\"\",'CoC Renewal Ranking Report'!AK48,\"\")","v":0},3]
[{"$f":"IF('CoC Renewal Ranking Report'!D49<>\"\",'CoC Renewal Ranking Report'!D49,\"\")","v":"Resources for Human Development, Inc."},{"$f":"IF('CoC Renewal Ranking Report'!E49<>\"\",'CoC Renewal Ranking Report'!E49,\"\")","v":"Crossroads Housing Bonus"},{"$f":"IF('CoC Renewal Ranking Report'!G49<>\"\",'CoC Renewal Ranking Report'!G49,\"\")","v":"PH"},{"$f":"IF('CoC Renewal Ranking Report'!AQ49<>\"\",'CoC Renewal Ranking Report'!AK49,\"\")","v":0},3]
[{"$f":"IF('CoC Renewal Ranking Report'!D50<>\"\",'CoC Renewal Ranking Report'!D50,\"\")","v":"Resources for Human Development, Inc."},{"$f":"IF('CoC Renewal Ranking Report'!E50<>\"\",'CoC Renewal Ranking Report'!E50,\"\")","v":"Crossroads Individual"},{"$f":"IF('CoC Renewal Ranking Report'!G50<>\"\",'CoC Renewal Ranking Report'!G50,\"\")","v":"PH"},{"$f":"IF('CoC Renewal Ranking Report'!AQ50<>\"\",'CoC Renewal Ranking Report'!AK50,\"\")","v":0},3]
[{"$f":"IF('CoC Renewal Ranking Report'!D51<>\"\",'CoC Renewal Ranking Report'!D51,\"\")","v":"Resources for Human Development, Inc."},{"$f":"IF('CoC Renewal Ranking Report'!E51<>\"\",'CoC Renewal Ranking Report'!E51,\"\")","v":"Crossroads Schuylkill Co. Permanent Supportive Housing"},{"$f":"IF('CoC Renewal Ranking Report'!G51<>\"\",'CoC Renewal Ranking Report'!G51,\"\")","v":"PH"},{"$f":"IF('CoC Renewal Ranking Report'!AQ51<>\"\",'CoC Renewal Ranking Report'!AK51,\"\")","v":0},3]
[{"$f":"IF('CoC Renewal Ranking Report'!D52<>\"\",'CoC Renewal Ranking Report'!D52,\"\")","v":"Resources for Human Development, Inc."},{"$f":"IF('CoC Renewal Ranking Report'!E52<>\"\",'CoC Renewal Ranking Report'!E52,\"\")","v":"LV ACT Housing Supports"},{"$f":"IF('CoC Renewal Ranking Report'!G52<>\"\",'CoC Renewal Ranking Report'!G52,\"\")","v":"PH"},{"$f":"IF('CoC Renewal Ranking Report'!AQ52<>\"\",'CoC Renewal Ranking Report'!AK52,\"\")","v":0},3]
[{"$f":"IF('CoC Renewal Ranking Report'!D53<>\"\",'CoC Renewal Ranking Report'!D53,\"\")","v":"Tableland Services, Inc."},{"$f":"IF('CoC Renewal Ranking Report'!E53<>\"\",'CoC Renewal Ranking Report'!E53,\"\")","v":"Permanent Housing with Disabilities (SHP)"},{"$f":"IF('CoC Renewal Ranking Report'!G53<>\"\",'CoC Renewal Ranking Report'!G53,\"\")","v":"PH"},{"$f":"IF('CoC Renewal Ranking Report'!AQ53<>\"\",'CoC Renewal Ranking Report'!AK53,\"\")","v":0},3]
[{"$f":"IF('CoC Renewal Ranking Report'!D54<>\"\",'CoC Renewal Ranking Report'!D54,\"\")","v":"Tableland Services, Inc."},{"$f":"IF('CoC Renewal Ranking Report'!E54<>\"\",'CoC Renewal Ranking Report'!E54,\"\")","v":"Permanent Supportive Housing CH Project"},{"$f":"IF('CoC Renewal Ranking Report'!G54<>\"\",'CoC Renewal Ranking Report'!G54,\"\")","v":"PH"},{"$f":"IF('CoC Renewal Ranking Report'!AQ54<>\"\",'CoC Renewal Ranking Report'!AK54,\"\")","v":0},3]
[{"$f":"IF('CoC Renewal Ranking Report'!D55<>\"\",'CoC Renewal Ranking Report'!D55,\"\")","v":"The Salvation Army, a New York Corporation"},{"$f":"IF('CoC Renewal Ranking Report'!E55<>\"\",'CoC Renewal Ranking Report'!E55,\"\")","v":"Allentown Hospitality House Permanent Housing Program"},{"$f":"IF('CoC Renewal Ranking Report'!G55<>\"\",'CoC Renewal Ranking Report'!G55,\"\")","v":"PH"},{"$f":"IF('CoC Renewal Ranking Report'!AQ55<>\"\",'CoC Renewal Ranking Report'!AK55,\"\")","v":0},3]
[{"$f":"IF('CoC Renewal Ranking Report'!D56<>\"\",'CoC Renewal Ranking Report'!D56,\"\")","v":"The Salvation Army, a New York Corporation"},{"$f":"IF('CoC Renewal Ranking Report'!E56<>\"\",'CoC Renewal Ranking Report'!E56,\"\")","v":"Salvation Army Carlisle PH Project"},{"$f":"IF('CoC Renewal Ranking Report'!G56<>\"\",'CoC Renewal Ranking Report'!G56,\"\")","v":"PH"},{"$f":"IF('CoC Renewal Ranking Report'!AQ56<>\"\",'CoC Renewal Ranking Report'!AK56,\"\")","v":0},3]
[{"$f":"IF('CoC Renewal Ranking Report'!D57<>\"\",'CoC Renewal Ranking Report'!D57,\"\")","v":"Union-Snyder Community Action Agency"},{"$f":"IF('CoC Renewal Ranking Report'!E57<>\"\",'CoC Renewal Ranking Report'!E57,\"\")","v":"Union-Snyder Rapid ReHousing Program"},{"$f":"IF('CoC Renewal Ranking Report'!G57<>\"\",'CoC Renewal Ranking Report'!G57,\"\")","v":"PH-RRH"},{"$f":"IF('CoC Renewal Ranking Report'!AQ57<>\"\",'CoC Renewal Ranking Report'!AK57,\"\")","v":0},3]
[{"$f":"IF('CoC Renewal Ranking Report'!D58<>\"\",'CoC Renewal Ranking Report'!D58,\"\")","v":"United Christian Ministries"},{"$f":"IF('CoC Renewal Ranking Report'!E58<>\"\",'CoC Renewal Ranking Report'!E58,\"\")","v":"Kenner Garnet Renewal 2016"},{"$f":"IF('CoC Renewal Ranking Report'!G58<>\"\",'CoC Renewal Ranking Report'!G58,\"\")","v":"PH"},{"$f":"IF('CoC Renewal Ranking Report'!AQ58<>\"\",'CoC Renewal Ranking Report'!AK58,\"\")","v":9.0899999999999995E-2},1]
[{"$f":"IF('CoC Renewal Ranking Report'!D59<>\"\",'CoC Renewal Ranking Report'!D59,\"\")","v":"Valley Housing Development Corporation "},{"$f":"IF('CoC Renewal Ranking Report'!E59<>\"\",'CoC Renewal Ranking Report'!E59,\"\")","v":"VHDC SHP #2 2016"},{"$f":"IF('CoC Renewal Ranking Report'!G59<>\"\",'CoC Renewal Ranking Report'!G59,\"\")","v":"PH"},{"$f":"IF('CoC Renewal Ranking Report'!AQ59<>\"\",'CoC Renewal Ranking Report'!AK59,\"\")","v":0},3]
[{"$f":"IF('CoC Renewal Ranking Report'!D60<>\"\",'CoC Renewal Ranking Report'!D60,\"\")","v":"Valley Housing Development Corporation "},{"$f":"IF('CoC Renewal Ranking Report'!E60<>\"\",'CoC Renewal Ranking Report'!E60,\"\")","v":"VHDC SHP #3 2016"},{"$f":"IF('CoC Renewal Ranking Report'!G60<>\"\",'CoC Renewal Ranking Report'!G60,\"\")","v":"PH"},{"$f":"IF('CoC Renewal Ranking Report'!AQ60<>\"\",'CoC Renewal Ranking Report'!AK60,\"\")","v":0},3]
[{"$f":"IF('CoC Renewal Ranking Report'!D61<>\"\",'CoC Renewal Ranking Report'!D61,\"\")","v":"Valley Housing Development Corporation "},{"$f":"IF('CoC Renewal Ranking Report'!E61<>\"\",'CoC Renewal Ranking Report'!E61,\"\")","v":"VHDC SHP #4 2016"},{"$f":"IF('CoC Renewal Ranking Report'!G61<>\"\",'CoC Renewal Ranking Report'!G61,\"\")","v":"PH"},{"$f":"IF('CoC Renewal Ranking Report'!AQ61<>\"\",'CoC Renewal Ranking Report'!AK61,\"\")","v":0},3]
[{"$f":"IF('CoC Renewal Ranking Report'!D62<>\"\",'CoC Renewal Ranking Report'!D62,\"\")","v":""},{"$f":"IF('CoC Renewal Ranking Report'!E62<>\"\",'CoC Renewal Ranking Report'!E62,\"\")","v":""},{"$f":"IF('CoC Renewal Ranking Report'!G62<>\"\",'CoC Renewal Ranking Report'!G62,\"\")","v":""},{"$f":"IF('CoC Renewal Ranking Report'!AQ62<>\"\",'CoC Renewal Ranking Report'!AK62,\"\")","v":""},""]
[{"$f":"IF('CoC Renewal Ranking Report'!D63<>\"\",'CoC Renewal Ranking Report'!D63,\"\")","v":""},{"$f":"IF('CoC Renewal Ranking Report'!E63<>\"\",'CoC Renewal Ranking Report'!E63,\"\")","v":""},{"$f":"IF('CoC Renewal Ranking Report'!G63<>\"\",'CoC Renewal Ranking Report'!G63,\"\")","v":""},{"$f":"IF('CoC Renewal Ranking Report'!AQ63<>\"\",'CoC Renewal Ranking Report'!AK63,\"\")","v":""},""]
[{"$f":"IF('CoC Renewal Ranking Report'!D64<>\"\",'CoC Renewal Ranking Report'!D64,\"\")","v":""},{"$f":"IF('CoC Renewal Ranking Report'!E64<>\"\",'CoC Renewal Ranking Report'!E64,\"\")","v":""},{"$f":"IF('CoC Renewal Ranking Report'!G64<>\"\",'CoC Renewal Ranking Report'!G64,\"\")","v":""},{"$f":"IF('CoC Renewal Ranking Report'!AQ64<>\"\",'CoC Renewal Ranking Report'!AK64,\"\")","v":""},""]
[{"$f":"IF('CoC Renewal Ranking Report'!D65<>\"\",'CoC Renewal Ranking Report'!D65,\"\")","v":""},{"$f":"IF('CoC Renewal Ranking Report'!E65<>\"\",'CoC Renewal Ranking Report'!E65,\"\")","v":""},{"$f":"IF('CoC Renewal Ranking Report'!G65<>\"\",'CoC Renewal Ranking Report'!G65,\"\")","v":""},{"$f":"IF('CoC Renewal Ranking Report'!AQ65<>\"\",'CoC Renewal Ranking Report'!AK65,\"\")","v":""},""]
[{"$f":"IF('CoC Renewal Ranking Report'!D66<>\"\",'CoC Renewal Ranking Report'!D66,\"\")","v":""},{"$f":"IF('CoC Renewal Ranking Report'!E66<>\"\",'CoC Renewal Ranking Report'!E66,\"\")","v":""},{"$f":"IF('CoC Renewal Ranking Report'!G66<>\"\",'CoC Renewal Ranking Report'!G66,\"\")","v":""},{"$f":"IF('CoC Renewal Ranking Report'!AQ66<>\"\",'CoC Renewal Ranking Report'!AK66,\"\")","v":""},""]
[{"$f":"IF('CoC Renewal Ranking Report'!D67<>\"\",'CoC Renewal Ranking Report'!D67,\"\")","v":""},{"$f":"IF('CoC Renewal Ranking Report'!E67<>\"\",'CoC Renewal Ranking Report'!E67,\"\")","v":""},{"$f":"IF('CoC Renewal Ranking Report'!G67<>\"\",'CoC Renewal Ranking Report'!G67,\"\")","v":""},{"$f":"IF('CoC Renewal Ranking Report'!AQ67<>\"\",'CoC Renewal Ranking Report'!AK67,\"\")","v":""},""]
[{"$f":"IF('CoC Renewal Ranking Report'!D68<>\"\",'CoC Renewal Ranking Report'!D68,\"\")","v":""},{"$f":"IF('CoC Renewal Ranking Report'!E68<>\"\",'CoC Renewal Ranking Report'!E68,\"\")","v":""},{"$f":"IF('CoC Renewal Ranking Report'!G68<>\"\",'CoC Renewal Ranking Report'!G68,\"\")","v":""},{"$f":"IF('CoC Renewal Ranking Report'!AQ68<>\"\",'CoC Renewal Ranking Report'!AK68,\"\")","v":""},""]
[{"$f":"IF('CoC Renewal Ranking Report'!D69<>\"\",'CoC Renewal Ranking Report'!D69,\"\")","v":""},{"$f":"IF('CoC Renewal Ranking Report'!E69<>\"\",'CoC Renewal Ranking Report'!E69,\"\")","v":""},{"$f":"IF('CoC Renewal Ranking Report'!G69<>\"\",'CoC Renewal Ranking Report'!G69,\"\")","v":""},{"$f":"IF('CoC Renewal Ranking Report'!AQ69<>\"\",'CoC Renewal Ranking Report'!AK69,\"\")","v":""},""]
[{"$f":"IF('CoC Renewal Ranking Report'!D70<>\"\",'CoC Renewal Ranking Report'!D70,\"\")","v":""},{"$f":"IF('CoC Renewal Ranking Report'!E70<>\"\",'CoC Renewal Ranking Report'!E70,\"\")","v":""},{"$f":"IF('CoC Renewal Ranking Report'!G70<>\"\",'CoC Renewal Ranking Report'!G70,\"\")","v":""},{"$f":"IF('CoC Renewal Ranking Report'!AQ70<>\"\",'CoC Renewal Ranking Report'!AK70,\"\")","v":""},""]
[{"$f":"IF('CoC Renewal Ranking Report'!D71<>\"\",'CoC Renewal Ranking Report'!D71,\"\")","v":""},{"$f":"IF('CoC Renewal Ranking Report'!E71<>\"\",'CoC Renewal Ranking Report'!E71,\"\")","v":""},{"$f":"IF('CoC Renewal Ranking Report'!G71<>\"\",'CoC Renewal Ranking Report'!G71,\"\")","v":""},{"$f":"IF('CoC Renewal Ranking Report'!AQ71<>\"\",'CoC Renewal Ranking Report'!AK71,\"\")","v":""},""]
[{"$f":"IF('CoC Renewal Ranking Report'!D72<>\"\",'CoC Renewal Ranking Report'!D72,\"\")","v":""},{"$f":"IF('CoC Renewal Ranking Report'!E72<>\"\",'CoC Renewal Ranking Report'!E72,\"\")","v":""},{"$f":"IF('CoC Renewal Ranking Report'!G72<>\"\",'CoC Renewal Ranking Report'!G72,\"\")","v":""},{"$f":"IF('CoC Renewal Ranking Report'!AQ72<>\"\",'CoC Renewal Ranking Report'!AK72,\"\")","v":""},""]
[{"$f":"IF('CoC Renewal Ranking Report'!D73<>\"\",'CoC Renewal Ranking Report'!D73,\"\")","v":""},{"$f":"IF('CoC Renewal Ranking Report'!E73<>\"\",'CoC Renewal Ranking Report'!E73,\"\")","v":""},{"$f":"IF('CoC Renewal Ranking Report'!G73<>\"\",'CoC Renewal Ranking Report'!G73,\"\")","v":""},{"$f":"IF('CoC Renewal Ranking Report'!AQ73<>\"\",'CoC Renewal Ranking Report'!AK73,\"\")","v":""},""]
[{"$f":"IF('CoC Renewal Ranking Report'!D74<>\"\",'CoC Renewal Ranking Report'!D74,\"\")","v":""},{"$f":"IF('CoC Renewal Ranking Report'!E74<>\"\",'CoC Renewal Ranking Report'!E74,\"\")","v":""},{"$f":"IF('CoC Renewal Ranking Report'!G74<>\"\",'CoC Renewal Ranking Report'!G74,\"\")","v":""},{"$f":"IF('CoC Renewal Ranking Report'!AQ74<>\"\",'CoC Renewal Ranking Report'!AK74,\"\")","v":""},{"$f":"IF(A74<>\"\", IF(C74 = \"SSO\", IF(D74 <=0.04, 3, IF(AND(D74 <= 0.1, D74 > 0.04), 1, 0)), IF(D74 <= 0.02, 3, IF(AND(D74 <= 0.1, D74 > 0.02), 1, 0))), \"\")","v":""}]
[{"$f":"IF('CoC Renewal Ranking Report'!D75<>\"\",'CoC Renewal Ranking Report'!D75,\"\")","v":""},{"$f":"IF('CoC Renewal Ranking Report'!E75<>\"\",'CoC Renewal Ranking Report'!E75,\"\")","v":""},{"$f":"IF('CoC Renewal Ranking Report'!G75<>\"\",'CoC Renewal Ranking Report'!G75,\"\")","v":""},{"$f":"IF('CoC Renewal Ranking Report'!AQ75<>\"\",'CoC Renewal Ranking Report'!AK75,\"\")","v":""},""]
[{"$f":"IF('CoC Renewal Ranking Report'!D76<>\"\",'CoC Renewal Ranking Report'!D76,\"\")","v":""},{"$f":"IF('CoC Renewal Ranking Report'!E76<>\"\",'CoC Renewal Ranking Report'!E76,\"\")","v":""},{"$f":"IF('CoC Renewal Ranking Report'!G76<>\"\",'CoC Renewal Ranking Report'!G76,\"\")","v":""},{"$f":"IF('CoC Renewal Ranking Report'!AQ76<>\"\",'CoC Renewal Ranking Report'!AK76,\"\")","v":""},""]
[{"$f":"IF('CoC Renewal Ranking Report'!D77<>\"\",'CoC Renewal Ranking Report'!D77,\"\")","v":""},{"$f":"IF('CoC Renewal Ranking Report'!E77<>\"\",'CoC Renewal Ranking Report'!E77,\"\")","v":""},{"$f":"IF('CoC Renewal Ranking Report'!G77<>\"\",'CoC Renewal Ranking Report'!G77,\"\")","v":""},{"$f":"IF('CoC Renewal Ranking Report'!AQ77<>\"\",'CoC Renewal Ranking Report'!AK77,\"\")","v":""},""]
[{"$f":"IF('CoC Renewal Ranking Report'!D78<>\"\",'CoC Renewal Ranking Report'!D78,\"\")","v":""},{"$f":"IF('CoC Renewal Ranking Report'!E78<>\"\",'CoC Renewal Ranking Report'!E78,\"\")","v":""},{"$f":"IF('CoC Renewal Ranking Report'!G78<>\"\",'CoC Renewal Ranking Report'!G78,\"\")","v":""},{"$f":"IF('CoC Renewal Ranking Report'!AQ78<>\"\",'CoC Renewal Ranking Report'!AK78,\"\")","v":""},""]
[{"$f":"IF('CoC Renewal Ranking Report'!D79<>\"\",'CoC Renewal Ranking Report'!D79,\"\")","v":""},{"$f":"IF('CoC Renewal Ranking Report'!E79<>\"\",'CoC Renewal Ranking Report'!E79,\"\")","v":""},{"$f":"IF('CoC Renewal Ranking Report'!G79<>\"\",'CoC Renewal Ranking Report'!G79,\"\")","v":""},{"$f":"IF('CoC Renewal Ranking Report'!AQ79<>\"\",'CoC Renewal Ranking Report'!AK79,\"\")","v":""},""]
[{"$f":"IF('CoC Renewal Ranking Report'!D80<>\"\",'CoC Renewal Ranking Report'!D80,\"\")","v":""},{"$f":"IF('CoC Renewal Ranking Report'!E80<>\"\",'CoC Renewal Ranking Report'!E80,\"\")","v":""},{"$f":"IF('CoC Renewal Ranking Report'!G80<>\"\",'CoC Renewal Ranking Report'!G80,\"\")","v":""},{"$f":"IF('CoC Renewal Ranking Report'!AQ80<>\"\",'CoC Renewal Ranking Report'!AK80,\"\")","v":""},""]
[{"$f":"IF('CoC Renewal Ranking Report'!D81<>\"\",'CoC Renewal Ranking Report'!D81,\"\")","v":""},{"$f":"IF('CoC Renewal Ranking Report'!E81<>\"\",'CoC Renewal Ranking Report'!E81,\"\")","v":""},{"$f":"IF('CoC Renewal Ranking Report'!G81<>\"\",'CoC Renewal Ranking Report'!G81,\"\")","v":""},{"$f":"IF('CoC Renewal Ranking Report'!AQ81<>\"\",'CoC Renewal Ranking Report'!AK81,\"\")","v":""},""]
[{"$f":"IF('CoC Renewal Ranking Report'!D82<>\"\",'CoC Renewal Ranking Report'!D82,\"\")","v":""},{"$f":"IF('CoC Renewal Ranking Report'!E82<>\"\",'CoC Renewal Ranking Report'!E82,\"\")","v":""},{"$f":"IF('CoC Renewal Ranking Report'!G82<>\"\",'CoC Renewal Ranking Report'!G82,\"\")","v":""},{"$f":"IF('CoC Renewal Ranking Report'!AQ82<>\"\",'CoC Renewal Ranking Report'!AK82,\"\")","v":""},""]
[{"$f":"IF('CoC Renewal Ranking Report'!D83<>\"\",'CoC Renewal Ranking Report'!D83,\"\")","v":""},{"$f":"IF('CoC Renewal Ranking Report'!E83<>\"\",'CoC Renewal Ranking Report'!E83,\"\")","v":""},{"$f":"IF('CoC Renewal Ranking Report'!G83<>\"\",'CoC Renewal Ranking Report'!G83,\"\")","v":""},{"$f":"IF('CoC Renewal Ranking Report'!AQ83<>\"\",'CoC Renewal Ranking Report'!AK83,\"\")","v":""},""]
[{"$f":"IF('CoC Renewal Ranking Report'!D84<>\"\",'CoC Renewal Ranking Report'!D84,\"\")","v":""},{"$f":"IF('CoC Renewal Ranking Report'!E84<>\"\",'CoC Renewal Ranking Report'!E84,\"\")","v":""},{"$f":"IF('CoC Renewal Ranking Report'!G84<>\"\",'CoC Renewal Ranking Report'!G84,\"\")","v":""},{"$f":"IF('CoC Renewal Ranking Report'!AQ84<>\"\",'CoC Renewal Ranking Report'!AK84,\"\")","v":""},""]
[{"$f":"IF('CoC Renewal Ranking Report'!D85<>\"\",'CoC Renewal Ranking Report'!D85,\"\")","v":""},{"$f":"IF('CoC Renewal Ranking Report'!E85<>\"\",'CoC Renewal Ranking Report'!E85,\"\")","v":""},{"$f":"IF('CoC Renewal Ranking Report'!G85<>\"\",'CoC Renewal Ranking Report'!G85,\"\")","v":""},{"$f":"IF('CoC Renewal Ranking Report'!AQ85<>\"\",'CoC Renewal Ranking Report'!AK85,\"\")","v":""},""]
[{"$f":"IF('CoC Renewal Ranking Report'!D86<>\"\",'CoC Renewal Ranking Report'!D86,\"\")","v":""},{"$f":"IF('CoC Renewal Ranking Report'!E86<>\"\",'CoC Renewal Ranking Report'!E86,\"\")","v":""},{"$f":"IF('CoC Renewal Ranking Report'!G86<>\"\",'CoC Renewal Ranking Report'!G86,\"\")","v":""},{"$f":"IF('CoC Renewal Ranking Report'!AQ86<>\"\",'CoC Renewal Ranking Report'!AK86,\"\")","v":""},""]
[{"$f":"IF('CoC Renewal Ranking Report'!D87<>\"\",'CoC Renewal Ranking Report'!D87,\"\")","v":""},{"$f":"IF('CoC Renewal Ranking Report'!E87<>\"\",'CoC Renewal Ranking Report'!E87,\"\")","v":""},{"$f":"IF('CoC Renewal Ranking Report'!G87<>\"\",'CoC Renewal Ranking Report'!G87,\"\")","v":""},{"$f":"IF('CoC Renewal Ranking Report'!AQ87<>\"\",'CoC Renewal Ranking Report'!AK87,\"\")","v":""},""]
[{"$f":"IF('CoC Renewal Ranking Report'!D88<>\"\",'CoC Renewal Ranking Report'!D88,\"\")","v":""},{"$f":"IF('CoC Renewal Ranking Report'!E88<>\"\",'CoC Renewal Ranking Report'!E88,\"\")","v":""},{"$f":"IF('CoC Renewal Ranking Report'!G88<>\"\",'CoC Renewal Ranking Report'!G88,\"\")","v":""},{"$f":"IF('CoC Renewal Ranking Report'!AQ88<>\"\",'CoC Renewal Ranking Report'!AK88,\"\")","v":""},""]
[{"$f":"IF('CoC Renewal Ranking Report'!D89<>\"\",'CoC Renewal Ranking Report'!D89,\"\")","v":""},{"$f":"IF('CoC Renewal Ranking Report'!E89<>\"\",'CoC Renewal Ranking Report'!E89,\"\")","v":""},{"$f":"IF('CoC Renewal Ranking Report'!G89<>\"\",'CoC Renewal Ranking Report'!G89,\"\")","v":""},{"$f":"IF('CoC Renewal Ranking Report'!AQ89<>\"\",'CoC Renewal Ranking Report'!AK89,\"\")","v":""},""]
[{"$f":"IF('CoC Renewal Ranking Report'!D90<>\"\",'CoC Renewal Ranking Report'!D90,\"\")","v":""},{"$f":"IF('CoC Renewal Ranking Report'!E90<>\"\",'CoC Renewal Ranking Report'!E90,\"\")","v":""},{"$f":"IF('CoC Renewal Ranking Report'!G90<>\"\",'CoC Renewal Ranking Report'!G90,\"\")","v":""},{"$f":"IF('CoC Renewal Ranking Report'!AQ90<>\"\",'CoC Renewal Ranking Report'!AK90,\"\")","v":""},""]
[{"$f":"IF('CoC Renewal Ranking Report'!D91<>\"\",'CoC Renewal Ranking Report'!D91,\"\")","v":""},{"$f":"IF('CoC Renewal Ranking Report'!E91<>\"\",'CoC Renewal Ranking Report'!E91,\"\")","v":""},{"$f":"IF('CoC Renewal Ranking Report'!G91<>\"\",'CoC Renewal Ranking Report'!G91,\"\")","v":""},{"$f":"IF('CoC Renewal Ranking Report'!AQ91<>\"\",'CoC Renewal Ranking Report'!AK91,\"\")","v":""},""]
[{"$f":"IF('CoC Renewal Ranking Report'!D92<>\"\",'CoC Renewal Ranking Report'!D92,\"\")","v":""},{"$f":"IF('CoC Renewal Ranking Report'!E92<>\"\",'CoC Renewal Ranking Report'!E92,\"\")","v":""},{"$f":"IF('CoC Renewal Ranking Report'!G92<>\"\",'CoC Renewal Ranking Report'!G92,\"\")","v":""},{"$f":"IF('CoC Renewal Ranking Report'!AQ92<>\"\",'CoC Renewal Ranking Report'!AK92,\"\")","v":""},""]
[{"$f":"IF('CoC Renewal Ranking Report'!D93<>\"\",'CoC Renewal Ranking Report'!D93,\"\")","v":""},{"$f":"IF('CoC Renewal Ranking Report'!E93<>\"\",'CoC Renewal Ranking Report'!E93,\"\")","v":""},{"$f":"IF('CoC Renewal Ranking Report'!G93<>\"\",'CoC Renewal Ranking Report'!G93,\"\")","v":""},{"$f":"IF('CoC Renewal Ranking Report'!AQ93<>\"\",'CoC Renewal Ranking Report'!AK93,\"\")","v":""},""]
[{"$f":"IF('CoC Renewal Ranking Report'!D94<>\"\",'CoC Renewal Ranking Report'!D94,\"\")","v":""},{"$f":"IF('CoC Renewal Ranking Report'!E94<>\"\",'CoC Renewal Ranking Report'!E94,\"\")","v":""},{"$f":"IF('CoC Renewal Ranking Report'!G94<>\"\",'CoC Renewal Ranking Report'!G94,\"\")","v":""},{"$f":"IF('CoC Renewal Ranking Report'!AQ94<>\"\",'CoC Renewal Ranking Report'!AK94,\"\")","v":""},""]
[{"$f":"IF('CoC Renewal Ranking Report'!D95<>\"\",'CoC Renewal Ranking Report'!D95,\"\")","v":""},{"$f":"IF('CoC Renewal Ranking Report'!E95<>\"\",'CoC Renewal Ranking Report'!E95,\"\")","v":""},{"$f":"IF('CoC Renewal Ranking Report'!G95<>\"\",'CoC Renewal Ranking Report'!G95,\"\")","v":""},{"$f":"IF('CoC Renewal Ranking Report'!AQ95<>\"\",'CoC Renewal Ranking Report'!AK95,\"\")","v":""},""]
[{"$f":"IF('CoC Renewal Ranking Report'!D96<>\"\",'CoC Renewal Ranking Report'!D96,\"\")","v":""},{"$f":"IF('CoC Renewal Ranking Report'!E96<>\"\",'CoC Renewal Ranking Report'!E96,\"\")","v":""},{"$f":"IF('CoC Renewal Ranking Report'!G96<>\"\",'CoC Renewal Ranking Report'!G96,\"\")","v":""},{"$f":"IF('CoC Renewal Ranking Report'!AQ96<>\"\",'CoC Renewal Ranking Report'!AK96,\"\")","v":""},""]
[{"$f":"IF('CoC Renewal Ranking Report'!D97<>\"\",'CoC Renewal Ranking Report'!D97,\"\")","v":""},{"$f":"IF('CoC Renewal Ranking Report'!E97<>\"\",'CoC Renewal Ranking Report'!E97,\"\")","v":""},{"$f":"IF('CoC Renewal Ranking Report'!G97<>\"\",'CoC Renewal Ranking Report'!G97,\"\")","v":""},{"$f":"IF('CoC Renewal Ranking Report'!AQ97<>\"\",'CoC Renewal Ranking Report'!AK97,\"\")","v":""},""]
[{"$f":"IF('CoC Renewal Ranking Report'!D98<>\"\",'CoC Renewal Ranking Report'!D98,\"\")","v":""},{"$f":"IF('CoC Renewal Ranking Report'!E98<>\"\",'CoC Renewal Ranking Report'!E98,\"\")","v":""},{"$f":"IF('CoC Renewal Ranking Report'!G98<>\"\",'CoC Renewal Ranking Report'!G98,\"\")","v":""},{"$f":"IF('CoC Renewal Ranking Report'!AQ98<>\"\",'CoC Renewal Ranking Report'!AK98,\"\")","v":""},""]
[{"$f":"IF('CoC Renewal Ranking Report'!D99<>\"\",'CoC Renewal Ranking Report'!D99,\"\")","v":""},{"$f":"IF('CoC Renewal Ranking Report'!E99<>\"\",'CoC Renewal Ranking Report'!E99,\"\")","v":""},{"$f":"IF('CoC Renewal Ranking Report'!G99<>\"\",'CoC Renewal Ranking Report'!G99,\"\")","v":""},{"$f":"IF('CoC Renewal Ranking Report'!AQ99<>\"\",'CoC Renewal Ranking Report'!AK99,\"\")","v":""},""]
[{"$f":"IF('CoC Renewal Ranking Report'!D100<>\"\",'CoC Renewal Ranking Report'!D100,\"\")","v":""},{"$f":"IF('CoC Renewal Ranking Report'!E100<>\"\",'CoC Renewal Ranking Report'!E100,\"\")","v":""},{"$f":"IF('CoC Renewal Ranking Report'!G100<>\"\",'CoC Renewal Ranking Report'!G100,\"\")","v":""},{"$f":"IF('CoC Renewal Ranking Report'!AQ100<>\"\",'CoC Renewal Ranking Report'!AK100,\"\")","v":""},""]
[{"$f":"IF('CoC Renewal Ranking Report'!D101<>\"\",'CoC Renewal Ranking Report'!D101,\"\")","v":""},{"$f":"IF('CoC Renewal Ranking Report'!E101<>\"\",'CoC Renewal Ranking Report'!E101,\"\")","v":""},{"$f":"IF('CoC Renewal Ranking Report'!G101<>\"\",'CoC Renewal Ranking Report'!G101,\"\")","v":""},{"$f":"IF('CoC Renewal Ranking Report'!AQ101<>\"\",'CoC Renewal Ranking Report'!AK101,\"\")","v":""},""]
[{"$f":"IF('CoC Renewal Ranking Report'!D102<>\"\",'CoC Renewal Ranking Report'!D102,\"\")","v":""},{"$f":"IF('CoC Renewal Ranking Report'!E102<>\"\",'CoC Renewal Ranking Report'!E102,\"\")","v":""},{"$f":"IF('CoC Renewal Ranking Report'!G102<>\"\",'CoC Renewal Ranking Report'!G102,\"\")","v":""},{"$f":"IF('CoC Renewal Ranking Report'!AQ102<>\"\",'CoC Renewal Ranking Report'!AK102,\"\")","v":""},""]
[{"$f":"IF('CoC Renewal Ranking Report'!D101<>\"\",'CoC Renewal Ranking Report'!D101,\"\")","v":""},{"$f":"IF('CoC Renewal Ranking Report'!E101<>\"\",'CoC Renewal Ranking Report'!E101,\"\")","v":""},{"$f":"IF('CoC Renewal Ranking Report'!G101<>\"\",'CoC Renewal Ranking Report'!G101,\"\")","v":""},{"$f":"IF('CoC Renewal Ranking Report'!AQ101<>\"\",'CoC Renewal Ranking Report'!AK101,\"\")","v":""},{"$f":"IF(A103<>\"\", IF(C103 = \"SSO\", IF(D103 <=0.04, 3, IF(AND(D103 <= 0.1, D103 > 0.04), 1, 0)), IF(D103 <= 0.02, 3, IF(AND(D103 <= 0.1, D103 > 0.02), 1, 0))), \"\")","v":""}]

{"sheet":"Length of Stay (TH Only)","index":6,"n_rows":102,"n_cols":5,"rows_kept":102,"cut":false,"hidden":false,"merged":[]}
[null,"Length of time homeless/ length of stay in TH program "]
[null,"Criteria (in Days)"]
[null,"<= 267 = 0 points"]
[null,"268 - 293 = -1 points"]
[null,"294 - 319 = -2 points"]
[null,"320 - 364 = -3 points"]
[null,"365+ = -4 points"]
[]
["Agency Name","Project Name","Project Type","LOS (Days)","Score"]
[{"$f":"IF('CoC Renewal Ranking Report'!D9<>\"\",'CoC Renewal Ranking Report'!D9,\"\")","v":""},{"$f":"IF('CoC Renewal Ranking Report'!E9<>\"\",'CoC Renewal Ranking Report'!E9,\"\")","v":""},{"$f":"IF('CoC Renewal Ranking Report'!G9<>\"\",'CoC Renewal Ranking Report'!G9,\"\")","v":""},{"$f":"IF('CoC Renewal Ranking Report'!G9<>\"\",'CoC Renewal Ranking Report'!L9,\"\")","v":""},{"$f":"IF($D10<>\"\",IF(C10=\"TH\", IF(D10 >= 365, -4, IF(AND(D10 < 365, D10 >= 320), -3, IF(AND(D10 < 320, D10 >= 294), -2, IF(AND(D10 < 293, D10 >= 268), -1, 0)))), \"\"), \"\")","v":""}]
[{"$f":"IF('CoC Renewal Ranking Report'!D10<>\"\",'CoC Renewal Ranking Report'!D10,\"\")","v":"Blair County Community Action Program"},{"$f":"IF('CoC Renewal Ranking Report'!E10<>\"\",'CoC Renewal Ranking Report'!E10,\"\")","v":"Rapid Re-Housing"},{"$f":"IF('CoC Renewal Ranking Report'!G10<>\"\",'CoC Renewal Ranking Report'!G10,\"\")","v":"PH-RRH"},{"$f":"IF('CoC Renewal Ranking Report'!G10<>\"\",'CoC Renewal Ranking Report'!L10,\"\")","v":0},{"$f":"IF($D11<>\"\",IF(C11=\"TH\", IF(D11 >= 365, -4, IF(AND(D11 < 365, D11 >= 320), -3, IF(AND(D11 < 320, D11 >= 294), -2, IF(AND(D11 < 293, D11 >= 268), -1, 0)))), \"\"), \"\")","v":""}]
[{"$f":"IF('CoC Renewal Ranking Report'!D11<>\"\",'CoC Renewal Ranking Report'!D11,\"\")","v":"Cambria County"},{"$f":"IF('CoC Renewal Ranking Report'!E11<>\"\",'CoC Renewal Ranking Report'!E11,\"\")","v":"Cambria County Comprehensive Housing Program"},{"$f":"IF('CoC Renewal Ranking Report'!G11<>\"\",'CoC Renewal Ranking Report'!G11,\"\")","v":"PH"},{"$f":"IF('CoC Renewal Ranking Report'!G11<>\"\",'CoC Renewal Ranking Report'!L11,\"\")","v":0},""]
[{"$f":"IF('CoC Renewal Ranking Report'!D12<>\"\",'CoC Renewal Ranking Report'!D12,\"\")","v":"Catholic Charities of the Diocese of Allentown"},{"$f":"IF('CoC Renewal Ranking Report'!E12<>\"\",'CoC Renewal Ranking Report'!E12,\"\")","v":"Catholic Charities Allentown Permanent Housing Program"},{"$f":"IF('CoC Renewal Ranking Report'!G12<>\"\",'CoC Renewal Ranking Report'!G12,\"\")","v":"PH"},{"$f":"IF('CoC Renewal Ranking Report'!G12<>\"\",'CoC Renewal Ranking Report'!L12,\"\")","v":0},""]
[{"$f":"IF('CoC Renewal Ranking Report'!D13<>\"\",'CoC Renewal Ranking Report'!D13,\"\")","v":"Catholic Social Services of the Diocese of Scranton, Inc."},{"$f":"IF('CoC Renewal Ranking Report'!E13<>\"\",'CoC Renewal Ranking Report'!E13,\"\")","v":"PSHP Pike County"},{"$f":"IF('CoC Renewal Ranking Report'!G13<>\"\",'CoC Renewal Ranking Report'!G13,\"\")","v":"PH"},{"$f":"IF('CoC Renewal Ranking Report'!G13<>\"\",'CoC Renewal Ranking Report'!L13,\"\")","v":0},""]
[{"$f":"IF('CoC Renewal Ranking Report'!D14<>\"\",'CoC Renewal Ranking Report'!D14,\"\")","v":"Catholic Social Services of the Diocese of Scranton, Inc."},{"$f":"IF('CoC Renewal Ranking Report'!E14<>\"\",'CoC Renewal Ranking Report'!E14,\"\")","v":"Rural Permanent Supportive Housing Program"},{"$f":"IF('CoC Renewal Ranking Report'!G14<>\"\",'CoC Renewal Ranking Report'!G14,\"\")","v":"PH"},{"$f":"IF('CoC Renewal Ranking Report'!G14<>\"\",'CoC Renewal Ranking Report'!L14,\"\")","v":0},""]
[{"$f":"IF('CoC Renewal Ranking Report'!D15<>\"\",'CoC Renewal Ranking Report'!D15,\"\")","v":"Catholic Social Services of the Diocese of Scranton, Inc."},{"$f":"IF('CoC Renewal Ranking Report'!E15<>\"\",'CoC Renewal Ranking Report'!E15,\"\")","v":"Susquehanna/Wayne PSHP"},{"$f":"IF('CoC Renewal Ranking Report'!G15<>\"\",'CoC Renewal Ranking Report'!G15,\"\")","v":"PH"},{"$f":"IF('CoC Renewal Ranking Report'!G15<>\"\",'CoC Renewal Ranking Report'!L15,\"\")","v":0},""]
[{"$f":"IF('CoC Renewal Ranking Report'!D16<>\"\",'CoC Renewal Ranking Report'!D16,\"\")","v":"Center for Community Action"},{"$f":"IF('CoC Renewal Ranking Report'!E16<>\"\",'CoC Renewal Ranking Report'!E16,\"\")","v":"Bedford,Fulton, Huntingdon RRH"},{"$f":"IF('CoC Renewal Ranking Report'!G16<>\"\",'CoC Renewal Ranking Report'!G16,\"\")","v":"PH-RRH"},{"$f":"IF('CoC Renewal Ranking Report'!G16<>\"\",'CoC Renewal Ranking Report'!L16,\"\")","v":0},""]
[{"$f":"IF('CoC Renewal Ranking Report'!D17<>\"\",'CoC Renewal Ranking Report'!D17,\"\")","v":"County of Franklin"},{"$f":"IF('CoC Renewal Ranking Report'!E17<>\"\",'CoC Renewal Ranking Report'!E17,\"\")","v":"Franklin/ Fulton S+C Project 2017"},{"$f":"IF('CoC Renewal Ranking Report'!G17<>\"\",'CoC Renewal Ranking Report'!G17,\"\")","v":"PH"},{"$f":"IF('CoC Renewal Ranking Report'!G17<>\"\",'CoC Renewal Ranking Report'!L17,\"\")","v":0},""]
[{"$f":"IF('CoC Renewal Ranking Report'!D18<>\"\",'CoC Renewal Ranking Report'!D18,\"\")","v":"County of Franklin"},{"$f":"IF('CoC Renewal Ranking Report'!E18<>\"\",'CoC Renewal Ranking Report'!E18,\"\")","v":"Franklin/Fulton Homeless Assistance Project 2017"},{"$f":"IF('CoC Renewal Ranking Report'!G18<>\"\",'CoC Renewal Ranking Report'!G18,\"\")","v":"PH"},{"$f":"IF('CoC Renewal Ranking Report'!G18<>\"\",'CoC Renewal Ranking Report'!L18,\"\")","v":0},""]
[{"$f":"IF('CoC Renewal Ranking Report'!D19<>\"\",'CoC Renewal Ranking Report'!D19,\"\")","v":"County of Lycoming DBA Lycoming- Clinton Joinder Board"},{"$f":"IF('CoC Renewal Ranking Report'!E19<>\"\",'CoC Renewal Ranking Report'!E19,\"\")","v":"Lycoming/Clinton Renewal #5"},{"$f":"IF('CoC Renewal Ranking Report'!G19<>\"\",'CoC Renewal Ranking Report'!G19,\"\")","v":"PH"},{"$f":"IF('CoC Renewal Ranking Report'!G19<>\"\",'CoC Renewal Ranking Report'!L19,\"\")","v":0},""]
[{"$f":"IF('CoC Renewal Ranking Report'!D20<>\"\",'CoC Renewal Ranking Report'!D20,\"\")","v":"Fitzmaurice Community Services, Inc"},{"$f":"IF('CoC Renewal Ranking Report'!E20<>\"\",'CoC Renewal Ranking Report'!E20,\"\")","v":"Pathfinders"},{"$f":"IF('CoC Renewal Ranking Report'!G20<>\"\",'CoC Renewal Ranking Report'!G20,\"\")","v":"PH"},{"$f":"IF('CoC Renewal Ranking Report'!G20<>\"\",'CoC Renewal Ranking Report'!L20,\"\")","v":0},""]
[{"$f":"IF('CoC Renewal Ranking Report'!D21<>\"\",'CoC Renewal Ranking Report'!D21,\"\")","v":"Home Nursing AgencyCommunity Services"},{"$f":"IF('CoC Renewal Ranking Report'!E21<>\"\",'CoC Renewal Ranking Report'!E21,\"\")","v":"Housing Assistance and Rental Program"},{"$f":"IF('CoC Renewal Ranking Report'!G21<>\"\",'CoC Renewal Ranking Report'!G21,\"\")","v":"PH"},{"$f":"IF('CoC Renewal Ranking Report'!G21<>\"\",'CoC Renewal Ranking Report'!L21,\"\")","v":0},""]
[{"$f":"IF('CoC Renewal Ranking Report'!D22<>\"\",'CoC Renewal Ranking Report'!D22,\"\")","v":"Housing Authority of Monroe County"},{"$f":"IF('CoC Renewal Ranking Report'!E22<>\"\",'CoC Renewal Ranking Report'!E22,\"\")","v":"Renewal Application Shelter Plus Care MC 2016"},{"$f":"IF('CoC Renewal Ranking Report'!G22<>\"\",'CoC Renewal Ranking Report'!G22,\"\")","v":"PH"},{"$f":"IF('CoC Renewal Ranking Report'!G22<>\"\",'CoC Renewal Ranking Report'!L22,\"\")","v":0},""]
[{"$f":"IF('CoC Renewal Ranking Report'!D23<>\"\",'CoC Renewal Ranking Report'!D23,\"\")","v":"Housing Authority of the County of Cumberland"},{"$f":"IF('CoC Renewal Ranking Report'!E23<>\"\",'CoC Renewal Ranking Report'!E23,\"\")","v":"Carlisle Supportive Housing Program"},{"$f":"IF('CoC Renewal Ranking Report'!G23<>\"\",'CoC Renewal Ranking Report'!G23,\"\")","v":"PH"},{"$f":"IF('CoC Renewal Ranking Report'!G23<>\"\",'CoC Renewal Ranking Report'!L23,\"\")","v":0},""]
[{"$f":"IF('CoC Renewal Ranking Report'!D24<>\"\",'CoC Renewal Ranking Report'!D24,\"\")","v":"Housing Authority of the County of Cumberland"},{"$f":"IF('CoC Renewal Ranking Report'!E24<>\"\",'CoC Renewal Ranking Report'!E24,\"\")","v":"Perry County Permanent SHP"},{"$f":"IF('CoC Renewal Ranking Report'!G24<>\"\",'CoC Renewal Ranking Report'!G24,\"\")","v":"PH"},{"$f":"IF('CoC Renewal Ranking Report'!G24<>\"\",'CoC Renewal Ranking Report'!L24,\"\")","v":0},""]
[{"$f":"IF('CoC Renewal Ranking Report'!D25<>\"\",'CoC Renewal Ranking Report'!D25,\"\")","v":"Housing Authority of the County of Cumberland"},{"$f":"IF('CoC Renewal Ranking Report'!E25<>\"\",'CoC Renewal Ranking Report'!E25,\"\")","v":"Perry County Transitional II"},{"$f":"IF('CoC Renewal Ranking Report'!G25<>\"\",'CoC Renewal Ranking Report'!G25,\"\")","v":"PH-RRH"},{"$f":"IF('CoC Renewal Ranking Report'!G25<>\"\",'CoC Renewal Ranking Report'!L25,\"\")","v":0},""]
[{"$f":"IF('CoC Renewal Ranking Report'!D26<>\"\",'CoC Renewal Ranking Report'!D26,\"\")","v":"Housing Authority of the County of Cumberland"},{"$f":"IF('CoC Renewal Ranking Report'!E26<>\"\",'CoC Renewal Ranking Report'!E26,\"\")","v":"Perry County Veterans Program"},{"$f":"IF('CoC Renewal Ranking Report'!G26<>\"\",'CoC Renewal Ranking Report'!G26,\"\")","v":"PH"},{"$f":"IF('CoC Renewal Ranking Report'!G26<>\"\",'CoC Renewal Ranking Report'!L26,\"\")","v":0},""]
[{"$f":"IF('CoC Renewal Ranking Report'!D27<>\"\",'CoC Renewal Ranking Report'!D27,\"\")","v":"Housing Authority of the County of Cumberland"},{"$f":"IF('CoC Renewal Ranking Report'!E27<>\"\",'CoC Renewal Ranking Report'!E27,\"\")","v":"Rapid Rehousing II"},{"$f":"IF('CoC Renewal Ranking Report'!G27<>\"\",'CoC Renewal Ranking Report'!G27,\"\")","v":"PH-RRH"},{"$f":"IF('CoC Renewal Ranking Report'!G27<>\"\",'CoC Renewal Ranking Report'!L27,\"\")","v":0},""]
[{"$f":"IF('CoC Renewal Ranking Report'!D28<>\"\",'CoC Renewal Ranking Report'!D28,\"\")","v":"Housing Authority of the County of Cumberland"},{"$f":"IF('CoC Renewal Ranking Report'!E28<>\"\",'CoC Renewal Ranking Report'!E28,\"\")","v":"Safe Harbour SHP"},{"$f":"IF('CoC Renewal Ranking Report'!G28<>\"\",'CoC Renewal Ranking Report'!G28,\"\")","v":"PH"},{"$f":"IF('CoC Renewal Ranking Report'!G28<>\"\",'CoC Renewal Ranking Report'!L28,\"\")","v":0},""]
[{"$f":"IF('CoC Renewal Ranking Report'!D29<>\"\",'CoC Renewal Ranking Report'!D29,\"\")","v":"Housing Authority of the County of Cumberland"},{"$f":"IF('CoC Renewal Ranking Report'!E29<>\"\",'CoC Renewal Ranking Report'!E29,\"\")","v":"Shelter + Care Chronic"},{"$f":"IF('CoC Renewal Ranking Report'!G29<>\"\",'CoC Renewal Ranking Report'!G29,\"\")","v":"PH"},{"$f":"IF('CoC Renewal Ranking Report'!G29<>\"\",'CoC Renewal Ranking Report'!L29,\"\")","v":0},""]
[{"$f":"IF('CoC Renewal Ranking Report'!D30<>\"\",'CoC Renewal Ranking Report'!D30,\"\")","v":"Housing Authority of the County of Cumberland"},{"$f":"IF('CoC Renewal Ranking Report'!E30<>\"\",'CoC Renewal Ranking Report'!E30,\"\")","v":"Shelter + Care Non-Chronic"},{"$f":"IF('CoC Renewal Ranking Report'!G30<>\"\",'CoC Renewal Ranking Report'!G30,\"\")","v":"PH"},{"$f":"IF('CoC Renewal Ranking Report'!G30<>\"\",'CoC Renewal Ranking Report'!L30,\"\")","v":0},""]
[{"$f":"IF('CoC Renewal Ranking Report'!D31<>\"\",'CoC Renewal Ranking Report'!D31,\"\")","v":"Housing Authority of the County of Cumberland"},{"$f":"IF('CoC Renewal Ranking Report'!E31<>\"\",'CoC Renewal Ranking Report'!E31,\"\")","v":"West Shore SHP I"},{"$f":"IF('CoC Renewal Ranking Report'!G31<>\"\",'CoC Renewal Ranking Report'!G31,\"\")","v":"PH"},{"$f":"IF('CoC Renewal Ranking Report'!G31<>\"\",'CoC Renewal Ranking Report'!L31,\"\")","v":0},""]
[{"$f":"IF('CoC Renewal Ranking Report'!D32<>\"\",'CoC Renewal Ranking Report'!D32,\"\")","v":"Housing Authority of the County of Cumberland"},{"$f":"IF('CoC Renewal Ranking Report'!E32<>\"\",'CoC Renewal Ranking Report'!E32,\"\")","v":"West Shore SHP II"},{"$f":"IF('CoC Renewal Ranking Report'!G32<>\"\",'CoC Renewal Ranking Report'!G32,\"\")","v":"PH"},{"$f":"IF('CoC Renewal Ranking Report'!G32<>\"\",'CoC Renewal Ranking Report'!L32,\"\")","v":0},""]
[{"$f":"IF('CoC Renewal Ranking Report'!D33<>\"\",'CoC Renewal Ranking Report'!D33,\"\")","v":"Housing Development Corporation of NEPA"},{"$f":"IF('CoC Renewal Ranking Report'!E33<>\"\",'CoC Renewal Ranking Report'!E33,\"\")","v":"HDC SHP 3 2016"},{"$f":"IF('CoC Renewal Ranking Report'!G33<>\"\",'CoC Renewal Ranking Report'!G33,\"\")","v":"PH"},{"$f":"IF('CoC Renewal Ranking Report'!G33<>\"\",'CoC Renewal Ranking Report'!L33,\"\")","v":0},""]
[{"$f":"IF('CoC Renewal Ranking Report'!D34<>\"\",'CoC Renewal Ranking Report'!D34,\"\")","v":"Housing Development Corporation of NEPA"},{"$f":"IF('CoC Renewal Ranking Report'!E34<>\"\",'CoC Renewal Ranking Report'!E34,\"\")","v":"HDC SHP 6 2016"},{"$f":"IF('CoC Renewal Ranking Report'!G34<>\"\",'CoC Renewal Ranking Report'!G34,\"\")","v":"PH"},{"$f":"IF('CoC Renewal Ranking Report'!G34<>\"\",'CoC Renewal Ranking Report'!L34,\"\")","v":0},""]
[{"$f":"IF('CoC Renewal Ranking Report'!D35<>\"\",'CoC Renewal Ranking Report'!D35,\"\")","v":"Housing Transitions, Inc."},{"$f":"IF('CoC Renewal Ranking Report'!E35<>\"\",'CoC Renewal Ranking Report'!E35,\"\")","v":"Nittany House Apartments"},{"$f":"IF('CoC Renewal Ranking Report'!G35<>\"\",'CoC Renewal Ranking Report'!G35,\"\")","v":"PH"},{"$f":"IF('CoC Renewal Ranking Report'!G35<>\"\",'CoC Renewal Ranking Report'!L35,\"\")","v":0},""]
[{"$f":"IF('CoC Renewal Ranking Report'!D36<>\"\",'CoC Renewal Ranking Report'!D36,\"\")","v":"Lehigh County Conference of Churches"},{"$f":"IF('CoC Renewal Ranking Report'!E36<>\"\",'CoC Renewal Ranking Report'!E36,\"\")","v":"Outreach and Case Management for the Disabled, Chronically Homeless"},{"$f":"IF('CoC Renewal Ranking Report'!G36<>\"\",'CoC Renewal Ranking Report'!G36,\"\")","v":"SSO"},{"$f":"IF('CoC Renewal Ranking Report'!G36<>\"\",'CoC Renewal Ranking Report'!L36,\"\")","v":0},""]
[{"$f":"IF('CoC Renewal Ranking Report'!D37<>\"\",'CoC Renewal Ranking Report'!D37,\"\")","v":"Lehigh County Conference of Churches"},{"$f":"IF('CoC Renewal Ranking Report'!E37<>\"\",'CoC Renewal Ranking Report'!E37,\"\")","v":"Pathways Housing"},{"$f":"IF('CoC Renewal Ranking Report'!G37<>\"\",'CoC Renewal Ranking Report'!G37,\"\")","v":"PH"},{"$f":"IF('CoC Renewal Ranking Report'!G37<>\"\",'CoC Renewal Ranking Report'!L37,\"\")","v":0},""]
[{"$f":"IF('CoC Renewal Ranking Report'!D38<>\"\",'CoC Renewal Ranking Report'!D38,\"\")","v":"Lehigh County Conference of Churches"},{"$f":"IF('CoC Renewal Ranking Report'!E38<>\"\",'CoC Renewal Ranking Report'!E38,\"\")","v":"Pathways Housing 2"},{"$f":"IF('CoC Renewal Ranking Report'!G38<>\"\",'CoC Renewal Ranking Report'!G38,\"\")","v":"PH"},{"$f":"IF('CoC Renewal Ranking Report'!G38<>\"\",'CoC Renewal Ranking Report'!L38,\"\")","v":0},""]
[{"$f":"IF('CoC Renewal Ranking Report'!D39<>\"\",'CoC Renewal Ranking Report'!D39,\"\")","v":"Lehigh County Conference of Churches"},{"$f":"IF('CoC Renewal Ranking Report'!E39<>\"\",'CoC Renewal Ranking Report'!E39,\"\")","v":"Pathways TBRA for Families, Youth and Veterans"},{"$f":"IF('CoC Renewal Ranking Report'!G39<>\"\",'CoC Renewal Ranking Report'!G39,\"\")","v":"PH"},{"$f":"IF('CoC Renewal Ranking Report'!G39<>\"\",'CoC Renewal Ranking Report'!L39,\"\")","v":0},""]
[{"$f":"IF('CoC Renewal Ranking Report'!D40<>\"\",'CoC Renewal Ranking Report'!D40,\"\")","v":"Lehigh County Conference of Churches"},{"$f":"IF('CoC Renewal Ranking Report'!E40<>\"\",'CoC Renewal Ranking Report'!E40,\"\")","v":"Tenant-Based Rental Assistance for the Disabled,Chronically Homeless"},{"$f":"IF('CoC Renewal Ranking Report'!G40<>\"\",'CoC Renewal Ranking Report'!G40,\"\")","v":"PH"},{"$f":"IF('CoC Renewal Ranking Report'!G40<>\"\",'CoC Renewal Ranking Report'!L40,\"\")","v":0},""]
[{"$f":"IF('CoC Renewal Ranking Report'!D41<>\"\",'CoC Renewal Ranking Report'!D41,\"\")","v":"Lehigh County Housing Authority"},{"$f":"IF('CoC Renewal Ranking Report'!E41<>\"\",'CoC Renewal Ranking Report'!E41,\"\")","v":"LCHA S+C 2016"},{"$f":"IF('CoC Renewal Ranking Report'!G41<>\"\",'CoC Renewal Ranking Report'!G41,\"\")","v":"PH"},{"$f":"IF('CoC Renewal Ranking Report'!G41<>\"\",'CoC Renewal Ranking Report'!L41,\"\")","v":0},""]
[{"$f":"IF('CoC Renewal Ranking Report'!D42<>\"\",'CoC Renewal Ranking Report'!D42,\"\")","v":"Maranatha"},{"$f":"IF('CoC Renewal Ranking Report'!E42<>\"\",'CoC Renewal Ranking Report'!E42,\"\")","v":"TOTAL PERSON TRANSITIONAL PROGRAM 1 & 2"},{"$f":"IF('CoC Renewal Ranking Report'!G42<>\"\",'CoC Renewal Ranking Report'!G42,\"\")","v":"PH-RRH"},{"$f":"IF('CoC Renewal Ranking Report'!G42<>\"\",'CoC Renewal Ranking Report'!L42,\"\")","v":0},""]
[{"$f":"IF('CoC Renewal Ranking Report'!D43<>\"\",'CoC Renewal Ranking Report'!D43,\"\")","v":"Mifflin County"},{"$f":"IF('CoC Renewal Ranking Report'!E43<>\"\",'CoC Renewal Ranking Report'!E43,\"\")","v":"Mifflin County Permanent Housing Renewal"},{"$f":"IF('CoC Renewal Ranking Report'!G43<>\"\",'CoC Renewal Ranking Report'!G43,\"\")","v":"PH"},{"$f":"IF('CoC Renewal Ranking Report'!G43<>\"\",'CoC Renewal Ranking Report'!L43,\"\")","v":0},""]
[{"$f":"IF('CoC Renewal Ranking Report'!D44<>\"\",'CoC Renewal Ranking Report'!D44,\"\")","v":"Northampton County Housing Authority"},{"$f":"IF('CoC Renewal Ranking Report'!E44<>\"\",'CoC Renewal Ranking Report'!E44,\"\")","v":"NCHA S+C 2016"},{"$f":"IF('CoC Renewal Ranking Report'!G44<>\"\",'CoC Renewal Ranking Report'!G44,\"\")","v":"PH"},{"$f":"IF('CoC Renewal Ranking Report'!G44<>\"\",'CoC Renewal Ranking Report'!L44,\"\")","v":0},""]
[{"$f":"IF('CoC Renewal Ranking Report'!D45<>\"\",'CoC Renewal Ranking Report'!D45,\"\")","v":"Northern Cambria Community Development Corporation"},{"$f":"IF('CoC Renewal Ranking Report'!E45<>\"\",'CoC Renewal Ranking Report'!E45,\"\")","v":"Independence Gardens"},{"$f":"IF('CoC Renewal Ranking Report'!G45<>\"\",'CoC Renewal Ranking Report'!G45,\"\")","v":"PH"},{"$f":"IF('CoC Renewal Ranking Report'!G45<>\"\",'CoC Renewal Ranking Report'!L45,\"\")","v":0},""]
[{"$f":"IF('CoC Renewal Ranking Report'!D46<>\"\",'CoC Renewal Ranking Report'!D46,\"\")","v":"Northern Cambria Community Development Corporation"},{"$f":"IF('CoC Renewal Ranking Report'!E46<>\"\",'CoC Renewal Ranking Report'!E46,\"\")","v":"Schoolhouse Gardens"},{"$f":"IF('CoC Renewal Ranking Report'!G46<>\"\",'CoC Renewal Ranking Report'!G46,\"\")","v":"PH"},{"$f":"IF('CoC Renewal Ranking Report'!G46<>\"\",'CoC Renewal Ranking Report'!L46,\"\")","v":0},""]
[{"$f":"IF('CoC Renewal Ranking Report'!D47<>\"\",'CoC Renewal Ranking Report'!D47,\"\")","v":"Northumberland County MH/MR"},{"$f":"IF('CoC Renewal Ranking Report'!E47<>\"\",'CoC Renewal Ranking Report'!E47,\"\")","v":"Sharing Support"},{"$f":"IF('CoC Renewal Ranking Report'!G47<>\"\",'CoC Renewal Ranking Report'!G47,\"\")","v":"PH"},{"$f":"IF('CoC Renewal Ranking Report'!G47<>\"\",'CoC Renewal Ranking Report'!L47,\"\")","v":0},""]
[{"$f":"IF('CoC Renewal Ranking Report'!D48<>\"\",'CoC Renewal Ranking Report'!D48,\"\")","v":"Resources for Human Development, Inc."},{"$f":"IF('CoC Renewal Ranking Report'!E48<>\"\",'CoC Renewal Ranking Report'!E48,\"\")","v":"Crossroads Family"},{"$f":"IF('CoC Renewal Ranking Report'!G48<>\"\",'CoC Renewal Ranking Report'!G48,\"\")","v":"PH"},{"$f":"IF('CoC Renewal Ranking Report'!G48<>\"\",'CoC Renewal Ranking Report'!L48,\"\")","v":0},""]
[{"$f":"IF('CoC Renewal Ranking Report'!D49<>\"\",'CoC Renewal Ranking Report'!D49,\"\")","v":"Resources for Human Development, Inc."},{"$f":"IF('CoC Renewal Ranking Report'!E49<>\"\",'CoC Renewal Ranking Report'!E49,\"\")","v":"Crossroads Housing Bonus"},{"$f":"IF('CoC Renewal Ranking Report'!G49<>\"\",'CoC Renewal Ranking Report'!G49,\"\")","v":"PH"},{"$f":"IF('CoC Renewal Ranking Report'!G49<>\"\",'CoC Renewal Ranking Report'!L49,\"\")","v":0},""]
[{"$f":"IF('CoC Renewal Ranking Report'!D50<>\"\",'CoC Renewal Ranking Report'!D50,\"\")","v":"Resources for Human Development, Inc."},{"$f":"IF('CoC Renewal Ranking Report'!E50<>\"\",'CoC Renewal Ranking Report'!E50,\"\")","v":"Crossroads Individual"},{"$f":"IF('CoC Renewal Ranking Report'!G50<>\"\",'CoC Renewal Ranking Report'!G50,\"\")","v":"PH"},{"$f":"IF('CoC Renewal Ranking Report'!G50<>\"\",'CoC Renewal Ranking Report'!L50,\"\")","v":0},""]
[{"$f":"IF('CoC Renewal Ranking Report'!D51<>\"\",'CoC Renewal Ranking Report'!D51,\"\")","v":"Resources for Human Development, Inc."},{"$f":"IF('CoC Renewal Ranking Report'!E51<>\"\",'CoC Renewal Ranking Report'!E51,\"\")","v":"Crossroads Schuylkill Co. Permanent Supportive Housing"},{"$f":"IF('CoC Renewal Ranking Report'!G51<>\"\",'CoC Renewal Ranking Report'!G51,\"\")","v":"PH"},{"$f":"IF('CoC Renewal Ranking Report'!G51<>\"\",'CoC Renewal Ranking Report'!L51,\"\")","v":0},""]
[{"$f":"IF('CoC Renewal Ranking Report'!D52<>\"\",'CoC Renewal Ranking Report'!D52,\"\")","v":"Resources for Human Development, Inc."},{"$f":"IF('CoC Renewal Ranking Report'!E52<>\"\",'CoC Renewal Ranking Report'!E52,\"\")","v":"LV ACT Housing Supports"},{"$f":"IF('CoC Renewal Ranking Report'!G52<>\"\",'CoC Renewal Ranking Report'!G52,\"\")","v":"PH"},{"$f":"IF('CoC Renewal Ranking Report'!G52<>\"\",'CoC Renewal Ranking Report'!L52,\"\")","v":0},""]
[{"$f":"IF('CoC Renewal Ranking Report'!D53<>\"\",'CoC Renewal Ranking Report'!D53,\"\")","v":"Tableland Services, Inc."},{"$f":"IF('CoC Renewal Ranking Report'!E53<>\"\",'CoC Renewal Ranking Report'!E53,\"\")","v":"Permanent Housing with Disabilities (SHP)"},{"$f":"IF('CoC Renewal Ranking Report'!G53<>\"\",'CoC Renewal Ranking Report'!G53,\"\")","v":"PH"},{"$f":"IF('CoC Renewal Ranking Report'!G53<>\"\",'CoC Renewal Ranking Report'!L53,\"\")","v":0},""]
[{"$f":"IF('CoC Renewal Ranking Report'!D54<>\"\",'CoC Renewal Ranking Report'!D54,\"\")","v":"Tableland Services, Inc."},{"$f":"IF('CoC Renewal Ranking Report'!E54<>\"\",'CoC Renewal Ranking Report'!E54,\"\")","v":"Permanent Supportive Housing CH Project"},{"$f":"IF('CoC Renewal Ranking Report'!G54<>\"\",'CoC Renewal Ranking Report'!G54,\"\")","v":"PH"},{"$f":"IF('CoC Renewal Ranking Report'!G54<>\"\",'CoC Renewal Ranking Report'!L54,\"\")","v":0},""]
[{"$f":"IF('CoC Renewal Ranking Report'!D55<>\"\",'CoC Renewal Ranking Report'!D55,\"\")","v":"The Salvation Army, a New York Corporation"},{"$f":"IF('CoC Renewal Ranking Report'!E55<>\"\",'CoC Renewal Ranking Report'!E55,\"\")","v":"Allentown Hospitality House Permanent Housing Program"},{"$f":"IF('CoC Renewal Ranking Report'!G55<>\"\",'CoC Renewal Ranking Report'!G55,\"\")","v":"PH"},{"$f":"IF('CoC Renewal Ranking Report'!G55<>\"\",'CoC Renewal Ranking Report'!L55,\"\")","v":0},""]
[{"$f":"IF('CoC Renewal Ranking Report'!D56<>\"\",'CoC Renewal Ranking Report'!D56,\"\")","v":"The Salvation Army, a New York Corporation"},{"$f":"IF('CoC Renewal Ranking Report'!E56<>\"\",'CoC Renewal Ranking Report'!E56,\"\")","v":"Salvation Army Carlisle PH Project"},{"$f":"IF('CoC Renewal Ranking Report'!G56<>\"\",'CoC Renewal Ranking Report'!G56,\"\")","v":"PH"},{"$f":"IF('CoC Renewal Ranking Report'!G56<>\"\",'CoC Renewal Ranking Report'!L56,\"\")","v":0},""]
[{"$f":"IF('CoC Renewal Ranking Report'!D57<>\"\",'CoC Renewal Ranking Report'!D57,\"\")","v":"Union-Snyder Community Action Agency"},{"$f":"IF('CoC Renewal Ranking Report'!E57<>\"\",'CoC Renewal Ranking Report'!E57,\"\")","v":"Union-Snyder Rapid ReHousing Program"},{"$f":"IF('CoC Renewal Ranking Report'!G57<>\"\",'CoC Renewal Ranking Report'!G57,\"\")","v":"PH-RRH"},{"$f":"IF('CoC Renewal Ranking Report'!G57<>\"\",'CoC Renewal Ranking Report'!L57,\"\")","v":0},""]
[{"$f":"IF('CoC Renewal Ranking Report'!D58<>\"\",'CoC Renewal Ranking Report'!D58,\"\")","v":"United Christian Ministries"},{"$f":"IF('CoC Renewal Ranking Report'!E58<>\"\",'CoC Renewal Ranking Report'!E58,\"\")","v":"Kenner Garnet Renewal 2016"},{"$f":"IF('CoC Renewal Ranking Report'!G58<>\"\",'CoC Renewal Ranking Report'!G58,\"\")","v":"PH"},{"$f":"IF('CoC Renewal Ranking Report'!G58<>\"\",'CoC Renewal Ranking Report'!L58,\"\")","v":0},""]
[{"$f":"IF('CoC Renewal Ranking Report'!D59<>\"\",'CoC Renewal Ranking Report'!D59,\"\")","v":"Valley Housing Development Corporation "},{"$f":"IF('CoC Renewal Ranking Report'!E59<>\"\",'CoC Renewal Ranking Report'!E59,\"\")","v":"VHDC SHP #2 2016"},{"$f":"IF('CoC Renewal Ranking Report'!G59<>\"\",'CoC Renewal Ranking Report'!G59,\"\")","v":"PH"},{"$f":"IF('CoC Renewal Ranking Report'!G59<>\"\",'CoC Renewal Ranking Report'!L59,\"\")","v":0},""]
[{"$f":"IF('CoC Renewal Ranking Report'!D60<>\"\",'CoC Renewal Ranking Report'!D60,\"\")","v":"Valley Housing Development Corporation "},{"$f":"IF('CoC Renewal Ranking Report'!E60<>\"\",'CoC Renewal Ranking Report'!E60,\"\")","v":"VHDC SHP #3 2016"},{"$f":"IF('CoC Renewal Ranking Report'!G60<>\"\",'CoC Renewal Ranking Report'!G60,\"\")","v":"PH"},{"$f":"IF('CoC Renewal Ranking Report'!G60<>\"\",'CoC Renewal Ranking Report'!L60,\"\")","v":0},""]
[{"$f":"IF('CoC Renewal Ranking Report'!D61<>\"\",'CoC Renewal Ranking Report'!D61,\"\")","v":"Valley Housing Development Corporation "},{"$f":"IF('CoC Renewal Ranking Report'!E61<>\"\",'CoC Renewal Ranking Report'!E61,\"\")","v":"VHDC SHP #4 2016"},{"$f":"IF('CoC Renewal Ranking Report'!G61<>\"\",'CoC Renewal Ranking Report'!G61,\"\")","v":"PH"},{"$f":"IF('CoC Renewal Ranking Report'!G61<>\"\",'CoC Renewal Ranking Report'!L61,\"\")","v":0},""]
[{"$f":"IF('CoC Renewal Ranking Report'!D62<>\"\",'CoC Renewal Ranking Report'!D62,\"\")","v":""},{"$f":"IF('CoC Renewal Ranking Report'!E62<>\"\",'CoC Renewal Ranking Report'!E62,\"\")","v":""},{"$f":"IF('CoC Renewal Ranking Report'!G62<>\"\",'CoC Renewal Ranking Report'!G62,\"\")","v":""},{"$f":"IF('CoC Renewal Ranking Report'!G62<>\"\",'CoC Renewal Ranking Report'!L62,\"\")","v":""},""]
[{"$f":"IF('CoC Renewal Ranking Report'!D63<>\"\",'CoC Renewal Ranking Report'!D63,\"\")","v":""},{"$f":"IF('CoC Renewal Ranking Report'!E63<>\"\",'CoC Renewal Ranking Report'!E63,\"\")","v":""},{"$f":"IF('CoC Renewal Ranking Report'!G63<>\"\",'CoC Renewal Ranking Report'!G63,\"\")","v":""},{"$f":"IF('CoC Renewal Ranking Report'!G63<>\"\",'CoC Renewal Ranking Report'!L63,\"\")","v":""},""]
[{"$f":"IF('CoC Renewal Ranking Report'!D64<>\"\",'CoC Renewal Ranking Report'!D64,\"\")","v":""},{"$f":"IF('CoC Renewal Ranking Report'!E64<>\"\",'CoC Renewal Ranking Report'!E64,\"\")","v":""},{"$f":"IF('CoC Renewal Ranking Report'!G64<>\"\",'CoC Renewal Ranking Report'!G64,\"\")","v":""},{"$f":"IF('CoC Renewal Ranking Report'!G64<>\"\",'CoC Renewal Ranking Report'!L64,\"\")","v":""},""]
[{"$f":"IF('CoC Renewal Ranking Report'!D65<>\"\",'CoC Renewal Ranking Report'!D65,\"\")","v":""},{"$f":"IF('CoC Renewal Ranking Report'!E65<>\"\",'CoC Renewal Ranking Report'!E65,\"\")","v":""},{"$f":"IF('CoC Renewal Ranking Report'!G65<>\"\",'CoC Renewal Ranking Report'!G65,\"\")","v":""},{"$f":"IF('CoC Renewal Ranking Report'!G65<>\"\",'CoC Renewal Ranking Report'!L65,\"\")","v":""},""]
[{"$f":"IF('CoC Renewal Ranking Report'!D66<>\"\",'CoC Renewal Ranking Report'!D66,\"\")","v":""},{"$f":"IF('CoC Renewal Ranking Report'!E66<>\"\",'CoC Renewal Ranking Report'!E66,\"\")","v":""},{"$f":"IF('CoC Renewal Ranking Report'!G66<>\"\",'CoC Renewal Ranking Report'!G66,\"\")","v":""},{"$f":"IF('CoC Renewal Ranking Report'!G66<>\"\",'CoC Renewal Ranking Report'!L66,\"\")","v":""},""]
[{"$f":"IF('CoC Renewal Ranking Report'!D67<>\"\",'CoC Renewal Ranking Report'!D67,\"\")","v":""},{"$f":"IF('CoC Renewal Ranking Report'!E67<>\"\",'CoC Renewal Ranking Report'!E67,\"\")","v":""},{"$f":"IF('CoC Renewal Ranking Report'!G67<>\"\",'CoC Renewal Ranking Report'!G67,\"\")","v":""},{"$f":"IF('CoC Renewal Ranking Report'!G67<>\"\",'CoC Renewal Ranking Report'!L67,\"\")","v":""},""]
[{"$f":"IF('CoC Renewal Ranking Report'!D68<>\"\",'CoC Renewal Ranking Report'!D68,\"\")","v":""},{"$f":"IF('CoC Renewal Ranking Report'!E68<>\"\",'CoC Renewal Ranking Report'!E68,\"\")","v":""},{"$f":"IF('CoC Renewal Ranking Report'!G68<>\"\",'CoC Renewal Ranking Report'!G68,\"\")","v":""},{"$f":"IF('CoC Renewal Ranking Report'!G68<>\"\",'CoC Renewal Ranking Report'!L68,\"\")","v":""},""]
[{"$f":"IF('CoC Renewal Ranking Report'!D69<>\"\",'CoC Renewal Ranking Report'!D69,\"\")","v":""},{"$f":"IF('CoC Renewal Ranking Report'!E69<>\"\",'CoC Renewal Ranking Report'!E69,\"\")","v":""},{"$f":"IF('CoC Renewal Ranking Report'!G69<>\"\",'CoC Renewal Ranking Report'!G69,\"\")","v":""},{"$f":"IF('CoC Renewal Ranking Report'!G69<>\"\",'CoC Renewal Ranking Report'!L69,\"\")","v":""},""]
[{"$f":"IF('CoC Renewal Ranking Report'!D70<>\"\",'CoC Renewal Ranking Report'!D70,\"\")","v":""},{"$f":"IF('CoC Renewal Ranking Report'!E70<>\"\",'CoC Renewal Ranking Report'!E70,\"\")","v":""},{"$f":"IF('CoC Renewal Ranking Report'!G70<>\"\",'CoC Renewal Ranking Report'!G70,\"\")","v":""},{"$f":"IF('CoC Renewal Ranking Report'!G70<>\"\",'CoC Renewal Ranking Report'!L70,\"\")","v":""},""]
[{"$f":"IF('CoC Renewal Ranking Report'!D71<>\"\",'CoC Renewal Ranking Report'!D71,\"\")","v":""},{"$f":"IF('CoC Renewal Ranking Report'!E71<>\"\",'CoC Renewal Ranking Report'!E71,\"\")","v":""},{"$f":"IF('CoC Renewal Ranking Report'!G71<>\"\",'CoC Renewal Ranking Report'!G71,\"\")","v":""},{"$f":"IF('CoC Renewal Ranking Report'!G71<>\"\",'CoC Renewal Ranking Report'!L71,\"\")","v":""},""]
[{"$f":"IF('CoC Renewal Ranking Report'!D72<>\"\",'CoC Renewal Ranking Report'!D72,\"\")","v":""},{"$f":"IF('CoC Renewal Ranking Report'!E72<>\"\",'CoC Renewal Ranking Report'!E72,\"\")","v":""},{"$f":"IF('CoC Renewal Ranking Report'!G72<>\"\",'CoC Renewal Ranking Report'!G72,\"\")","v":""},{"$f":"IF('CoC Renewal Ranking Report'!G72<>\"\",'CoC Renewal Ranking Report'!L72,\"\")","v":""},""]
[{"$f":"IF('CoC Renewal Ranking Report'!D73<>\"\",'CoC Renewal Ranking Report'!D73,\"\")","v":""},{"$f":"IF('CoC Renewal Ranking Report'!E73<>\"\",'CoC Renewal Ranking Report'!E73,\"\")","v":""},{"$f":"IF('CoC Renewal Ranking Report'!G73<>\"\",'CoC Renewal Ranking Report'!G73,\"\")","v":""},{"$f":"IF('CoC Renewal Ranking Report'!G73<>\"\",'CoC Renewal Ranking Report'!L73,\"\")","v":""},""]
[{"$f":"IF('CoC Renewal Ranking Report'!D74<>\"\",'CoC Renewal Ranking Report'!D74,\"\")","v":""},{"$f":"IF('CoC Renewal Ranking Report'!E74<>\"\",'CoC Renewal Ranking Report'!E74,\"\")","v":""},{"$f":"IF('CoC Renewal Ranking Report'!G74<>\"\",'CoC Renewal Ranking Report'!G74,\"\")","v":""},{"$f":"IF('CoC Renewal Ranking Report'!G74<>\"\",'CoC Renewal Ranking Report'!L74,\"\")","v":""},{"$f":"IF($D75<>\"\",IF(C75=\"TH\", IF(D75 >= 365, -4, IF(AND(D75 < 365, D75 >= 320), -3, IF(AND(D75 < 320, D75 >= 294), -2, IF(AND(D75 < 293, D75 >= 268), -1, 0)))), \"\"), \"\")","v":""}]
[{"$f":"IF('CoC Renewal Ranking Report'!D75<>\"\",'CoC Renewal Ranking Report'!D75,\"\")","v":""},{"$f":"IF('CoC Renewal Ranking Report'!E75<>\"\",'CoC Renewal Ranking Report'!E75,\"\")","v":""},{"$f":"IF('CoC Renewal Ranking Report'!G75<>\"\",'CoC Renewal Ranking Report'!G75,\"\")","v":""},{"$f":"IF('CoC Renewal Ranking Report'!G75<>\"\",'CoC Renewal Ranking Report'!L75,\"\")","v":""},""]
[{"$f":"IF('CoC Renewal Ranking Report'!D76<>\"\",'CoC Renewal Ranking Report'!D76,\"\")","v":""},{"$f":"IF('CoC Renewal Ranking Report'!E76<>\"\",'CoC Renewal Ranking Report'!E76,\"\")","v":""},{"$f":"IF('CoC Renewal Ranking Report'!G76<>\"\",'CoC Renewal Ranking Report'!G76,\"\")","v":""},{"$f":"IF('CoC Renewal Ranking Report'!G76<>\"\",'CoC Renewal Ranking Report'!L76,\"\")","v":""},""]
[{"$f":"IF('CoC Renewal Ranking Report'!D77<>\"\",'CoC Renewal Ranking Report'!D77,\"\")","v":""},{"$f":"IF('CoC Renewal Ranking Report'!E77<>\"\",'CoC Renewal Ranking Report'!E77,\"\")","v":""},{"$f":"IF('CoC Renewal Ranking Report'!G77<>\"\",'CoC Renewal Ranking Report'!G77,\"\")","v":""},{"$f":"IF('CoC Renewal Ranking Report'!G77<>\"\",'CoC Renewal Ranking Report'!L77,\"\")","v":""},""]
[{"$f":"IF('CoC Renewal Ranking Report'!D78<>\"\",'CoC Renewal Ranking Report'!D78,\"\")","v":""},{"$f":"IF('CoC Renewal Ranking Report'!E78<>\"\",'CoC Renewal Ranking Report'!E78,\"\")","v":""},{"$f":"IF('CoC Renewal Ranking Report'!G78<>\"\",'CoC Renewal Ranking Report'!G78,\"\")","v":""},{"$f":"IF('CoC Renewal Ranking Report'!G78<>\"\",'CoC Renewal Ranking Report'!L78,\"\")","v":""},""]
[{"$f":"IF('CoC Renewal Ranking Report'!D79<>\"\",'CoC Renewal Ranking Report'!D79,\"\")","v":""},{"$f":"IF('CoC Renewal Ranking Report'!E79<>\"\",'CoC Renewal Ranking Report'!E79,\"\")","v":""},{"$f":"IF('CoC Renewal Ranking Report'!G79<>\"\",'CoC Renewal Ranking Report'!G79,\"\")","v":""},{"$f":"IF('CoC Renewal Ranking Report'!G79<>\"\",'CoC Renewal Ranking Report'!L79,\"\")","v":""},""]
[{"$f":"IF('CoC Renewal Ranking Report'!D80<>\"\",'CoC Renewal Ranking Report'!D80,\"\")","v":""},{"$f":"IF('CoC Renewal Ranking Report'!E80<>\"\",'CoC Renewal Ranking Report'!E80,\"\")","v":""},{"$f":"IF('CoC Renewal Ranking Report'!G80<>\"\",'CoC Renewal Ranking Report'!G80,\"\")","v":""},{"$f":"IF('CoC Renewal Ranking Report'!G80<>\"\",'CoC Renewal Ranking Report'!L80,\"\")","v":""},""]
[{"$f":"IF('CoC Renewal Ranking Report'!D81<>\"\",'CoC Renewal Ranking Report'!D81,\"\")","v":""},{"$f":"IF('CoC Renewal Ranking Report'!E81<>\"\",'CoC Renewal Ranking Report'!E81,\"\")","v":""},{"$f":"IF('CoC Renewal Ranking Report'!G81<>\"\",'CoC Renewal Ranking Report'!G81,\"\")","v":""},{"$f":"IF('CoC Renewal Ranking Report'!G81<>\"\",'CoC Renewal Ranking Report'!L81,\"\")","v":""},""]
[{"$f":"IF('CoC Renewal Ranking Report'!D82<>\"\",'CoC Renewal Ranking Report'!D82,\"\")","v":""},{"$f":"IF('CoC Renewal Ranking Report'!E82<>\"\",'CoC Renewal Ranking Report'!E82,\"\")","v":""},{"$f":"IF('CoC Renewal Ranking Report'!G82<>\"\",'CoC Renewal Ranking Report'!G82,\"\")","v":""},{"$f":"IF('CoC Renewal Ranking Report'!G82<>\"\",'CoC Renewal Ranking Report'!L82,\"\")","v":""},""]
[{"$f":"IF('CoC Renewal Ranking Report'!D83<>\"\",'CoC Renewal Ranking Report'!D83,\"\")","v":""},{"$f":"IF('CoC Renewal Ranking Report'!E83<>\"\",'CoC Renewal Ranking Report'!E83,\"\")","v":""},{"$f":"IF('CoC Renewal Ranking Report'!G83<>\"\",'CoC Renewal Ranking Report'!G83,\"\")","v":""},{"$f":"IF('CoC Renewal Ranking Report'!G83<>\"\",'CoC Renewal Ranking Report'!L83,\"\")","v":""},""]
[{"$f":"IF('CoC Renewal Ranking Report'!D84<>\"\",'CoC Renewal Ranking Report'!D84,\"\")","v":""},{"$f":"IF('CoC Renewal Ranking Report'!E84<>\"\",'CoC Renewal Ranking Report'!E84,\"\")","v":""},{"$f":"IF('CoC Renewal Ranking Report'!G84<>\"\",'CoC Renewal Ranking Report'!G84,\"\")","v":""},{"$f":"IF('CoC Renewal Ranking Report'!G84<>\"\",'CoC Renewal Ranking Report'!L84,\"\")","v":""},""]
[{"$f":"IF('CoC Renewal Ranking Report'!D85<>\"\",'CoC Renewal Ranking Report'!D85,\"\")","v":""},{"$f":"IF('CoC Renewal Ranking Report'!E85<>\"\",'CoC Renewal Ranking Report'!E85,\"\")","v":""},{"$f":"IF('CoC Renewal Ranking Report'!G85<>\"\",'CoC Renewal Ranking Report'!G85,\"\")","v":""},{"$f":"IF('CoC Renewal Ranking Report'!G85<>\"\",'CoC Renewal Ranking Report'!L85,\"\")","v":""},""]
[{"$f":"IF('CoC Renewal Ranking Report'!D86<>\"\",'CoC Renewal Ranking Report'!D86,\"\")","v":""},{"$f":"IF('CoC Renewal Ranking Report'!E86<>\"\",'CoC Renewal Ranking Report'!E86,\"\")","v":""},{"$f":"IF('CoC Renewal Ranking Report'!G86<>\"\",'CoC Renewal Ranking Report'!G86,\"\")","v":""},{"$f":"IF('CoC Renewal Ranking Report'!G86<>\"\",'CoC Renewal Ranking Report'!L86,\"\")","v":""},""]
[{"$f":"IF('CoC Renewal Ranking Report'!D87<>\"\",'CoC Renewal Ranking Report'!D87,\"\")","v":""},{"$f":"IF('CoC Renewal Ranking Report'!E87<>\"\",'CoC Renewal Ranking Report'!E87,\"\")","v":""},{"$f":"IF('CoC Renewal Ranking Report'!G87<>\"\",'CoC Renewal Ranking Report'!G87,\"\")","v":""},{"$f":"IF('CoC Renewal Ranking Report'!G87<>\"\",'CoC Renewal Ranking Report'!L87,\"\")","v":""},""]
[{"$f":"IF('CoC Renewal Ranking Report'!D88<>\"\",'CoC Renewal Ranking Report'!D88,\"\")","v":""},{"$f":"IF('CoC Renewal Ranking Report'!E88<>\"\",'CoC Renewal Ranking Report'!E88,\"\")","v":""},{"$f":"IF('CoC Renewal Ranking Report'!G88<>\"\",'CoC Renewal Ranking Report'!G88,\"\")","v":""},{"$f":"IF('CoC Renewal Ranking Report'!G88<>\"\",'CoC Renewal Ranking Report'!L88,\"\")","v":""},""]
[{"$f":"IF('CoC Renewal Ranking Report'!D89<>\"\",'CoC Renewal Ranking Report'!D89,\"\")","v":""},{"$f":"IF('CoC Renewal Ranking Report'!E89<>\"\",'CoC Renewal Ranking Report'!E89,\"\")","v":""},{"$f":"IF('CoC Renewal Ranking Report'!G89<>\"\",'CoC Renewal Ranking Report'!G89,\"\")","v":""},{"$f":"IF('CoC Renewal Ranking Report'!G89<>\"\",'CoC Renewal Ranking Report'!L89,\"\")","v":""},""]
[{"$f":"IF('CoC Renewal Ranking Report'!D90<>\"\",'CoC Renewal Ranking Report'!D90,\"\")","v":""},{"$f":"IF('CoC Renewal Ranking Report'!E90<>\"\",'CoC Renewal Ranking Report'!E90,\"\")","v":""},{"$f":"IF('CoC Renewal Ranking Report'!G90<>\"\",'CoC Renewal Ranking Report'!G90,\"\")","v":""},{"$f":"IF('CoC Renewal Ranking Report'!G90<>\"\",'CoC Renewal Ranking Report'!L90,\"\")","v":""},""]
[{"$f":"IF('CoC Renewal Ranking Report'!D91<>\"\",'CoC Renewal Ranking Report'!D91,\"\")","v":""},{"$f":"IF('CoC Renewal Ranking Report'!E91<>\"\",'CoC Renewal Ranking Report'!E91,\"\")","v":""},{"$f":"IF('CoC Renewal Ranking Report'!G91<>\"\",'CoC Renewal Ranking Report'!G91,\"\")","v":""},{"$f":"IF('CoC Renewal Ranking Report'!G91<>\"\",'CoC Renewal Ranking Report'!L91,\"\")","v":""},""]
[{"$f":"IF('CoC Renewal Ranking Report'!D92<>\"\",'CoC Renewal Ranking Report'!D92,\"\")","v":""},{"$f":"IF('CoC Renewal Ranking Report'!E92<>\"\",'CoC Renewal Ranking Report'!E92,\"\")","v":""},{"$f":"IF('CoC Renewal Ranking Report'!G92<>\"\",'CoC Renewal Ranking Report'!G92,\"\")","v":""},{"$f":"IF('CoC Renewal Ranking Report'!G92<>\"\",'CoC Renewal Ranking Report'!L92,\"\")","v":""},""]
[{"$f":"IF('CoC Renewal Ranking Report'!D93<>\"\",'CoC Renewal Ranking Report'!D93,\"\")","v":""},{"$f":"IF('CoC Renewal Ranking Report'!E93<>\"\",'CoC Renewal Ranking Report'!E93,\"\")","v":""},{"$f":"IF('CoC Renewal Ranking Report'!G93<>\"\",'CoC Renewal Ranking Report'!G93,\"\")","v":""},{"$f":"IF('CoC Renewal Ranking Report'!G93<>\"\",'CoC Renewal Ranking Report'!L93,\"\")","v":""},""]
[{"$f":"IF('CoC Renewal Ranking Report'!D94<>\"\",'CoC Renewal Ranking Report'!D94,\"\")","v":""},{"$f":"IF('CoC Renewal Ranking Report'!E94<>\"\",'CoC Renewal Ranking Report'!E94,\"\")","v":""},{"$f":"IF('CoC Renewal Ranking Report'!G94<>\"\",'CoC Renewal Ranking Report'!G94,\"\")","v":""},{"$f":"IF('CoC Renewal Ranking Report'!G94<>\"\",'CoC Renewal Ranking Report'!L94,\"\")","v":""},""]
[{"$f":"IF('CoC Renewal Ranking Report'!D95<>\"\",'CoC Renewal Ranking Report'!D95,\"\")","v":""},{"$f":"IF('CoC Renewal Ranking Report'!E95<>\"\",'CoC Renewal Ranking Report'!E95,\"\")","v":""},{"$f":"IF('CoC Renewal Ranking Report'!G95<>\"\",'CoC Renewal Ranking Report'!G95,\"\")","v":""},{"$f":"IF('CoC Renewal Ranking Report'!G95<>\"\",'CoC Renewal Ranking Report'!L95,\"\")","v":""},""]
[{"$f":"IF('CoC Renewal Ranking Report'!D96<>\"\",'CoC Renewal Ranking Report'!D96,\"\")","v":""},{"$f":"IF('CoC Renewal Ranking Report'!E96<>\"\",'CoC Renewal Ranking Report'!E96,\"\")","v":""},{"$f":"IF('CoC Renewal Ranking Report'!G96<>\"\",'CoC Renewal Ranking Report'!G96,\"\")","v":""},{"$f":"IF('CoC Renewal Ranking Report'!G96<>\"\",'CoC Renewal Ranking Report'!L96,\"\")","v":""},""]
[{"$f":"IF('CoC Renewal Ranking Report'!D97<>\"\",'CoC Renewal Ranking Report'!D97,\"\")","v":""},{"$f":"IF('CoC Renewal Ranking Report'!E97<>\"\",'CoC Renewal Ranking Report'!E97,\"\")","v":""},{"$f":"IF('CoC Renewal Ranking Report'!G97<>\"\",'CoC Renewal Ranking Report'!G97,\"\")","v":""},{"$f":"IF('CoC Renewal Ranking Report'!G97<>\"\",'CoC Renewal Ranking Report'!L97,\"\")","v":""},""]
[{"$f":"IF('CoC Renewal Ranking Report'!D98<>\"\",'CoC Renewal Ranking Report'!D98,\"\")","v":""},{"$f":"IF('CoC Renewal Ranking Report'!E98<>\"\",'CoC Renewal Ranking Report'!E98,\"\")","v":""},{"$f":"IF('CoC Renewal Ranking Report'!G98<>\"\",'CoC Renewal Ranking Report'!G98,\"\")","v":""},{"$f":"IF('CoC Renewal Ranking Report'!G98<>\"\",'CoC Renewal Ranking Report'!L98,\"\")","v":""},""]
[{"$f":"IF('CoC Renewal Ranking Report'!D99<>\"\",'CoC Renewal Ranking Report'!D99,\"\")","v":""},{"$f":"IF('CoC Renewal Ranking Report'!E99<>\"\",'CoC Renewal Ranking Report'!E99,\"\")","v":""},{"$f":"IF('CoC Renewal Ranking Report'!G99<>\"\",'CoC Renewal Ranking Report'!G99,\"\")","v":""},{"$f":"IF('CoC Renewal Ranking Report'!G99<>\"\",'CoC Renewal Ranking Report'!L99,\"\")","v":""},""]
[{"$f":"IF('CoC Renewal Ranking Report'!D100<>\"\",'CoC Renewal Ranking Report'!D100,\"\")","v":""},{"$f":"IF('CoC Renewal Ranking Report'!E100<>\"\",'CoC Renewal Ranking Report'!E100,\"\")","v":""},{"$f":"IF('CoC Renewal Ranking Report'!G100<>\"\",'CoC Renewal Ranking Report'!G100,\"\")","v":""},{"$f":"IF('CoC Renewal Ranking Report'!G100<>\"\",'CoC Renewal Ranking Report'!L100,\"\")","v":""},""]
[{"$f":"IF('CoC Renewal Ranking Report'!D101<>\"\",'CoC Renewal Ranking Report'!D101,\"\")","v":""},{"$f":"IF('CoC Renewal Ranking Report'!E101<>\"\",'CoC Renewal Ranking Report'!E101,\"\")","v":""},{"$f":"IF('CoC Renewal Ranking Report'!G101<>\"\",'CoC Renewal Ranking Report'!G101,\"\")","v":""},{"$f":"IF('CoC Renewal Ranking Report'!G101<>\"\",'CoC Renewal Ranking Report'!L101,\"\")","v":""},""]

{"sheet":"Income Growth Measure","index":7,"n_rows":102,"n_cols":6,"rows_kept":102,"cut":false,"hidden":false,"merged":[]}
[null,"Income Growth"]
[null,"45%+ = 8 points"]
[null,"40 - 44% = 5 points"]
[null,"35 - 39% = 2 points"]
[null,"40%+ [Dedicated Youth] = 8 points"]
[null,"30 - 39% [Dedicated Youth] = 5 points"]
[]
["Agency Name","Project Name","Project Type","Dedicated Youth","%","Score"]
[{"$f":"IF('CoC Renewal Ranking Report'!D9<>\"\",'CoC Renewal Ranking Report'!D9,\"\")","v":""},{"$f":"IF('CoC Renewal Ranking Report'!E9<>\"\",'CoC Renewal Ranking Report'!E9,\"\")","v":""},{"$f":"IF('CoC Renewal Ranking Report'!G9<>\"\",'CoC Renewal Ranking Report'!G9,\"\")","v":""},{"$f":"IF('CoC Renewal Ranking Report'!G9<>\"\",'CoC Renewal Ranking Report'!BK9,\"\")","v":""},{"$f":"IF('CoC Renewal Ranking Report'!X9<>\"\",'CoC Renewal Ranking Report'!X9,\"\")","v":""},{"$f":"IF(AND(A9<>\"\",E9<>\"\"),IF(D9=\"Yes\",IF(E9>=0.4,8,IF(AND(E9<0.4,E9>=0.3),5,0)),IF(E9>=0.45,8,IF(AND(E9<0.45,E9>=0.4),5,IF(AND(E9<0.4,E9>=0.35),2,0)))),\"\")","v":""}]
[{"$f":"IF('CoC Renewal Ranking Report'!D10<>\"\",'CoC Renewal Ranking Report'!D10,\"\")","v":"Blair County Community Action Program"},{"$f":"IF('CoC Renewal Ranking Report'!E10<>\"\",'CoC Renewal Ranking Report'!E10,\"\")","v":"Rapid Re-Housing"},{"$f":"IF('CoC Renewal Ranking Report'!G10<>\"\",'CoC Renewal Ranking Report'!G10,\"\")","v":"PH-RRH"},{"$f":"IF('CoC Renewal Ranking Report'!G10<>\"\",'CoC Renewal Ranking Report'!BK10,\"\")","v":0},{"$f":"IF('CoC Renewal Ranking Report'!X10<>\"\",'CoC Renewal Ranking Report'!X10,\"\")","v":0.29170000000000001},{"$f":"IF(AND(A10<>\"\",E10<>\"\"),IF(D10=\"Yes\",IF(E10>=0.4,8,IF(AND(E10<0.4,E10>=0.3),5,0)),IF(E10>=0.45,8,IF(AND(E10<0.45,E10>=0.4),5,IF(AND(E10<0.4,E10>=0.35),2,0)))),\"\")","v":0}]
[{"$f":"IF('CoC Renewal Ranking Report'!D11<>\"\",'CoC Renewal Ranking Report'!D11,\"\")","v":"Cambria County"},{"$f":"IF('CoC Renewal Ranking Report'!E11<>\"\",'CoC Renewal Ranking Report'!E11,\"\")","v":"Cambria County Comprehensive Housing Program"},{"$f":"IF('CoC Renewal Ranking Report'!G11<>\"\",'CoC Renewal Ranking Report'!G11,\"\")","v":"PH"},{"$f":"IF('CoC Renewal Ranking Report'!G11<>\"\",'CoC Renewal Ranking Report'!BK11,\"\")","v":0},{"$f":"IF('CoC Renewal Ranking Report'!X11<>\"\",'CoC Renewal Ranking Report'!X11,\"\")","v":0.86960000000000004},8]
[{"$f":"IF('CoC Renewal Ranking Report'!D12<>\"\",'CoC Renewal Ranking Report'!D12,\"\")","v":"Catholic Charities of the Diocese of Allentown"},{"$f":"IF('CoC Renewal Ranking Report'!E12<>\"\",'CoC Renewal Ranking Report'!E12,\"\")","v":"Catholic Charities Allentown Permanent Housing Program"},{"$f":"IF('CoC Renewal Ranking Report'!G12<>\"\",'CoC Renewal Ranking Report'!G12,\"\")","v":"PH"},{"$f":"IF('CoC Renewal Ranking Report'!G12<>\"\",'CoC Renewal Ranking Report'!BK12,\"\")","v":0},{"$f":"IF('CoC Renewal Ranking Report'!X12<>\"\",'CoC Renewal Ranking Report'!X12,\"\")","v":0.90910000000000002},8]
[{"$f":"IF('CoC Renewal Ranking Report'!D13<>\"\",'CoC Renewal Ranking Report'!D13,\"\")","v":"Catholic Social Services of the Diocese of Scranton, Inc."},{"$f":"IF('CoC Renewal Ranking Report'!E13<>\"\",'CoC Renewal Ranking Report'!E13,\"\")","v":"PSHP Pike County"},{"$f":"IF('CoC Renewal Ranking Report'!G13<>\"\",'CoC Renewal Ranking Report'!G13,\"\")","v":"PH"},{"$f":"IF('CoC Renewal Ranking Report'!G13<>\"\",'CoC Renewal Ranking Report'!BK13,\"\")","v":0},{"$f":"IF('CoC Renewal Ranking Report'!X13<>\"\",'CoC Renewal Ranking Report'!X13,\"\")","v":1},8]
[{"$f":"IF('CoC Renewal Ranking Report'!D14<>\"\",'CoC Renewal Ranking Report'!D14,\"\")","v":"Catholic Social Services of the Diocese of Scranton, Inc."},{"$f":"IF('CoC Renewal Ranking Report'!E14<>\"\",'CoC Renewal Ranking Report'!E14,\"\")","v":"Rural Permanent Supportive Housing Program"},{"$f":"IF('CoC Renewal Ranking Report'!G14<>\"\",'CoC Renewal Ranking Report'!G14,\"\")","v":"PH"},{"$f":"IF('CoC Renewal Ranking Report'!G14<>\"\",'CoC Renewal Ranking Report'!BK14,\"\")","v":0},{"$f":"IF('CoC Renewal Ranking Report'!X14<>\"\",'CoC Renewal Ranking Report'!X14,\"\")","v":0.375},2]
[{"$f":"IF('CoC Renewal Ranking Report'!D15<>\"\",'CoC Renewal Ranking Report'!D15,\"\")","v":"Catholic Social Services of the Diocese of Scranton, Inc."},{"$f":"IF('CoC Renewal Ranking Report'!E15<>\"\",'CoC Renewal Ranking Report'!E15,\"\")","v":"Susquehanna/Wayne PSHP"},{"$f":"IF('CoC Renewal Ranking Report'!G15<>\"\",'CoC Renewal Ranking Report'!G15,\"\")","v":"PH"},{"$f":"IF('CoC Renewal Ranking Report'!G15<>\"\",'CoC Renewal Ranking Report'!BK15,\"\")","v":0},{"$f":"IF('CoC Renewal Ranking Report'!X15<>\"\",'CoC Renewal Ranking Report'!X15,\"\")","v":0.625},8]
[{"$f":"IF('CoC Renewal Ranking Report'!D16<>\"\",'CoC Renewal Ranking Report'!D16,\"\")","v":"Center for Community Action"},{"$f":"IF('CoC Renewal Ranking Report'!E16<>\"\",'CoC Renewal Ranking Report'!E16,\"\")","v":"Bedford,Fulton, Huntingdon RRH"},{"$f":"IF('CoC Renewal Ranking Report'!G16<>\"\",'CoC Renewal Ranking Report'!G16,\"\")","v":"PH-RRH"},{"$f":"IF('CoC Renewal Ranking Report'!G16<>\"\",'CoC Renewal Ranking Report'!BK16,\"\")","v":0},{"$f":"IF('CoC Renewal Ranking Report'!X16<>\"\",'CoC Renewal Ranking Report'!X16,\"\")","v":8.0600000000000005E-2},0]
[{"$f":"IF('CoC Renewal Ranking Report'!D17<>\"\",'CoC Renewal Ranking Report'!D17,\"\")","v":"County of Franklin"},{"$f":"IF('CoC Renewal Ranking Report'!E17<>\"\",'CoC Renewal Ranking Report'!E17,\"\")","v":"Franklin/ Fulton S+C Project 2017"},{"$f":"IF('CoC Renewal Ranking Report'!G17<>\"\",'CoC Renewal Ranking Report'!G17,\"\")","v":"PH"},{"$f":"IF('CoC Renewal Ranking Report'!G17<>\"\",'CoC Renewal Ranking Report'!BK17,\"\")","v":0},{"$f":"IF('CoC Renewal Ranking Report'!X17<>\"\",'CoC Renewal Ranking Report'!X17,\"\")","v":0.71430000000000005},8]
[{"$f":"IF('CoC Renewal Ranking Report'!D18<>\"\",'CoC Renewal Ranking Report'!D18,\"\")","v":"County of Franklin"},{"$f":"IF('CoC Renewal Ranking Report'!E18<>\"\",'CoC Renewal Ranking Report'!E18,\"\")","v":"Franklin/Fulton Homeless Assistance Project 2017"},{"$f":"IF('CoC Renewal Ranking Report'!G18<>\"\",'CoC Renewal Ranking Report'!G18,\"\")","v":"PH"},{"$f":"IF('CoC Renewal Ranking Report'!G18<>\"\",'CoC Renewal Ranking Report'!BK18,\"\")","v":0},{"$f":"IF('CoC Renewal Ranking Report'!X18<>\"\",'CoC Renewal Ranking Report'!X18,\"\")","v":0.7},8]
[{"$f":"IF('CoC Renewal Ranking Report'!D19<>\"\",'CoC Renewal Ranking Report'!D19,\"\")","v":"County of Lycoming DBA Lycoming- Clinton Joinder Board"},{"$f":"IF('CoC Renewal Ranking Report'!E19<>\"\",'CoC Renewal Ranking Report'!E19,\"\")","v":"Lycoming/Clinton Renewal #5"},{"$f":"IF('CoC Renewal Ranking Report'!G19<>\"\",'CoC Renewal Ranking Report'!G19,\"\")","v":"PH"},{"$f":"IF('CoC Renewal Ranking Report'!G19<>\"\",'CoC Renewal Ranking Report'!BK19,\"\")","v":0},{"$f":"IF('CoC Renewal Ranking Report'!X19<>\"\",'CoC Renewal Ranking Report'!X19,\"\")","v":0.85709999999999997},8]
[{"$f":"IF('CoC Renewal Ranking Report'!D20<>\"\",'CoC Renewal Ranking Report'!D20,\"\")","v":"Fitzmaurice Community Services, Inc"},{"$f":"IF('CoC Renewal Ranking Report'!E20<>\"\",'CoC Renewal Ranking Report'!E20,\"\")","v":"Pathfinders"},{"$f":"IF('CoC Renewal Ranking Report'!G20<>\"\",'CoC Renewal Ranking Report'!G20,\"\")","v":"PH"},{"$f":"IF('CoC Renewal Ranking Report'!G20<>\"\",'CoC Renewal Ranking Report'!BK20,\"\")","v":0},{"$f":"IF('CoC Renewal Ranking Report'!X20<>\"\",'CoC Renewal Ranking Report'!X20,\"\")","v":0.5},8]
[{"$f":"IF('CoC Renewal Ranking Report'!D21<>\"\",'CoC Renewal Ranking Report'!D21,\"\")","v":"Home Nursing AgencyCommunity Services"},{"$f":"IF('CoC Renewal Ranking Report'!E21<>\"\",'CoC Renewal Ranking Report'!E21,\"\")","v":"Housing Assistance and Rental Program"},{"$f":"IF('CoC Renewal Ranking Report'!G21<>\"\",'CoC Renewal Ranking Report'!G21,\"\")","v":"PH"},{"$f":"IF('CoC Renewal Ranking Report'!G21<>\"\",'CoC Renewal Ranking Report'!BK21,\"\")","v":0},{"$f":"IF('CoC Renewal Ranking Report'!X21<>\"\",'CoC Renewal Ranking Report'!X21,\"\")","v":0.60709999999999997},8]
[{"$f":"IF('CoC Renewal Ranking Report'!D22<>\"\",'CoC Renewal Ranking Report'!D22,\"\")","v":"Housing Authority of Monroe County"},{"$f":"IF('CoC Renewal Ranking Report'!E22<>\"\",'CoC Renewal Ranking Report'!E22,\"\")","v":"Renewal Application Shelter Plus Care MC 2016"},{"$f":"IF('CoC Renewal Ranking Report'!G22<>\"\",'CoC Renewal Ranking Report'!G22,\"\")","v":"PH"},{"$f":"IF('CoC Renewal Ranking Report'!G22<>\"\",'CoC Renewal Ranking Report'!BK22,\"\")","v":0},{"$f":"IF('CoC Renewal Ranking Report'!X22<>\"\",'CoC Renewal Ranking Report'!X22,\"\")","v":0.76470000000000005},8]
[{"$f":"IF('CoC Renewal Ranking Report'!D23<>\"\",'CoC Renewal Ranking Report'!D23,\"\")","v":"Housing Authority of the County of Cumberland"},{"$f":"IF('CoC Renewal Ranking Report'!E23<>\"\",'CoC Renewal Ranking Report'!E23,\"\")","v":"Carlisle Supportive Housing Program"},{"$f":"IF('CoC Renewal Ranking Report'!G23<>\"\",'CoC Renewal Ranking Report'!G23,\"\")","v":"PH"},{"$f":"IF('CoC Renewal Ranking Report'!G23<>\"\",'CoC Renewal Ranking Report'!BK23,\"\")","v":0},{"$f":"IF('CoC Renewal Ranking Report'!X23<>\"\",'CoC Renewal Ranking Report'!X23,\"\")","v":0.66669999999999996},8]
[{"$f":"IF('CoC Renewal Ranking Report'!D24<>\"\",'CoC Renewal Ranking Report'!D24,\"\")","v":"Housing Authority of the County of Cumberland"},{"$f":"IF('CoC Renewal Ranking Report'!E24<>\"\",'CoC Renewal Ranking Report'!E24,\"\")","v":"Perry County Permanent SHP"},{"$f":"IF('CoC Renewal Ranking Report'!G24<>\"\",'CoC Renewal Ranking Report'!G24,\"\")","v":"PH"},{"$f":"IF('CoC Renewal Ranking Report'!G24<>\"\",'CoC Renewal Ranking Report'!BK24,\"\")","v":0},{"$f":"IF('CoC Renewal Ranking Report'!X24<>\"\",'CoC Renewal Ranking Report'!X24,\"\")","v":0.8},8]
[{"$f":"IF('CoC Renewal Ranking Report'!D25<>\"\",'CoC Renewal Ranking Report'!D25,\"\")","v":"Housing Authority of the County of Cumberland"},{"$f":"IF('CoC Renewal Ranking Report'!E25<>\"\",'CoC Renewal Ranking Report'!E25,\"\")","v":"Perry County Transitional II"},{"$f":"IF('CoC Renewal Ranking Report'!G25<>\"\",'CoC Renewal Ranking Report'!G25,\"\")","v":"PH-RRH"},{"$f":"IF('CoC Renewal Ranking Report'!G25<>\"\",'CoC Renewal Ranking Report'!BK25,\"\")","v":0},{"$f":"IF('CoC Renewal Ranking Report'!X25<>\"\",'CoC Renewal Ranking Report'!X25,\"\")","v":0.71430000000000005},8]
[{"$f":"IF('CoC Renewal Ranking Report'!D26<>\"\",'CoC Renewal Ranking Report'!D26,\"\")","v":"Housing Authority of the County of Cumberland"},{"$f":"IF('CoC Renewal Ranking Report'!E26<>\"\",'CoC Renewal Ranking Report'!E26,\"\")","v":"Perry County Veterans Program"},{"$f":"IF('CoC Renewal Ranking Report'!G26<>\"\",'CoC Renewal Ranking Report'!G26,\"\")","v":"PH"},{"$f":"IF('CoC Renewal Ranking Report'!G26<>\"\",'CoC Renewal Ranking Report'!BK26,\"\")","v":0},{"$f":"IF('CoC Renewal Ranking Report'!X26<>\"\",'CoC Renewal Ranking Report'!X26,\"\")","v":0.75},8]
[{"$f":"IF('CoC Renewal Ranking Report'!D27<>\"\",'CoC Renewal Ranking Report'!D27,\"\")","v":"Housing Authority of the County of Cumberland"},{"$f":"IF('CoC Renewal Ranking Report'!E27<>\"\",'CoC Renewal Ranking Report'!E27,\"\")","v":"Rapid Rehousing II"},{"$f":"IF('CoC Renewal Ranking Report'!G27<>\"\",'CoC Renewal Ranking Report'!G27,\"\")","v":"PH-RRH"},{"$f":"IF('CoC Renewal Ranking Report'!G27<>\"\",'CoC Renewal Ranking Report'!BK27,\"\")","v":0},{"$f":"IF('CoC Renewal Ranking Report'!X27<>\"\",'CoC Renewal Ranking Report'!X27,\"\")","v":0.5},8]
[{"$f":"IF('CoC Renewal Ranking Report'!D28<>\"\",'CoC Renewal Ranking Report'!D28,\"\")","v":"Housing Authority of the County of Cumberland"},{"$f":"IF('CoC Renewal Ranking Report'!E28<>\"\",'CoC Renewal Ranking Report'!E28,\"\")","v":"Safe Harbour SHP"},{"$f":"IF('CoC Renewal Ranking Report'!G28<>\"\",'CoC Renewal Ranking Report'!G28,\"\")","v":"PH"},{"$f":"IF('CoC Renewal Ranking Report'!G28<>\"\",'CoC Renewal Ranking Report'!BK28,\"\")","v":0},{"$f":"IF('CoC Renewal Ranking Report'!X28<>\"\",'CoC Renewal Ranking Report'!X28,\"\")","v":0.64710000000000001},8]
[{"$f":"IF('CoC Renewal Ranking Report'!D29<>\"\",'CoC Renewal Ranking Report'!D29,\"\")","v":"Housing Authority of the County of Cumberland"},{"$f":"IF('CoC Renewal Ranking Report'!E29<>\"\",'CoC Renewal Ranking Report'!E29,\"\")","v":"Shelter + Care Chronic"},{"$f":"IF('CoC Renewal Ranking Report'!G29<>\"\",'CoC Renewal Ranking Report'!G29,\"\")","v":"PH"},{"$f":"IF('CoC Renewal Ranking Report'!G29<>\"\",'CoC Renewal Ranking Report'!BK29,\"\")","v":0},{"$f":"IF('CoC Renewal Ranking Report'!X29<>\"\",'CoC Renewal Ranking Report'!X29,\"\")","v":0.59089999999999998},8]
[{"$f":"IF('CoC Renewal Ranking Report'!D30<>\"\",'CoC Renewal Ranking Report'!D30,\"\")","v":"Housing Authority of the County of Cumberland"},{"$f":"IF('CoC Renewal Ranking Report'!E30<>\"\",'CoC Renewal Ranking Report'!E30,\"\")","v":"Shelter + Care Non-Chronic"},{"$f":"IF('CoC Renewal Ranking Report'!G30<>\"\",'CoC Renewal Ranking Report'!G30,\"\")","v":"PH"},{"$f":"IF('CoC Renewal Ranking Report'!G30<>\"\",'CoC Renewal Ranking Report'!BK30,\"\")","v":0},{"$f":"IF('CoC Renewal Ranking Report'!X30<>\"\",'CoC Renewal Ranking Report'!X30,\"\")","v":0.6129},8]
[{"$f":"IF('CoC Renewal Ranking Report'!D31<>\"\",'CoC Renewal Ranking Report'!D31,\"\")","v":"Housing Authority of the County of Cumberland"},{"$f":"IF('CoC Renewal Ranking Report'!E31<>\"\",'CoC Renewal Ranking Report'!E31,\"\")","v":"West Shore SHP I"},{"$f":"IF('CoC Renewal Ranking Report'!G31<>\"\",'CoC Renewal Ranking Report'!G31,\"\")","v":"PH"},{"$f":"IF('CoC Renewal Ranking Report'!G31<>\"\",'CoC Renewal Ranking Report'!BK31,\"\")","v":0},{"$f":"IF('CoC Renewal Ranking Report'!X31<>\"\",'CoC Renewal Ranking Report'!X31,\"\")","v":0.2727},0]
[{"$f":"IF('CoC Renewal Ranking Report'!D32<>\"\",'CoC Renewal Ranking Report'!D32,\"\")","v":"Housing Authority of the County of Cumberland"},{"$f":"IF('CoC Renewal Ranking Report'!E32<>\"\",'CoC Renewal Ranking Report'!E32,\"\")","v":"West Shore SHP II"},{"$f":"IF('CoC Renewal Ranking Report'!G32<>\"\",'CoC Renewal Ranking Report'!G32,\"\")","v":"PH"},{"$f":"IF('CoC Renewal Ranking Report'!G32<>\"\",'CoC Renewal Ranking Report'!BK32,\"\")","v":0},{"$f":"IF('CoC Renewal Ranking Report'!X32<>\"\",'CoC Renewal Ranking Report'!X32,\"\")","v":0.77780000000000005},8]
[{"$f":"IF('CoC Renewal Ranking Report'!D33<>\"\",'CoC Renewal Ranking Report'!D33,\"\")","v":"Housing Development Corporation of NEPA"},{"$f":"IF('CoC Renewal Ranking Report'!E33<>\"\",'CoC Renewal Ranking Report'!E33,\"\")","v":"HDC SHP 3 2016"},{"$f":"IF('CoC Renewal Ranking Report'!G33<>\"\",'CoC Renewal Ranking Report'!G33,\"\")","v":"PH"},{"$f":"IF('CoC Renewal Ranking Report'!G33<>\"\",'CoC Renewal Ranking Report'!BK33,\"\")","v":0},{"$f":"IF('CoC Renewal Ranking Report'!X33<>\"\",'CoC Renewal Ranking Report'!X33,\"\")","v":0.69230000000000003},8]
[{"$f":"IF('CoC Renewal Ranking Report'!D34<>\"\",'CoC Renewal Ranking Report'!D34,\"\")","v":"Housing Development Corporation of NEPA"},{"$f":"IF('CoC Renewal Ranking Report'!E34<>\"\",'CoC Renewal Ranking Report'!E34,\"\")","v":"HDC SHP 6 2016"},{"$f":"IF('CoC Renewal Ranking Report'!G34<>\"\",'CoC Renewal Ranking Report'!G34,\"\")","v":"PH"},{"$f":"IF('CoC Renewal Ranking Report'!G34<>\"\",'CoC Renewal Ranking Report'!BK34,\"\")","v":0},{"$f":"IF('CoC Renewal Ranking Report'!X34<>\"\",'CoC Renewal Ranking Report'!X34,\"\")","v":0.85709999999999997},8]
[{"$f":"IF('CoC Renewal Ranking Report'!D35<>\"\",'CoC Renewal Ranking Report'!D35,\"\")","v":"Housing Transitions, Inc."},{"$f":"IF('CoC Renewal Ranking Report'!E35<>\"\",'CoC Renewal Ranking Report'!E35,\"\")","v":"Nittany House Apartments"},{"$f":"IF('CoC Renewal Ranking Report'!G35<>\"\",'CoC Renewal Ranking Report'!G35,\"\")","v":"PH"},{"$f":"IF('CoC Renewal Ranking Report'!G35<>\"\",'CoC Renewal Ranking Report'!BK35,\"\")","v":0},{"$f":"IF('CoC Renewal Ranking Report'!X35<>\"\",'CoC Renewal Ranking Report'!X35,\"\")","v":0.6},8]
[{"$f":"IF('CoC Renewal Ranking Report'!D36<>\"\",'CoC Renewal Ranking Report'!D36,\"\")","v":"Lehigh County Conference of Churches"},{"$f":"IF('CoC Renewal Ranking Report'!E36<>\"\",'CoC Renewal Ranking Report'!E36,\"\")","v":"Outreach and Case Management for the Disabled, Chronically Homeless"},{"$f":"IF('CoC Renewal Ranking Report'!G36<>\"\",'CoC Renewal Ranking Report'!G36,\"\")","v":"SSO"},{"$f":"IF('CoC Renewal Ranking Report'!G36<>\"\",'CoC Renewal Ranking Report'!BK36,\"\")","v":0},{"$f":"IF('CoC Renewal Ranking Report'!X36<>\"\",'CoC Renewal Ranking Report'!X36,\"\")","v":0.63639999999999997},8]
[{"$f":"IF('CoC Renewal Ranking Report'!D37<>\"\",'CoC Renewal Ranking Report'!D37,\"\")","v":"Lehigh County Conference of Churches"},{"$f":"IF('CoC Renewal Ranking Report'!E37<>\"\",'CoC Renewal Ranking Report'!E37,\"\")","v":"Pathways Housing"},{"$f":"IF('CoC Renewal Ranking Report'!G37<>\"\",'CoC Renewal Ranking Report'!G37,\"\")","v":"PH"},{"$f":"IF('CoC Renewal Ranking Report'!G37<>\"\",'CoC Renewal Ranking Report'!BK37,\"\")","v":0},{"$f":"IF('CoC Renewal Ranking Report'!X37<>\"\",'CoC Renewal Ranking Report'!X37,\"\")","v":0.85709999999999997},8]
[{"$f":"IF('CoC Renewal Ranking Report'!D38<>\"\",'CoC Renewal Ranking Report'!D38,\"\")","v":"Lehigh County Conference of Churches"},{"$f":"IF('CoC Renewal Ranking Report'!E38<>\"\",'CoC Renewal Ranking Report'!E38,\"\")","v":"Pathways Housing 2"},{"$f":"IF('CoC Renewal Ranking Report'!G38<>\"\",'CoC Renewal Ranking Report'!G38,\"\")","v":"PH"},{"$f":"IF('CoC Renewal Ranking Report'!G38<>\"\",'CoC Renewal Ranking Report'!BK38,\"\")","v":0},{"$f":"IF('CoC Renewal Ranking Report'!X38<>\"\",'CoC Renewal Ranking Report'!X38,\"\")","v":0.7},8]
[{"$f":"IF('CoC Renewal Ranking Report'!D39<>\"\",'CoC Renewal Ranking Report'!D39,\"\")","v":"Lehigh County Conference of Churches"},{"$f":"IF('CoC Renewal Ranking Report'!E39<>\"\",'CoC Renewal Ranking Report'!E39,\"\")","v":"Pathways TBRA for Families, Youth and Veterans"},{"$f":"IF('CoC Renewal Ranking Report'!G39<>\"\",'CoC Renewal Ranking Report'!G39,\"\")","v":"PH"},{"$f":"IF('CoC Renewal Ranking Report'!G39<>\"\",'CoC Renewal Ranking Report'!BK39,\"\")","v":0},{"$f":"IF('CoC Renewal Ranking Report'!X39<>\"\",'CoC Renewal Ranking Report'!X39,\"\")","v":0.76190000000000002},8]
[{"$f":"IF('CoC Renewal Ranking Report'!D40<>\"\",'CoC Renewal Ranking Report'!D40,\"\")","v":"Lehigh County Conference of Churches"},{"$f":"IF('CoC Renewal Ranking Report'!E40<>\"\",'CoC Renewal Ranking Report'!E40,\"\")","v":"Tenant-Based Rental Assistance for the Disabled,Chronically Homeless"},{"$f":"IF('CoC Renewal Ranking Report'!G40<>\"\",'CoC Renewal Ranking Report'!G40,\"\")","v":"PH"},{"$f":"IF('CoC Renewal Ranking Report'!G40<>\"\",'CoC Renewal Ranking Report'!BK40,\"\")","v":0},{"$f":"IF('CoC Renewal Ranking Report'!X40<>\"\",'CoC Renewal Ranking Report'!X40,\"\")","v":0.76919999999999999},8]
[{"$f":"IF('CoC Renewal Ranking Report'!D41<>\"\",'CoC Renewal Ranking Report'!D41,\"\")","v":"Lehigh County Housing Authority"},{"$f":"IF('CoC Renewal Ranking Report'!E41<>\"\",'CoC Renewal Ranking Report'!E41,\"\")","v":"LCHA S+C 2016"},{"$f":"IF('CoC Renewal Ranking Report'!G41<>\"\",'CoC Renewal Ranking Report'!G41,\"\")","v":"PH"},{"$f":"IF('CoC Renewal Ranking Report'!G41<>\"\",'CoC Renewal Ranking Report'!BK41,\"\")","v":0},{"$f":"IF('CoC Renewal Ranking Report'!X41<>\"\",'CoC Renewal Ranking Report'!X41,\"\")","v":0.78259999999999996},8]
[{"$f":"IF('CoC Renewal Ranking Report'!D42<>\"\",'CoC Renewal Ranking Report'!D42,\"\")","v":"Maranatha"},{"$f":"IF('CoC Renewal Ranking Report'!E42<>\"\",'CoC Renewal Ranking Report'!E42,\"\")","v":"TOTAL PERSON TRANSITIONAL PROGRAM 1 & 2"},{"$f":"IF('CoC Renewal Ranking Report'!G42<>\"\",'CoC Renewal Ranking Report'!G42,\"\")","v":"PH-RRH"},{"$f":"IF('CoC Renewal Ranking Report'!G42<>\"\",'CoC Renewal Ranking Report'!BK42,\"\")","v":0},{"$f":"IF('CoC Renewal Ranking Report'!X42<>\"\",'CoC Renewal Ranking Report'!X42,\"\")","v":0.1429},0]
[{"$f":"IF('CoC Renewal Ranking Report'!D43<>\"\",'CoC Renewal Ranking Report'!D43,\"\")","v":"Mifflin County"},{"$f":"IF('CoC Renewal Ranking Report'!E43<>\"\",'CoC Renewal Ranking Report'!E43,\"\")","v":"Mifflin County Permanent Housing Renewal"},{"$f":"IF('CoC Renewal Ranking Report'!G43<>\"\",'CoC Renewal Ranking Report'!G43,\"\")","v":"PH"},{"$f":"IF('CoC Renewal Ranking Report'!G43<>\"\",'CoC Renewal Ranking Report'!BK43,\"\")","v":0},{"$f":"IF('CoC Renewal Ranking Report'!X43<>\"\",'CoC Renewal Ranking Report'!X43,\"\")","v":0.85709999999999997},8]
[{"$f":"IF('CoC Renewal Ranking Report'!D44<>\"\",'CoC Renewal Ranking Report'!D44,\"\")","v":"Northampton County Housing Authority"},{"$f":"IF('CoC Renewal Ranking Report'!E44<>\"\",'CoC Renewal Ranking Report'!E44,\"\")","v":"NCHA S+C 2016"},{"$f":"IF('CoC Renewal Ranking Report'!G44<>\"\",'CoC Renewal Ranking Report'!G44,\"\")","v":"PH"},{"$f":"IF('CoC Renewal Ranking Report'!G44<>\"\",'CoC Renewal Ranking Report'!BK44,\"\")","v":0},{"$f":"IF('CoC Renewal Ranking Report'!X44<>\"\",'CoC Renewal Ranking Report'!X44,\"\")","v":0.2},0]
[{"$f":"IF('CoC Renewal Ranking Report'!D45<>\"\",'CoC Renewal Ranking Report'!D45,\"\")","v":"Northern Cambria Community Development Corporation"},{"$f":"IF('CoC Renewal Ranking Report'!E45<>\"\",'CoC Renewal Ranking Report'!E45,\"\")","v":"Independence Gardens"},{"$f":"IF('CoC Renewal Ranking Report'!G45<>\"\",'CoC Renewal Ranking Report'!G45,\"\")","v":"PH"},{"$f":"IF('CoC Renewal Ranking Report'!G45<>\"\",'CoC Renewal Ranking Report'!BK45,\"\")","v":0},{"$f":"IF('CoC Renewal Ranking Report'!X45<>\"\",'CoC Renewal Ranking Report'!X45,\"\")","v":0.93330000000000002},8]
[{"$f":"IF('CoC Renewal Ranking Report'!D46<>\"\",'CoC Renewal Ranking Report'!D46,\"\")","v":"Northern Cambria Community Development Corporation"},{"$f":"IF('CoC Renewal Ranking Report'!E46<>\"\",'CoC Renewal Ranking Report'!E46,\"\")","v":"Schoolhouse Gardens"},{"$f":"IF('CoC Renewal Ranking Report'!G46<>\"\",'CoC Renewal Ranking Report'!G46,\"\")","v":"PH"},{"$f":"IF('CoC Renewal Ranking Report'!G46<>\"\",'CoC Renewal Ranking Report'!BK46,\"\")","v":0},{"$f":"IF('CoC Renewal Ranking Report'!X46<>\"\",'CoC Renewal Ranking Report'!X46,\"\")","v":0.72729999999999995},8]
[{"$f":"IF('CoC Renewal Ranking Report'!D47<>\"\",'CoC Renewal Ranking Report'!D47,\"\")","v":"Northumberland County MH/MR"},{"$f":"IF('CoC Renewal Ranking Report'!E47<>\"\",'CoC Renewal Ranking Report'!E47,\"\")","v":"Sharing Support"},{"$f":"IF('CoC Renewal Ranking Report'!G47<>\"\",'CoC Renewal Ranking Report'!G47,\"\")","v":"PH"},{"$f":"IF('CoC Renewal Ranking Report'!G47<>\"\",'CoC Renewal Ranking Report'!BK47,\"\")","v":0},{"$f":"IF('CoC Renewal Ranking Report'!X47<>\"\",'CoC Renewal Ranking Report'!X47,\"\")","v":0.6},8]
[{"$f":"IF('CoC Renewal Ranking Report'!D48<>\"\",'CoC Renewal Ranking Report'!D48,\"\")","v":"Resources for Human Development, Inc."},{"$f":"IF('CoC Renewal Ranking Report'!E48<>\"\",'CoC Renewal Ranking Report'!E48,\"\")","v":"Crossroads Family"},{"$f":"IF('CoC Renewal Ranking Report'!G48<>\"\",'CoC Renewal Ranking Report'!G48,\"\")","v":"PH"},{"$f":"IF('CoC Renewal Ranking Report'!G48<>\"\",'CoC Renewal Ranking Report'!BK48,\"\")","v":0},{"$f":"IF('CoC Renewal Ranking Report'!X48<>\"\",'CoC Renewal Ranking Report'!X48,\"\")","v":0.6},8]
[{"$f":"IF('CoC Renewal Ranking Report'!D49<>\"\",'CoC Renewal Ranking Report'!D49,\"\")","v":"Resources for Human Development, Inc."},{"$f":"IF('CoC Renewal Ranking Report'!E49<>\"\",'CoC Renewal Ranking Report'!E49,\"\")","v":"Crossroads Housing Bonus"},{"$f":"IF('CoC Renewal Ranking Report'!G49<>\"\",'CoC Renewal Ranking Report'!G49,\"\")","v":"PH"},{"$f":"IF('CoC Renewal Ranking Report'!G49<>\"\",'CoC Renewal Ranking Report'!BK49,\"\")","v":0},{"$f":"IF('CoC Renewal Ranking Report'!X49<>\"\",'CoC Renewal Ranking Report'!X49,\"\")","v":0.75},8]
[{"$f":"IF('CoC Renewal Ranking Report'!D50<>\"\",'CoC Renewal Ranking Report'!D50,\"\")","v":"Resources for Human Development, Inc."},{"$f":"IF('CoC Renewal Ranking Report'!E50<>\"\",'CoC Renewal Ranking Report'!E50,\"\")","v":"Crossroads Individual"},{"$f":"IF('CoC Renewal Ranking Report'!G50<>\"\",'CoC Renewal Ranking Report'!G50,\"\")","v":"PH"},{"$f":"IF('CoC Renewal Ranking Report'!G50<>\"\",'CoC Renewal Ranking Report'!BK50,\"\")","v":0},{"$f":"IF('CoC Renewal Ranking Report'!X50<>\"\",'CoC Renewal Ranking Report'!X50,\"\")","v":0.91669999999999996},8]
[{"$f":"IF('CoC Renewal Ranking Report'!D51<>\"\",'CoC Renewal Ranking Report'!D51,\"\")","v":"Resources for Human Development, Inc."},{"$f":"IF('CoC Renewal Ranking Report'!E51<>\"\",'CoC Renewal Ranking Report'!E51,\"\")","v":"Crossroads Schuylkill Co. Permanent Supportive Housing"},{"$f":"IF('CoC Renewal Ranking Report'!G51<>\"\",'CoC Renewal Ranking Report'!G51,\"\")","v":"PH"},{"$f":"IF('CoC Renewal Ranking Report'!G51<>\"\",'CoC Renewal Ranking Report'!BK51,\"\")","v":0},{"$f":"IF('CoC Renewal Ranking Report'!X51<>\"\",'CoC Renewal Ranking Report'!X51,\"\")","v":1},8]
[{"$f":"IF('CoC Renewal Ranking Report'!D52<>\"\",'CoC Renewal Ranking Report'!D52,\"\")","v":"Resources for Human Development, Inc."},{"$f":"IF('CoC Renewal Ranking Report'!E52<>\"\",'CoC Renewal Ranking Report'!E52,\"\")","v":"LV ACT Housing Supports"},{"$f":"IF('CoC Renewal Ranking Report'!G52<>\"\",'CoC Renewal Ranking Report'!G52,\"\")","v":"PH"},{"$f":"IF('CoC Renewal Ranking Report'!G52<>\"\",'CoC Renewal Ranking Report'!BK52,\"\")","v":0},{"$f":"IF('CoC Renewal Ranking Report'!X52<>\"\",'CoC Renewal Ranking Report'!X52,\"\")","v":0.75},8]
[{"$f":"IF('CoC Renewal Ranking Report'!D53<>\"\",'CoC Renewal Ranking Report'!D53,\"\")","v":"Tableland Services, Inc."},{"$f":"IF('CoC Renewal Ranking Report'!E53<>\"\",'CoC Renewal Ranking Report'!E53,\"\")","v":"Permanent Housing with Disabilities (SHP)"},{"$f":"IF('CoC Renewal Ranking Report'!G53<>\"\",'CoC Renewal Ranking Report'!G53,\"\")","v":"PH"},{"$f":"IF('CoC Renewal Ranking Report'!G53<>\"\",'CoC Renewal Ranking Report'!BK53,\"\")","v":0},{"$f":"IF('CoC Renewal Ranking Report'!X53<>\"\",'CoC Renewal Ranking Report'!X53,\"\")","v":0.82140000000000002},8]
[{"$f":"IF('CoC Renewal Ranking Report'!D54<>\"\",'CoC Renewal Ranking Report'!D54,\"\")","v":"Tableland Services, Inc."},{"$f":"IF('CoC Renewal Ranking Report'!E54<>\"\",'CoC Renewal Ranking Report'!E54,\"\")","v":"Permanent Supportive Housing CH Project"},{"$f":"IF('CoC Renewal Ranking Report'!G54<>\"\",'CoC Renewal Ranking Report'!G54,\"\")","v":"PH"},{"$f":"IF('CoC Renewal Ranking Report'!G54<>\"\",'CoC Renewal Ranking Report'!BK54,\"\")","v":0},{"$f":"IF('CoC Renewal Ranking Report'!X54<>\"\",'CoC Renewal Ranking Report'!X54,\"\")","v":1},8]
[{"$f":"IF('CoC Renewal Ranking Report'!D55<>\"\",'CoC Renewal Ranking Report'!D55,\"\")","v":"The Salvation Army, a New York Corporation"},{"$f":"IF('CoC Renewal Ranking Report'!E55<>\"\",'CoC Renewal Ranking Report'!E55,\"\")","v":"Allentown Hospitality House Permanent Housing Program"},{"$f":"IF('CoC Renewal Ranking Report'!G55<>\"\",'CoC Renewal Ranking Report'!G55,\"\")","v":"PH"},{"$f":"IF('CoC Renewal Ranking Report'!G55<>\"\",'CoC Renewal Ranking Report'!BK55,\"\")","v":0},{"$f":"IF('CoC Renewal Ranking Report'!X55<>\"\",'CoC Renewal Ranking Report'!X55,\"\")","v":0.66669999999999996},8]
[{"$f":"IF('CoC Renewal Ranking Report'!D56<>\"\",'CoC Renewal Ranking Report'!D56,\"\")","v":"The Salvation Army, a New York Corporation"},{"$f":"IF('CoC Renewal Ranking Report'!E56<>\"\",'CoC Renewal Ranking Report'!E56,\"\")","v":"Salvation Army Carlisle PH Project"},{"$f":"IF('CoC Renewal Ranking Report'!G56<>\"\",'CoC Renewal Ranking Report'!G56,\"\")","v":"PH"},{"$f":"IF('CoC Renewal Ranking Report'!G56<>\"\",'CoC Renewal Ranking Report'!BK56,\"\")","v":0},{"$f":"IF('CoC Renewal Ranking Report'!X56<>\"\",'CoC Renewal Ranking Report'!X56,\"\")","v":0.5},8]
[{"$f":"IF('CoC Renewal Ranking Report'!D57<>\"\",'CoC Renewal Ranking Report'!D57,\"\")","v":"Union-Snyder Community Action Agency"},{"$f":"IF('CoC Renewal Ranking Report'!E57<>\"\",'CoC Renewal Ranking Report'!E57,\"\")","v":"Union-Snyder Rapid ReHousing Program"},{"$f":"IF('CoC Renewal Ranking Report'!G57<>\"\",'CoC Renewal Ranking Report'!G57,\"\")","v":"PH-RRH"},{"$f":"IF('CoC Renewal Ranking Report'!G57<>\"\",'CoC Renewal Ranking Report'!BK57,\"\")","v":0},{"$f":"IF('CoC Renewal Ranking Report'!X57<>\"\",'CoC Renewal Ranking Report'!X57,\"\")","v":0.45450000000000002},8]
[{"$f":"IF('CoC Renewal Ranking Report'!D58<>\"\",'CoC Renewal Ranking Report'!D58,\"\")","v":"United Christian Ministries"},{"$f":"IF('CoC Renewal Ranking Report'!E58<>\"\",'CoC Renewal Ranking Report'!E58,\"\")","v":"Kenner Garnet Renewal 2016"},{"$f":"IF('CoC Renewal Ranking Report'!G58<>\"\",'CoC Renewal Ranking Report'!G58,\"\")","v":"PH"},{"$f":"IF('CoC Renewal Ranking Report'!G58<>\"\",'CoC Renewal Ranking Report'!BK58,\"\")","v":0},{"$f":"IF('CoC Renewal Ranking Report'!X58<>\"\",'CoC Renewal Ranking Report'!X58,\"\")","v":0.77780000000000005},8]
[{"$f":"IF('CoC Renewal Ranking Report'!D59<>\"\",'CoC Renewal Ranking Report'!D59,\"\")","v":"Valley Housing Development Corporation "},{"$f":"IF('CoC Renewal Ranking Report'!E59<>\"\",'CoC Renewal Ranking Report'!E59,\"\")","v":"VHDC SHP #2 2016"},{"$f":"IF('CoC Renewal Ranking Report'!G59<>\"\",'CoC Renewal Ranking Report'!G59,\"\")","v":"PH"},{"$f":"IF('CoC Renewal Ranking Report'!G59<>\"\",'CoC Renewal Ranking Report'!BK59,\"\")","v":0},{"$f":"IF('CoC Renewal Ranking Report'!X59<>\"\",'CoC Renewal Ranking Report'!X59,\"\")","v":0.8},8]
[{"$f":"IF('CoC Renewal Ranking Report'!D60<>\"\",'CoC Renewal Ranking Report'!D60,\"\")","v":"Valley Housing Development Corporation "},{"$f":"IF('CoC Renewal Ranking Report'!E60<>\"\",'CoC Renewal Ranking Report'!E60,\"\")","v":"VHDC SHP #3 2016"},{"$f":"IF('CoC Renewal Ranking Report'!G60<>\"\",'CoC Renewal Ranking Report'!G60,\"\")","v":"PH"},{"$f":"IF('CoC Renewal Ranking Report'!G60<>\"\",'CoC Renewal Ranking Report'!BK60,\"\")","v":0},{"$f":"IF('CoC Renewal Ranking Report'!X60<>\"\",'CoC Renewal Ranking Report'!X60,\"\")","v":0.53849999999999998},8]
[{"$f":"IF('CoC Renewal Ranking Report'!D61<>\"\",'CoC Renewal Ranking Report'!D61,\"\")","v":"Valley Housing Development Corporation "},{"$f":"IF('CoC Renewal Ranking Report'!E61<>\"\",'CoC Renewal Ranking Report'!E61,\"\")","v":"VHDC SHP #4 2016"},{"$f":"IF('CoC Renewal Ranking Report'!G61<>\"\",'CoC Renewal Ranking Report'!G61,\"\")","v":"PH"},{"$f":"IF('CoC Renewal Ranking Report'!G61<>\"\",'CoC Renewal Ranking Report'!BK61,\"\")","v":0},{"$f":"IF('CoC Renewal Ranking Report'!X61<>\"\",'CoC Renewal Ranking Report'!X61,\"\")","v":0.8},8]
[{"$f":"IF('CoC Renewal Ranking Report'!D62<>\"\",'CoC Renewal Ranking Report'!D62,\"\")","v":""},{"$f":"IF('CoC Renewal Ranking Report'!E62<>\"\",'CoC Renewal Ranking Report'!E62,\"\")","v":""},{"$f":"IF('CoC Renewal Ranking Report'!G62<>\"\",'CoC Renewal Ranking Report'!G62,\"\")","v":""},{"$f":"IF('CoC Renewal Ranking Report'!G62<>\"\",'CoC Renewal Ranking Report'!BK62,\"\")","v":""},{"$f":"IF('CoC Renewal Ranking Report'!X62<>\"\",'CoC Renewal Ranking Report'!X62,\"\")","v":""},""]
[{"$f":"IF('CoC Renewal Ranking Report'!D63<>\"\",'CoC Renewal Ranking Report'!D63,\"\")","v":""},{"$f":"IF('CoC Renewal Ranking Report'!E63<>\"\",'CoC Renewal Ranking Report'!E63,\"\")","v":""},{"$f":"IF('CoC Renewal Ranking Report'!G63<>\"\",'CoC Renewal Ranking Report'!G63,\"\")","v":""},{"$f":"IF('CoC Renewal Ranking Report'!G63<>\"\",'CoC Renewal Ranking Report'!BK63,\"\")","v":""},{"$f":"IF('CoC Renewal Ranking Report'!X63<>\"\",'CoC Renewal Ranking Report'!X63,\"\")","v":""},""]
[{"$f":"IF('CoC Renewal Ranking Report'!D64<>\"\",'CoC Renewal Ranking Report'!D64,\"\")","v":""},{"$f":"IF('CoC Renewal Ranking Report'!E64<>\"\",'CoC Renewal Ranking Report'!E64,\"\")","v":""},{"$f":"IF('CoC Renewal Ranking Report'!G64<>\"\",'CoC Renewal Ranking Report'!G64,\"\")","v":""},{"$f":"IF('CoC Renewal Ranking Report'!G64<>\"\",'CoC Renewal Ranking Report'!BK64,\"\")","v":""},{"$f":"IF('CoC Renewal Ranking Report'!X64<>\"\",'CoC Renewal Ranking Report'!X64,\"\")","v":""},""]
[{"$f":"IF('CoC Renewal Ranking Report'!D65<>\"\",'CoC Renewal Ranking Report'!D65,\"\")","v":""},{"$f":"IF('CoC Renewal Ranking Report'!E65<>\"\",'CoC Renewal Ranking Report'!E65,\"\")","v":""},{"$f":"IF('CoC Renewal Ranking Report'!G65<>\"\",'CoC Renewal Ranking Report'!G65,\"\")","v":""},{"$f":"IF('CoC Renewal Ranking Report'!G65<>\"\",'CoC Renewal Ranking Report'!BK65,\"\")","v":""},{"$f":"IF('CoC Renewal Ranking Report'!X65<>\"\",'CoC Renewal Ranking Report'!X65,\"\")","v":""},""]
[{"$f":"IF('CoC Renewal Ranking Report'!D66<>\"\",'CoC Renewal Ranking Report'!D66,\"\")","v":""},{"$f":"IF('CoC Renewal Ranking Report'!E66<>\"\",'CoC Renewal Ranking Report'!E66,\"\")","v":""},{"$f":"IF('CoC Renewal Ranking Report'!G66<>\"\",'CoC Renewal Ranking Report'!G66,\"\")","v":""},{"$f":"IF('CoC Renewal Ranking Report'!G66<>\"\",'CoC Renewal Ranking Report'!BK66,\"\")","v":""},{"$f":"IF('CoC Renewal Ranking Report'!X66<>\"\",'CoC Renewal Ranking Report'!X66,\"\")","v":""},""]
[{"$f":"IF('CoC Renewal Ranking Report'!D67<>\"\",'CoC Renewal Ranking Report'!D67,\"\")","v":""},{"$f":"IF('CoC Renewal Ranking Report'!E67<>\"\",'CoC Renewal Ranking Report'!E67,\"\")","v":""},{"$f":"IF('CoC Renewal Ranking Report'!G67<>\"\",'CoC Renewal Ranking Report'!G67,\"\")","v":""},{"$f":"IF('CoC Renewal Ranking Report'!G67<>\"\",'CoC Renewal Ranking Report'!BK67,\"\")","v":""},{"$f":"IF('CoC Renewal Ranking Report'!X67<>\"\",'CoC Renewal Ranking Report'!X67,\"\")","v":""},""]
[{"$f":"IF('CoC Renewal Ranking Report'!D68<>\"\",'CoC Renewal Ranking Report'!D68,\"\")","v":""},{"$f":"IF('CoC Renewal Ranking Report'!E68<>\"\",'CoC Renewal Ranking Report'!E68,\"\")","v":""},{"$f":"IF('CoC Renewal Ranking Report'!G68<>\"\",'CoC Renewal Ranking Report'!G68,\"\")","v":""},{"$f":"IF('CoC Renewal Ranking Report'!G68<>\"\",'CoC Renewal Ranking Report'!BK68,\"\")","v":""},{"$f":"IF('CoC Renewal Ranking Report'!X68<>\"\",'CoC Renewal Ranking Report'!X68,\"\")","v":""},""]
[{"$f":"IF('CoC Renewal Ranking Report'!D69<>\"\",'CoC Renewal Ranking Report'!D69,\"\")","v":""},{"$f":"IF('CoC Renewal Ranking Report'!E69<>\"\",'CoC Renewal Ranking Report'!E69,\"\")","v":""},{"$f":"IF('CoC Renewal Ranking Report'!G69<>\"\",'CoC Renewal Ranking Report'!G69,\"\")","v":""},{"$f":"IF('CoC Renewal Ranking Report'!G69<>\"\",'CoC Renewal Ranking Report'!BK69,\"\")","v":""},{"$f":"IF('CoC Renewal Ranking Report'!X69<>\"\",'CoC Renewal Ranking Report'!X69,\"\")","v":""},""]
[{"$f":"IF('CoC Renewal Ranking Report'!D70<>\"\",'CoC Renewal Ranking Report'!D70,\"\")","v":""},{"$f":"IF('CoC Renewal Ranking Report'!E70<>\"\",'CoC Renewal Ranking Report'!E70,\"\")","v":""},{"$f":"IF('CoC Renewal Ranking Report'!G70<>\"\",'CoC Renewal Ranking Report'!G70,\"\")","v":""},{"$f":"IF('CoC Renewal Ranking Report'!G70<>\"\",'CoC Renewal Ranking Report'!BK70,\"\")","v":""},{"$f":"IF('CoC Renewal Ranking Report'!X70<>\"\",'CoC Renewal Ranking Report'!X70,\"\")","v":""},""]
[{"$f":"IF('CoC Renewal Ranking Report'!D71<>\"\",'CoC Renewal Ranking Report'!D71,\"\")","v":""},{"$f":"IF('CoC Renewal Ranking Report'!E71<>\"\",'CoC Renewal Ranking Report'!E71,\"\")","v":""},{"$f":"IF('CoC Renewal Ranking Report'!G71<>\"\",'CoC Renewal Ranking Report'!G71,\"\")","v":""},{"$f":"IF('CoC Renewal Ranking Report'!G71<>\"\",'CoC Renewal Ranking Report'!BK71,\"\")","v":""},{"$f":"IF('CoC Renewal Ranking Report'!X71<>\"\",'CoC Renewal Ranking Report'!X71,\"\")","v":""},""]
[{"$f":"IF('CoC Renewal Ranking Report'!D72<>\"\",'CoC Renewal Ranking Report'!D72,\"\")","v":""},{"$f":"IF('CoC Renewal Ranking Report'!E72<>\"\",'CoC Renewal Ranking Report'!E72,\"\")","v":""},{"$f":"IF('CoC Renewal Ranking Report'!G72<>\"\",'CoC Renewal Ranking Report'!G72,\"\")","v":""},{"$f":"IF('CoC Renewal Ranking Report'!G72<>\"\",'CoC Renewal Ranking Report'!BK72,\"\")","v":""},{"$f":"IF('CoC Renewal Ranking Report'!X72<>\"\",'CoC Renewal Ranking Report'!X72,\"\")","v":""},""]
[{"$f":"IF('CoC Renewal Ranking Report'!D73<>\"\",'CoC Renewal Ranking Report'!D73,\"\")","v":""},{"$f":"IF('CoC Renewal Ranking Report'!E73<>\"\",'CoC Renewal Ranking Report'!E73,\"\")","v":""},{"$f":"IF('CoC Renewal Ranking Report'!G73<>\"\",'CoC Renewal Ranking Report'!G73,\"\")","v":""},{"$f":"IF('CoC Renewal Ranking Report'!G73<>\"\",'CoC Renewal Ranking Report'!BK73,\"\")","v":""},{"$f":"IF('CoC Renewal Ranking Report'!X73<>\"\",'CoC Renewal Ranking Report'!X73,\"\")","v":""},""]
[{"$f":"IF('CoC Renewal Ranking Report'!D74<>\"\",'CoC Renewal Ranking Report'!D74,\"\")","v":""},{"$f":"IF('CoC Renewal Ranking Report'!E74<>\"\",'CoC Renewal Ranking Report'!E74,\"\")","v":""},{"$f":"IF('CoC Renewal Ranking Report'!G74<>\"\",'CoC Renewal Ranking Report'!G74,\"\")","v":""},{"$f":"IF('CoC Renewal Ranking Report'!G74<>\"\",'CoC Renewal Ranking Report'!BK74,\"\")","v":""},{"$f":"IF('CoC Renewal Ranking Report'!X74<>\"\",'CoC Renewal Ranking Report'!X74,\"\")","v":""},{"$f":"IF(AND(A74<>\"\",E74<>\"\"),IF(D74=\"Yes\",IF(E74>=0.4,8,IF(AND(E74<0.4,E74>=0.3),5,0)),IF(E74>=0.45,8,IF(AND(E74<0.45,E74>=0.4),5,IF(AND(E74<0.4,E74>=0.35),2,0)))),\"\")","v":""}]
[{"$f":"IF('CoC Renewal Ranking Report'!D75<>\"\",'CoC Renewal Ranking Report'!D75,\"\")","v":""},{"$f":"IF('CoC Renewal Ranking Report'!E75<>\"\",'CoC Renewal Ranking Report'!E75,\"\")","v":""},{"$f":"IF('CoC Renewal Ranking Report'!G75<>\"\",'CoC Renewal Ranking Report'!G75,\"\")","v":""},{"$f":"IF('CoC Renewal Ranking Report'!G75<>\"\",'CoC Renewal Ranking Report'!BK75,\"\")","v":""},{"$f":"IF('CoC Renewal Ranking Report'!X75<>\"\",'CoC Renewal Ranking Report'!X75,\"\")","v":""},""]
[{"$f":"IF('CoC Renewal Ranking Report'!D76<>\"\",'CoC Renewal Ranking Report'!D76,\"\")","v":""},{"$f":"IF('CoC Renewal Ranking Report'!E76<>\"\",'CoC Renewal Ranking Report'!E76,\"\")","v":""},{"$f":"IF('CoC Renewal Ranking Report'!G76<>\"\",'CoC Renewal Ranking Report'!G76,\"\")","v":""},{"$f":"IF('CoC Renewal Ranking Report'!G76<>\"\",'CoC Renewal Ranking Report'!BK76,\"\")","v":""},{"$f":"IF('CoC Renewal Ranking Report'!X76<>\"\",'CoC Renewal Ranking Report'!X76,\"\")","v":""},""]
[{"$f":"IF('CoC Renewal Ranking Report'!D77<>\"\",'CoC Renewal Ranking Report'!D77,\"\")","v":""},{"$f":"IF('CoC Renewal Ranking Report'!E77<>\"\",'CoC Renewal Ranking Report'!E77,\"\")","v":""},{"$f":"IF('CoC Renewal Ranking Report'!G77<>\"\",'CoC Renewal Ranking Report'!G77,\"\")","v":""},{"$f":"IF('CoC Renewal Ranking Report'!G77<>\"\",'CoC Renewal Ranking Report'!BK77,\"\")","v":""},{"$f":"IF('CoC Renewal Ranking Report'!X77<>\"\",'CoC Renewal Ranking Report'!X77,\"\")","v":""},""]
[{"$f":"IF('CoC Renewal Ranking Report'!D78<>\"\",'CoC Renewal Ranking Report'!D78,\"\")","v":""},{"$f":"IF('CoC Renewal Ranking Report'!E78<>\"\",'CoC Renewal Ranking Report'!E78,\"\")","v":""},{"$f":"IF('CoC Renewal Ranking Report'!G78<>\"\",'CoC Renewal Ranking Report'!G78,\"\")","v":""},{"$f":"IF('CoC Renewal Ranking Report'!G78<>\"\",'CoC Renewal Ranking Report'!BK78,\"\")","v":""},{"$f":"IF('CoC Renewal Ranking Report'!X78<>\"\",'CoC Renewal Ranking Report'!X78,\"\")","v":""},""]
[{"$f":"IF('CoC Renewal Ranking Report'!D79<>\"\",'CoC Renewal Ranking Report'!D79,\"\")","v":""},{"$f":"IF('CoC Renewal Ranking Report'!E79<>\"\",'CoC Renewal Ranking Report'!E79,\"\")","v":""},{"$f":"IF('CoC Renewal Ranking Report'!G79<>\"\",'CoC Renewal Ranking Report'!G79,\"\")","v":""},{"$f":"IF('CoC Renewal Ranking Report'!G79<>\"\",'CoC Renewal Ranking Report'!BK79,\"\")","v":""},{"$f":"IF('CoC Renewal Ranking Report'!X79<>\"\",'CoC Renewal Ranking Report'!X79,\"\")","v":""},""]
[{"$f":"IF('CoC Renewal Ranking Report'!D80<>\"\",'CoC Renewal Ranking Report'!D80,\"\")","v":""},{"$f":"IF('CoC Renewal Ranking Report'!E80<>\"\",'CoC Renewal Ranking Report'!E80,\"\")","v":""},{"$f":"IF('CoC Renewal Ranking Report'!G80<>\"\",'CoC Renewal Ranking Report'!G80,\"\")","v":""},{"$f":"IF('CoC Renewal Ranking Report'!G80<>\"\",'CoC Renewal Ranking Report'!BK80,\"\")","v":""},{"$f":"IF('CoC Renewal Ranking Report'!X80<>\"\",'CoC Renewal Ranking Report'!X80,\"\")","v":""},""]
[{"$f":"IF('CoC Renewal Ranking Report'!D81<>\"\",'CoC Renewal Ranking Report'!D81,\"\")","v":""},{"$f":"IF('CoC Renewal Ranking Report'!E81<>\"\",'CoC Renewal Ranking Report'!E81,\"\")","v":""},{"$f":"IF('CoC Renewal Ranking Report'!G81<>\"\",'CoC Renewal Ranking Report'!G81,\"\")","v":""},{"$f":"IF('CoC Renewal Ranking Report'!G81<>\"\",'CoC Renewal Ranking Report'!BK81,\"\")","v":""},{"$f":"IF('CoC Renewal Ranking Report'!X81<>\"\",'CoC Renewal Ranking Report'!X81,\"\")","v":""},""]
[{"$f":"IF('CoC Renewal Ranking Report'!D82<>\"\",'CoC Renewal Ranking Report'!D82,\"\")","v":""},{"$f":"IF('CoC Renewal Ranking Report'!E82<>\"\",'CoC Renewal Ranking Report'!E82,\"\")","v":""},{"$f":"IF('CoC Renewal Ranking Report'!G82<>\"\",'CoC Renewal Ranking Report'!G82,\"\")","v":""},{"$f":"IF('CoC Renewal Ranking Report'!G82<>\"\",'CoC Renewal Ranking Report'!BK82,\"\")","v":""},{"$f":"IF('CoC Renewal Ranking Report'!X82<>\"\",'CoC Renewal Ranking Report'!X82,\"\")","v":""},""]
[{"$f":"IF('CoC Renewal Ranking Report'!D83<>\"\",'CoC Renewal Ranking Report'!D83,\"\")","v":""},{"$f":"IF('CoC Renewal Ranking Report'!E83<>\"\",'CoC Renewal Ranking Report'!E83,\"\")","v":""},{"$f":"IF('CoC Renewal Ranking Report'!G83<>\"\",'CoC Renewal Ranking Report'!G83,\"\")","v":""},{"$f":"IF('CoC Renewal Ranking Report'!G83<>\"\",'CoC Renewal Ranking Report'!BK83,\"\")","v":""},{"$f":"IF('CoC Renewal Ranking Report'!X83<>\"\",'CoC Renewal Ranking Report'!X83,\"\")","v":""},""]
[{"$f":"IF('CoC Renewal Ranking Report'!D84<>\"\",'CoC Renewal Ranking Report'!D84,\"\")","v":""},{"$f":"IF('CoC Renewal Ranking Report'!E84<>\"\",'CoC Renewal Ranking Report'!E84,\"\")","v":""},{"$f":"IF('CoC Renewal Ranking Report'!G84<>\"\",'CoC Renewal Ranking Report'!G84,\"\")","v":""},{"$f":"IF('CoC Renewal Ranking Report'!G84<>\"\",'CoC Renewal Ranking Report'!BK84,\"\")","v":""},{"$f":"IF('CoC Renewal Ranking Report'!X84<>\"\",'CoC Renewal Ranking Report'!X84,\"\")","v":""},""]
[{"$f":"IF('CoC Renewal Ranking Report'!D85<>\"\",'CoC Renewal Ranking Report'!D85,\"\")","v":""},{"$f":"IF('CoC Renewal Ranking Report'!E85<>\"\",'CoC Renewal Ranking Report'!E85,\"\")","v":""},{"$f":"IF('CoC Renewal Ranking Report'!G85<>\"\",'CoC Renewal Ranking Report'!G85,\"\")","v":""},{"$f":"IF('CoC Renewal Ranking Report'!G85<>\"\",'CoC Renewal Ranking Report'!BK85,\"\")","v":""},{"$f":"IF('CoC Renewal Ranking Report'!X85<>\"\",'CoC Renewal Ranking Report'!X85,\"\")","v":""},""]
[{"$f":"IF('CoC Renewal Ranking Report'!D86<>\"\",'CoC Renewal Ranking Report'!D86,\"\")","v":""},{"$f":"IF('CoC Renewal Ranking Report'!E86<>\"\",'CoC Renewal Ranking Report'!E86,\"\")","v":""},{"$f":"IF('CoC Renewal Ranking Report'!G86<>\"\",'CoC Renewal Ranking Report'!G86,\"\")","v":""},{"$f":"IF('CoC Renewal Ranking Report'!G86<>\"\",'CoC Renewal Ranking Report'!BK86,\"\")","v":""},{"$f":"IF('CoC Renewal Ranking Report'!X86<>\"\",'CoC Renewal Ranking Report'!X86,\"\")","v":""},""]
[{"$f":"IF('CoC Renewal Ranking Report'!D87<>\"\",'CoC Renewal Ranking Report'!D87,\"\")","v":""},{"$f":"IF('CoC Renewal Ranking Report'!E87<>\"\",'CoC Renewal Ranking Report'!E87,\"\")","v":""},{"$f":"IF('CoC Renewal Ranking Report'!G87<>\"\",'CoC Renewal Ranking Report'!G87,\"\")","v":""},{"$f":"IF('CoC Renewal Ranking Report'!G87<>\"\",'CoC Renewal Ranking Report'!BK87,\"\")","v":""},{"$f":"IF('CoC Renewal Ranking Report'!X87<>\"\",'CoC Renewal Ranking Report'!X87,\"\")","v":""},""]
[{"$f":"IF('CoC Renewal Ranking Report'!D88<>\"\",'CoC Renewal Ranking Report'!D88,\"\")","v":""},{"$f":"IF('CoC Renewal Ranking Report'!E88<>\"\",'CoC Renewal Ranking Report'!E88,\"\")","v":""},{"$f":"IF('CoC Renewal Ranking Report'!G88<>\"\",'CoC Renewal Ranking Report'!G88,\"\")","v":""},{"$f":"IF('CoC Renewal Ranking Report'!G88<>\"\",'CoC Renewal Ranking Report'!BK88,\"\")","v":""},{"$f":"IF('CoC Renewal Ranking Report'!X88<>\"\",'CoC Renewal Ranking Report'!X88,\"\")","v":""},""]
[{"$f":"IF('CoC Renewal Ranking Report'!D89<>\"\",'CoC Renewal Ranking Report'!D89,\"\")","v":""},{"$f":"IF('CoC Renewal Ranking Report'!E89<>\"\",'CoC Renewal Ranking Report'!E89,\"\")","v":""},{"$f":"IF('CoC Renewal Ranking Report'!G89<>\"\",'CoC Renewal Ranking Report'!G89,\"\")","v":""},{"$f":"IF('CoC Renewal Ranking Report'!G89<>\"\",'CoC Renewal Ranking Report'!BK89,\"\")","v":""},{"$f":"IF('CoC Renewal Ranking Report'!X89<>\"\",'CoC Renewal Ranking Report'!X89,\"\")","v":""},""]
[{"$f":"IF('CoC Renewal Ranking Report'!D90<>\"\",'CoC Renewal Ranking Report'!D90,\"\")","v":""},{"$f":"IF('CoC Renewal Ranking Report'!E90<>\"\",'CoC Renewal Ranking Report'!E90,\"\")","v":""},{"$f":"IF('CoC Renewal Ranking Report'!G90<>\"\",'CoC Renewal Ranking Report'!G90,\"\")","v":""},{"$f":"IF('CoC Renewal Ranking Report'!G90<>\"\",'CoC Renewal Ranking Report'!BK90,\"\")","v":""},{"$f":"IF('CoC Renewal Ranking Report'!X90<>\"\",'CoC Renewal Ranking Report'!X90,\"\")","v":""},""]
[{"$f":"IF('CoC Renewal Ranking Report'!D91<>\"\",'CoC Renewal Ranking Report'!D91,\"\")","v":""},{"$f":"IF('CoC Renewal Ranking Report'!E91<>\"\",'CoC Renewal Ranking Report'!E91,\"\")","v":""},{"$f":"IF('CoC Renewal Ranking Report'!G91<>\"\",'CoC Renewal Ranking Report'!G91,\"\")","v":""},{"$f":"IF('CoC Renewal Ranking Report'!G91<>\"\",'CoC Renewal Ranking Report'!BK91,\"\")","v":""},{"$f":"IF('CoC Renewal Ranking Report'!X91<>\"\",'CoC Renewal Ranking Report'!X91,\"\")","v":""},""]
[{"$f":"IF('CoC Renewal Ranking Report'!D92<>\"\",'CoC Renewal Ranking Report'!D92,\"\")","v":""},{"$f":"IF('CoC Renewal Ranking Report'!E92<>\"\",'CoC Renewal Ranking Report'!E92,\"\")","v":""},{"$f":"IF('CoC Renewal Ranking Report'!G92<>\"\",'CoC Renewal Ranking Report'!G92,\"\")","v":""},{"$f":"IF('CoC Renewal Ranking Report'!G92<>\"\",'CoC Renewal Ranking Report'!BK92,\"\")","v":""},{"$f":"IF('CoC Renewal Ranking Report'!X92<>\"\",'CoC Renewal Ranking Report'!X92,\"\")","v":""},""]
[{"$f":"IF('CoC Renewal Ranking Report'!D93<>\"\",'CoC Renewal Ranking Report'!D93,\"\")","v":""},{"$f":"IF('CoC Renewal Ranking Report'!E93<>\"\",'CoC Renewal Ranking Report'!E93,\"\")","v":""},{"$f":"IF('CoC Renewal Ranking Report'!G93<>\"\",'CoC Renewal Ranking Report'!G93,\"\")","v":""},{"$f":"IF('CoC Renewal Ranking Report'!G93<>\"\",'CoC Renewal Ranking Report'!BK93,\"\")","v":""},{"$f":"IF('CoC Renewal Ranking Report'!X93<>\"\",'CoC Renewal Ranking Report'!X93,\"\")","v":""},""]
[{"$f":"IF('CoC Renewal Ranking Report'!D94<>\"\",'CoC Renewal Ranking Report'!D94,\"\")","v":""},{"$f":"IF('CoC Renewal Ranking Report'!E94<>\"\",'CoC Renewal Ranking Report'!E94,\"\")","v":""},{"$f":"IF('CoC Renewal Ranking Report'!G94<>\"\",'CoC Renewal Ranking Report'!G94,\"\")","v":""},{"$f":"IF('CoC Renewal Ranking Report'!G94<>\"\",'CoC Renewal Ranking Report'!BK94,\"\")","v":""},{"$f":"IF('CoC Renewal Ranking Report'!X94<>\"\",'CoC Renewal Ranking Report'!X94,\"\")","v":""},""]
[{"$f":"IF('CoC Renewal Ranking Report'!D95<>\"\",'CoC Renewal Ranking Report'!D95,\"\")","v":""},{"$f":"IF('CoC Renewal Ranking Report'!E95<>\"\",'CoC Renewal Ranking Report'!E95,\"\")","v":""},{"$f":"IF('CoC Renewal Ranking Report'!G95<>\"\",'CoC Renewal Ranking Report'!G95,\"\")","v":""},{"$f":"IF('CoC Renewal Ranking Report'!G95<>\"\",'CoC Renewal Ranking Report'!BK95,\"\")","v":""},{"$f":"IF('CoC Renewal Ranking Report'!X95<>\"\",'CoC Renewal Ranking Report'!X95,\"\")","v":""},""]
[{"$f":"IF('CoC Renewal Ranking Report'!D96<>\"\",'CoC Renewal Ranking Report'!D96,\"\")","v":""},{"$f":"IF('CoC Renewal Ranking Report'!E96<>\"\",'CoC Renewal Ranking Report'!E96,\"\")","v":""},{"$f":"IF('CoC Renewal Ranking Report'!G96<>\"\",'CoC Renewal Ranking Report'!G96,\"\")","v":""},{"$f":"IF('CoC Renewal Ranking Report'!G96<>\"\",'CoC Renewal Ranking Report'!BK96,\"\")","v":""},{"$f":"IF('CoC Renewal Ranking Report'!X96<>\"\",'CoC Renewal Ranking Report'!X96,\"\")","v":""},""]
[{"$f":"IF('CoC Renewal Ranking Report'!D97<>\"\",'CoC Renewal Ranking Report'!D97,\"\")","v":""},{"$f":"IF('CoC Renewal Ranking Report'!E97<>\"\",'CoC Renewal Ranking Report'!E97,\"\")","v":""},{"$f":"IF('CoC Renewal Ranking Report'!G97<>\"\",'CoC Renewal Ranking Report'!G97,\"\")","v":""},{"$f":"IF('CoC Renewal Ranking Report'!G97<>\"\",'CoC Renewal Ranking Report'!BK97,\"\")","v":""},{"$f":"IF('CoC Renewal Ranking Report'!X97<>\"\",'CoC Renewal Ranking Report'!X97,\"\")","v":""},""]
[{"$f":"IF('CoC Renewal Ranking Report'!D98<>\"\",'CoC Renewal Ranking Report'!D98,\"\")","v":""},{"$f":"IF('CoC Renewal Ranking Report'!E98<>\"\",'CoC Renewal Ranking Report'!E98,\"\")","v":""},{"$f":"IF('CoC Renewal Ranking Report'!G98<>\"\",'CoC Renewal Ranking Report'!G98,\"\")","v":""},{"$f":"IF('CoC Renewal Ranking Report'!G98<>\"\",'CoC Renewal Ranking Report'!BK98,\"\")","v":""},{"$f":"IF('CoC Renewal Ranking Report'!X98<>\"\",'CoC Renewal Ranking Report'!X98,\"\")","v":""},""]
[{"$f":"IF('CoC Renewal Ranking Report'!D99<>\"\",'CoC Renewal Ranking Report'!D99,\"\")","v":""},{"$f":"IF('CoC Renewal Ranking Report'!E99<>\"\",'CoC Renewal Ranking Report'!E99,\"\")","v":""},{"$f":"IF('CoC Renewal Ranking Report'!G99<>\"\",'CoC Renewal Ranking Report'!G99,\"\")","v":""},{"$f":"IF('CoC Renewal Ranking Report'!G99<>\"\",'CoC Renewal Ranking Report'!BK99,\"\")","v":""},{"$f":"IF('CoC Renewal Ranking Report'!X99<>\"\",'CoC Renewal Ranking Report'!X99,\"\")","v":""},""]
[{"$f":"IF('CoC Renewal Ranking Report'!D100<>\"\",'CoC Renewal Ranking Report'!D100,\"\")","v":""},{"$f":"IF('CoC Renewal Ranking Report'!E100<>\"\",'CoC Renewal Ranking Report'!E100,\"\")","v":""},{"$f":"IF('CoC Renewal Ranking Report'!G100<>\"\",'CoC Renewal Ranking Report'!G100,\"\")","v":""},{"$f":"IF('CoC Renewal Ranking Report'!G100<>\"\",'CoC Renewal Ranking Report'!BK100,\"\")","v":""},{"$f":"IF('CoC Renewal Ranking Report'!X100<>\"\",'CoC Renewal Ranking Report'!X100,\"\")","v":""},""]
[{"$f":"IF('CoC Renewal Ranking Report'!D101<>\"\",'CoC Renewal Ranking Report'!D101,\"\")","v":""},{"$f":"IF('CoC Renewal Ranking Report'!E101<>\"\",'CoC Renewal Ranking Report'!E101,\"\")","v":""},{"$f":"IF('CoC Renewal Ranking Report'!G101<>\"\",'CoC Renewal Ranking Report'!G101,\"\")","v":""},{"$f":"IF('CoC Renewal Ranking Report'!G101<>\"\",'CoC Renewal Ranking Report'!BK101,\"\")","v":""},{"$f":"IF('CoC Renewal Ranking Report'!X101<>\"\",'CoC Renewal Ranking Report'!X101,\"\")","v":""},""]
[{"$f":"IF('CoC Renewal Ranking Report'!D102<>\"\",'CoC Renewal Ranking Report'!D102,\"\")","v":""},{"$f":"IF('CoC Renewal Ranking Report'!E102<>\"\",'CoC Renewal Ranking Report'!E102,\"\")","v":""},{"$f":"IF('CoC Renewal Ranking Report'!G102<>\"\",'CoC Renewal Ranking Report'!G102,\"\")","v":""},{"$f":"IF('CoC Renewal Ranking Report'!G102<>\"\",'CoC Renewal Ranking Report'!BK102,\"\")","v":""},{"$f":"IF('CoC Renewal Ranking Report'!X102<>\"\",'CoC Renewal Ranking Report'!X102,\"\")","v":""},""]

{"sheet":"Mainstream Benefits Measure","index":8,"n_rows":102,"n_cols":5,"rows_kept":102,"cut":false,"hidden":false,"merged":[]}
[null,"Non-cash/ Mainstream Benefits"]
[null,"Criteria"]
[null,"75% participants enrolled in 1+ benefit(s) = 5 points"]
[null,"60% - 74% participants enrolled in 1+ benefit(s) = 2 points"]
[]
["Agency Name","Project Name","Project Type","%","Score"]
[{"$f":"IF('CoC Renewal Ranking Report'!D9<>\"\",'CoC Renewal Ranking Report'!D9,\"\")","v":""},{"$f":"IF('CoC Renewal Ranking Report'!E9<>\"\",'CoC Renewal Ranking Report'!E9,\"\")","v":""},{"$f":"IF('CoC Renewal Ranking Report'!G9<>\"\",'CoC Renewal Ranking Report'!G9,\"\")","v":""},{"$f":"IF('CoC Renewal Ranking Report'!AC9<>\"\",'CoC Renewal Ranking Report'!AC9,\"\")","v":""},{"$f":"IF(AND(A7<>\"\",D7<>\"\"), IF(D7 >= 0.75, 5, IF(AND(D7 >= 0.6, D7 < 0.75), 2, 0)), \"\")","v":""}]
[{"$f":"IF('CoC Renewal Ranking Report'!D10<>\"\",'CoC Renewal Ranking Report'!D10,\"\")","v":"Blair County Community Action Program"},{"$f":"IF('CoC Renewal Ranking Report'!E10<>\"\",'CoC Renewal Ranking Report'!E10,\"\")","v":"Rapid Re-Housing"},{"$f":"IF('CoC Renewal Ranking Report'!G10<>\"\",'CoC Renewal Ranking Report'!G10,\"\")","v":"PH-RRH"},{"$f":"IF('CoC Renewal Ranking Report'!AC10<>\"\",'CoC Renewal Ranking Report'!AC10,\"\")","v":0.77777777777777779},{"$f":"IF(AND(A8<>\"\",D8<>\"\"), IF(D8 >= 0.75, 5, IF(AND(D8 >= 0.6, D8 < 0.75), 2, 0)), \"\")","v":5}]
[{"$f":"IF('CoC Renewal Ranking Report'!D11<>\"\",'CoC Renewal Ranking Report'!D11,\"\")","v":"Cambria County"},{"$f":"IF('CoC Renewal Ranking Report'!E11<>\"\",'CoC Renewal Ranking Report'!E11,\"\")","v":"Cambria County Comprehensive Housing Program"},{"$f":"IF('CoC Renewal Ranking Report'!G11<>\"\",'CoC Renewal Ranking Report'!G11,\"\")","v":"PH"},{"$f":"IF('CoC Renewal Ranking Report'!AC11<>\"\",'CoC Renewal Ranking Report'!AC11,\"\")","v":0.75757575757575757},5]
[{"$f":"IF('CoC Renewal Ranking Report'!D12<>\"\",'CoC Renewal Ranking Report'!D12,\"\")","v":"Catholic Charities of the Diocese of Allentown"},{"$f":"IF('CoC Renewal Ranking Report'!E12<>\"\",'CoC Renewal Ranking Report'!E12,\"\")","v":"Catholic Charities Allentown Permanent Housing Program"},{"$f":"IF('CoC Renewal Ranking Report'!G12<>\"\",'CoC Renewal Ranking Report'!G12,\"\")","v":"PH"},{"$f":"IF('CoC Renewal Ranking Report'!AC12<>\"\",'CoC Renewal Ranking Report'!AC12,\"\")","v":0.69230769230769229},2]
[{"$f":"IF('CoC Renewal Ranking Report'!D13<>\"\",'CoC Renewal Ranking Report'!D13,\"\")","v":"Catholic Social Services of the Diocese of Scranton, Inc."},{"$f":"IF('CoC Renewal Ranking Report'!E13<>\"\",'CoC Renewal Ranking Report'!E13,\"\")","v":"PSHP Pike County"},{"$f":"IF('CoC Renewal Ranking Report'!G13<>\"\",'CoC Renewal Ranking Report'!G13,\"\")","v":"PH"},{"$f":"IF('CoC Renewal Ranking Report'!AC13<>\"\",'CoC Renewal Ranking Report'!AC13,\"\")","v":0.66666666666666663},2]
[{"$f":"IF('CoC Renewal Ranking Report'!D14<>\"\",'CoC Renewal Ranking Report'!D14,\"\")","v":"Catholic Social Services of the Diocese of Scranton, Inc."},{"$f":"IF('CoC Renewal Ranking Report'!E14<>\"\",'CoC Renewal Ranking Report'!E14,\"\")","v":"Rural Permanent Supportive Housing Program"},{"$f":"IF('CoC Renewal Ranking Report'!G14<>\"\",'CoC Renewal Ranking Report'!G14,\"\")","v":"PH"},{"$f":"IF('CoC Renewal Ranking Report'!AC14<>\"\",'CoC Renewal Ranking Report'!AC14,\"\")","v":0.77777777777777779},5]
[{"$f":"IF('CoC Renewal Ranking Report'!D15<>\"\",'CoC Renewal Ranking Report'!D15,\"\")","v":"Catholic Social Services of the Diocese of Scranton, Inc."},{"$f":"IF('CoC Renewal Ranking Report'!E15<>\"\",'CoC Renewal Ranking Report'!E15,\"\")","v":"Susquehanna/Wayne PSHP"},{"$f":"IF('CoC Renewal Ranking Report'!G15<>\"\",'CoC Renewal Ranking Report'!G15,\"\")","v":"PH"},{"$f":"IF('CoC Renewal Ranking Report'!AC15<>\"\",'CoC Renewal Ranking Report'!AC15,\"\")","v":1},5]
[{"$f":"IF('CoC Renewal Ranking Report'!D16<>\"\",'CoC Renewal Ranking Report'!D16,\"\")","v":"Center for Community Action"},{"$f":"IF('CoC Renewal Ranking Report'!E16<>\"\",'CoC Renewal Ranking Report'!E16,\"\")","v":"Bedford,Fulton, Huntingdon RRH"},{"$f":"IF('CoC Renewal Ranking Report'!G16<>\"\",'CoC Renewal Ranking Report'!G16,\"\")","v":"PH-RRH"},{"$f":"IF('CoC Renewal Ranking Report'!AC16<>\"\",'CoC Renewal Ranking Report'!AC16,\"\")","v":0.7857142857142857},5]
[{"$f":"IF('CoC Renewal Ranking Report'!D17<>\"\",'CoC Renewal Ranking Report'!D17,\"\")","v":"County of Franklin"},{"$f":"IF('CoC Renewal Ranking Report'!E17<>\"\",'CoC Renewal Ranking Report'!E17,\"\")","v":"Franklin/ Fulton S+C Project 2017"},{"$f":"IF('CoC Renewal Ranking Report'!G17<>\"\",'CoC Renewal Ranking Report'!G17,\"\")","v":"PH"},{"$f":"IF('CoC Renewal Ranking Report'!AC17<>\"\",'CoC Renewal Ranking Report'!AC17,\"\")","v":0.88235294117647056},5]
[{"$f":"IF('CoC Renewal Ranking Report'!D18<>\"\",'CoC Renewal Ranking Report'!D18,\"\")","v":"County of Franklin"},{"$f":"IF('CoC Renewal Ranking Report'!E18<>\"\",'CoC Renewal Ranking Report'!E18,\"\")","v":"Franklin/Fulton Homeless Assistance Project 2017"},{"$f":"IF('CoC Renewal Ranking Report'!G18<>\"\",'CoC Renewal Ranking Report'!G18,\"\")","v":"PH"},{"$f":"IF('CoC Renewal Ranking Report'!AC18<>\"\",'CoC Renewal Ranking Report'!AC18,\"\")","v":1},5]
[{"$f":"IF('CoC Renewal Ranking Report'!D19<>\"\",'CoC Renewal Ranking Report'!D19,\"\")","v":"County of Lycoming DBA Lycoming- Clinton Joinder Board"},{"$f":"IF('CoC Renewal Ranking Report'!E19<>\"\",'CoC Renewal Ranking Report'!E19,\"\")","v":"Lycoming/Clinton Renewal #5"},{"$f":"IF('CoC Renewal Ranking Report'!G19<>\"\",'CoC Renewal Ranking Report'!G19,\"\")","v":"PH"},{"$f":"IF('CoC Renewal Ranking Report'!AC19<>\"\",'CoC Renewal Ranking Report'!AC19,\"\")","v":0.88235294117647056},5]
[{"$f":"IF('CoC Renewal Ranking Report'!D20<>\"\",'CoC Renewal Ranking Report'!D20,\"\")","v":"Fitzmaurice Community Services, Inc"},{"$f":"IF('CoC Renewal Ranking Report'!E20<>\"\",'CoC Renewal Ranking Report'!E20,\"\")","v":"Pathfinders"},{"$f":"IF('CoC Renewal Ranking Report'!G20<>\"\",'CoC Renewal Ranking Report'!G20,\"\")","v":"PH"},{"$f":"IF('CoC Renewal Ranking Report'!AC20<>\"\",'CoC Renewal Ranking Report'!AC20,\"\")","v":0.80769230769230771},5]
[{"$f":"IF('CoC Renewal Ranking Report'!D21<>\"\",'CoC Renewal Ranking Report'!D21,\"\")","v":"Home Nursing AgencyCommunity Services"},{"$f":"IF('CoC Renewal Ranking Report'!E21<>\"\",'CoC Renewal Ranking Report'!E21,\"\")","v":"Housing Assistance and Rental Program"},{"$f":"IF('CoC Renewal Ranking Report'!G21<>\"\",'CoC Renewal Ranking Report'!G21,\"\")","v":"PH"},{"$f":"IF('CoC Renewal Ranking Report'!AC21<>\"\",'CoC Renewal Ranking Report'!AC21,\"\")","v":0.625},2]
[{"$f":"IF('CoC Renewal Ranking Report'!D22<>\"\",'CoC Renewal Ranking Report'!D22,\"\")","v":"Housing Authority of Monroe County"},{"$f":"IF('CoC Renewal Ranking Report'!E22<>\"\",'CoC Renewal Ranking Report'!E22,\"\")","v":"Renewal Application Shelter Plus Care MC 2016"},{"$f":"IF('CoC Renewal Ranking Report'!G22<>\"\",'CoC Renewal Ranking Report'!G22,\"\")","v":"PH"},{"$f":"IF('CoC Renewal Ranking Report'!AC22<>\"\",'CoC Renewal Ranking Report'!AC22,\"\")","v":0.95},5]
[{"$f":"IF('CoC Renewal Ranking Report'!D23<>\"\",'CoC Renewal Ranking Report'!D23,\"\")","v":"Housing Authority of the County of Cumberland"},{"$f":"IF('CoC Renewal Ranking Report'!E23<>\"\",'CoC Renewal Ranking Report'!E23,\"\")","v":"Carlisle Supportive Housing Program"},{"$f":"IF('CoC Renewal Ranking Report'!G23<>\"\",'CoC Renewal Ranking Report'!G23,\"\")","v":"PH"},{"$f":"IF('CoC Renewal Ranking Report'!AC23<>\"\",'CoC Renewal Ranking Report'!AC23,\"\")","v":0.75},5]
[{"$f":"IF('CoC Renewal Ranking Report'!D24<>\"\",'CoC Renewal Ranking Report'!D24,\"\")","v":"Housing Authority of the County of Cumberland"},{"$f":"IF('CoC Renewal Ranking Report'!E24<>\"\",'CoC Renewal Ranking Report'!E24,\"\")","v":"Perry County Permanent SHP"},{"$f":"IF('CoC Renewal Ranking Report'!G24<>\"\",'CoC Renewal Ranking Report'!G24,\"\")","v":"PH"},{"$f":"IF('CoC Renewal Ranking Report'!AC24<>\"\",'CoC Renewal Ranking Report'!AC24,\"\")","v":0.8571428571428571},5]
[{"$f":"IF('CoC Renewal Ranking Report'!D25<>\"\",'CoC Renewal Ranking Report'!D25,\"\")","v":"Housing Authority of the County of Cumberland"},{"$f":"IF('CoC Renewal Ranking Report'!E25<>\"\",'CoC Renewal Ranking Report'!E25,\"\")","v":"Perry County Transitional II"},{"$f":"IF('CoC Renewal Ranking Report'!G25<>\"\",'CoC Renewal Ranking Report'!G25,\"\")","v":"PH-RRH"},{"$f":"IF('CoC Renewal Ranking Report'!AC25<>\"\",'CoC Renewal Ranking Report'!AC25,\"\")","v":0.8928571428571429},5]
[{"$f":"IF('CoC Renewal Ranking Report'!D26<>\"\",'CoC Renewal Ranking Report'!D26,\"\")","v":"Housing Authority of the County of Cumberland"},{"$f":"IF('CoC Renewal Ranking Report'!E26<>\"\",'CoC Renewal Ranking Report'!E26,\"\")","v":"Perry County Veterans Program"},{"$f":"IF('CoC Renewal Ranking Report'!G26<>\"\",'CoC Renewal Ranking Report'!G26,\"\")","v":"PH"},{"$f":"IF('CoC Renewal Ranking Report'!AC26<>\"\",'CoC Renewal Ranking Report'!AC26,\"\")","v":1},5]
[{"$f":"IF('CoC Renewal Ranking Report'!D27<>\"\",'CoC Renewal Ranking Report'!D27,\"\")","v":"Housing Authority of the County of Cumberland"},{"$f":"IF('CoC Renewal Ranking Report'!E27<>\"\",'CoC Renewal Ranking Report'!E27,\"\")","v":"Rapid Rehousing II"},{"$f":"IF('CoC Renewal Ranking Report'!G27<>\"\",'CoC Renewal Ranking Report'!G27,\"\")","v":"PH-RRH"},{"$f":"IF('CoC Renewal Ranking Report'!AC27<>\"\",'CoC Renewal Ranking Report'!AC27,\"\")","v":0.66666666666666663},2]
[{"$f":"IF('CoC Renewal Ranking Report'!D28<>\"\",'CoC Renewal Ranking Report'!D28,\"\")","v":"Housing Authority of the County of Cumberland"},{"$f":"IF('CoC Renewal Ranking Report'!E28<>\"\",'CoC Renewal Ranking Report'!E28,\"\")","v":"Safe Harbour SHP"},{"$f":"IF('CoC Renewal Ranking Report'!G28<>\"\",'CoC Renewal Ranking Report'!G28,\"\")","v":"PH"},{"$f":"IF('CoC Renewal Ranking Report'!AC28<>\"\",'CoC Renewal Ranking Report'!AC28,\"\")","v":0.75},5]
[{"$f":"IF('CoC Renewal Ranking Report'!D29<>\"\",'CoC Renewal Ranking Report'!D29,\"\")","v":"Housing Authority of the County of Cumberland"},{"$f":"IF('CoC Renewal Ranking Report'!E29<>\"\",'CoC Renewal Ranking Report'!E29,\"\")","v":"Shelter + Care Chronic"},{"$f":"IF('CoC Renewal Ranking Report'!G29<>\"\",'CoC Renewal Ranking Report'!G29,\"\")","v":"PH"},{"$f":"IF('CoC Renewal Ranking Report'!AC29<>\"\",'CoC Renewal Ranking Report'!AC29,\"\")","v":0.96},5]
[{"$f":"IF('CoC Renewal Ranking Report'!D30<>\"\",'CoC Renewal Ranking Report'!D30,\"\")","v":"Housing Authority of the County of Cumberland"},{"$f":"IF('CoC Renewal Ranking Report'!E30<>\"\",'CoC Renewal Ranking Report'!E30,\"\")","v":"Shelter + Care Non-Chronic"},{"$f":"IF('CoC Renewal Ranking Report'!G30<>\"\",'CoC Renewal Ranking Report'!G30,\"\")","v":"PH"},{"$f":"IF('CoC Renewal Ranking Report'!AC30<>\"\",'CoC Renewal Ranking Report'!AC30,\"\")","v":0.96875},5]
[{"$f":"IF('CoC Renewal Ranking Report'!D31<>\"\",'CoC Renewal Ranking Report'!D31,\"\")","v":"Housing Authority of the County of Cumberland"},{"$f":"IF('CoC Renewal Ranking Report'!E31<>\"\",'CoC Renewal Ranking Report'!E31,\"\")","v":"West Shore SHP I"},{"$f":"IF('CoC Renewal Ranking Report'!G31<>\"\",'CoC Renewal Ranking Report'!G31,\"\")","v":"PH"},{"$f":"IF('CoC Renewal Ranking Report'!AC31<>\"\",'CoC Renewal Ranking Report'!AC31,\"\")","v":0.84615384615384615},5]
[{"$f":"IF('CoC Renewal Ranking Report'!D32<>\"\",'CoC Renewal Ranking Report'!D32,\"\")","v":"Housing Authority of the County of Cumberland"},{"$f":"IF('CoC Renewal Ranking Report'!E32<>\"\",'CoC Renewal Ranking Report'!E32,\"\")","v":"West Shore SHP II"},{"$f":"IF('CoC Renewal Ranking Report'!G32<>\"\",'CoC Renewal Ranking Report'!G32,\"\")","v":"PH"},{"$f":"IF('CoC Renewal Ranking Report'!AC32<>\"\",'CoC Renewal Ranking Report'!AC32,\"\")","v":1},5]
[{"$f":"IF('CoC Renewal Ranking Report'!D33<>\"\",'CoC Renewal Ranking Report'!D33,\"\")","v":"Housing Development Corporation of NEPA"},{"$f":"IF('CoC Renewal Ranking Report'!E33<>\"\",'CoC Renewal Ranking Report'!E33,\"\")","v":"HDC SHP 3 2016"},{"$f":"IF('CoC Renewal Ranking Report'!G33<>\"\",'CoC Renewal Ranking Report'!G33,\"\")","v":"PH"},{"$f":"IF('CoC Renewal Ranking Report'!AC33<>\"\",'CoC Renewal Ranking Report'!AC33,\"\")","v":0.94736842105263153},5]
[{"$f":"IF('CoC Renewal Ranking Report'!D34<>\"\",'CoC Renewal Ranking Report'!D34,\"\")","v":"Housing Development Corporation of NEPA"},{"$f":"IF('CoC Renewal Ranking Report'!E34<>\"\",'CoC Renewal Ranking Report'!E34,\"\")","v":"HDC SHP 6 2016"},{"$f":"IF('CoC Renewal Ranking Report'!G34<>\"\",'CoC Renewal Ranking Report'!G34,\"\")","v":"PH"},{"$f":"IF('CoC Renewal Ranking Report'!AC34<>\"\",'CoC Renewal Ranking Report'!AC34,\"\")","v":0.85},5]
[{"$f":"IF('CoC Renewal Ranking Report'!D35<>\"\",'CoC Renewal Ranking Report'!D35,\"\")","v":"Housing Transitions, Inc."},{"$f":"IF('CoC Renewal Ranking Report'!E35<>\"\",'CoC Renewal Ranking Report'!E35,\"\")","v":"Nittany House Apartments"},{"$f":"IF('CoC Renewal Ranking Report'!G35<>\"\",'CoC Renewal Ranking Report'!G35,\"\")","v":"PH"},{"$f":"IF('CoC Renewal Ranking Report'!AC35<>\"\",'CoC Renewal Ranking Report'!AC35,\"\")","v":0.88888888888888884},5]
[{"$f":"IF('CoC Renewal Ranking Report'!D36<>\"\",'CoC Renewal Ranking Report'!D36,\"\")","v":"Lehigh County Conference of Churches"},{"$f":"IF('CoC Renewal Ranking Report'!E36<>\"\",'CoC Renewal Ranking Report'!E36,\"\")","v":"Outreach and Case Management for the Disabled, Chronically Homeless"},{"$f":"IF('CoC Renewal Ranking Report'!G36<>\"\",'CoC Renewal Ranking Report'!G36,\"\")","v":"SSO"},{"$f":"IF('CoC Renewal Ranking Report'!AC36<>\"\",'CoC Renewal Ranking Report'!AC36,\"\")","v":0.88571428571428568},5]
[{"$f":"IF('CoC Renewal Ranking Report'!D37<>\"\",'CoC Renewal Ranking Report'!D37,\"\")","v":"Lehigh County Conference of Churches"},{"$f":"IF('CoC Renewal Ranking Report'!E37<>\"\",'CoC Renewal Ranking Report'!E37,\"\")","v":"Pathways Housing"},{"$f":"IF('CoC Renewal Ranking Report'!G37<>\"\",'CoC Renewal Ranking Report'!G37,\"\")","v":"PH"},{"$f":"IF('CoC Renewal Ranking Report'!AC37<>\"\",'CoC Renewal Ranking Report'!AC37,\"\")","v":1},5]
[{"$f":"IF('CoC Renewal Ranking Report'!D38<>\"\",'CoC Renewal Ranking Report'!D38,\"\")","v":"Lehigh County Conference of Churches"},{"$f":"IF('CoC Renewal Ranking Report'!E38<>\"\",'CoC Renewal Ranking Report'!E38,\"\")","v":"Pathways Housing 2"},{"$f":"IF('CoC Renewal Ranking Report'!G38<>\"\",'CoC Renewal Ranking Report'!G38,\"\")","v":"PH"},{"$f":"IF('CoC Renewal Ranking Report'!AC38<>\"\",'CoC Renewal Ranking Report'!AC38,\"\")","v":0.84210526315789469},5]
[{"$f":"IF('CoC Renewal Ranking Report'!D39<>\"\",'CoC Renewal Ranking Report'!D39,\"\")","v":"Lehigh County Conference of Churches"},{"$f":"IF('CoC Renewal Ranking Report'!E39<>\"\",'CoC Renewal Ranking Report'!E39,\"\")","v":"Pathways TBRA for Families, Youth and Veterans"},{"$f":"IF('CoC Renewal Ranking Report'!G39<>\"\",'CoC Renewal Ranking Report'!G39,\"\")","v":"PH"},{"$f":"IF('CoC Renewal Ranking Report'!AC39<>\"\",'CoC Renewal Ranking Report'!AC39,\"\")","v":0.9},5]
[{"$f":"IF('CoC Renewal Ranking Report'!D40<>\"\",'CoC Renewal Ranking Report'!D40,\"\")","v":"Lehigh County Conference of Churches"},{"$f":"IF('CoC Renewal Ranking Report'!E40<>\"\",'CoC Renewal Ranking Report'!E40,\"\")","v":"Tenant-Based Rental Assistance for the Disabled,Chronically Homeless"},{"$f":"IF('CoC Renewal Ranking Report'!G40<>\"\",'CoC Renewal Ranking Report'!G40,\"\")","v":"PH"},{"$f":"IF('CoC Renewal Ranking Report'!AC40<>\"\",'CoC Renewal Ranking Report'!AC40,\"\")","v":0.75},5]
[{"$f":"IF('CoC Renewal Ranking Report'!D41<>\"\",'CoC Renewal Ranking Report'!D41,\"\")","v":"Lehigh County Housing Authority"},{"$f":"IF('CoC Renewal Ranking Report'!E41<>\"\",'CoC Renewal Ranking Report'!E41,\"\")","v":"LCHA S+C 2016"},{"$f":"IF('CoC Renewal Ranking Report'!G41<>\"\",'CoC Renewal Ranking Report'!G41,\"\")","v":"PH"},{"$f":"IF('CoC Renewal Ranking Report'!AC41<>\"\",'CoC Renewal Ranking Report'!AC41,\"\")","v":0.96551724137931039},5]
[{"$f":"IF('CoC Renewal Ranking Report'!D42<>\"\",'CoC Renewal Ranking Report'!D42,\"\")","v":"Maranatha"},{"$f":"IF('CoC Renewal Ranking Report'!E42<>\"\",'CoC Renewal Ranking Report'!E42,\"\")","v":"TOTAL PERSON TRANSITIONAL PROGRAM 1 & 2"},{"$f":"IF('CoC Renewal Ranking Report'!G42<>\"\",'CoC Renewal Ranking Report'!G42,\"\")","v":"PH-RRH"},{"$f":"IF('CoC Renewal Ranking Report'!AC42<>\"\",'CoC Renewal Ranking Report'!AC42,\"\")","v":0.83333333333333337},5]
[{"$f":"IF('CoC Renewal Ranking Report'!D43<>\"\",'CoC Renewal Ranking Report'!D43,\"\")","v":"Mifflin County"},{"$f":"IF('CoC Renewal Ranking Report'!E43<>\"\",'CoC Renewal Ranking Report'!E43,\"\")","v":"Mifflin County Permanent Housing Renewal"},{"$f":"IF('CoC Renewal Ranking Report'!G43<>\"\",'CoC Renewal Ranking Report'!G43,\"\")","v":"PH"},{"$f":"IF('CoC Renewal Ranking Report'!AC43<>\"\",'CoC Renewal Ranking Report'!AC43,\"\")","v":0.6},2]
[{"$f":"IF('CoC Renewal Ranking Report'!D44<>\"\",'CoC Renewal Ranking Report'!D44,\"\")","v":"Northampton County Housing Authority"},{"$f":"IF('CoC Renewal Ranking Report'!E44<>\"\",'CoC Renewal Ranking Report'!E44,\"\")","v":"NCHA S+C 2016"},{"$f":"IF('CoC Renewal Ranking Report'!G44<>\"\",'CoC Renewal Ranking Report'!G44,\"\")","v":"PH"},{"$f":"IF('CoC Renewal Ranking Report'!AC44<>\"\",'CoC Renewal Ranking Report'!AC44,\"\")","v":1},5]
[{"$f":"IF('CoC Renewal Ranking Report'!D45<>\"\",'CoC Renewal Ranking Report'!D45,\"\")","v":"Northern Cambria Community Development Corporation"},{"$f":"IF('CoC Renewal Ranking Report'!E45<>\"\",'CoC Renewal Ranking Report'!E45,\"\")","v":"Independence Gardens"},{"$f":"IF('CoC Renewal Ranking Report'!G45<>\"\",'CoC Renewal Ranking Report'!G45,\"\")","v":"PH"},{"$f":"IF('CoC Renewal Ranking Report'!AC45<>\"\",'CoC Renewal Ranking Report'!AC45,\"\")","v":0.88888888888888884},5]
[{"$f":"IF('CoC Renewal Ranking Report'!D46<>\"\",'CoC Renewal Ranking Report'!D46,\"\")","v":"Northern Cambria Community Development Corporation"},{"$f":"IF('CoC Renewal Ranking Report'!E46<>\"\",'CoC Renewal Ranking Report'!E46,\"\")","v":"Schoolhouse Gardens"},{"$f":"IF('CoC Renewal Ranking Report'!G46<>\"\",'CoC Renewal Ranking Report'!G46,\"\")","v":"PH"},{"$f":"IF('CoC Renewal Ranking Report'!AC46<>\"\",'CoC Renewal Ranking Report'!AC46,\"\")","v":0.84615384615384615},5]
[{"$f":"IF('CoC Renewal Ranking Report'!D47<>\"\",'CoC Renewal Ranking Report'!D47,\"\")","v":"Northumberland County MH/MR"},{"$f":"IF('CoC Renewal Ranking Report'!E47<>\"\",'CoC Renewal Ranking Report'!E47,\"\")","v":"Sharing Support"},{"$f":"IF('CoC Renewal Ranking Report'!G47<>\"\",'CoC Renewal Ranking Report'!G47,\"\")","v":"PH"},{"$f":"IF('CoC Renewal Ranking Report'!AC47<>\"\",'CoC Renewal Ranking Report'!AC47,\"\")","v":0.93333333333333335},5]
[{"$f":"IF('CoC Renewal Ranking Report'!D48<>\"\",'CoC Renewal Ranking Report'!D48,\"\")","v":"Resources for Human Development, Inc."},{"$f":"IF('CoC Renewal Ranking Report'!E48<>\"\",'CoC Renewal Ranking Report'!E48,\"\")","v":"Crossroads Family"},{"$f":"IF('CoC Renewal Ranking Report'!G48<>\"\",'CoC Renewal Ranking Report'!G48,\"\")","v":"PH"},{"$f":"IF('CoC Renewal Ranking Report'!AC48<>\"\",'CoC Renewal Ranking Report'!AC48,\"\")","v":0.83333333333333337},5]
[{"$f":"IF('CoC Renewal Ranking Report'!D49<>\"\",'CoC Renewal Ranking Report'!D49,\"\")","v":"Resources for Human Development, Inc."},{"$f":"IF('CoC Renewal Ranking Report'!E49<>\"\",'CoC Renewal Ranking Report'!E49,\"\")","v":"Crossroads Housing Bonus"},{"$f":"IF('CoC Renewal Ranking Report'!G49<>\"\",'CoC Renewal Ranking Report'!G49,\"\")","v":"PH"},{"$f":"IF('CoC Renewal Ranking Report'!AC49<>\"\",'CoC Renewal Ranking Report'!AC49,\"\")","v":0.84615384615384615},5]
[{"$f":"IF('CoC Renewal Ranking Report'!D50<>\"\",'CoC Renewal Ranking Report'!D50,\"\")","v":"Resources for Human Development, Inc."},{"$f":"IF('CoC Renewal Ranking Report'!E50<>\"\",'CoC Renewal Ranking Report'!E50,\"\")","v":"Crossroads Individual"},{"$f":"IF('CoC Renewal Ranking Report'!G50<>\"\",'CoC Renewal Ranking Report'!G50,\"\")","v":"PH"},{"$f":"IF('CoC Renewal Ranking Report'!AC50<>\"\",'CoC Renewal Ranking Report'!AC50,\"\")","v":0.93333333333333335},5]
[{"$f":"IF('CoC Renewal Ranking Report'!D51<>\"\",'CoC Renewal Ranking Report'!D51,\"\")","v":"Resources for Human Development, Inc."},{"$f":"IF('CoC Renewal Ranking Report'!E51<>\"\",'CoC Renewal Ranking Report'!E51,\"\")","v":"Crossroads Schuylkill Co. Permanent Supportive Housing"},{"$f":"IF('CoC Renewal Ranking Report'!G51<>\"\",'CoC Renewal Ranking Report'!G51,\"\")","v":"PH"},{"$f":"IF('CoC Renewal Ranking Report'!AC51<>\"\",'CoC Renewal Ranking Report'!AC51,\"\")","v":0.6},2]
[{"$f":"IF('CoC Renewal Ranking Report'!D52<>\"\",'CoC Renewal Ranking Report'!D52,\"\")","v":"Resources for Human Development, Inc."},{"$f":"IF('CoC Renewal Ranking Report'!E52<>\"\",'CoC Renewal Ranking Report'!E52,\"\")","v":"LV ACT Housing Supports"},{"$f":"IF('CoC Renewal Ranking Report'!G52<>\"\",'CoC Renewal Ranking Report'!G52,\"\")","v":"PH"},{"$f":"IF('CoC Renewal Ranking Report'!AC52<>\"\",'CoC Renewal Ranking Report'!AC52,\"\")","v":0.91304347826086951},5]
[{"$f":"IF('CoC Renewal Ranking Report'!D53<>\"\",'CoC Renewal Ranking Report'!D53,\"\")","v":"Tableland Services, Inc."},{"$f":"IF('CoC Renewal Ranking Report'!E53<>\"\",'CoC Renewal Ranking Report'!E53,\"\")","v":"Permanent Housing with Disabilities (SHP)"},{"$f":"IF('CoC Renewal Ranking Report'!G53<>\"\",'CoC Renewal Ranking Report'!G53,\"\")","v":"PH"},{"$f":"IF('CoC Renewal Ranking Report'!AC53<>\"\",'CoC Renewal Ranking Report'!AC53,\"\")","v":0.97826086956521741},5]
[{"$f":"IF('CoC Renewal Ranking Report'!D54<>\"\",'CoC Renewal Ranking Report'!D54,\"\")","v":"Tableland Services, Inc."},{"$f":"IF('CoC Renewal Ranking Report'!E54<>\"\",'CoC Renewal Ranking Report'!E54,\"\")","v":"Permanent Supportive Housing CH Project"},{"$f":"IF('CoC Renewal Ranking Report'!G54<>\"\",'CoC Renewal Ranking Report'!G54,\"\")","v":"PH"},{"$f":"IF('CoC Renewal Ranking Report'!AC54<>\"\",'CoC Renewal Ranking Report'!AC54,\"\")","v":1},5]
[{"$f":"IF('CoC Renewal Ranking Report'!D55<>\"\",'CoC Renewal Ranking Report'!D55,\"\")","v":"The Salvation Army, a New York Corporation"},{"$f":"IF('CoC Renewal Ranking Report'!E55<>\"\",'CoC Renewal Ranking Report'!E55,\"\")","v":"Allentown Hospitality House Permanent Housing Program"},{"$f":"IF('CoC Renewal Ranking Report'!G55<>\"\",'CoC Renewal Ranking Report'!G55,\"\")","v":"PH"},{"$f":"IF('CoC Renewal Ranking Report'!AC55<>\"\",'CoC Renewal Ranking Report'!AC55,\"\")","v":0.8571428571428571},5]
[{"$f":"IF('CoC Renewal Ranking Report'!D56<>\"\",'CoC Renewal Ranking Report'!D56,\"\")","v":"The Salvation Army, a New York Corporation"},{"$f":"IF('CoC Renewal Ranking Report'!E56<>\"\",'CoC Renewal Ranking Report'!E56,\"\")","v":"Salvation Army Carlisle PH Project"},{"$f":"IF('CoC Renewal Ranking Report'!G56<>\"\",'CoC Renewal Ranking Report'!G56,\"\")","v":"PH"},{"$f":"IF('CoC Renewal Ranking Report'!AC56<>\"\",'CoC Renewal Ranking Report'!AC56,\"\")","v":1},5]
[{"$f":"IF('CoC Renewal Ranking Report'!D57<>\"\",'CoC Renewal Ranking Report'!D57,\"\")","v":"Union-Snyder Community Action Agency"},{"$f":"IF('CoC Renewal Ranking Report'!E57<>\"\",'CoC Renewal Ranking Report'!E57,\"\")","v":"Union-Snyder Rapid ReHousing Program"},{"$f":"IF('CoC Renewal Ranking Report'!G57<>\"\",'CoC Renewal Ranking Report'!G57,\"\")","v":"PH-RRH"},{"$f":"IF('CoC Renewal Ranking Report'!AC57<>\"\",'CoC Renewal Ranking Report'!AC57,\"\")","v":0.8},5]
[{"$f":"IF('CoC Renewal Ranking Report'!D58<>\"\",'CoC Renewal Ranking Report'!D58,\"\")","v":"United Christian Ministries"},{"$f":"IF('CoC Renewal Ranking Report'!E58<>\"\",'CoC Renewal Ranking Report'!E58,\"\")","v":"Kenner Garnet Renewal 2016"},{"$f":"IF('CoC Renewal Ranking Report'!G58<>\"\",'CoC Renewal Ranking Report'!G58,\"\")","v":"PH"},{"$f":"IF('CoC Renewal Ranking Report'!AC58<>\"\",'CoC Renewal Ranking Report'!AC58,\"\")","v":0.85185185185185186},5]
[{"$f":"IF('CoC Renewal Ranking Report'!D59<>\"\",'CoC Renewal Ranking Report'!D59,\"\")","v":"Valley Housing Development Corporation "},{"$f":"IF('CoC Renewal Ranking Report'!E59<>\"\",'CoC Renewal Ranking Report'!E59,\"\")","v":"VHDC SHP #2 2016"},{"$f":"IF('CoC Renewal Ranking Report'!G59<>\"\",'CoC Renewal Ranking Report'!G59,\"\")","v":"PH"},{"$f":"IF('CoC Renewal Ranking Report'!AC59<>\"\",'CoC Renewal Ranking Report'!AC59,\"\")","v":1},5]
[{"$f":"IF('CoC Renewal Ranking Report'!D60<>\"\",'CoC Renewal Ranking Report'!D60,\"\")","v":"Valley Housing Development Corporation "},{"$f":"IF('CoC Renewal Ranking Report'!E60<>\"\",'CoC Renewal Ranking Report'!E60,\"\")","v":"VHDC SHP #3 2016"},{"$f":"IF('CoC Renewal Ranking Report'!G60<>\"\",'CoC Renewal Ranking Report'!G60,\"\")","v":"PH"},{"$f":"IF('CoC Renewal Ranking Report'!AC60<>\"\",'CoC Renewal Ranking Report'!AC60,\"\")","v":1},5]
[{"$f":"IF('CoC Renewal Ranking Report'!D61<>\"\",'CoC Renewal Ranking Report'!D61,\"\")","v":"Valley Housing Development Corporation "},{"$f":"IF('CoC Renewal Ranking Report'!E61<>\"\",'CoC Renewal Ranking Report'!E61,\"\")","v":"VHDC SHP #4 2016"},{"$f":"IF('CoC Renewal Ranking Report'!G61<>\"\",'CoC Renewal Ranking Report'!G61,\"\")","v":"PH"},{"$f":"IF('CoC Renewal Ranking Report'!AC61<>\"\",'CoC Renewal Ranking Report'!AC61,\"\")","v":0.93333333333333335},5]
[{"$f":"IF('CoC Renewal Ranking Report'!D62<>\"\",'CoC Renewal Ranking Report'!D62,\"\")","v":""},{"$f":"IF('CoC Renewal Ranking Report'!E62<>\"\",'CoC Renewal Ranking Report'!E62,\"\")","v":""},{"$f":"IF('CoC Renewal Ranking Report'!G62<>\"\",'CoC Renewal Ranking Report'!G62,\"\")","v":""},{"$f":"IF('CoC Renewal Ranking Report'!AC62<>\"\",'CoC Renewal Ranking Report'!AC62,\"\")","v":""},""]
[{"$f":"IF('CoC Renewal Ranking Report'!D63<>\"\",'CoC Renewal Ranking Report'!D63,\"\")","v":""},{"$f":"IF('CoC Renewal Ranking Report'!E63<>\"\",'CoC Renewal Ranking Report'!E63,\"\")","v":""},{"$f":"IF('CoC Renewal Ranking Report'!G63<>\"\",'CoC Renewal Ranking Report'!G63,\"\")","v":""},{"$f":"IF('CoC Renewal Ranking Report'!AC63<>\"\",'CoC Renewal Ranking Report'!AC63,\"\")","v":""},""]
[{"$f":"IF('CoC Renewal Ranking Report'!D64<>\"\",'CoC Renewal Ranking Report'!D64,\"\")","v":""},{"$f":"IF('CoC Renewal Ranking Report'!E64<>\"\",'CoC Renewal Ranking Report'!E64,\"\")","v":""},{"$f":"IF('CoC Renewal Ranking Report'!G64<>\"\",'CoC Renewal Ranking Report'!G64,\"\")","v":""},{"$f":"IF('CoC Renewal Ranking Report'!AC64<>\"\",'CoC Renewal Ranking Report'!AC64,\"\")","v":""},""]
[{"$f":"IF('CoC Renewal Ranking Report'!D65<>\"\",'CoC Renewal Ranking Report'!D65,\"\")","v":""},{"$f":"IF('CoC Renewal Ranking Report'!E65<>\"\",'CoC Renewal Ranking Report'!E65,\"\")","v":""},{"$f":"IF('CoC Renewal Ranking Report'!G65<>\"\",'CoC Renewal Ranking Report'!G65,\"\")","v":""},{"$f":"IF('CoC Renewal Ranking Report'!AC65<>\"\",'CoC Renewal Ranking Report'!AC65,\"\")","v":""},""]
[{"$f":"IF('CoC Renewal Ranking Report'!D66<>\"\",'CoC Renewal Ranking Report'!D66,\"\")","v":""},{"$f":"IF('CoC Renewal Ranking Report'!E66<>\"\",'CoC Renewal Ranking Report'!E66,\"\")","v":""},{"$f":"IF('CoC Renewal Ranking Report'!G66<>\"\",'CoC Renewal Ranking Report'!G66,\"\")","v":""},{"$f":"IF('CoC Renewal Ranking Report'!AC66<>\"\",'CoC Renewal Ranking Report'!AC66,\"\")","v":""},""]
[{"$f":"IF('CoC Renewal Ranking Report'!D67<>\"\",'CoC Renewal Ranking Report'!D67,\"\")","v":""},{"$f":"IF('CoC Renewal Ranking Report'!E67<>\"\",'CoC Renewal Ranking Report'!E67,\"\")","v":""},{"$f":"IF('CoC Renewal Ranking Report'!G67<>\"\",'CoC Renewal Ranking Report'!G67,\"\")","v":""},{"$f":"IF('CoC Renewal Ranking Report'!AC67<>\"\",'CoC Renewal Ranking Report'!AC67,\"\")","v":""},""]
[{"$f":"IF('CoC Renewal Ranking Report'!D68<>\"\",'CoC Renewal Ranking Report'!D68,\"\")","v":""},{"$f":"IF('CoC Renewal Ranking Report'!E68<>\"\",'CoC Renewal Ranking Report'!E68,\"\")","v":""},{"$f":"IF('CoC Renewal Ranking Report'!G68<>\"\",'CoC Renewal Ranking Report'!G68,\"\")","v":""},{"$f":"IF('CoC Renewal Ranking Report'!AC68<>\"\",'CoC Renewal Ranking Report'!AC68,\"\")","v":""},""]
[{"$f":"IF('CoC Renewal Ranking Report'!D69<>\"\",'CoC Renewal Ranking Report'!D69,\"\")","v":""},{"$f":"IF('CoC Renewal Ranking Report'!E69<>\"\",'CoC Renewal Ranking Report'!E69,\"\")","v":""},{"$f":"IF('CoC Renewal Ranking Report'!G69<>\"\",'CoC Renewal Ranking Report'!G69,\"\")","v":""},{"$f":"IF('CoC Renewal Ranking Report'!AC69<>\"\",'CoC Renewal Ranking Report'!AC69,\"\")","v":""},""]
[{"$f":"IF('CoC Renewal Ranking Report'!D70<>\"\",'CoC Renewal Ranking Report'!D70,\"\")","v":""},{"$f":"IF('CoC Renewal Ranking Report'!E70<>\"\",'CoC Renewal Ranking Report'!E70,\"\")","v":""},{"$f":"IF('CoC Renewal Ranking Report'!G70<>\"\",'CoC Renewal Ranking Report'!G70,\"\")","v":""},{"$f":"IF('CoC Renewal Ranking Report'!AC70<>\"\",'CoC Renewal Ranking Report'!AC70,\"\")","v":""},""]
[{"$f":"IF('CoC Renewal Ranking Report'!D71<>\"\",'CoC Renewal Ranking Report'!D71,\"\")","v":""},{"$f":"IF('CoC Renewal Ranking Report'!E71<>\"\",'CoC Renewal Ranking Report'!E71,\"\")","v":""},{"$f":"IF('CoC Renewal Ranking Report'!G71<>\"\",'CoC Renewal Ranking Report'!G71,\"\")","v":""},{"$f":"IF('CoC Renewal Ranking Report'!AC71<>\"\",'CoC Renewal Ranking Report'!AC71,\"\")","v":""},""]
[{"$f":"IF('CoC Renewal Ranking Report'!D72<>\"\",'CoC Renewal Ranking Report'!D72,\"\")","v":""},{"$f":"IF('CoC Renewal Ranking Report'!E72<>\"\",'CoC Renewal Ranking Report'!E72,\"\")","v":""},{"$f":"IF('CoC Renewal Ranking Report'!G72<>\"\",'CoC Renewal Ranking Report'!G72,\"\")","v":""},{"$f":"IF('CoC Renewal Ranking Report'!AC72<>\"\",'CoC Renewal Ranking Report'!AC72,\"\")","v":""},""]
[{"$f":"IF('CoC Renewal Ranking Report'!D73<>\"\",'CoC Renewal Ranking Report'!D73,\"\")","v":""},{"$f":"IF('CoC Renewal Ranking Report'!E73<>\"\",'CoC Renewal Ranking Report'!E73,\"\")","v":""},{"$f":"IF('CoC Renewal Ranking Report'!G73<>\"\",'CoC Renewal Ranking Report'!G73,\"\")","v":""},{"$f":"IF('CoC Renewal Ranking Report'!AC73<>\"\",'CoC Renewal Ranking Report'!AC73,\"\")","v":""},""]
[{"$f":"IF('CoC Renewal Ranking Report'!D74<>\"\",'CoC Renewal Ranking Report'!D74,\"\")","v":""},{"$f":"IF('CoC Renewal Ranking Report'!E74<>\"\",'CoC Renewal Ranking Report'!E74,\"\")","v":""},{"$f":"IF('CoC Renewal Ranking Report'!G74<>\"\",'CoC Renewal Ranking Report'!G74,\"\")","v":""},{"$f":"IF('CoC Renewal Ranking Report'!AC74<>\"\",'CoC Renewal Ranking Report'!AC74,\"\")","v":""},{"$f":"IF(AND(A72<>\"\",D72<>\"\"), IF(D72 >= 0.75, 5, IF(AND(D72 >= 0.6, D72 < 0.75), 2, 0)), \"\")","v":""}]
[{"$f":"IF('CoC Renewal Ranking Report'!D75<>\"\",'CoC Renewal Ranking Report'!D75,\"\")","v":""},{"$f":"IF('CoC Renewal Ranking Report'!E75<>\"\",'CoC Renewal Ranking Report'!E75,\"\")","v":""},{"$f":"IF('CoC Renewal Ranking Report'!G75<>\"\",'CoC Renewal Ranking Report'!G75,\"\")","v":""},{"$f":"IF('CoC Renewal Ranking Report'!AC75<>\"\",'CoC Renewal Ranking Report'!AC75,\"\")","v":""},""]
[{"$f":"IF('CoC Renewal Ranking Report'!D76<>\"\",'CoC Renewal Ranking Report'!D76,\"\")","v":""},{"$f":"IF('CoC Renewal Ranking Report'!E76<>\"\",'CoC Renewal Ranking Report'!E76,\"\")","v":""},{"$f":"IF('CoC Renewal Ranking Report'!G76<>\"\",'CoC Renewal Ranking Report'!G76,\"\")","v":""},{"$f":"IF('CoC Renewal Ranking Report'!AC76<>\"\",'CoC Renewal Ranking Report'!AC76,\"\")","v":""},""]
[{"$f":"IF('CoC Renewal Ranking Report'!D77<>\"\",'CoC Renewal Ranking Report'!D77,\"\")","v":""},{"$f":"IF('CoC Renewal Ranking Report'!E77<>\"\",'CoC Renewal Ranking Report'!E77,\"\")","v":""},{"$f":"IF('CoC Renewal Ranking Report'!G77<>\"\",'CoC Renewal Ranking Report'!G77,\"\")","v":""},{"$f":"IF('CoC Renewal Ranking Report'!AC77<>\"\",'CoC Renewal Ranking Report'!AC77,\"\")","v":""},""]
[{"$f":"IF('CoC Renewal Ranking Report'!D78<>\"\",'CoC Renewal Ranking Report'!D78,\"\")","v":""},{"$f":"IF('CoC Renewal Ranking Report'!E78<>\"\",'CoC Renewal Ranking Report'!E78,\"\")","v":""},{"$f":"IF('CoC Renewal Ranking Report'!G78<>\"\",'CoC Renewal Ranking Report'!G78,\"\")","v":""},{"$f":"IF('CoC Renewal Ranking Report'!AC78<>\"\",'CoC Renewal Ranking Report'!AC78,\"\")","v":""},""]
[{"$f":"IF('CoC Renewal Ranking Report'!D79<>\"\",'CoC Renewal Ranking Report'!D79,\"\")","v":""},{"$f":"IF('CoC Renewal Ranking Report'!E79<>\"\",'CoC Renewal Ranking Report'!E79,\"\")","v":""},{"$f":"IF('CoC Renewal Ranking Report'!G79<>\"\",'CoC Renewal Ranking Report'!G79,\"\")","v":""},{"$f":"IF('CoC Renewal Ranking Report'!AC79<>\"\",'CoC Renewal Ranking Report'!AC79,\"\")","v":""},""]
[{"$f":"IF('CoC Renewal Ranking Report'!D80<>\"\",'CoC Renewal Ranking Report'!D80,\"\")","v":""},{"$f":"IF('CoC Renewal Ranking Report'!E80<>\"\",'CoC Renewal Ranking Report'!E80,\"\")","v":""},{"$f":"IF('CoC Renewal Ranking Report'!G80<>\"\",'CoC Renewal Ranking Report'!G80,\"\")","v":""},{"$f":"IF('CoC Renewal Ranking Report'!AC80<>\"\",'CoC Renewal Ranking Report'!AC80,\"\")","v":""},""]
[{"$f":"IF('CoC Renewal Ranking Report'!D81<>\"\",'CoC Renewal Ranking Report'!D81,\"\")","v":""},{"$f":"IF('CoC Renewal Ranking Report'!E81<>\"\",'CoC Renewal Ranking Report'!E81,\"\")","v":""},{"$f":"IF('CoC Renewal Ranking Report'!G81<>\"\",'CoC Renewal Ranking Report'!G81,\"\")","v":""},{"$f":"IF('CoC Renewal Ranking Report'!AC81<>\"\",'CoC Renewal Ranking Report'!AC81,\"\")","v":""},""]
[{"$f":"IF('CoC Renewal Ranking Report'!D82<>\"\",'CoC Renewal Ranking Report'!D82,\"\")","v":""},{"$f":"IF('CoC Renewal Ranking Report'!E82<>\"\",'CoC Renewal Ranking Report'!E82,\"\")","v":""},{"$f":"IF('CoC Renewal Ranking Report'!G82<>\"\",'CoC Renewal Ranking Report'!G82,\"\")","v":""},{"$f":"IF('CoC Renewal Ranking Report'!AC82<>\"\",'CoC Renewal Ranking Report'!AC82,\"\")","v":""},""]
[{"$f":"IF('CoC Renewal Ranking Report'!D83<>\"\",'CoC Renewal Ranking Report'!D83,\"\")","v":""},{"$f":"IF('CoC Renewal Ranking Report'!E83<>\"\",'CoC Renewal Ranking Report'!E83,\"\")","v":""},{"$f":"IF('CoC Renewal Ranking Report'!G83<>\"\",'CoC Renewal Ranking Report'!G83,\"\")","v":""},{"$f":"IF('CoC Renewal Ranking Report'!AC83<>\"\",'CoC Renewal Ranking Report'!AC83,\"\")","v":""},""]
[{"$f":"IF('CoC Renewal Ranking Report'!D84<>\"\",'CoC Renewal Ranking Report'!D84,\"\")","v":""},{"$f":"IF('CoC Renewal Ranking Report'!E84<>\"\",'CoC Renewal Ranking Report'!E84,\"\")","v":""},{"$f":"IF('CoC Renewal Ranking Report'!G84<>\"\",'CoC Renewal Ranking Report'!G84,\"\")","v":""},{"$f":"IF('CoC Renewal Ranking Report'!AC84<>\"\",'CoC Renewal Ranking Report'!AC84,\"\")","v":""},""]
[{"$f":"IF('CoC Renewal Ranking Report'!D85<>\"\",'CoC Renewal Ranking Report'!D85,\"\")","v":""},{"$f":"IF('CoC Renewal Ranking Report'!E85<>\"\",'CoC Renewal Ranking Report'!E85,\"\")","v":""},{"$f":"IF('CoC Renewal Ranking Report'!G85<>\"\",'CoC Renewal Ranking Report'!G85,\"\")","v":""},{"$f":"IF('CoC Renewal Ranking Report'!AC85<>\"\",'CoC Renewal Ranking Report'!AC85,\"\")","v":""},""]
[{"$f":"IF('CoC Renewal Ranking Report'!D86<>\"\",'CoC Renewal Ranking Report'!D86,\"\")","v":""},{"$f":"IF('CoC Renewal Ranking Report'!E86<>\"\",'CoC Renewal Ranking Report'!E86,\"\")","v":""},{"$f":"IF('CoC Renewal Ranking Report'!G86<>\"\",'CoC Renewal Ranking Report'!G86,\"\")","v":""},{"$f":"IF('CoC Renewal Ranking Report'!AC86<>\"\",'CoC Renewal Ranking Report'!AC86,\"\")","v":""},""]
[{"$f":"IF('CoC Renewal Ranking Report'!D87<>\"\",'CoC Renewal Ranking Report'!D87,\"\")","v":""},{"$f":"IF('CoC Renewal Ranking Report'!E87<>\"\",'CoC Renewal Ranking Report'!E87,\"\")","v":""},{"$f":"IF('CoC Renewal Ranking Report'!G87<>\"\",'CoC Renewal Ranking Report'!G87,\"\")","v":""},{"$f":"IF('CoC Renewal Ranking Report'!AC87<>\"\",'CoC Renewal Ranking Report'!AC87,\"\")","v":""},""]
[{"$f":"IF('CoC Renewal Ranking Report'!D88<>\"\",'CoC Renewal Ranking Report'!D88,\"\")","v":""},{"$f":"IF('CoC Renewal Ranking Report'!E88<>\"\",'CoC Renewal Ranking Report'!E88,\"\")","v":""},{"$f":"IF('CoC Renewal Ranking Report'!G88<>\"\",'CoC Renewal Ranking Report'!G88,\"\")","v":""},{"$f":"IF('CoC Renewal Ranking Report'!AC88<>\"\",'CoC Renewal Ranking Report'!AC88,\"\")","v":""},""]
[{"$f":"IF('CoC Renewal Ranking Report'!D89<>\"\",'CoC Renewal Ranking Report'!D89,\"\")","v":""},{"$f":"IF('CoC Renewal Ranking Report'!E89<>\"\",'CoC Renewal Ranking Report'!E89,\"\")","v":""},{"$f":"IF('CoC Renewal Ranking Report'!G89<>\"\",'CoC Renewal Ranking Report'!G89,\"\")","v":""},{"$f":"IF('CoC Renewal Ranking Report'!AC89<>\"\",'CoC Renewal Ranking Report'!AC89,\"\")","v":""},""]
[{"$f":"IF('CoC Renewal Ranking Report'!D90<>\"\",'CoC Renewal Ranking Report'!D90,\"\")","v":""},{"$f":"IF('CoC Renewal Ranking Report'!E90<>\"\",'CoC Renewal Ranking Report'!E90,\"\")","v":""},{"$f":"IF('CoC Renewal Ranking Report'!G90<>\"\",'CoC Renewal Ranking Report'!G90,\"\")","v":""},{"$f":"IF('CoC Renewal Ranking Report'!AC90<>\"\",'CoC Renewal Ranking Report'!AC90,\"\")","v":""},""]
[{"$f":"IF('CoC Renewal Ranking Report'!D91<>\"\",'CoC Renewal Ranking Report'!D91,\"\")","v":""},{"$f":"IF('CoC Renewal Ranking Report'!E91<>\"\",'CoC Renewal Ranking Report'!E91,\"\")","v":""},{"$f":"IF('CoC Renewal Ranking Report'!G91<>\"\",'CoC Renewal Ranking Report'!G91,\"\")","v":""},{"$f":"IF('CoC Renewal Ranking Report'!AC91<>\"\",'CoC Renewal Ranking Report'!AC91,\"\")","v":""},""]
[{"$f":"IF('CoC Renewal Ranking Report'!D92<>\"\",'CoC Renewal Ranking Report'!D92,\"\")","v":""},{"$f":"IF('CoC Renewal Ranking Report'!E92<>\"\",'CoC Renewal Ranking Report'!E92,\"\")","v":""},{"$f":"IF('CoC Renewal Ranking Report'!G92<>\"\",'CoC Renewal Ranking Report'!G92,\"\")","v":""},{"$f":"IF('CoC Renewal Ranking Report'!AC92<>\"\",'CoC Renewal Ranking Report'!AC92,\"\")","v":""},""]
[{"$f":"IF('CoC Renewal Ranking Report'!D93<>\"\",'CoC Renewal Ranking Report'!D93,\"\")","v":""},{"$f":"IF('CoC Renewal Ranking Report'!E93<>\"\",'CoC Renewal Ranking Report'!E93,\"\")","v":""},{"$f":"IF('CoC Renewal Ranking Report'!G93<>\"\",'CoC Renewal Ranking Report'!G93,\"\")","v":""},{"$f":"IF('CoC Renewal Ranking Report'!AC93<>\"\",'CoC Renewal Ranking Report'!AC93,\"\")","v":""},""]
[{"$f":"IF('CoC Renewal Ranking Report'!D94<>\"\",'CoC Renewal Ranking Report'!D94,\"\")","v":""},{"$f":"IF('CoC Renewal Ranking Report'!E94<>\"\",'CoC Renewal Ranking Report'!E94,\"\")","v":""},{"$f":"IF('CoC Renewal Ranking Report'!G94<>\"\",'CoC Renewal Ranking Report'!G94,\"\")","v":""},{"$f":"IF('CoC Renewal Ranking Report'!AC94<>\"\",'CoC Renewal Ranking Report'!AC94,\"\")","v":""},""]
[{"$f":"IF('CoC Renewal Ranking Report'!D95<>\"\",'CoC Renewal Ranking Report'!D95,\"\")","v":""},{"$f":"IF('CoC Renewal Ranking Report'!E95<>\"\",'CoC Renewal Ranking Report'!E95,\"\")","v":""},{"$f":"IF('CoC Renewal Ranking Report'!G95<>\"\",'CoC Renewal Ranking Report'!G95,\"\")","v":""},{"$f":"IF('CoC Renewal Ranking Report'!AC95<>\"\",'CoC Renewal Ranking Report'!AC95,\"\")","v":""},""]
[{"$f":"IF('CoC Renewal Ranking Report'!D96<>\"\",'CoC Renewal Ranking Report'!D96,\"\")","v":""},{"$f":"IF('CoC Renewal Ranking Report'!E96<>\"\",'CoC Renewal Ranking Report'!E96,\"\")","v":""},{"$f":"IF('CoC Renewal Ranking Report'!G96<>\"\",'CoC Renewal Ranking Report'!G96,\"\")","v":""},{"$f":"IF('CoC Renewal Ranking Report'!AC96<>\"\",'CoC Renewal Ranking Report'!AC96,\"\")","v":""},""]
[{"$f":"IF('CoC Renewal Ranking Report'!D97<>\"\",'CoC Renewal Ranking Report'!D97,\"\")","v":""},{"$f":"IF('CoC Renewal Ranking Report'!E97<>\"\",'CoC Renewal Ranking Report'!E97,\"\")","v":""},{"$f":"IF('CoC Renewal Ranking Report'!G97<>\"\",'CoC Renewal Ranking Report'!G97,\"\")","v":""},{"$f":"IF('CoC Renewal Ranking Report'!AC97<>\"\",'CoC Renewal Ranking Report'!AC97,\"\")","v":""},""]
[{"$f":"IF('CoC Renewal Ranking Report'!D98<>\"\",'CoC Renewal Ranking Report'!D98,\"\")","v":""},{"$f":"IF('CoC Renewal Ranking Report'!E98<>\"\",'CoC Renewal Ranking Report'!E98,\"\")","v":""},{"$f":"IF('CoC Renewal Ranking Report'!G98<>\"\",'CoC Renewal Ranking Report'!G98,\"\")","v":""},{"$f":"IF('CoC Renewal Ranking Report'!AC98<>\"\",'CoC Renewal Ranking Report'!AC98,\"\")","v":""},""]
[{"$f":"IF('CoC Renewal Ranking Report'!D99<>\"\",'CoC Renewal Ranking Report'!D99,\"\")","v":""},{"$f":"IF('CoC Renewal Ranking Report'!E99<>\"\",'CoC Renewal Ranking Report'!E99,\"\")","v":""},{"$f":"IF('CoC Renewal Ranking Report'!G99<>\"\",'CoC Renewal Ranking Report'!G99,\"\")","v":""},{"$f":"IF('CoC Renewal Ranking Report'!AC99<>\"\",'CoC Renewal Ranking Report'!AC99,\"\")","v":""},""]
[{"$f":"IF('CoC Renewal Ranking Report'!D100<>\"\",'CoC Renewal Ranking Report'!D100,\"\")","v":""},{"$f":"IF('CoC Renewal Ranking Report'!E100<>\"\",'CoC Renewal Ranking Report'!E100,\"\")","v":""},{"$f":"IF('CoC Renewal Ranking Report'!G100<>\"\",'CoC Renewal Ranking Report'!G100,\"\")","v":""},{"$f":"IF('CoC Renewal Ranking Report'!AC100<>\"\",'CoC Renewal Ranking Report'!AC100,\"\")","v":""},""]
[{"$f":"IF('CoC Renewal Ranking Report'!D101<>\"\",'CoC Renewal Ranking Report'!D101,\"\")","v":""},{"$f":"IF('CoC Renewal Ranking Report'!E101<>\"\",'CoC Renewal Ranking Report'!E101,\"\")","v":""},{"$f":"IF('CoC Renewal Ranking Report'!G101<>\"\",'CoC Renewal Ranking Report'!G101,\"\")","v":""},{"$f":"IF('CoC Renewal Ranking Report'!AC101<>\"\",'CoC Renewal Ranking Report'!AC101,\"\")","v":""},""]
[{"$f":"IF('CoC Renewal Ranking Report'!D102<>\"\",'CoC Renewal Ranking Report'!D102,\"\")","v":""},{"$f":"IF('CoC Renewal Ranking Report'!E102<>\"\",'CoC Renewal Ranking Report'!E102,\"\")","v":""},{"$f":"IF('CoC Renewal Ranking Report'!G102<>\"\",'CoC Renewal Ranking Report'!G102,\"\")","v":""},{"$f":"IF('CoC Renewal Ranking Report'!AC102<>\"\",'CoC Renewal Ranking Report'!AC102,\"\")","v":""},""]
[{"$f":"IF('CoC Renewal Ranking Report'!D103<>\"\",'CoC Renewal Ranking Report'!D103,\"\")","v":""},{"$f":"IF('CoC Renewal Ranking Report'!E103<>\"\",'CoC Renewal Ranking Report'!E103,\"\")","v":""},{"$f":"IF('CoC Renewal Ranking Report'!G103<>\"\",'CoC Renewal Ranking Report'!G103,\"\")","v":""},{"$f":"IF('CoC Renewal Ranking Report'!AC103<>\"\",'CoC Renewal Ranking Report'!AC103,\"\")","v":""},""]
[{"$f":"IF('CoC Renewal Ranking Report'!D104<>\"\",'CoC Renewal Ranking Report'!D104,\"\")","v":""},{"$f":"IF('CoC Renewal Ranking Report'!E104<>\"\",'CoC Renewal Ranking Report'!E104,\"\")","v":""},{"$f":"IF('CoC Renewal Ranking Report'!G104<>\"\",'CoC Renewal Ranking Report'!G104,\"\")","v":""},{"$f":"IF('CoC Renewal Ranking Report'!AC104<>\"\",'CoC Renewal Ranking Report'!AC104,\"\")","v":""},""]

{"sheet":"Project Eligibility","index":9,"n_rows":102,"n_cols":5,"rows_kept":102,"cut":false,"hidden":false,"merged":[]}
[null,"Project Eligibility"]
[null,"Criteria"]
[null,"90 - 100% = 5 points"]
[]
[]
[]
[]
["Agency Name","Project Name","Project Type","%","Score"]
[{"$f":"IF('CoC Renewal Ranking Report'!D9<>\"\",'CoC Renewal Ranking Report'!D9,\"\")","v":""},{"$f":"IF('CoC Renewal Ranking Report'!E9<>\"\",'CoC Renewal Ranking Report'!E9,\"\")","v":""},{"$f":"IF('CoC Renewal Ranking Report'!G9<>\"\",'CoC Renewal Ranking Report'!G9,\"\")","v":""},{"$f":"IF('CoC Renewal Ranking Report'!AC9<>\"\",'CoC Renewal Ranking Report'!BB9,\"\")","v":""},{"$f":"IF(AND(A9<>\"\",D9<>\"\"), IF(D9 >= 0.9, 5, 0), \"\")","v":""}]
[{"$f":"IF('CoC Renewal Ranking Report'!D10<>\"\",'CoC Renewal Ranking Report'!D10,\"\")","v":"Blair County Community Action Program"},{"$f":"IF('CoC Renewal Ranking Report'!E10<>\"\",'CoC Renewal Ranking Report'!E10,\"\")","v":"Rapid Re-Housing"},{"$f":"IF('CoC Renewal Ranking Report'!G10<>\"\",'CoC Renewal Ranking Report'!G10,\"\")","v":"PH-RRH"},{"$f":"IF('CoC Renewal Ranking Report'!AC10<>\"\",'CoC Renewal Ranking Report'!BB10,\"\")","v":1},{"$f":"IF(AND(A10<>\"\",D10<>\"\"), IF(D10 >= 0.9, 5, 0), \"\")","v":5}]
[{"$f":"IF('CoC Renewal Ranking Report'!D11<>\"\",'CoC Renewal Ranking Report'!D11,\"\")","v":"Cambria County"},{"$f":"IF('CoC Renewal Ranking Report'!E11<>\"\",'CoC Renewal Ranking Report'!E11,\"\")","v":"Cambria County Comprehensive Housing Program"},{"$f":"IF('CoC Renewal Ranking Report'!G11<>\"\",'CoC Renewal Ranking Report'!G11,\"\")","v":"PH"},{"$f":"IF('CoC Renewal Ranking Report'!AC11<>\"\",'CoC Renewal Ranking Report'!BB11,\"\")","v":0.63639999999999997},0]
[{"$f":"IF('CoC Renewal Ranking Report'!D12<>\"\",'CoC Renewal Ranking Report'!D12,\"\")","v":"Catholic Charities of the Diocese of Allentown"},{"$f":"IF('CoC Renewal Ranking Report'!E12<>\"\",'CoC Renewal Ranking Report'!E12,\"\")","v":"Catholic Charities Allentown Permanent Housing Program"},{"$f":"IF('CoC Renewal Ranking Report'!G12<>\"\",'CoC Renewal Ranking Report'!G12,\"\")","v":"PH"},{"$f":"IF('CoC Renewal Ranking Report'!AC12<>\"\",'CoC Renewal Ranking Report'!BB12,\"\")","v":1},5]
[{"$f":"IF('CoC Renewal Ranking Report'!D13<>\"\",'CoC Renewal Ranking Report'!D13,\"\")","v":"Catholic Social Services of the Diocese of Scranton, Inc."},{"$f":"IF('CoC Renewal Ranking Report'!E13<>\"\",'CoC Renewal Ranking Report'!E13,\"\")","v":"PSHP Pike County"},{"$f":"IF('CoC Renewal Ranking Report'!G13<>\"\",'CoC Renewal Ranking Report'!G13,\"\")","v":"PH"},{"$f":"IF('CoC Renewal Ranking Report'!AC13<>\"\",'CoC Renewal Ranking Report'!BB13,\"\")","v":1},5]
[{"$f":"IF('CoC Renewal Ranking Report'!D14<>\"\",'CoC Renewal Ranking Report'!D14,\"\")","v":"Catholic Social Services of the Diocese of Scranton, Inc."},{"$f":"IF('CoC Renewal Ranking Report'!E14<>\"\",'CoC Renewal Ranking Report'!E14,\"\")","v":"Rural Permanent Supportive Housing Program"},{"$f":"IF('CoC Renewal Ranking Report'!G14<>\"\",'CoC Renewal Ranking Report'!G14,\"\")","v":"PH"},{"$f":"IF('CoC Renewal Ranking Report'!AC14<>\"\",'CoC Renewal Ranking Report'!BB14,\"\")","v":1},5]
[{"$f":"IF('CoC Renewal Ranking Report'!D15<>\"\",'CoC Renewal Ranking Report'!D15,\"\")","v":"Catholic Social Services of the Diocese of Scranton, Inc."},{"$f":"IF('CoC Renewal Ranking Report'!E15<>\"\",'CoC Renewal Ranking Report'!E15,\"\")","v":"Susquehanna/Wayne PSHP"},{"$f":"IF('CoC Renewal Ranking Report'!G15<>\"\",'CoC Renewal Ranking Report'!G15,\"\")","v":"PH"},{"$f":"IF('CoC Renewal Ranking Report'!AC15<>\"\",'CoC Renewal Ranking Report'!BB15,\"\")","v":1},5]
[{"$f":"IF('CoC Renewal Ranking Report'!D16<>\"\",'CoC Renewal Ranking Report'!D16,\"\")","v":"Center for Community Action"},{"$f":"IF('CoC Renewal Ranking Report'!E16<>\"\",'CoC Renewal Ranking Report'!E16,\"\")","v":"Bedford,Fulton, Huntingdon RRH"},{"$f":"IF('CoC Renewal Ranking Report'!G16<>\"\",'CoC Renewal Ranking Report'!G16,\"\")","v":"PH-RRH"},{"$f":"IF('CoC Renewal Ranking Report'!AC16<>\"\",'CoC Renewal Ranking Report'!BB16,\"\")","v":0.97140000000000004},5]
[{"$f":"IF('CoC Renewal Ranking Report'!D17<>\"\",'CoC Renewal Ranking Report'!D17,\"\")","v":"County of Franklin"},{"$f":"IF('CoC Renewal Ranking Report'!E17<>\"\",'CoC Renewal Ranking Report'!E17,\"\")","v":"Franklin/ Fulton S+C Project 2017"},{"$f":"IF('CoC Renewal Ranking Report'!G17<>\"\",'CoC Renewal Ranking Report'!G17,\"\")","v":"PH"},{"$f":"IF('CoC Renewal Ranking Report'!AC17<>\"\",'CoC Renewal Ranking Report'!BB17,\"\")","v":0.94120000000000004},5]
[{"$f":"IF('CoC Renewal Ranking Report'!D18<>\"\",'CoC Renewal Ranking Report'!D18,\"\")","v":"County of Franklin"},{"$f":"IF('CoC Renewal Ranking Report'!E18<>\"\",'CoC Renewal Ranking Report'!E18,\"\")","v":"Franklin/Fulton Homeless Assistance Project 2017"},{"$f":"IF('CoC Renewal Ranking Report'!G18<>\"\",'CoC Renewal Ranking Report'!G18,\"\")","v":"PH"},{"$f":"IF('CoC Renewal Ranking Report'!AC18<>\"\",'CoC Renewal Ranking Report'!BB18,\"\")","v":0.9032},5]
[{"$f":"IF('CoC Renewal Ranking Report'!D19<>\"\",'CoC Renewal Ranking Report'!D19,\"\")","v":"County of Lycoming DBA Lycoming- Clinton Joinder Board"},{"$f":"IF('CoC Renewal Ranking Report'!E19<>\"\",'CoC Renewal Ranking Report'!E19,\"\")","v":"Lycoming/Clinton Renewal #5"},{"$f":"IF('CoC Renewal Ranking Report'!G19<>\"\",'CoC Renewal Ranking Report'!G19,\"\")","v":"PH"},{"$f":"IF('CoC Renewal Ranking Report'!AC19<>\"\",'CoC Renewal Ranking Report'!BB19,\"\")","v":1},5]
[{"$f":"IF('CoC Renewal Ranking Report'!D20<>\"\",'CoC Renewal Ranking Report'!D20,\"\")","v":"Fitzmaurice Community Services, Inc"},{"$f":"IF('CoC Renewal Ranking Report'!E20<>\"\",'CoC Renewal Ranking Report'!E20,\"\")","v":"Pathfinders"},{"$f":"IF('CoC Renewal Ranking Report'!G20<>\"\",'CoC Renewal Ranking Report'!G20,\"\")","v":"PH"},{"$f":"IF('CoC Renewal Ranking Report'!AC20<>\"\",'CoC Renewal Ranking Report'!BB20,\"\")","v":0.84619999999999995},0]
[{"$f":"IF('CoC Renewal Ranking Report'!D21<>\"\",'CoC Renewal Ranking Report'!D21,\"\")","v":"Home Nursing AgencyCommunity Services"},{"$f":"IF('CoC Renewal Ranking Report'!E21<>\"\",'CoC Renewal Ranking Report'!E21,\"\")","v":"Housing Assistance and Rental Program"},{"$f":"IF('CoC Renewal Ranking Report'!G21<>\"\",'CoC Renewal Ranking Report'!G21,\"\")","v":"PH"},{"$f":"IF('CoC Renewal Ranking Report'!AC21<>\"\",'CoC Renewal Ranking Report'!BB21,\"\")","v":1},5]
[{"$f":"IF('CoC Renewal Ranking Report'!D22<>\"\",'CoC Renewal Ranking Report'!D22,\"\")","v":"Housing Authority of Monroe County"},{"$f":"IF('CoC Renewal Ranking Report'!E22<>\"\",'CoC Renewal Ranking Report'!E22,\"\")","v":"Renewal Application Shelter Plus Care MC 2016"},{"$f":"IF('CoC Renewal Ranking Report'!G22<>\"\",'CoC Renewal Ranking Report'!G22,\"\")","v":"PH"},{"$f":"IF('CoC Renewal Ranking Report'!AC22<>\"\",'CoC Renewal Ranking Report'!BB22,\"\")","v":0.8},0]
[{"$f":"IF('CoC Renewal Ranking Report'!D23<>\"\",'CoC Renewal Ranking Report'!D23,\"\")","v":"Housing Authority of the County of Cumberland"},{"$f":"IF('CoC Renewal Ranking Report'!E23<>\"\",'CoC Renewal Ranking Report'!E23,\"\")","v":"Carlisle Supportive Housing Program"},{"$f":"IF('CoC Renewal Ranking Report'!G23<>\"\",'CoC Renewal Ranking Report'!G23,\"\")","v":"PH"},{"$f":"IF('CoC Renewal Ranking Report'!AC23<>\"\",'CoC Renewal Ranking Report'!BB23,\"\")","v":1},5]
[{"$f":"IF('CoC Renewal Ranking Report'!D24<>\"\",'CoC Renewal Ranking Report'!D24,\"\")","v":"Housing Authority of the County of Cumberland"},{"$f":"IF('CoC Renewal Ranking Report'!E24<>\"\",'CoC Renewal Ranking Report'!E24,\"\")","v":"Perry County Permanent SHP"},{"$f":"IF('CoC Renewal Ranking Report'!G24<>\"\",'CoC Renewal Ranking Report'!G24,\"\")","v":"PH"},{"$f":"IF('CoC Renewal Ranking Report'!AC24<>\"\",'CoC Renewal Ranking Report'!BB24,\"\")","v":1},5]
[{"$f":"IF('CoC Renewal Ranking Report'!D25<>\"\",'CoC Renewal Ranking Report'!D25,\"\")","v":"Housing Authority of the County of Cumberland"},{"$f":"IF('CoC Renewal Ranking Report'!E25<>\"\",'CoC Renewal Ranking Report'!E25,\"\")","v":"Perry County Transitional II"},{"$f":"IF('CoC Renewal Ranking Report'!G25<>\"\",'CoC Renewal Ranking Report'!G25,\"\")","v":"PH-RRH"},{"$f":"IF('CoC Renewal Ranking Report'!AC25<>\"\",'CoC Renewal Ranking Report'!BB25,\"\")","v":1},5]
[{"$f":"IF('CoC Renewal Ranking Report'!D26<>\"\",'CoC Renewal Ranking Report'!D26,\"\")","v":"Housing Authority of the County of Cumberland"},{"$f":"IF('CoC Renewal Ranking Report'!E26<>\"\",'CoC Renewal Ranking Report'!E26,\"\")","v":"Perry County Veterans Program"},{"$f":"IF('CoC Renewal Ranking Report'!G26<>\"\",'CoC Renewal Ranking Report'!G26,\"\")","v":"PH"},{"$f":"IF('CoC Renewal Ranking Report'!AC26<>\"\",'CoC Renewal Ranking Report'!BB26,\"\")","v":1},5]
[{"$f":"IF('CoC Renewal Ranking Report'!D27<>\"\",'CoC Renewal Ranking Report'!D27,\"\")","v":"Housing Authority of the County of Cumberland"},{"$f":"IF('CoC Renewal Ranking Report'!E27<>\"\",'CoC Renewal Ranking Report'!E27,\"\")","v":"Rapid Rehousing II"},{"$f":"IF('CoC Renewal Ranking Report'!G27<>\"\",'CoC Renewal Ranking Report'!G27,\"\")","v":"PH-RRH"},{"$f":"IF('CoC Renewal Ranking Report'!AC27<>\"\",'CoC Renewal Ranking Report'!BB27,\"\")","v":0.86670000000000003},0]
[{"$f":"IF('CoC Renewal Ranking Report'!D28<>\"\",'CoC Renewal Ranking Report'!D28,\"\")","v":"Housing Authority of the County of Cumberland"},{"$f":"IF('CoC Renewal Ranking Report'!E28<>\"\",'CoC Renewal Ranking Report'!E28,\"\")","v":"Safe Harbour SHP"},{"$f":"IF('CoC Renewal Ranking Report'!G28<>\"\",'CoC Renewal Ranking Report'!G28,\"\")","v":"PH"},{"$f":"IF('CoC Renewal Ranking Report'!AC28<>\"\",'CoC Renewal Ranking Report'!BB28,\"\")","v":0.85},0]
[{"$f":"IF('CoC Renewal Ranking Report'!D29<>\"\",'CoC Renewal Ranking Report'!D29,\"\")","v":"Housing Authority of the County of Cumberland"},{"$f":"IF('CoC Renewal Ranking Report'!E29<>\"\",'CoC Renewal Ranking Report'!E29,\"\")","v":"Shelter + Care Chronic"},{"$f":"IF('CoC Renewal Ranking Report'!G29<>\"\",'CoC Renewal Ranking Report'!G29,\"\")","v":"PH"},{"$f":"IF('CoC Renewal Ranking Report'!AC29<>\"\",'CoC Renewal Ranking Report'!BB29,\"\")","v":1},5]
[{"$f":"IF('CoC Renewal Ranking Report'!D30<>\"\",'CoC Renewal Ranking Report'!D30,\"\")","v":"Housing Authority of the County of Cumberland"},{"$f":"IF('CoC Renewal Ranking Report'!E30<>\"\",'CoC Renewal Ranking Report'!E30,\"\")","v":"Shelter + Care Non-Chronic"},{"$f":"IF('CoC Renewal Ranking Report'!G30<>\"\",'CoC Renewal Ranking Report'!G30,\"\")","v":"PH"},{"$f":"IF('CoC Renewal Ranking Report'!AC30<>\"\",'CoC Renewal Ranking Report'!BB30,\"\")","v":0.8125},0]
[{"$f":"IF('CoC Renewal Ranking Report'!D31<>\"\",'CoC Renewal Ranking Report'!D31,\"\")","v":"Housing Authority of the County of Cumberland"},{"$f":"IF('CoC Renewal Ranking Report'!E31<>\"\",'CoC Renewal Ranking Report'!E31,\"\")","v":"West Shore SHP I"},{"$f":"IF('CoC Renewal Ranking Report'!G31<>\"\",'CoC Renewal Ranking Report'!G31,\"\")","v":"PH"},{"$f":"IF('CoC Renewal Ranking Report'!AC31<>\"\",'CoC Renewal Ranking Report'!BB31,\"\")","v":0.61539999999999995},0]
[{"$f":"IF('CoC Renewal Ranking Report'!D32<>\"\",'CoC Renewal Ranking Report'!D32,\"\")","v":"Housing Authority of the County of Cumberland"},{"$f":"IF('CoC Renewal Ranking Report'!E32<>\"\",'CoC Renewal Ranking Report'!E32,\"\")","v":"West Shore SHP II"},{"$f":"IF('CoC Renewal Ranking Report'!G32<>\"\",'CoC Renewal Ranking Report'!G32,\"\")","v":"PH"},{"$f":"IF('CoC Renewal Ranking Report'!AC32<>\"\",'CoC Renewal Ranking Report'!BB32,\"\")","v":1},5]
[{"$f":"IF('CoC Renewal Ranking Report'!D33<>\"\",'CoC Renewal Ranking Report'!D33,\"\")","v":"Housing Development Corporation of NEPA"},{"$f":"IF('CoC Renewal Ranking Report'!E33<>\"\",'CoC Renewal Ranking Report'!E33,\"\")","v":"HDC SHP 3 2016"},{"$f":"IF('CoC Renewal Ranking Report'!G33<>\"\",'CoC Renewal Ranking Report'!G33,\"\")","v":"PH"},{"$f":"IF('CoC Renewal Ranking Report'!AC33<>\"\",'CoC Renewal Ranking Report'!BB33,\"\")","v":0.94740000000000002},5]
[{"$f":"IF('CoC Renewal Ranking Report'!D34<>\"\",'CoC Renewal Ranking Report'!D34,\"\")","v":"Housing Development Corporation of NEPA"},{"$f":"IF('CoC Renewal Ranking Report'!E34<>\"\",'CoC Renewal Ranking Report'!E34,\"\")","v":"HDC SHP 6 2016"},{"$f":"IF('CoC Renewal Ranking Report'!G34<>\"\",'CoC Renewal Ranking Report'!G34,\"\")","v":"PH"},{"$f":"IF('CoC Renewal Ranking Report'!AC34<>\"\",'CoC Renewal Ranking Report'!BB34,\"\")","v":0.95},5]
[{"$f":"IF('CoC Renewal Ranking Report'!D35<>\"\",'CoC Renewal Ranking Report'!D35,\"\")","v":"Housing Transitions, Inc."},{"$f":"IF('CoC Renewal Ranking Report'!E35<>\"\",'CoC Renewal Ranking Report'!E35,\"\")","v":"Nittany House Apartments"},{"$f":"IF('CoC Renewal Ranking Report'!G35<>\"\",'CoC Renewal Ranking Report'!G35,\"\")","v":"PH"},{"$f":"IF('CoC Renewal Ranking Report'!AC35<>\"\",'CoC Renewal Ranking Report'!BB35,\"\")","v":1},5]
[{"$f":"IF('CoC Renewal Ranking Report'!D36<>\"\",'CoC Renewal Ranking Report'!D36,\"\")","v":"Lehigh County Conference of Churches"},{"$f":"IF('CoC Renewal Ranking Report'!E36<>\"\",'CoC Renewal Ranking Report'!E36,\"\")","v":"Outreach and Case Management for the Disabled, Chronically Homeless"},{"$f":"IF('CoC Renewal Ranking Report'!G36<>\"\",'CoC Renewal Ranking Report'!G36,\"\")","v":"SSO"},{"$f":"IF('CoC Renewal Ranking Report'!AC36<>\"\",'CoC Renewal Ranking Report'!BB36,\"\")","v":1},5]
[{"$f":"IF('CoC Renewal Ranking Report'!D37<>\"\",'CoC Renewal Ranking Report'!D37,\"\")","v":"Lehigh County Conference of Churches"},{"$f":"IF('CoC Renewal Ranking Report'!E37<>\"\",'CoC Renewal Ranking Report'!E37,\"\")","v":"Pathways Housing"},{"$f":"IF('CoC Renewal Ranking Report'!G37<>\"\",'CoC Renewal Ranking Report'!G37,\"\")","v":"PH"},{"$f":"IF('CoC Renewal Ranking Report'!AC37<>\"\",'CoC Renewal Ranking Report'!BB37,\"\")","v":1},5]
[{"$f":"IF('CoC Renewal Ranking Report'!D38<>\"\",'CoC Renewal Ranking Report'!D38,\"\")","v":"Lehigh County Conference of Churches"},{"$f":"IF('CoC Renewal Ranking Report'!E38<>\"\",'CoC Renewal Ranking Report'!E38,\"\")","v":"Pathways Housing 2"},{"$f":"IF('CoC Renewal Ranking Report'!G38<>\"\",'CoC Renewal Ranking Report'!G38,\"\")","v":"PH"},{"$f":"IF('CoC Renewal Ranking Report'!AC38<>\"\",'CoC Renewal Ranking Report'!BB38,\"\")","v":1},5]
[{"$f":"IF('CoC Renewal Ranking Report'!D39<>\"\",'CoC Renewal Ranking Report'!D39,\"\")","v":"Lehigh County Conference of Churches"},{"$f":"IF('CoC Renewal Ranking Report'!E39<>\"\",'CoC Renewal Ranking Report'!E39,\"\")","v":"Pathways TBRA for Families, Youth and Veterans"},{"$f":"IF('CoC Renewal Ranking Report'!G39<>\"\",'CoC Renewal Ranking Report'!G39,\"\")","v":"PH"},{"$f":"IF('CoC Renewal Ranking Report'!AC39<>\"\",'CoC Renewal Ranking Report'!BB39,\"\")","v":1},5]
[{"$f":"IF('CoC Renewal Ranking Report'!D40<>\"\",'CoC Renewal Ranking Report'!D40,\"\")","v":"Lehigh County Conference of Churches"},{"$f":"IF('CoC Renewal Ranking Report'!E40<>\"\",'CoC Renewal Ranking Report'!E40,\"\")","v":"Tenant-Based Rental Assistance for the Disabled,Chronically Homeless"},{"$f":"IF('CoC Renewal Ranking Report'!G40<>\"\",'CoC Renewal Ranking Report'!G40,\"\")","v":"PH"},{"$f":"IF('CoC Renewal Ranking Report'!AC40<>\"\",'CoC Renewal Ranking Report'!BB40,\"\")","v":1},5]
[{"$f":"IF('CoC Renewal Ranking Report'!D41<>\"\",'CoC Renewal Ranking Report'!D41,\"\")","v":"Lehigh County Housing Authority"},{"$f":"IF('CoC Renewal Ranking Report'!E41<>\"\",'CoC Renewal Ranking Report'!E41,\"\")","v":"LCHA S+C 2016"},{"$f":"IF('CoC Renewal Ranking Report'!G41<>\"\",'CoC Renewal Ranking Report'!G41,\"\")","v":"PH"},{"$f":"IF('CoC Renewal Ranking Report'!AC41<>\"\",'CoC Renewal Ranking Report'!BB41,\"\")","v":0.96550000000000002},5]
[{"$f":"IF('CoC Renewal Ranking Report'!D42<>\"\",'CoC Renewal Ranking Report'!D42,\"\")","v":"Maranatha"},{"$f":"IF('CoC Renewal Ranking Report'!E42<>\"\",'CoC Renewal Ranking Report'!E42,\"\")","v":"TOTAL PERSON TRANSITIONAL PROGRAM 1 & 2"},{"$f":"IF('CoC Renewal Ranking Report'!G42<>\"\",'CoC Renewal Ranking Report'!G42,\"\")","v":"PH-RRH"},{"$f":"IF('CoC Renewal Ranking Report'!AC42<>\"\",'CoC Renewal Ranking Report'!BB42,\"\")","v":0.75},0]
[{"$f":"IF('CoC Renewal Ranking Report'!D43<>\"\",'CoC Renewal Ranking Report'!D43,\"\")","v":"Mifflin County"},{"$f":"IF('CoC Renewal Ranking Report'!E43<>\"\",'CoC Renewal Ranking Report'!E43,\"\")","v":"Mifflin County Permanent Housing Renewal"},{"$f":"IF('CoC Renewal Ranking Report'!G43<>\"\",'CoC Renewal Ranking Report'!G43,\"\")","v":"PH"},{"$f":"IF('CoC Renewal Ranking Report'!AC43<>\"\",'CoC Renewal Ranking Report'!BB43,\"\")","v":1},5]
[{"$f":"IF('CoC Renewal Ranking Report'!D44<>\"\",'CoC Renewal Ranking Report'!D44,\"\")","v":"Northampton County Housing Authority"},{"$f":"IF('CoC Renewal Ranking Report'!E44<>\"\",'CoC Renewal Ranking Report'!E44,\"\")","v":"NCHA S+C 2016"},{"$f":"IF('CoC Renewal Ranking Report'!G44<>\"\",'CoC Renewal Ranking Report'!G44,\"\")","v":"PH"},{"$f":"IF('CoC Renewal Ranking Report'!AC44<>\"\",'CoC Renewal Ranking Report'!BB44,\"\")","v":1},5]
[{"$f":"IF('CoC Renewal Ranking Report'!D45<>\"\",'CoC Renewal Ranking Report'!D45,\"\")","v":"Northern Cambria Community Development Corporation"},{"$f":"IF('CoC Renewal Ranking Report'!E45<>\"\",'CoC Renewal Ranking Report'!E45,\"\")","v":"Independence Gardens"},{"$f":"IF('CoC Renewal Ranking Report'!G45<>\"\",'CoC Renewal Ranking Report'!G45,\"\")","v":"PH"},{"$f":"IF('CoC Renewal Ranking Report'!AC45<>\"\",'CoC Renewal Ranking Report'!BB45,\"\")","v":1},5]
[{"$f":"IF('CoC Renewal Ranking Report'!D46<>\"\",'CoC Renewal Ranking Report'!D46,\"\")","v":"Northern Cambria Community Development Corporation"},{"$f":"IF('CoC Renewal Ranking Report'!E46<>\"\",'CoC Renewal Ranking Report'!E46,\"\")","v":"Schoolhouse Gardens"},{"$f":"IF('CoC Renewal Ranking Report'!G46<>\"\",'CoC Renewal Ranking Report'!G46,\"\")","v":"PH"},{"$f":"IF('CoC Renewal Ranking Report'!AC46<>\"\",'CoC Renewal Ranking Report'!BB46,\"\")","v":0.92310000000000003},5]
[{"$f":"IF('CoC Renewal Ranking Report'!D47<>\"\",'CoC Renewal Ranking Report'!D47,\"\")","v":"Northumberland County MH/MR"},{"$f":"IF('CoC Renewal Ranking Report'!E47<>\"\",'CoC Renewal Ranking Report'!E47,\"\")","v":"Sharing Support"},{"$f":"IF('CoC Renewal Ranking Report'!G47<>\"\",'CoC Renewal Ranking Report'!G47,\"\")","v":"PH"},{"$f":"IF('CoC Renewal Ranking Report'!AC47<>\"\",'CoC Renewal Ranking Report'!BB47,\"\")","v":0.93330000000000002},5]
[{"$f":"IF('CoC Renewal Ranking Report'!D48<>\"\",'CoC Renewal Ranking Report'!D48,\"\")","v":"Resources for Human Development, Inc."},{"$f":"IF('CoC Renewal Ranking Report'!E48<>\"\",'CoC Renewal Ranking Report'!E48,\"\")","v":"Crossroads Family"},{"$f":"IF('CoC Renewal Ranking Report'!G48<>\"\",'CoC Renewal Ranking Report'!G48,\"\")","v":"PH"},{"$f":"IF('CoC Renewal Ranking Report'!AC48<>\"\",'CoC Renewal Ranking Report'!BB48,\"\")","v":0.88890000000000002},0]
[{"$f":"IF('CoC Renewal Ranking Report'!D49<>\"\",'CoC Renewal Ranking Report'!D49,\"\")","v":"Resources for Human Development, Inc."},{"$f":"IF('CoC Renewal Ranking Report'!E49<>\"\",'CoC Renewal Ranking Report'!E49,\"\")","v":"Crossroads Housing Bonus"},{"$f":"IF('CoC Renewal Ranking Report'!G49<>\"\",'CoC Renewal Ranking Report'!G49,\"\")","v":"PH"},{"$f":"IF('CoC Renewal Ranking Report'!AC49<>\"\",'CoC Renewal Ranking Report'!BB49,\"\")","v":1},5]
[{"$f":"IF('CoC Renewal Ranking Report'!D50<>\"\",'CoC Renewal Ranking Report'!D50,\"\")","v":"Resources for Human Development, Inc."},{"$f":"IF('CoC Renewal Ranking Report'!E50<>\"\",'CoC Renewal Ranking Report'!E50,\"\")","v":"Crossroads Individual"},{"$f":"IF('CoC Renewal Ranking Report'!G50<>\"\",'CoC Renewal Ranking Report'!G50,\"\")","v":"PH"},{"$f":"IF('CoC Renewal Ranking Report'!AC50<>\"\",'CoC Renewal Ranking Report'!BB50,\"\")","v":1},5]
[{"$f":"IF('CoC Renewal Ranking Report'!D51<>\"\",'CoC Renewal Ranking Report'!D51,\"\")","v":"Resources for Human Development, Inc."},{"$f":"IF('CoC Renewal Ranking Report'!E51<>\"\",'CoC Renewal Ranking Report'!E51,\"\")","v":"Crossroads Schuylkill Co. Permanent Supportive Housing"},{"$f":"IF('CoC Renewal Ranking Report'!G51<>\"\",'CoC Renewal Ranking Report'!G51,\"\")","v":"PH"},{"$f":"IF('CoC Renewal Ranking Report'!AC51<>\"\",'CoC Renewal Ranking Report'!BB51,\"\")","v":1},5]
[{"$f":"IF('CoC Renewal Ranking Report'!D52<>\"\",'CoC Renewal Ranking Report'!D52,\"\")","v":"Resources for Human Development, Inc."},{"$f":"IF('CoC Renewal Ranking Report'!E52<>\"\",'CoC Renewal Ranking Report'!E52,\"\")","v":"LV ACT Housing Supports"},{"$f":"IF('CoC Renewal Ranking Report'!G52<>\"\",'CoC Renewal Ranking Report'!G52,\"\")","v":"PH"},{"$f":"IF('CoC Renewal Ranking Report'!AC52<>\"\",'CoC Renewal Ranking Report'!BB52,\"\")","v":0.95650000000000002},5]
[{"$f":"IF('CoC Renewal Ranking Report'!D53<>\"\",'CoC Renewal Ranking Report'!D53,\"\")","v":"Tableland Services, Inc."},{"$f":"IF('CoC Renewal Ranking Report'!E53<>\"\",'CoC Renewal Ranking Report'!E53,\"\")","v":"Permanent Housing with Disabilities (SHP)"},{"$f":"IF('CoC Renewal Ranking Report'!G53<>\"\",'CoC Renewal Ranking Report'!G53,\"\")","v":"PH"},{"$f":"IF('CoC Renewal Ranking Report'!AC53<>\"\",'CoC Renewal Ranking Report'!BB53,\"\")","v":0.78259999999999996},0]
[{"$f":"IF('CoC Renewal Ranking Report'!D54<>\"\",'CoC Renewal Ranking Report'!D54,\"\")","v":"Tableland Services, Inc."},{"$f":"IF('CoC Renewal Ranking Report'!E54<>\"\",'CoC Renewal Ranking Report'!E54,\"\")","v":"Permanent Supportive Housing CH Project"},{"$f":"IF('CoC Renewal Ranking Report'!G54<>\"\",'CoC Renewal Ranking Report'!G54,\"\")","v":"PH"},{"$f":"IF('CoC Renewal Ranking Report'!AC54<>\"\",'CoC Renewal Ranking Report'!BB54,\"\")","v":0.66669999999999996},0]
[{"$f":"IF('CoC Renewal Ranking Report'!D55<>\"\",'CoC Renewal Ranking Report'!D55,\"\")","v":"The Salvation Army, a New York Corporation"},{"$f":"IF('CoC Renewal Ranking Report'!E55<>\"\",'CoC Renewal Ranking Report'!E55,\"\")","v":"Allentown Hospitality House Permanent Housing Program"},{"$f":"IF('CoC Renewal Ranking Report'!G55<>\"\",'CoC Renewal Ranking Report'!G55,\"\")","v":"PH"},{"$f":"IF('CoC Renewal Ranking Report'!AC55<>\"\",'CoC Renewal Ranking Report'!BB55,\"\")","v":1},5]
[{"$f":"IF('CoC Renewal Ranking Report'!D56<>\"\",'CoC Renewal Ranking Report'!D56,\"\")","v":"The Salvation Army, a New York Corporation"},{"$f":"IF('CoC Renewal Ranking Report'!E56<>\"\",'CoC Renewal Ranking Report'!E56,\"\")","v":"Salvation Army Carlisle PH Project"},{"$f":"IF('CoC Renewal Ranking Report'!G56<>\"\",'CoC Renewal Ranking Report'!G56,\"\")","v":"PH"},{"$f":"IF('CoC Renewal Ranking Report'!AC56<>\"\",'CoC Renewal Ranking Report'!BB56,\"\")","v":1},5]
[{"$f":"IF('CoC Renewal Ranking Report'!D57<>\"\",'CoC Renewal Ranking Report'!D57,\"\")","v":"Union-Snyder Community Action Agency"},{"$f":"IF('CoC Renewal Ranking Report'!E57<>\"\",'CoC Renewal Ranking Report'!E57,\"\")","v":"Union-Snyder Rapid ReHousing Program"},{"$f":"IF('CoC Renewal Ranking Report'!G57<>\"\",'CoC Renewal Ranking Report'!G57,\"\")","v":"PH-RRH"},{"$f":"IF('CoC Renewal Ranking Report'!AC57<>\"\",'CoC Renewal Ranking Report'!BB57,\"\")","v":1},5]
[{"$f":"IF('CoC Renewal Ranking Report'!D58<>\"\",'CoC Renewal Ranking Report'!D58,\"\")","v":"United Christian Ministries"},{"$f":"IF('CoC Renewal Ranking Report'!E58<>\"\",'CoC Renewal Ranking Report'!E58,\"\")","v":"Kenner Garnet Renewal 2016"},{"$f":"IF('CoC Renewal Ranking Report'!G58<>\"\",'CoC Renewal Ranking Report'!G58,\"\")","v":"PH"},{"$f":"IF('CoC Renewal Ranking Report'!AC58<>\"\",'CoC Renewal Ranking Report'!BB58,\"\")","v":0.92589999999999995},5]
[{"$f":"IF('CoC Renewal Ranking Report'!D59<>\"\",'CoC Renewal Ranking Report'!D59,\"\")","v":"Valley Housing Development Corporation "},{"$f":"IF('CoC Renewal Ranking Report'!E59<>\"\",'CoC Renewal Ranking Report'!E59,\"\")","v":"VHDC SHP #2 2016"},{"$f":"IF('CoC Renewal Ranking Report'!G59<>\"\",'CoC Renewal Ranking Report'!G59,\"\")","v":"PH"},{"$f":"IF('CoC Renewal Ranking Report'!AC59<>\"\",'CoC Renewal Ranking Report'!BB59,\"\")","v":0.96},5]
[{"$f":"IF('CoC Renewal Ranking Report'!D60<>\"\",'CoC Renewal Ranking Report'!D60,\"\")","v":"Valley Housing Development Corporation "},{"$f":"IF('CoC Renewal Ranking Report'!E60<>\"\",'CoC Renewal Ranking Report'!E60,\"\")","v":"VHDC SHP #3 2016"},{"$f":"IF('CoC Renewal Ranking Report'!G60<>\"\",'CoC Renewal Ranking Report'!G60,\"\")","v":"PH"},{"$f":"IF('CoC Renewal Ranking Report'!AC60<>\"\",'CoC Renewal Ranking Report'!BB60,\"\")","v":0.9375},5]
[{"$f":"IF('CoC Renewal Ranking Report'!D61<>\"\",'CoC Renewal Ranking Report'!D61,\"\")","v":"Valley Housing Development Corporation "},{"$f":"IF('CoC Renewal Ranking Report'!E61<>\"\",'CoC Renewal Ranking Report'!E61,\"\")","v":"VHDC SHP #4 2016"},{"$f":"IF('CoC Renewal Ranking Report'!G61<>\"\",'CoC Renewal Ranking Report'!G61,\"\")","v":"PH"},{"$f":"IF('CoC Renewal Ranking Report'!AC61<>\"\",'CoC Renewal Ranking Report'!BB61,\"\")","v":0.86670000000000003},0]
[{"$f":"IF('CoC Renewal Ranking Report'!D62<>\"\",'CoC Renewal Ranking Report'!D62,\"\")","v":""},{"$f":"IF('CoC Renewal Ranking Report'!E62<>\"\",'CoC Renewal Ranking Report'!E62,\"\")","v":""},{"$f":"IF('CoC Renewal Ranking Report'!G62<>\"\",'CoC Renewal Ranking Report'!G62,\"\")","v":""},{"$f":"IF('CoC Renewal Ranking Report'!AC62<>\"\",'CoC Renewal Ranking Report'!BB62,\"\")","v":""},""]
[{"$f":"IF('CoC Renewal Ranking Report'!D63<>\"\",'CoC Renewal Ranking Report'!D63,\"\")","v":""},{"$f":"IF('CoC Renewal Ranking Report'!E63<>\"\",'CoC Renewal Ranking Report'!E63,\"\")","v":""},{"$f":"IF('CoC Renewal Ranking Report'!G63<>\"\",'CoC Renewal Ranking Report'!G63,\"\")","v":""},{"$f":"IF('CoC Renewal Ranking Report'!AC63<>\"\",'CoC Renewal Ranking Report'!BB63,\"\")","v":""},""]
[{"$f":"IF('CoC Renewal Ranking Report'!D64<>\"\",'CoC Renewal Ranking Report'!D64,\"\")","v":""},{"$f":"IF('CoC Renewal Ranking Report'!E64<>\"\",'CoC Renewal Ranking Report'!E64,\"\")","v":""},{"$f":"IF('CoC Renewal Ranking Report'!G64<>\"\",'CoC Renewal Ranking Report'!G64,\"\")","v":""},{"$f":"IF('CoC Renewal Ranking Report'!AC64<>\"\",'CoC Renewal Ranking Report'!BB64,\"\")","v":""},""]
[{"$f":"IF('CoC Renewal Ranking Report'!D65<>\"\",'CoC Renewal Ranking Report'!D65,\"\")","v":""},{"$f":"IF('CoC Renewal Ranking Report'!E65<>\"\",'CoC Renewal Ranking Report'!E65,\"\")","v":""},{"$f":"IF('CoC Renewal Ranking Report'!G65<>\"\",'CoC Renewal Ranking Report'!G65,\"\")","v":""},{"$f":"IF('CoC Renewal Ranking Report'!AC65<>\"\",'CoC Renewal Ranking Report'!BB65,\"\")","v":""},""]
[{"$f":"IF('CoC Renewal Ranking Report'!D66<>\"\",'CoC Renewal Ranking Report'!D66,\"\")","v":""},{"$f":"IF('CoC Renewal Ranking Report'!E66<>\"\",'CoC Renewal Ranking Report'!E66,\"\")","v":""},{"$f":"IF('CoC Renewal Ranking Report'!G66<>\"\",'CoC Renewal Ranking Report'!G66,\"\")","v":""},{"$f":"IF('CoC Renewal Ranking Report'!AC66<>\"\",'CoC Renewal Ranking Report'!BB66,\"\")","v":""},""]
[{"$f":"IF('CoC Renewal Ranking Report'!D67<>\"\",'CoC Renewal Ranking Report'!D67,\"\")","v":""},{"$f":"IF('CoC Renewal Ranking Report'!E67<>\"\",'CoC Renewal Ranking Report'!E67,\"\")","v":""},{"$f":"IF('CoC Renewal Ranking Report'!G67<>\"\",'CoC Renewal Ranking Report'!G67,\"\")","v":""},{"$f":"IF('CoC Renewal Ranking Report'!AC67<>\"\",'CoC Renewal Ranking Report'!BB67,\"\")","v":""},""]
[{"$f":"IF('CoC Renewal Ranking Report'!D68<>\"\",'CoC Renewal Ranking Report'!D68,\"\")","v":""},{"$f":"IF('CoC Renewal Ranking Report'!E68<>\"\",'CoC Renewal Ranking Report'!E68,\"\")","v":""},{"$f":"IF('CoC Renewal Ranking Report'!G68<>\"\",'CoC Renewal Ranking Report'!G68,\"\")","v":""},{"$f":"IF('CoC Renewal Ranking Report'!AC68<>\"\",'CoC Renewal Ranking Report'!BB68,\"\")","v":""},""]
[{"$f":"IF('CoC Renewal Ranking Report'!D69<>\"\",'CoC Renewal Ranking Report'!D69,\"\")","v":""},{"$f":"IF('CoC Renewal Ranking Report'!E69<>\"\",'CoC Renewal Ranking Report'!E69,\"\")","v":""},{"$f":"IF('CoC Renewal Ranking Report'!G69<>\"\",'CoC Renewal Ranking Report'!G69,\"\")","v":""},{"$f":"IF('CoC Renewal Ranking Report'!AC69<>\"\",'CoC Renewal Ranking Report'!BB69,\"\")","v":""},""]
[{"$f":"IF('CoC Renewal Ranking Report'!D70<>\"\",'CoC Renewal Ranking Report'!D70,\"\")","v":""},{"$f":"IF('CoC Renewal Ranking Report'!E70<>\"\",'CoC Renewal Ranking Report'!E70,\"\")","v":""},{"$f":"IF('CoC Renewal Ranking Report'!G70<>\"\",'CoC Renewal Ranking Report'!G70,\"\")","v":""},{"$f":"IF('CoC Renewal Ranking Report'!AC70<>\"\",'CoC Renewal Ranking Report'!BB70,\"\")","v":""},""]
[{"$f":"IF('CoC Renewal Ranking Report'!D71<>\"\",'CoC Renewal Ranking Report'!D71,\"\")","v":""},{"$f":"IF('CoC Renewal Ranking Report'!E71<>\"\",'CoC Renewal Ranking Report'!E71,\"\")","v":""},{"$f":"IF('CoC Renewal Ranking Report'!G71<>\"\",'CoC Renewal Ranking Report'!G71,\"\")","v":""},{"$f":"IF('CoC Renewal Ranking Report'!AC71<>\"\",'CoC Renewal Ranking Report'!BB71,\"\")","v":""},""]
[{"$f":"IF('CoC Renewal Ranking Report'!D72<>\"\",'CoC Renewal Ranking Report'!D72,\"\")","v":""},{"$f":"IF('CoC Renewal Ranking Report'!E72<>\"\",'CoC Renewal Ranking Report'!E72,\"\")","v":""},{"$f":"IF('CoC Renewal Ranking Report'!G72<>\"\",'CoC Renewal Ranking Report'!G72,\"\")","v":""},{"$f":"IF('CoC Renewal Ranking Report'!AC72<>\"\",'CoC Renewal Ranking Report'!BB72,\"\")","v":""},""]
[{"$f":"IF('CoC Renewal Ranking Report'!D73<>\"\",'CoC Renewal Ranking Report'!D73,\"\")","v":""},{"$f":"IF('CoC Renewal Ranking Report'!E73<>\"\",'CoC Renewal Ranking Report'!E73,\"\")","v":""},{"$f":"IF('CoC Renewal Ranking Report'!G73<>\"\",'CoC Renewal Ranking Report'!G73,\"\")","v":""},{"$f":"IF('CoC Renewal Ranking Report'!AC73<>\"\",'CoC Renewal Ranking Report'!BB73,\"\")","v":""},""]
[{"$f":"IF('CoC Renewal Ranking Report'!D74<>\"\",'CoC Renewal Ranking Report'!D74,\"\")","v":""},{"$f":"IF('CoC Renewal Ranking Report'!E74<>\"\",'CoC Renewal Ranking Report'!E74,\"\")","v":""},{"$f":"IF('CoC Renewal Ranking Report'!G74<>\"\",'CoC Renewal Ranking Report'!G74,\"\")","v":""},{"$f":"IF('CoC Renewal Ranking Report'!AC74<>\"\",'CoC Renewal Ranking Report'!BB74,\"\")","v":""},{"$f":"IF(AND(A74<>\"\",D74<>\"\"), IF(D74 >= 0.9, 5, 0), \"\")","v":""}]
[{"$f":"IF('CoC Renewal Ranking Report'!D75<>\"\",'CoC Renewal Ranking Report'!D75,\"\")","v":""},{"$f":"IF('CoC Renewal Ranking Report'!E75<>\"\",'CoC Renewal Ranking Report'!E75,\"\")","v":""},{"$f":"IF('CoC Renewal Ranking Report'!G75<>\"\",'CoC Renewal Ranking Report'!G75,\"\")","v":""},{"$f":"IF('CoC Renewal Ranking Report'!AC75<>\"\",'CoC Renewal Ranking Report'!BB75,\"\")","v":""},""]
[{"$f":"IF('CoC Renewal Ranking Report'!D76<>\"\",'CoC Renewal Ranking Report'!D76,\"\")","v":""},{"$f":"IF('CoC Renewal Ranking Report'!E76<>\"\",'CoC Renewal Ranking Report'!E76,\"\")","v":""},{"$f":"IF('CoC Renewal Ranking Report'!G76<>\"\",'CoC Renewal Ranking Report'!G76,\"\")","v":""},{"$f":"IF('CoC Renewal Ranking Report'!AC76<>\"\",'CoC Renewal Ranking Report'!BB76,\"\")","v":""},""]
[{"$f":"IF('CoC Renewal Ranking Report'!D77<>\"\",'CoC Renewal Ranking Report'!D77,\"\")","v":""},{"$f":"IF('CoC Renewal Ranking Report'!E77<>\"\",'CoC Renewal Ranking Report'!E77,\"\")","v":""},{"$f":"IF('CoC Renewal Ranking Report'!G77<>\"\",'CoC Renewal Ranking Report'!G77,\"\")","v":""},{"$f":"IF('CoC Renewal Ranking Report'!AC77<>\"\",'CoC Renewal Ranking Report'!BB77,\"\")","v":""},""]
[{"$f":"IF('CoC Renewal Ranking Report'!D78<>\"\",'CoC Renewal Ranking Report'!D78,\"\")","v":""},{"$f":"IF('CoC Renewal Ranking Report'!E78<>\"\",'CoC Renewal Ranking Report'!E78,\"\")","v":""},{"$f":"IF('CoC Renewal Ranking Report'!G78<>\"\",'CoC Renewal Ranking Report'!G78,\"\")","v":""},{"$f":"IF('CoC Renewal Ranking Report'!AC78<>\"\",'CoC Renewal Ranking Report'!BB78,\"\")","v":""},""]
[{"$f":"IF('CoC Renewal Ranking Report'!D79<>\"\",'CoC Renewal Ranking Report'!D79,\"\")","v":""},{"$f":"IF('CoC Renewal Ranking Report'!E79<>\"\",'CoC Renewal Ranking Report'!E79,\"\")","v":""},{"$f":"IF('CoC Renewal Ranking Report'!G79<>\"\",'CoC Renewal Ranking Report'!G79,\"\")","v":""},{"$f":"IF('CoC Renewal Ranking Report'!AC79<>\"\",'CoC Renewal Ranking Report'!BB79,\"\")","v":""},""]
[{"$f":"IF('CoC Renewal Ranking Report'!D80<>\"\",'CoC Renewal Ranking Report'!D80,\"\")","v":""},{"$f":"IF('CoC Renewal Ranking Report'!E80<>\"\",'CoC Renewal Ranking Report'!E80,\"\")","v":""},{"$f":"IF('CoC Renewal Ranking Report'!G80<>\"\",'CoC Renewal Ranking Report'!G80,\"\")","v":""},{"$f":"IF('CoC Renewal Ranking Report'!AC80<>\"\",'CoC Renewal Ranking Report'!BB80,\"\")","v":""},""]
[{"$f":"IF('CoC Renewal Ranking Report'!D81<>\"\",'CoC Renewal Ranking Report'!D81,\"\")","v":""},{"$f":"IF('CoC Renewal Ranking Report'!E81<>\"\",'CoC Renewal Ranking Report'!E81,\"\")","v":""},{"$f":"IF('CoC Renewal Ranking Report'!G81<>\"\",'CoC Renewal Ranking Report'!G81,\"\")","v":""},{"$f":"IF('CoC Renewal Ranking Report'!AC81<>\"\",'CoC Renewal Ranking Report'!BB81,\"\")","v":""},""]
[{"$f":"IF('CoC Renewal Ranking Report'!D82<>\"\",'CoC Renewal Ranking Report'!D82,\"\")","v":""},{"$f":"IF('CoC Renewal Ranking Report'!E82<>\"\",'CoC Renewal Ranking Report'!E82,\"\")","v":""},{"$f":"IF('CoC Renewal Ranking Report'!G82<>\"\",'CoC Renewal Ranking Report'!G82,\"\")","v":""},{"$f":"IF('CoC Renewal Ranking Report'!AC82<>\"\",'CoC Renewal Ranking Report'!BB82,\"\")","v":""},""]
[{"$f":"IF('CoC Renewal Ranking Report'!D83<>\"\",'CoC Renewal Ranking Report'!D83,\"\")","v":""},{"$f":"IF('CoC Renewal Ranking Report'!E83<>\"\",'CoC Renewal Ranking Report'!E83,\"\")","v":""},{"$f":"IF('CoC Renewal Ranking Report'!G83<>\"\",'CoC Renewal Ranking Report'!G83,\"\")","v":""},{"$f":"IF('CoC Renewal Ranking Report'!AC83<>\"\",'CoC Renewal Ranking Report'!BB83,\"\")","v":""},""]
[{"$f":"IF('CoC Renewal Ranking Report'!D84<>\"\",'CoC Renewal Ranking Report'!D84,\"\")","v":""},{"$f":"IF('CoC Renewal Ranking Report'!E84<>\"\",'CoC Renewal Ranking Report'!E84,\"\")","v":""},{"$f":"IF('CoC Renewal Ranking Report'!G84<>\"\",'CoC Renewal Ranking Report'!G84,\"\")","v":""},{"$f":"IF('CoC Renewal Ranking Report'!AC84<>\"\",'CoC Renewal Ranking Report'!BB84,\"\")","v":""},""]
[{"$f":"IF('CoC Renewal Ranking Report'!D85<>\"\",'CoC Renewal Ranking Report'!D85,\"\")","v":""},{"$f":"IF('CoC Renewal Ranking Report'!E85<>\"\",'CoC Renewal Ranking Report'!E85,\"\")","v":""},{"$f":"IF('CoC Renewal Ranking Report'!G85<>\"\",'CoC Renewal Ranking Report'!G85,\"\")","v":""},{"$f":"IF('CoC Renewal Ranking Report'!AC85<>\"\",'CoC Renewal Ranking Report'!BB85,\"\")","v":""},""]
[{"$f":"IF('CoC Renewal Ranking Report'!D86<>\"\",'CoC Renewal Ranking Report'!D86,\"\")","v":""},{"$f":"IF('CoC Renewal Ranking Report'!E86<>\"\",'CoC Renewal Ranking Report'!E86,\"\")","v":""},{"$f":"IF('CoC Renewal Ranking Report'!G86<>\"\",'CoC Renewal Ranking Report'!G86,\"\")","v":""},{"$f":"IF('CoC Renewal Ranking Report'!AC86<>\"\",'CoC Renewal Ranking Report'!BB86,\"\")","v":""},""]
[{"$f":"IF('CoC Renewal Ranking Report'!D87<>\"\",'CoC Renewal Ranking Report'!D87,\"\")","v":""},{"$f":"IF('CoC Renewal Ranking Report'!E87<>\"\",'CoC Renewal Ranking Report'!E87,\"\")","v":""},{"$f":"IF('CoC Renewal Ranking Report'!G87<>\"\",'CoC Renewal Ranking Report'!G87,\"\")","v":""},{"$f":"IF('CoC Renewal Ranking Report'!AC87<>\"\",'CoC Renewal Ranking Report'!BB87,\"\")","v":""},""]
[{"$f":"IF('CoC Renewal Ranking Report'!D88<>\"\",'CoC Renewal Ranking Report'!D88,\"\")","v":""},{"$f":"IF('CoC Renewal Ranking Report'!E88<>\"\",'CoC Renewal Ranking Report'!E88,\"\")","v":""},{"$f":"IF('CoC Renewal Ranking Report'!G88<>\"\",'CoC Renewal Ranking Report'!G88,\"\")","v":""},{"$f":"IF('CoC Renewal Ranking Report'!AC88<>\"\",'CoC Renewal Ranking Report'!BB88,\"\")","v":""},""]
[{"$f":"IF('CoC Renewal Ranking Report'!D89<>\"\",'CoC Renewal Ranking Report'!D89,\"\")","v":""},{"$f":"IF('CoC Renewal Ranking Report'!E89<>\"\",'CoC Renewal Ranking Report'!E89,\"\")","v":""},{"$f":"IF('CoC Renewal Ranking Report'!G89<>\"\",'CoC Renewal Ranking Report'!G89,\"\")","v":""},{"$f":"IF('CoC Renewal Ranking Report'!AC89<>\"\",'CoC Renewal Ranking Report'!BB89,\"\")","v":""},""]
[{"$f":"IF('CoC Renewal Ranking Report'!D90<>\"\",'CoC Renewal Ranking Report'!D90,\"\")","v":""},{"$f":"IF('CoC Renewal Ranking Report'!E90<>\"\",'CoC Renewal Ranking Report'!E90,\"\")","v":""},{"$f":"IF('CoC Renewal Ranking Report'!G90<>\"\",'CoC Renewal Ranking Report'!G90,\"\")","v":""},{"$f":"IF('CoC Renewal Ranking Report'!AC90<>\"\",'CoC Renewal Ranking Report'!BB90,\"\")","v":""},""]
[{"$f":"IF('CoC Renewal Ranking Report'!D91<>\"\",'CoC Renewal Ranking Report'!D91,\"\")","v":""},{"$f":"IF('CoC Renewal Ranking Report'!E91<>\"\",'CoC Renewal Ranking Report'!E91,\"\")","v":""},{"$f":"IF('CoC Renewal Ranking Report'!G91<>\"\",'CoC Renewal Ranking Report'!G91,\"\")","v":""},{"$f":"IF('CoC Renewal Ranking Report'!AC91<>\"\",'CoC Renewal Ranking Report'!BB91,\"\")","v":""},""]
[{"$f":"IF('CoC Renewal Ranking Report'!D92<>\"\",'CoC Renewal Ranking Report'!D92,\"\")","v":""},{"$f":"IF('CoC Renewal Ranking Report'!E92<>\"\",'CoC Renewal Ranking Report'!E92,\"\")","v":""},{"$f":"IF('CoC Renewal Ranking Report'!G92<>\"\",'CoC Renewal Ranking Report'!G92,\"\")","v":""},{"$f":"IF('CoC Renewal Ranking Report'!AC92<>\"\",'CoC Renewal Ranking Report'!BB92,\"\")","v":""},""]
[{"$f":"IF('CoC Renewal Ranking Report'!D93<>\"\",'CoC Renewal Ranking Report'!D93,\"\")","v":""},{"$f":"IF('CoC Renewal Ranking Report'!E93<>\"\",'CoC Renewal Ranking Report'!E93,\"\")","v":""},{"$f":"IF('CoC Renewal Ranking Report'!G93<>\"\",'CoC Renewal Ranking Report'!G93,\"\")","v":""},{"$f":"IF('CoC Renewal Ranking Report'!AC93<>\"\",'CoC Renewal Ranking Report'!BB93,\"\")","v":""},""]
[{"$f":"IF('CoC Renewal Ranking Report'!D94<>\"\",'CoC Renewal Ranking Report'!D94,\"\")","v":""},{"$f":"IF('CoC Renewal Ranking Report'!E94<>\"\",'CoC Renewal Ranking Report'!E94,\"\")","v":""},{"$f":"IF('CoC Renewal Ranking Report'!G94<>\"\",'CoC Renewal Ranking Report'!G94,\"\")","v":""},{"$f":"IF('CoC Renewal Ranking Report'!AC94<>\"\",'CoC Renewal Ranking Report'!BB94,\"\")","v":""},""]
[{"$f":"IF('CoC Renewal Ranking Report'!D95<>\"\",'CoC Renewal Ranking Report'!D95,\"\")","v":""},{"$f":"IF('CoC Renewal Ranking Report'!E95<>\"\",'CoC Renewal Ranking Report'!E95,\"\")","v":""},{"$f":"IF('CoC Renewal Ranking Report'!G95<>\"\",'CoC Renewal Ranking Report'!G95,\"\")","v":""},{"$f":"IF('CoC Renewal Ranking Report'!AC95<>\"\",'CoC Renewal Ranking Report'!BB95,\"\")","v":""},""]
[{"$f":"IF('CoC Renewal Ranking Report'!D96<>\"\",'CoC Renewal Ranking Report'!D96,\"\")","v":""},{"$f":"IF('CoC Renewal Ranking Report'!E96<>\"\",'CoC Renewal Ranking Report'!E96,\"\")","v":""},{"$f":"IF('CoC Renewal Ranking Report'!G96<>\"\",'CoC Renewal Ranking Report'!G96,\"\")","v":""},{"$f":"IF('CoC Renewal Ranking Report'!AC96<>\"\",'CoC Renewal Ranking Report'!BB96,\"\")","v":""},""]
[{"$f":"IF('CoC Renewal Ranking Report'!D97<>\"\",'CoC Renewal Ranking Report'!D97,\"\")","v":""},{"$f":"IF('CoC Renewal Ranking Report'!E97<>\"\",'CoC Renewal Ranking Report'!E97,\"\")","v":""},{"$f":"IF('CoC Renewal Ranking Report'!G97<>\"\",'CoC Renewal Ranking Report'!G97,\"\")","v":""},{"$f":"IF('CoC Renewal Ranking Report'!AC97<>\"\",'CoC Renewal Ranking Report'!BB97,\"\")","v":""},""]
[{"$f":"IF('CoC Renewal Ranking Report'!D98<>\"\",'CoC Renewal Ranking Report'!D98,\"\")","v":""},{"$f":"IF('CoC Renewal Ranking Report'!E98<>\"\",'CoC Renewal Ranking Report'!E98,\"\")","v":""},{"$f":"IF('CoC Renewal Ranking Report'!G98<>\"\",'CoC Renewal Ranking Report'!G98,\"\")","v":""},{"$f":"IF('CoC Renewal Ranking Report'!AC98<>\"\",'CoC Renewal Ranking Report'!BB98,\"\")","v":""},""]
[{"$f":"IF('CoC Renewal Ranking Report'!D99<>\"\",'CoC Renewal Ranking Report'!D99,\"\")","v":""},{"$f":"IF('CoC Renewal Ranking Report'!E99<>\"\",'CoC Renewal Ranking Report'!E99,\"\")","v":""},{"$f":"IF('CoC Renewal Ranking Report'!G99<>\"\",'CoC Renewal Ranking Report'!G99,\"\")","v":""},{"$f":"IF('CoC Renewal Ranking Report'!AC99<>\"\",'CoC Renewal Ranking Report'!BB99,\"\")","v":""},""]
[{"$f":"IF('CoC Renewal Ranking Report'!D100<>\"\",'CoC Renewal Ranking Report'!D100,\"\")","v":""},{"$f":"IF('CoC Renewal Ranking Report'!E100<>\"\",'CoC Renewal Ranking Report'!E100,\"\")","v":""},{"$f":"IF('CoC Renewal Ranking Report'!G100<>\"\",'CoC Renewal Ranking Report'!G100,\"\")","v":""},{"$f":"IF('CoC Renewal Ranking Report'!AC100<>\"\",'CoC Renewal Ranking Report'!BB100,\"\")","v":""},""]
[{"$f":"IF('CoC Renewal Ranking Report'!D101<>\"\",'CoC Renewal Ranking Report'!D101,\"\")","v":""},{"$f":"IF('CoC Renewal Ranking Report'!E101<>\"\",'CoC Renewal Ranking Report'!E101,\"\")","v":""},{"$f":"IF('CoC Renewal Ranking Report'!G101<>\"\",'CoC Renewal Ranking Report'!G101,\"\")","v":""},{"$f":"IF('CoC Renewal Ranking Report'!AC101<>\"\",'CoC Renewal Ranking Report'!BB101,\"\")","v":""},""]
[{"$f":"IF('CoC Renewal Ranking Report'!D102<>\"\",'CoC Renewal Ranking Report'!D102,\"\")","v":""},{"$f":"IF('CoC Renewal Ranking Report'!E102<>\"\",'CoC Renewal Ranking Report'!E102,\"\")","v":""},{"$f":"IF('CoC Renewal Ranking Report'!G102<>\"\",'CoC Renewal Ranking Report'!G102,\"\")","v":""},{"$f":"IF('CoC Renewal Ranking Report'!AC102<>\"\",'CoC Renewal Ranking Report'!BB102,\"\")","v":""},""]

{"sheet":"Unit Utilization Rate","index":10,"n_rows":102,"n_cols":7,"rows_kept":102,"cut":false,"hidden":false,"merged":[]}
[null,"Unit Utilization Rate"]
[null,"Criteria"]
[null,"95% - 100% Rate = 5 points"]
[null,"90% - 94% Rate = 3 points "]
[null,"85% - 89% Rate = 1 point"]
[]
["Agency Name","Project Name","Program Type","# of Households (Avg.)","# of Units","Unit Utilization %","Score"]
[{"$f":"IF('CoC Renewal Ranking Report'!$D9<>\"\",'CoC Renewal Ranking Report'!$D9,\"\")","v":""},{"$f":"IF('CoC Renewal Ranking Report'!E9<>\"\",'CoC Renewal Ranking Report'!E9,\"\")","v":""},{"$f":"IF('CoC Renewal Ranking Report'!G9<>\"\",'CoC Renewal Ranking Report'!G9,\"\")","v":""},{"$f":"IF('CoC Renewal Ranking Report'!$D9<>\"\",'CoC Renewal Ranking Report'!$BI9,\"\")","v":""},{"$f":"IF('CoC Renewal Ranking Report'!$D9<>\"\",'CoC Renewal Ranking Report'!$BL9,\"\")","v":""},{"$f":"IF(E8<>\"\",IF(E8<>0,D8/E8, \"\"), \"\")","v":""},{"$f":"IF(AND(A8<>\"\",F8<>\"\"),IF(AND(F8>=0.95), 5, IF(AND(F8<0.95,$F8>=0.9), 3, IF(AND(F8<0.9,F8>=0.85),1,0))),\"\")","v":""}]
[{"$f":"IF('CoC Renewal Ranking Report'!$D10<>\"\",'CoC Renewal Ranking Report'!$D10,\"\")","v":"Blair County Community Action Program"},{"$f":"IF('CoC Renewal Ranking Report'!E10<>\"\",'CoC Renewal Ranking Report'!E10,\"\")","v":"Rapid Re-Housing"},{"$f":"IF('CoC Renewal Ranking Report'!G10<>\"\",'CoC Renewal Ranking Report'!G10,\"\")","v":"PH-RRH"},{"$f":"IF('CoC Renewal Ranking Report'!$D10<>\"\",'CoC Renewal Ranking Report'!$BI10,\"\")","v":10.75},{"$f":"IF('CoC Renewal Ranking Report'!$D10<>\"\",'CoC Renewal Ranking Report'!$BL10,\"\")","v":10},{"$f":"IF(E9<>\"\",IF(E9<>0,D9/E9, \"\"), \"\")","v":1.075},5]
[{"$f":"IF('CoC Renewal Ranking Report'!$D11<>\"\",'CoC Renewal Ranking Report'!$D11,\"\")","v":"Cambria County"},{"$f":"IF('CoC Renewal Ranking Report'!E11<>\"\",'CoC Renewal Ranking Report'!E11,\"\")","v":"Cambria County Comprehensive Housing Program"},{"$f":"IF('CoC Renewal Ranking Report'!G11<>\"\",'CoC Renewal Ranking Report'!G11,\"\")","v":"PH"},{"$f":"IF('CoC Renewal Ranking Report'!$D11<>\"\",'CoC Renewal Ranking Report'!$BI11,\"\")","v":19},{"$f":"IF('CoC Renewal Ranking Report'!$D11<>\"\",'CoC Renewal Ranking Report'!$BL11,\"\")","v":19},1,5]
[{"$f":"IF('CoC Renewal Ranking Report'!$D12<>\"\",'CoC Renewal Ranking Report'!$D12,\"\")","v":"Catholic Charities of the Diocese of Allentown"},{"$f":"IF('CoC Renewal Ranking Report'!E12<>\"\",'CoC Renewal Ranking Report'!E12,\"\")","v":"Catholic Charities Allentown Permanent Housing Program"},{"$f":"IF('CoC Renewal Ranking Report'!G12<>\"\",'CoC Renewal Ranking Report'!G12,\"\")","v":"PH"},{"$f":"IF('CoC Renewal Ranking Report'!$D12<>\"\",'CoC Renewal Ranking Report'!$BI12,\"\")","v":9.75},{"$f":"IF('CoC Renewal Ranking Report'!$D12<>\"\",'CoC Renewal Ranking Report'!$BL12,\"\")","v":8},1.21875,5]
[{"$f":"IF('CoC Renewal Ranking Report'!$D13<>\"\",'CoC Renewal Ranking Report'!$D13,\"\")","v":"Catholic Social Services of the Diocese of Scranton, Inc."},{"$f":"IF('CoC Renewal Ranking Report'!E13<>\"\",'CoC Renewal Ranking Report'!E13,\"\")","v":"PSHP Pike County"},{"$f":"IF('CoC Renewal Ranking Report'!G13<>\"\",'CoC Renewal Ranking Report'!G13,\"\")","v":"PH"},{"$f":"IF('CoC Renewal Ranking Report'!$D13<>\"\",'CoC Renewal Ranking Report'!$BI13,\"\")","v":5.75},{"$f":"IF('CoC Renewal Ranking Report'!$D13<>\"\",'CoC Renewal Ranking Report'!$BL13,\"\")","v":6},0.95833333333333337,5]
[{"$f":"IF('CoC Renewal Ranking Report'!$D14<>\"\",'CoC Renewal Ranking Report'!$D14,\"\")","v":"Catholic Social Services of the Diocese of Scranton, Inc."},{"$f":"IF('CoC Renewal Ranking Report'!E14<>\"\",'CoC Renewal Ranking Report'!E14,\"\")","v":"Rural Permanent Supportive Housing Program"},{"$f":"IF('CoC Renewal Ranking Report'!G14<>\"\",'CoC Renewal Ranking Report'!G14,\"\")","v":"PH"},{"$f":"IF('CoC Renewal Ranking Report'!$D14<>\"\",'CoC Renewal Ranking Report'!$BI14,\"\")","v":8.5},{"$f":"IF('CoC Renewal Ranking Report'!$D14<>\"\",'CoC Renewal Ranking Report'!$BL14,\"\")","v":8},1.0625,5]
[{"$f":"IF('CoC Renewal Ranking Report'!$D15<>\"\",'CoC Renewal Ranking Report'!$D15,\"\")","v":"Catholic Social Services of the Diocese of Scranton, Inc."},{"$f":"IF('CoC Renewal Ranking Report'!E15<>\"\",'CoC Renewal Ranking Report'!E15,\"\")","v":"Susquehanna/Wayne PSHP"},{"$f":"IF('CoC Renewal Ranking Report'!G15<>\"\",'CoC Renewal Ranking Report'!G15,\"\")","v":"PH"},{"$f":"IF('CoC Renewal Ranking Report'!$D15<>\"\",'CoC Renewal Ranking Report'!$BI15,\"\")","v":8.75},{"$f":"IF('CoC Renewal Ranking Report'!$D15<>\"\",'CoC Renewal Ranking Report'!$BL15,\"\")","v":9},0.97222222222222221,5]
[{"$f":"IF('CoC Renewal Ranking Report'!$D16<>\"\",'CoC Renewal Ranking Report'!$D16,\"\")","v":"Center for Community Action"},{"$f":"IF('CoC Renewal Ranking Report'!E16<>\"\",'CoC Renewal Ranking Report'!E16,\"\")","v":"Bedford,Fulton, Huntingdon RRH"},{"$f":"IF('CoC Renewal Ranking Report'!G16<>\"\",'CoC Renewal Ranking Report'!G16,\"\")","v":"PH-RRH"},{"$f":"IF('CoC Renewal Ranking Report'!$D16<>\"\",'CoC Renewal Ranking Report'!$BI16,\"\")","v":8.5},{"$f":"IF('CoC Renewal Ranking Report'!$D16<>\"\",'CoC Renewal Ranking Report'!$BL16,\"\")","v":9},0.94444444444444442,3]
[{"$f":"IF('CoC Renewal Ranking Report'!$D17<>\"\",'CoC Renewal Ranking Report'!$D17,\"\")","v":"County of Franklin"},{"$f":"IF('CoC Renewal Ranking Report'!E17<>\"\",'CoC Renewal Ranking Report'!E17,\"\")","v":"Franklin/ Fulton S+C Project 2017"},{"$f":"IF('CoC Renewal Ranking Report'!G17<>\"\",'CoC Renewal Ranking Report'!G17,\"\")","v":"PH"},{"$f":"IF('CoC Renewal Ranking Report'!$D17<>\"\",'CoC Renewal Ranking Report'!$BI17,\"\")","v":12},{"$f":"IF('CoC Renewal Ranking Report'!$D17<>\"\",'CoC Renewal Ranking Report'!$BL17,\"\")","v":10},1.2,5]
[{"$f":"IF('CoC Renewal Ranking Report'!$D18<>\"\",'CoC Renewal Ranking Report'!$D18,\"\")","v":"County of Franklin"},{"$f":"IF('CoC Renewal Ranking Report'!E18<>\"\",'CoC Renewal Ranking Report'!E18,\"\")","v":"Franklin/Fulton Homeless Assistance Project 2017"},{"$f":"IF('CoC Renewal Ranking Report'!G18<>\"\",'CoC Renewal Ranking Report'!G18,\"\")","v":"PH"},{"$f":"IF('CoC Renewal Ranking Report'!$D18<>\"\",'CoC Renewal Ranking Report'!$BI18,\"\")","v":29},{"$f":"IF('CoC Renewal Ranking Report'!$D18<>\"\",'CoC Renewal Ranking Report'!$BL18,\"\")","v":20},1.45,5]
[{"$f":"IF('CoC Renewal Ranking Report'!$D19<>\"\",'CoC Renewal Ranking Report'!$D19,\"\")","v":"County of Lycoming DBA Lycoming- Clinton Joinder Board"},{"$f":"IF('CoC Renewal Ranking Report'!E19<>\"\",'CoC Renewal Ranking Report'!E19,\"\")","v":"Lycoming/Clinton Renewal #5"},{"$f":"IF('CoC Renewal Ranking Report'!G19<>\"\",'CoC Renewal Ranking Report'!G19,\"\")","v":"PH"},{"$f":"IF('CoC Renewal Ranking Report'!$D19<>\"\",'CoC Renewal Ranking Report'!$BI19,\"\")","v":9.25},{"$f":"IF('CoC Renewal Ranking Report'!$D19<>\"\",'CoC Renewal Ranking Report'!$BL19,\"\")","v":8},1.15625,5]
[{"$f":"IF('CoC Renewal Ranking Report'!$D20<>\"\",'CoC Renewal Ranking Report'!$D20,\"\")","v":"Fitzmaurice Community Services, Inc"},{"$f":"IF('CoC Renewal Ranking Report'!E20<>\"\",'CoC Renewal Ranking Report'!E20,\"\")","v":"Pathfinders"},{"$f":"IF('CoC Renewal Ranking Report'!G20<>\"\",'CoC Renewal Ranking Report'!G20,\"\")","v":"PH"},{"$f":"IF('CoC Renewal Ranking Report'!$D20<>\"\",'CoC Renewal Ranking Report'!$BI20,\"\")","v":19.75},{"$f":"IF('CoC Renewal Ranking Report'!$D20<>\"\",'CoC Renewal Ranking Report'!$BL20,\"\")","v":24},0.82291666666666663,0]
[{"$f":"IF('CoC Renewal Ranking Report'!$D21<>\"\",'CoC Renewal Ranking Report'!$D21,\"\")","v":"Home Nursing AgencyCommunity Services"},{"$f":"IF('CoC Renewal Ranking Report'!E21<>\"\",'CoC Renewal Ranking Report'!E21,\"\")","v":"Housing Assistance and Rental Program"},{"$f":"IF('CoC Renewal Ranking Report'!G21<>\"\",'CoC Renewal Ranking Report'!G21,\"\")","v":"PH"},{"$f":"IF('CoC Renewal Ranking Report'!$D21<>\"\",'CoC Renewal Ranking Report'!$BI21,\"\")","v":20.25},{"$f":"IF('CoC Renewal Ranking Report'!$D21<>\"\",'CoC Renewal Ranking Report'!$BL21,\"\")","v":25},0.81,0]
[{"$f":"IF('CoC Renewal Ranking Report'!$D22<>\"\",'CoC Renewal Ranking Report'!$D22,\"\")","v":"Housing Authority of Monroe County"},{"$f":"IF('CoC Renewal Ranking Report'!E22<>\"\",'CoC Renewal Ranking Report'!E22,\"\")","v":"Renewal Application Shelter Plus Care MC 2016"},{"$f":"IF('CoC Renewal Ranking Report'!G22<>\"\",'CoC Renewal Ranking Report'!G22,\"\")","v":"PH"},{"$f":"IF('CoC Renewal Ranking Report'!$D22<>\"\",'CoC Renewal Ranking Report'!$BI22,\"\")","v":16},{"$f":"IF('CoC Renewal Ranking Report'!$D22<>\"\",'CoC Renewal Ranking Report'!$BL22,\"\")","v":15},1.0666666666666667,5]
[{"$f":"IF('CoC Renewal Ranking Report'!$D23<>\"\",'CoC Renewal Ranking Report'!$D23,\"\")","v":"Housing Authority of the County of Cumberland"},{"$f":"IF('CoC Renewal Ranking Report'!E23<>\"\",'CoC Renewal Ranking Report'!E23,\"\")","v":"Carlisle Supportive Housing Program"},{"$f":"IF('CoC Renewal Ranking Report'!G23<>\"\",'CoC Renewal Ranking Report'!G23,\"\")","v":"PH"},{"$f":"IF('CoC Renewal Ranking Report'!$D23<>\"\",'CoC Renewal Ranking Report'!$BI23,\"\")","v":4},{"$f":"IF('CoC Renewal Ranking Report'!$D23<>\"\",'CoC Renewal Ranking Report'!$BL23,\"\")","v":4},1,5]
[{"$f":"IF('CoC Renewal Ranking Report'!$D24<>\"\",'CoC Renewal Ranking Report'!$D24,\"\")","v":"Housing Authority of the County of Cumberland"},{"$f":"IF('CoC Renewal Ranking Report'!E24<>\"\",'CoC Renewal Ranking Report'!E24,\"\")","v":"Perry County Permanent SHP"},{"$f":"IF('CoC Renewal Ranking Report'!G24<>\"\",'CoC Renewal Ranking Report'!G24,\"\")","v":"PH"},{"$f":"IF('CoC Renewal Ranking Report'!$D24<>\"\",'CoC Renewal Ranking Report'!$BI24,\"\")","v":8.75},{"$f":"IF('CoC Renewal Ranking Report'!$D24<>\"\",'CoC Renewal Ranking Report'!$BL24,\"\")","v":8},1.09375,5]
[{"$f":"IF('CoC Renewal Ranking Report'!$D25<>\"\",'CoC Renewal Ranking Report'!$D25,\"\")","v":"Housing Authority of the County of Cumberland"},{"$f":"IF('CoC Renewal Ranking Report'!E25<>\"\",'CoC Renewal Ranking Report'!E25,\"\")","v":"Perry County Transitional II"},{"$f":"IF('CoC Renewal Ranking Report'!G25<>\"\",'CoC Renewal Ranking Report'!G25,\"\")","v":"PH-RRH"},{"$f":"IF('CoC Renewal Ranking Report'!$D25<>\"\",'CoC Renewal Ranking Report'!$BI25,\"\")","v":15.75},{"$f":"IF('CoC Renewal Ranking Report'!$D25<>\"\",'CoC Renewal Ranking Report'!$BL25,\"\")","v":13},1.2115384615384615,5]
[{"$f":"IF('CoC Renewal Ranking Report'!$D26<>\"\",'CoC Renewal Ranking Report'!$D26,\"\")","v":"Housing Authority of the County of Cumberland"},{"$f":"IF('CoC Renewal Ranking Report'!E26<>\"\",'CoC Renewal Ranking Report'!E26,\"\")","v":"Perry County Veterans Program"},{"$f":"IF('CoC Renewal Ranking Report'!G26<>\"\",'CoC Renewal Ranking Report'!G26,\"\")","v":"PH"},{"$f":"IF('CoC Renewal Ranking Report'!$D26<>\"\",'CoC Renewal Ranking Report'!$BI26,\"\")","v":4.75},{"$f":"IF('CoC Renewal Ranking Report'!$D26<>\"\",'CoC Renewal Ranking Report'!$BL26,\"\")","v":5},0.95,5]
[{"$f":"IF('CoC Renewal Ranking Report'!$D27<>\"\",'CoC Renewal Ranking Report'!$D27,\"\")","v":"Housing Authority of the County of Cumberland"},{"$f":"IF('CoC Renewal Ranking Report'!E27<>\"\",'CoC Renewal Ranking Report'!E27,\"\")","v":"Rapid Rehousing II"},{"$f":"IF('CoC Renewal Ranking Report'!G27<>\"\",'CoC Renewal Ranking Report'!G27,\"\")","v":"PH-RRH"},{"$f":"IF('CoC Renewal Ranking Report'!$D27<>\"\",'CoC Renewal Ranking Report'!$BI27,\"\")","v":8},{"$f":"IF('CoC Renewal Ranking Report'!$D27<>\"\",'CoC Renewal Ranking Report'!$BL27,\"\")","v":10},0.8,0]
[{"$f":"IF('CoC Renewal Ranking Report'!$D28<>\"\",'CoC Renewal Ranking Report'!$D28,\"\")","v":"Housing Authority of the County of Cumberland"},{"$f":"IF('CoC Renewal Ranking Report'!E28<>\"\",'CoC Renewal Ranking Report'!E28,\"\")","v":"Safe Harbour SHP"},{"$f":"IF('CoC Renewal Ranking Report'!G28<>\"\",'CoC Renewal Ranking Report'!G28,\"\")","v":"PH"},{"$f":"IF('CoC Renewal Ranking Report'!$D28<>\"\",'CoC Renewal Ranking Report'!$BI28,\"\")","v":12.5},{"$f":"IF('CoC Renewal Ranking Report'!$D28<>\"\",'CoC Renewal Ranking Report'!$BL28,\"\")","v":12},1.0416666666666667,5]
[{"$f":"IF('CoC Renewal Ranking Report'!$D29<>\"\",'CoC Renewal Ranking Report'!$D29,\"\")","v":"Housing Authority of the County of Cumberland"},{"$f":"IF('CoC Renewal Ranking Report'!E29<>\"\",'CoC Renewal Ranking Report'!E29,\"\")","v":"Shelter + Care Chronic"},{"$f":"IF('CoC Renewal Ranking Report'!G29<>\"\",'CoC Renewal Ranking Report'!G29,\"\")","v":"PH"},{"$f":"IF('CoC Renewal Ranking Report'!$D29<>\"\",'CoC Renewal Ranking Report'!$BI29,\"\")","v":23.75},{"$f":"IF('CoC Renewal Ranking Report'!$D29<>\"\",'CoC Renewal Ranking Report'!$BL29,\"\")","v":20},1.1875,5]
[{"$f":"IF('CoC Renewal Ranking Report'!$D30<>\"\",'CoC Renewal Ranking Report'!$D30,\"\")","v":"Housing Authority of the County of Cumberland"},{"$f":"IF('CoC Renewal Ranking Report'!E30<>\"\",'CoC Renewal Ranking Report'!E30,\"\")","v":"Shelter + Care Non-Chronic"},{"$f":"IF('CoC Renewal Ranking Report'!G30<>\"\",'CoC Renewal Ranking Report'!G30,\"\")","v":"PH"},{"$f":"IF('CoC Renewal Ranking Report'!$D30<>\"\",'CoC Renewal Ranking Report'!$BI30,\"\")","v":21.25},{"$f":"IF('CoC Renewal Ranking Report'!$D30<>\"\",'CoC Renewal Ranking Report'!$BL30,\"\")","v":20},1.0625,5]
[{"$f":"IF('CoC Renewal Ranking Report'!$D31<>\"\",'CoC Renewal Ranking Report'!$D31,\"\")","v":"Housing Authority of the County of Cumberland"},{"$f":"IF('CoC Renewal Ranking Report'!E31<>\"\",'CoC Renewal Ranking Report'!E31,\"\")","v":"West Shore SHP I"},{"$f":"IF('CoC Renewal Ranking Report'!G31<>\"\",'CoC Renewal Ranking Report'!G31,\"\")","v":"PH"},{"$f":"IF('CoC Renewal Ranking Report'!$D31<>\"\",'CoC Renewal Ranking Report'!$BI31,\"\")","v":7},{"$f":"IF('CoC Renewal Ranking Report'!$D31<>\"\",'CoC Renewal Ranking Report'!$BL31,\"\")","v":6},1.1666666666666667,5]
[{"$f":"IF('CoC Renewal Ranking Report'!$D32<>\"\",'CoC Renewal Ranking Report'!$D32,\"\")","v":"Housing Authority of the County of Cumberland"},{"$f":"IF('CoC Renewal Ranking Report'!E32<>\"\",'CoC Renewal Ranking Report'!E32,\"\")","v":"West Shore SHP II"},{"$f":"IF('CoC Renewal Ranking Report'!G32<>\"\",'CoC Renewal Ranking Report'!G32,\"\")","v":"PH"},{"$f":"IF('CoC Renewal Ranking Report'!$D32<>\"\",'CoC Renewal Ranking Report'!$BI32,\"\")","v":6},{"$f":"IF('CoC Renewal Ranking Report'!$D32<>\"\",'CoC Renewal Ranking Report'!$BL32,\"\")","v":6},1,5]
[{"$f":"IF('CoC Renewal Ranking Report'!$D33<>\"\",'CoC Renewal Ranking Report'!$D33,\"\")","v":"Housing Development Corporation of NEPA"},{"$f":"IF('CoC Renewal Ranking Report'!E33<>\"\",'CoC Renewal Ranking Report'!E33,\"\")","v":"HDC SHP 3 2016"},{"$f":"IF('CoC Renewal Ranking Report'!G33<>\"\",'CoC Renewal Ranking Report'!G33,\"\")","v":"PH"},{"$f":"IF('CoC Renewal Ranking Report'!$D33<>\"\",'CoC Renewal Ranking Report'!$BI33,\"\")","v":9.5},{"$f":"IF('CoC Renewal Ranking Report'!$D33<>\"\",'CoC Renewal Ranking Report'!$BL33,\"\")","v":10},0.95,5]
[{"$f":"IF('CoC Renewal Ranking Report'!$D34<>\"\",'CoC Renewal Ranking Report'!$D34,\"\")","v":"Housing Development Corporation of NEPA"},{"$f":"IF('CoC Renewal Ranking Report'!E34<>\"\",'CoC Renewal Ranking Report'!E34,\"\")","v":"HDC SHP 6 2016"},{"$f":"IF('CoC Renewal Ranking Report'!G34<>\"\",'CoC Renewal Ranking Report'!G34,\"\")","v":"PH"},{"$f":"IF('CoC Renewal Ranking Report'!$D34<>\"\",'CoC Renewal Ranking Report'!$BI34,\"\")","v":12.5},{"$f":"IF('CoC Renewal Ranking Report'!$D34<>\"\",'CoC Renewal Ranking Report'!$BL34,\"\")","v":11},1.1363636363636365,5]
[{"$f":"IF('CoC Renewal Ranking Report'!$D35<>\"\",'CoC Renewal Ranking Report'!$D35,\"\")","v":"Housing Transitions, Inc."},{"$f":"IF('CoC Renewal Ranking Report'!E35<>\"\",'CoC Renewal Ranking Report'!E35,\"\")","v":"Nittany House Apartments"},{"$f":"IF('CoC Renewal Ranking Report'!G35<>\"\",'CoC Renewal Ranking Report'!G35,\"\")","v":"PH"},{"$f":"IF('CoC Renewal Ranking Report'!$D35<>\"\",'CoC Renewal Ranking Report'!$BI35,\"\")","v":4.5},{"$f":"IF('CoC Renewal Ranking Report'!$D35<>\"\",'CoC Renewal Ranking Report'!$BL35,\"\")","v":6},0.75,0]
[{"$f":"IF('CoC Renewal Ranking Report'!$D36<>\"\",'CoC Renewal Ranking Report'!$D36,\"\")","v":"Lehigh County Conference of Churches"},{"$f":"IF('CoC Renewal Ranking Report'!E36<>\"\",'CoC Renewal Ranking Report'!E36,\"\")","v":"Outreach and Case Management for the Disabled, Chronically Homeless"},{"$f":"IF('CoC Renewal Ranking Report'!G36<>\"\",'CoC Renewal Ranking Report'!G36,\"\")","v":"SSO"},{"$f":"IF('CoC Renewal Ranking Report'!$D36<>\"\",'CoC Renewal Ranking Report'!$BI36,\"\")","v":34.5},{"$f":"IF('CoC Renewal Ranking Report'!$D36<>\"\",'CoC Renewal Ranking Report'!$BL36,\"\")","v":37},0.93243243243243246,3]
[{"$f":"IF('CoC Renewal Ranking Report'!$D37<>\"\",'CoC Renewal Ranking Report'!$D37,\"\")","v":"Lehigh County Conference of Churches"},{"$f":"IF('CoC Renewal Ranking Report'!E37<>\"\",'CoC Renewal Ranking Report'!E37,\"\")","v":"Pathways Housing"},{"$f":"IF('CoC Renewal Ranking Report'!G37<>\"\",'CoC Renewal Ranking Report'!G37,\"\")","v":"PH"},{"$f":"IF('CoC Renewal Ranking Report'!$D37<>\"\",'CoC Renewal Ranking Report'!$BI37,\"\")","v":12},{"$f":"IF('CoC Renewal Ranking Report'!$D37<>\"\",'CoC Renewal Ranking Report'!$BL37,\"\")","v":13},0.92307692307692313,3]
[{"$f":"IF('CoC Renewal Ranking Report'!$D38<>\"\",'CoC Renewal Ranking Report'!$D38,\"\")","v":"Lehigh County Conference of Churches"},{"$f":"IF('CoC Renewal Ranking Report'!E38<>\"\",'CoC Renewal Ranking Report'!E38,\"\")","v":"Pathways Housing 2"},{"$f":"IF('CoC Renewal Ranking Report'!G38<>\"\",'CoC Renewal Ranking Report'!G38,\"\")","v":"PH"},{"$f":"IF('CoC Renewal Ranking Report'!$D38<>\"\",'CoC Renewal Ranking Report'!$BI38,\"\")","v":13.75},{"$f":"IF('CoC Renewal Ranking Report'!$D38<>\"\",'CoC Renewal Ranking Report'!$BL38,\"\")","v":12},1.1458333333333333,5]
[{"$f":"IF('CoC Renewal Ranking Report'!$D39<>\"\",'CoC Renewal Ranking Report'!$D39,\"\")","v":"Lehigh County Conference of Churches"},{"$f":"IF('CoC Renewal Ranking Report'!E39<>\"\",'CoC Renewal Ranking Report'!E39,\"\")","v":"Pathways TBRA for Families, Youth and Veterans"},{"$f":"IF('CoC Renewal Ranking Report'!G39<>\"\",'CoC Renewal Ranking Report'!G39,\"\")","v":"PH"},{"$f":"IF('CoC Renewal Ranking Report'!$D39<>\"\",'CoC Renewal Ranking Report'!$BI39,\"\")","v":19},{"$f":"IF('CoC Renewal Ranking Report'!$D39<>\"\",'CoC Renewal Ranking Report'!$BL39,\"\")","v":18},1.0555555555555556,5]
[{"$f":"IF('CoC Renewal Ranking Report'!$D40<>\"\",'CoC Renewal Ranking Report'!$D40,\"\")","v":"Lehigh County Conference of Churches"},{"$f":"IF('CoC Renewal Ranking Report'!E40<>\"\",'CoC Renewal Ranking Report'!E40,\"\")","v":"Tenant-Based Rental Assistance for the Disabled,Chronically Homeless"},{"$f":"IF('CoC Renewal Ranking Report'!G40<>\"\",'CoC Renewal Ranking Report'!G40,\"\")","v":"PH"},{"$f":"IF('CoC Renewal Ranking Report'!$D40<>\"\",'CoC Renewal Ranking Report'!$BI40,\"\")","v":17},{"$f":"IF('CoC Renewal Ranking Report'!$D40<>\"\",'CoC Renewal Ranking Report'!$BL40,\"\")","v":22},0.77272727272727271,0]
[{"$f":"IF('CoC Renewal Ranking Report'!$D41<>\"\",'CoC Renewal Ranking Report'!$D41,\"\")","v":"Lehigh County Housing Authority"},{"$f":"IF('CoC Renewal Ranking Report'!E41<>\"\",'CoC Renewal Ranking Report'!E41,\"\")","v":"LCHA S+C 2016"},{"$f":"IF('CoC Renewal Ranking Report'!G41<>\"\",'CoC Renewal Ranking Report'!G41,\"\")","v":"PH"},{"$f":"IF('CoC Renewal Ranking Report'!$D41<>\"\",'CoC Renewal Ranking Report'!$BI41,\"\")","v":26},{"$f":"IF('CoC Renewal Ranking Report'!$D41<>\"\",'CoC Renewal Ranking Report'!$BL41,\"\")","v":22},1.1818181818181819,5]
[{"$f":"IF('CoC Renewal Ranking Report'!$D42<>\"\",'CoC Renewal Ranking Report'!$D42,\"\")","v":"Maranatha"},{"$f":"IF('CoC Renewal Ranking Report'!E42<>\"\",'CoC Renewal Ranking Report'!E42,\"\")","v":"TOTAL PERSON TRANSITIONAL PROGRAM 1 & 2"},{"$f":"IF('CoC Renewal Ranking Report'!G42<>\"\",'CoC Renewal Ranking Report'!G42,\"\")","v":"PH-RRH"},{"$f":"IF('CoC Renewal Ranking Report'!$D42<>\"\",'CoC Renewal Ranking Report'!$BI42,\"\")","v":8},{"$f":"IF('CoC Renewal Ranking Report'!$D42<>\"\",'CoC Renewal Ranking Report'!$BL42,\"\")","v":10},0.8,0]
[{"$f":"IF('CoC Renewal Ranking Report'!$D43<>\"\",'CoC Renewal Ranking Report'!$D43,\"\")","v":"Mifflin County"},{"$f":"IF('CoC Renewal Ranking Report'!E43<>\"\",'CoC Renewal Ranking Report'!E43,\"\")","v":"Mifflin County Permanent Housing Renewal"},{"$f":"IF('CoC Renewal Ranking Report'!G43<>\"\",'CoC Renewal Ranking Report'!G43,\"\")","v":"PH"},{"$f":"IF('CoC Renewal Ranking Report'!$D43<>\"\",'CoC Renewal Ranking Report'!$BI43,\"\")","v":4},{"$f":"IF('CoC Renewal Ranking Report'!$D43<>\"\",'CoC Renewal Ranking Report'!$BL43,\"\")","v":10},0.4,0]
[{"$f":"IF('CoC Renewal Ranking Report'!$D44<>\"\",'CoC Renewal Ranking Report'!$D44,\"\")","v":"Northampton County Housing Authority"},{"$f":"IF('CoC Renewal Ranking Report'!E44<>\"\",'CoC Renewal Ranking Report'!E44,\"\")","v":"NCHA S+C 2016"},{"$f":"IF('CoC Renewal Ranking Report'!G44<>\"\",'CoC Renewal Ranking Report'!G44,\"\")","v":"PH"},{"$f":"IF('CoC Renewal Ranking Report'!$D44<>\"\",'CoC Renewal Ranking Report'!$BI44,\"\")","v":10},{"$f":"IF('CoC Renewal Ranking Report'!$D44<>\"\",'CoC Renewal Ranking Report'!$BL44,\"\")","v":10},1,5]
[{"$f":"IF('CoC Renewal Ranking Report'!$D45<>\"\",'CoC Renewal Ranking Report'!$D45,\"\")","v":"Northern Cambria Community Development Corporation"},{"$f":"IF('CoC Renewal Ranking Report'!E45<>\"\",'CoC Renewal Ranking Report'!E45,\"\")","v":"Independence Gardens"},{"$f":"IF('CoC Renewal Ranking Report'!G45<>\"\",'CoC Renewal Ranking Report'!G45,\"\")","v":"PH"},{"$f":"IF('CoC Renewal Ranking Report'!$D45<>\"\",'CoC Renewal Ranking Report'!$BI45,\"\")","v":16},{"$f":"IF('CoC Renewal Ranking Report'!$D45<>\"\",'CoC Renewal Ranking Report'!$BL45,\"\")","v":16},1,5]
[{"$f":"IF('CoC Renewal Ranking Report'!$D46<>\"\",'CoC Renewal Ranking Report'!$D46,\"\")","v":"Northern Cambria Community Development Corporation"},{"$f":"IF('CoC Renewal Ranking Report'!E46<>\"\",'CoC Renewal Ranking Report'!E46,\"\")","v":"Schoolhouse Gardens"},{"$f":"IF('CoC Renewal Ranking Report'!G46<>\"\",'CoC Renewal Ranking Report'!G46,\"\")","v":"PH"},{"$f":"IF('CoC Renewal Ranking Report'!$D46<>\"\",'CoC Renewal Ranking Report'!$BI46,\"\")","v":7.25},{"$f":"IF('CoC Renewal Ranking Report'!$D46<>\"\",'CoC Renewal Ranking Report'!$BL46,\"\")","v":8},0.90625,3]
[{"$f":"IF('CoC Renewal Ranking Report'!$D47<>\"\",'CoC Renewal Ranking Report'!$D47,\"\")","v":"Northumberland County MH/MR"},{"$f":"IF('CoC Renewal Ranking Report'!E47<>\"\",'CoC Renewal Ranking Report'!E47,\"\")","v":"Sharing Support"},{"$f":"IF('CoC Renewal Ranking Report'!G47<>\"\",'CoC Renewal Ranking Report'!G47,\"\")","v":"PH"},{"$f":"IF('CoC Renewal Ranking Report'!$D47<>\"\",'CoC Renewal Ranking Report'!$BI47,\"\")","v":11.75},{"$f":"IF('CoC Renewal Ranking Report'!$D47<>\"\",'CoC Renewal Ranking Report'!$BL47,\"\")","v":12},0.97916666666666663,5]
[{"$f":"IF('CoC Renewal Ranking Report'!$D48<>\"\",'CoC Renewal Ranking Report'!$D48,\"\")","v":"Resources for Human Development, Inc."},{"$f":"IF('CoC Renewal Ranking Report'!E48<>\"\",'CoC Renewal Ranking Report'!E48,\"\")","v":"Crossroads Family"},{"$f":"IF('CoC Renewal Ranking Report'!G48<>\"\",'CoC Renewal Ranking Report'!G48,\"\")","v":"PH"},{"$f":"IF('CoC Renewal Ranking Report'!$D48<>\"\",'CoC Renewal Ranking Report'!$BI48,\"\")","v":11.5},{"$f":"IF('CoC Renewal Ranking Report'!$D48<>\"\",'CoC Renewal Ranking Report'!$BL48,\"\")","v":11},1.0454545454545454,5]
[{"$f":"IF('CoC Renewal Ranking Report'!$D49<>\"\",'CoC Renewal Ranking Report'!$D49,\"\")","v":"Resources for Human Development, Inc."},{"$f":"IF('CoC Renewal Ranking Report'!E49<>\"\",'CoC Renewal Ranking Report'!E49,\"\")","v":"Crossroads Housing Bonus"},{"$f":"IF('CoC Renewal Ranking Report'!G49<>\"\",'CoC Renewal Ranking Report'!G49,\"\")","v":"PH"},{"$f":"IF('CoC Renewal Ranking Report'!$D49<>\"\",'CoC Renewal Ranking Report'!$BI49,\"\")","v":9},{"$f":"IF('CoC Renewal Ranking Report'!$D49<>\"\",'CoC Renewal Ranking Report'!$BL49,\"\")","v":10},0.9,3]
[{"$f":"IF('CoC Renewal Ranking Report'!$D50<>\"\",'CoC Renewal Ranking Report'!$D50,\"\")","v":"Resources for Human Development, Inc."},{"$f":"IF('CoC Renewal Ranking Report'!E50<>\"\",'CoC Renewal Ranking Report'!E50,\"\")","v":"Crossroads Individual"},{"$f":"IF('CoC Renewal Ranking Report'!G50<>\"\",'CoC Renewal Ranking Report'!G50,\"\")","v":"PH"},{"$f":"IF('CoC Renewal Ranking Report'!$D50<>\"\",'CoC Renewal Ranking Report'!$BI50,\"\")","v":26},{"$f":"IF('CoC Renewal Ranking Report'!$D50<>\"\",'CoC Renewal Ranking Report'!$BL50,\"\")","v":26},1,5]
[{"$f":"IF('CoC Renewal Ranking Report'!$D51<>\"\",'CoC Renewal Ranking Report'!$D51,\"\")","v":"Resources for Human Development, Inc."},{"$f":"IF('CoC Renewal Ranking Report'!E51<>\"\",'CoC Renewal Ranking Report'!E51,\"\")","v":"Crossroads Schuylkill Co. Permanent Supportive Housing"},{"$f":"IF('CoC Renewal Ranking Report'!G51<>\"\",'CoC Renewal Ranking Report'!G51,\"\")","v":"PH"},{"$f":"IF('CoC Renewal Ranking Report'!$D51<>\"\",'CoC Renewal Ranking Report'!$BI51,\"\")","v":3.5},{"$f":"IF('CoC Renewal Ranking Report'!$D51<>\"\",'CoC Renewal Ranking Report'!$BL51,\"\")","v":12},0.29166666666666669,0]
[{"$f":"IF('CoC Renewal Ranking Report'!$D52<>\"\",'CoC Renewal Ranking Report'!$D52,\"\")","v":"Resources for Human Development, Inc."},{"$f":"IF('CoC Renewal Ranking Report'!E52<>\"\",'CoC Renewal Ranking Report'!E52,\"\")","v":"LV ACT Housing Supports"},{"$f":"IF('CoC Renewal Ranking Report'!G52<>\"\",'CoC Renewal Ranking Report'!G52,\"\")","v":"PH"},{"$f":"IF('CoC Renewal Ranking Report'!$D52<>\"\",'CoC Renewal Ranking Report'!$BI52,\"\")","v":17.75},{"$f":"IF('CoC Renewal Ranking Report'!$D52<>\"\",'CoC Renewal Ranking Report'!$BL52,\"\")","v":20},0.88749999999999996,1]
[{"$f":"IF('CoC Renewal Ranking Report'!$D53<>\"\",'CoC Renewal Ranking Report'!$D53,\"\")","v":"Tableland Services, Inc."},{"$f":"IF('CoC Renewal Ranking Report'!E53<>\"\",'CoC Renewal Ranking Report'!E53,\"\")","v":"Permanent Housing with Disabilities (SHP)"},{"$f":"IF('CoC Renewal Ranking Report'!G53<>\"\",'CoC Renewal Ranking Report'!G53,\"\")","v":"PH"},{"$f":"IF('CoC Renewal Ranking Report'!$D53<>\"\",'CoC Renewal Ranking Report'!$BI53,\"\")","v":19},{"$f":"IF('CoC Renewal Ranking Report'!$D53<>\"\",'CoC Renewal Ranking Report'!$BL53,\"\")","v":21},0.90476190476190477,3]
[{"$f":"IF('CoC Renewal Ranking Report'!$D54<>\"\",'CoC Renewal Ranking Report'!$D54,\"\")","v":"Tableland Services, Inc."},{"$f":"IF('CoC Renewal Ranking Report'!E54<>\"\",'CoC Renewal Ranking Report'!E54,\"\")","v":"Permanent Supportive Housing CH Project"},{"$f":"IF('CoC Renewal Ranking Report'!G54<>\"\",'CoC Renewal Ranking Report'!G54,\"\")","v":"PH"},{"$f":"IF('CoC Renewal Ranking Report'!$D54<>\"\",'CoC Renewal Ranking Report'!$BI54,\"\")","v":1.75},{"$f":"IF('CoC Renewal Ranking Report'!$D54<>\"\",'CoC Renewal Ranking Report'!$BL54,\"\")","v":1},1.75,5]
[{"$f":"IF('CoC Renewal Ranking Report'!$D55<>\"\",'CoC Renewal Ranking Report'!$D55,\"\")","v":"The Salvation Army, a New York Corporation"},{"$f":"IF('CoC Renewal Ranking Report'!E55<>\"\",'CoC Renewal Ranking Report'!E55,\"\")","v":"Allentown Hospitality House Permanent Housing Program"},{"$f":"IF('CoC Renewal Ranking Report'!G55<>\"\",'CoC Renewal Ranking Report'!G55,\"\")","v":"PH"},{"$f":"IF('CoC Renewal Ranking Report'!$D55<>\"\",'CoC Renewal Ranking Report'!$BI55,\"\")","v":5},{"$f":"IF('CoC Renewal Ranking Report'!$D55<>\"\",'CoC Renewal Ranking Report'!$BL55,\"\")","v":6},0.83333333333333337,0]
[{"$f":"IF('CoC Renewal Ranking Report'!$D56<>\"\",'CoC Renewal Ranking Report'!$D56,\"\")","v":"The Salvation Army, a New York Corporation"},{"$f":"IF('CoC Renewal Ranking Report'!E56<>\"\",'CoC Renewal Ranking Report'!E56,\"\")","v":"Salvation Army Carlisle PH Project"},{"$f":"IF('CoC Renewal Ranking Report'!G56<>\"\",'CoC Renewal Ranking Report'!G56,\"\")","v":"PH"},{"$f":"IF('CoC Renewal Ranking Report'!$D56<>\"\",'CoC Renewal Ranking Report'!$BI56,\"\")","v":3.75},{"$f":"IF('CoC Renewal Ranking Report'!$D56<>\"\",'CoC Renewal Ranking Report'!$BL56,\"\")","v":5},0.75,0]
[{"$f":"IF('CoC Renewal Ranking Report'!$D57<>\"\",'CoC Renewal Ranking Report'!$D57,\"\")","v":"Union-Snyder Community Action Agency"},{"$f":"IF('CoC Renewal Ranking Report'!E57<>\"\",'CoC Renewal Ranking Report'!E57,\"\")","v":"Union-Snyder Rapid ReHousing Program"},{"$f":"IF('CoC Renewal Ranking Report'!G57<>\"\",'CoC Renewal Ranking Report'!G57,\"\")","v":"PH-RRH"},{"$f":"IF('CoC Renewal Ranking Report'!$D57<>\"\",'CoC Renewal Ranking Report'!$BI57,\"\")","v":6},{"$f":"IF('CoC Renewal Ranking Report'!$D57<>\"\",'CoC Renewal Ranking Report'!$BL57,\"\")","v":6},1,5]
[{"$f":"IF('CoC Renewal Ranking Report'!$D58<>\"\",'CoC Renewal Ranking Report'!$D58,\"\")","v":"United Christian Ministries"},{"$f":"IF('CoC Renewal Ranking Report'!E58<>\"\",'CoC Renewal Ranking Report'!E58,\"\")","v":"Kenner Garnet Renewal 2016"},{"$f":"IF('CoC Renewal Ranking Report'!G58<>\"\",'CoC Renewal Ranking Report'!G58,\"\")","v":"PH"},{"$f":"IF('CoC Renewal Ranking Report'!$D58<>\"\",'CoC Renewal Ranking Report'!$BI58,\"\")","v":14},{"$f":"IF('CoC Renewal Ranking Report'!$D58<>\"\",'CoC Renewal Ranking Report'!$BL58,\"\")","v":15},0.93333333333333335,3]
[{"$f":"IF('CoC Renewal Ranking Report'!$D59<>\"\",'CoC Renewal Ranking Report'!$D59,\"\")","v":"Valley Housing Development Corporation "},{"$f":"IF('CoC Renewal Ranking Report'!E59<>\"\",'CoC Renewal Ranking Report'!E59,\"\")","v":"VHDC SHP #2 2016"},{"$f":"IF('CoC Renewal Ranking Report'!G59<>\"\",'CoC Renewal Ranking Report'!G59,\"\")","v":"PH"},{"$f":"IF('CoC Renewal Ranking Report'!$D59<>\"\",'CoC Renewal Ranking Report'!$BI59,\"\")","v":22.25},{"$f":"IF('CoC Renewal Ranking Report'!$D59<>\"\",'CoC Renewal Ranking Report'!$BL59,\"\")","v":22},1.0113636363636365,5]
[{"$f":"IF('CoC Renewal Ranking Report'!$D60<>\"\",'CoC Renewal Ranking Report'!$D60,\"\")","v":"Valley Housing Development Corporation "},{"$f":"IF('CoC Renewal Ranking Report'!E60<>\"\",'CoC Renewal Ranking Report'!E60,\"\")","v":"VHDC SHP #3 2016"},{"$f":"IF('CoC Renewal Ranking Report'!G60<>\"\",'CoC Renewal Ranking Report'!G60,\"\")","v":"PH"},{"$f":"IF('CoC Renewal Ranking Report'!$D60<>\"\",'CoC Renewal Ranking Report'!$BI60,\"\")","v":14},{"$f":"IF('CoC Renewal Ranking Report'!$D60<>\"\",'CoC Renewal Ranking Report'!$BL60,\"\")","v":13},1.0769230769230769,5]
[{"$f":"IF('CoC Renewal Ranking Report'!$D61<>\"\",'CoC Renewal Ranking Report'!$D61,\"\")","v":"Valley Housing Development Corporation "},{"$f":"IF('CoC Renewal Ranking Report'!E61<>\"\",'CoC Renewal Ranking Report'!E61,\"\")","v":"VHDC SHP #4 2016"},{"$f":"IF('CoC Renewal Ranking Report'!G61<>\"\",'CoC Renewal Ranking Report'!G61,\"\")","v":"PH"},{"$f":"IF('CoC Renewal Ranking Report'!$D61<>\"\",'CoC Renewal Ranking Report'!$BI61,\"\")","v":12.75},{"$f":"IF('CoC Renewal Ranking Report'!$D61<>\"\",'CoC Renewal Ranking Report'!$BL61,\"\")","v":11},1.1590909090909092,5]
[{"$f":"IF('CoC Renewal Ranking Report'!$D62<>\"\",'CoC Renewal Ranking Report'!$D62,\"\")","v":""},{"$f":"IF('CoC Renewal Ranking Report'!E62<>\"\",'CoC Renewal Ranking Report'!E62,\"\")","v":""},{"$f":"IF('CoC Renewal Ranking Report'!G62<>\"\",'CoC Renewal Ranking Report'!G62,\"\")","v":""},{"$f":"IF('CoC Renewal Ranking Report'!$D62<>\"\",'CoC Renewal Ranking Report'!$BI62,\"\")","v":""},{"$f":"IF('CoC Renewal Ranking Report'!$D62<>\"\",'CoC Renewal Ranking Report'!$BL62,\"\")","v":""},"",""]
[{"$f":"IF('CoC Renewal Ranking Report'!$D63<>\"\",'CoC Renewal Ranking Report'!$D63,\"\")","v":""},{"$f":"IF('CoC Renewal Ranking Report'!E63<>\"\",'CoC Renewal Ranking Report'!E63,\"\")","v":""},{"$f":"IF('CoC Renewal Ranking Report'!G63<>\"\",'CoC Renewal Ranking Report'!G63,\"\")","v":""},{"$f":"IF('CoC Renewal Ranking Report'!$D63<>\"\",'CoC Renewal Ranking Report'!$BI63,\"\")","v":""},{"$f":"IF('CoC Renewal Ranking Report'!$D63<>\"\",'CoC Renewal Ranking Report'!$BL63,\"\")","v":""},"",""]
[{"$f":"IF('CoC Renewal Ranking Report'!$D64<>\"\",'CoC Renewal Ranking Report'!$D64,\"\")","v":""},{"$f":"IF('CoC Renewal Ranking Report'!E64<>\"\",'CoC Renewal Ranking Report'!E64,\"\")","v":""},{"$f":"IF('CoC Renewal Ranking Report'!G64<>\"\",'CoC Renewal Ranking Report'!G64,\"\")","v":""},{"$f":"IF('CoC Renewal Ranking Report'!$D64<>\"\",'CoC Renewal Ranking Report'!$BI64,\"\")","v":""},{"$f":"IF('CoC Renewal Ranking Report'!$D64<>\"\",'CoC Renewal Ranking Report'!$BL64,\"\")","v":""},"",""]
[{"$f":"IF('CoC Renewal Ranking Report'!$D65<>\"\",'CoC Renewal Ranking Report'!$D65,\"\")","v":""},{"$f":"IF('CoC Renewal Ranking Report'!E65<>\"\",'CoC Renewal Ranking Report'!E65,\"\")","v":""},{"$f":"IF('CoC Renewal Ranking Report'!G65<>\"\",'CoC Renewal Ranking Report'!G65,\"\")","v":""},{"$f":"IF('CoC Renewal Ranking Report'!$D65<>\"\",'CoC Renewal Ranking Report'!$BI65,\"\")","v":""},{"$f":"IF('CoC Renewal Ranking Report'!$D65<>\"\",'CoC Renewal Ranking Report'!$BL65,\"\")","v":""},"",""]
[{"$f":"IF('CoC Renewal Ranking Report'!$D66<>\"\",'CoC Renewal Ranking Report'!$D66,\"\")","v":""},{"$f":"IF('CoC Renewal Ranking Report'!E66<>\"\",'CoC Renewal Ranking Report'!E66,\"\")","v":""},{"$f":"IF('CoC Renewal Ranking Report'!G66<>\"\",'CoC Renewal Ranking Report'!G66,\"\")","v":""},{"$f":"IF('CoC Renewal Ranking Report'!$D66<>\"\",'CoC Renewal Ranking Report'!$BI66,\"\")","v":""},{"$f":"IF('CoC Renewal Ranking Report'!$D66<>\"\",'CoC Renewal Ranking Report'!$BL66,\"\")","v":""},"",""]
[{"$f":"IF('CoC Renewal Ranking Report'!$D67<>\"\",'CoC Renewal Ranking Report'!$D67,\"\")","v":""},{"$f":"IF('CoC Renewal Ranking Report'!E67<>\"\",'CoC Renewal Ranking Report'!E67,\"\")","v":""},{"$f":"IF('CoC Renewal Ranking Report'!G67<>\"\",'CoC Renewal Ranking Report'!G67,\"\")","v":""},{"$f":"IF('CoC Renewal Ranking Report'!$D67<>\"\",'CoC Renewal Ranking Report'!$BI67,\"\")","v":""},{"$f":"IF('CoC Renewal Ranking Report'!$D67<>\"\",'CoC Renewal Ranking Report'!$BL67,\"\")","v":""},"",""]
[{"$f":"IF('CoC Renewal Ranking Report'!$D68<>\"\",'CoC Renewal Ranking Report'!$D68,\"\")","v":""},{"$f":"IF('CoC Renewal Ranking Report'!E68<>\"\",'CoC Renewal Ranking Report'!E68,\"\")","v":""},{"$f":"IF('CoC Renewal Ranking Report'!G68<>\"\",'CoC Renewal Ranking Report'!G68,\"\")","v":""},{"$f":"IF('CoC Renewal Ranking Report'!$D68<>\"\",'CoC Renewal Ranking Report'!$BI68,\"\")","v":""},{"$f":"IF('CoC Renewal Ranking Report'!$D68<>\"\",'CoC Renewal Ranking Report'!$BL68,\"\")","v":""},"",""]
[{"$f":"IF('CoC Renewal Ranking Report'!$D69<>\"\",'CoC Renewal Ranking Report'!$D69,\"\")","v":""},{"$f":"IF('CoC Renewal Ranking Report'!E69<>\"\",'CoC Renewal Ranking Report'!E69,\"\")","v":""},{"$f":"IF('CoC Renewal Ranking Report'!G69<>\"\",'CoC Renewal Ranking Report'!G69,\"\")","v":""},{"$f":"IF('CoC Renewal Ranking Report'!$D69<>\"\",'CoC Renewal Ranking Report'!$BI69,\"\")","v":""},{"$f":"IF('CoC Renewal Ranking Report'!$D69<>\"\",'CoC Renewal Ranking Report'!$BL69,\"\")","v":""},"",""]
[{"$f":"IF('CoC Renewal Ranking Report'!$D70<>\"\",'CoC Renewal Ranking Report'!$D70,\"\")","v":""},{"$f":"IF('CoC Renewal Ranking Report'!E70<>\"\",'CoC Renewal Ranking Report'!E70,\"\")","v":""},{"$f":"IF('CoC Renewal Ranking Report'!G70<>\"\",'CoC Renewal Ranking Report'!G70,\"\")","v":""},{"$f":"IF('CoC Renewal Ranking Report'!$D70<>\"\",'CoC Renewal Ranking Report'!$BI70,\"\")","v":""},{"$f":"IF('CoC Renewal Ranking Report'!$D70<>\"\",'CoC Renewal Ranking Report'!$BL70,\"\")","v":""},"",""]
[{"$f":"IF('CoC Renewal Ranking Report'!$D71<>\"\",'CoC Renewal Ranking Report'!$D71,\"\")","v":""},{"$f":"IF('CoC Renewal Ranking Report'!E71<>\"\",'CoC Renewal Ranking Report'!E71,\"\")","v":""},{"$f":"IF('CoC Renewal Ranking Report'!G71<>\"\",'CoC Renewal Ranking Report'!G71,\"\")","v":""},{"$f":"IF('CoC Renewal Ranking Report'!$D71<>\"\",'CoC Renewal Ranking Report'!$BI71,\"\")","v":""},{"$f":"IF('CoC Renewal Ranking Report'!$D71<>\"\",'CoC Renewal Ranking Report'!$BL71,\"\")","v":""},"",""]
[{"$f":"IF('CoC Renewal Ranking Report'!$D72<>\"\",'CoC Renewal Ranking Report'!$D72,\"\")","v":""},{"$f":"IF('CoC Renewal Ranking Report'!E72<>\"\",'CoC Renewal Ranking Report'!E72,\"\")","v":""},{"$f":"IF('CoC Renewal Ranking Report'!G72<>\"\",'CoC Renewal Ranking Report'!G72,\"\")","v":""},{"$f":"IF('CoC Renewal Ranking Report'!$D72<>\"\",'CoC Renewal Ranking Report'!$BI72,\"\")","v":""},{"$f":"IF('CoC Renewal Ranking Report'!$D72<>\"\",'CoC Renewal Ranking Report'!$BL72,\"\")","v":""},"",""]
[{"$f":"IF('CoC Renewal Ranking Report'!$D73<>\"\",'CoC Renewal Ranking Report'!$D73,\"\")","v":""},{"$f":"IF('CoC Renewal Ranking Report'!E73<>\"\",'CoC Renewal Ranking Report'!E73,\"\")","v":""},{"$f":"IF('CoC Renewal Ranking Report'!G73<>\"\",'CoC Renewal Ranking Report'!G73,\"\")","v":""},{"$f":"IF('CoC Renewal Ranking Report'!$D73<>\"\",'CoC Renewal Ranking Report'!$BI73,\"\")","v":""},{"$f":"IF('CoC Renewal Ranking Report'!$D73<>\"\",'CoC Renewal Ranking Report'!$BL73,\"\")","v":""},"",{"$f":"IF(AND(A72<>\"\",F72<>\"\"),IF(AND(F72>=0.95), 5, IF(AND(F72<0.95,$F72>=0.9), 3, IF(AND(F72<0.9,F72>=0.85),1,0))),\"\")","v":""}]
[{"$f":"IF('CoC Renewal Ranking Report'!$D74<>\"\",'CoC Renewal Ranking Report'!$D74,\"\")","v":""},{"$f":"IF('CoC Renewal Ranking Report'!E74<>\"\",'CoC Renewal Ranking Report'!E74,\"\")","v":""},{"$f":"IF('CoC Renewal Ranking Report'!G74<>\"\",'CoC Renewal Ranking Report'!G74,\"\")","v":""},{"$f":"IF('CoC Renewal Ranking Report'!$D74<>\"\",'CoC Renewal Ranking Report'!$BI74,\"\")","v":""},{"$f":"IF('CoC Renewal Ranking Report'!$D74<>\"\",'CoC Renewal Ranking Report'!$BL74,\"\")","v":""},{"$f":"IF(E73<>\"\",IF(E73<>0,D73/E73, \"\"), \"\")","v":""},""]
[{"$f":"IF('CoC Renewal Ranking Report'!$D75<>\"\",'CoC Renewal Ranking Report'!$D75,\"\")","v":""},{"$f":"IF('CoC Renewal Ranking Report'!E75<>\"\",'CoC Renewal Ranking Report'!E75,\"\")","v":""},{"$f":"IF('CoC Renewal Ranking Report'!G75<>\"\",'CoC Renewal Ranking Report'!G75,\"\")","v":""},{"$f":"IF('CoC Renewal Ranking Report'!$D75<>\"\",'CoC Renewal Ranking Report'!$BI75,\"\")","v":""},{"$f":"IF('CoC Renewal Ranking Report'!$D75<>\"\",'CoC Renewal Ranking Report'!$BL75,\"\")","v":""},"",""]
[{"$f":"IF('CoC Renewal Ranking Report'!$D76<>\"\",'CoC Renewal Ranking Report'!$D76,\"\")","v":""},{"$f":"IF('CoC Renewal Ranking Report'!E76<>\"\",'CoC Renewal Ranking Report'!E76,\"\")","v":""},{"$f":"IF('CoC Renewal Ranking Report'!G76<>\"\",'CoC Renewal Ranking Report'!G76,\"\")","v":""},{"$f":"IF('CoC Renewal Ranking Report'!$D76<>\"\",'CoC Renewal Ranking Report'!$BI76,\"\")","v":""},{"$f":"IF('CoC Renewal Ranking Report'!$D76<>\"\",'CoC Renewal Ranking Report'!$BL76,\"\")","v":""},"",""]
[{"$f":"IF('CoC Renewal Ranking Report'!$D77<>\"\",'CoC Renewal Ranking Report'!$D77,\"\")","v":""},{"$f":"IF('CoC Renewal Ranking Report'!E77<>\"\",'CoC Renewal Ranking Report'!E77,\"\")","v":""},{"$f":"IF('CoC Renewal Ranking Report'!G77<>\"\",'CoC Renewal Ranking Report'!G77,\"\")","v":""},{"$f":"IF('CoC Renewal Ranking Report'!$D77<>\"\",'CoC Renewal Ranking Report'!$BI77,\"\")","v":""},{"$f":"IF('CoC Renewal Ranking Report'!$D77<>\"\",'CoC Renewal Ranking Report'!$BL77,\"\")","v":""},"",""]
[{"$f":"IF('CoC Renewal Ranking Report'!$D78<>\"\",'CoC Renewal Ranking Report'!$D78,\"\")","v":""},{"$f":"IF('CoC Renewal Ranking Report'!E78<>\"\",'CoC Renewal Ranking Report'!E78,\"\")","v":""},{"$f":"IF('CoC Renewal Ranking Report'!G78<>\"\",'CoC Renewal Ranking Report'!G78,\"\")","v":""},{"$f":"IF('CoC Renewal Ranking Report'!$D78<>\"\",'CoC Renewal Ranking Report'!$BI78,\"\")","v":""},{"$f":"IF('CoC Renewal Ranking Report'!$D78<>\"\",'CoC Renewal Ranking Report'!$BL78,\"\")","v":""},"",""]
[{"$f":"IF('CoC Renewal Ranking Report'!$D79<>\"\",'CoC Renewal Ranking Report'!$D79,\"\")","v":""},{"$f":"IF('CoC Renewal Ranking Report'!E79<>\"\",'CoC Renewal Ranking Report'!E79,\"\")","v":""},{"$f":"IF('CoC Renewal Ranking Report'!G79<>\"\",'CoC Renewal Ranking Report'!G79,\"\")","v":""},{"$f":"IF('CoC Renewal Ranking Report'!$D79<>\"\",'CoC Renewal Ranking Report'!$BI79,\"\")","v":""},{"$f":"IF('CoC Renewal Ranking Report'!$D79<>\"\",'CoC Renewal Ranking Report'!$BL79,\"\")","v":""},"",""]
[{"$f":"IF('CoC Renewal Ranking Report'!$D80<>\"\",'CoC Renewal Ranking Report'!$D80,\"\")","v":""},{"$f":"IF('CoC Renewal Ranking Report'!E80<>\"\",'CoC Renewal Ranking Report'!E80,\"\")","v":""},{"$f":"IF('CoC Renewal Ranking Report'!G80<>\"\",'CoC Renewal Ranking Report'!G80,\"\")","v":""},{"$f":"IF('CoC Renewal Ranking Report'!$D80<>\"\",'CoC Renewal Ranking Report'!$BI80,\"\")","v":""},{"$f":"IF('CoC Renewal Ranking Report'!$D80<>\"\",'CoC Renewal Ranking Report'!$BL80,\"\")","v":""},"",""]
[{"$f":"IF('CoC Renewal Ranking Report'!$D81<>\"\",'CoC Renewal Ranking Report'!$D81,\"\")","v":""},{"$f":"IF('CoC Renewal Ranking Report'!E81<>\"\",'CoC Renewal Ranking Report'!E81,\"\")","v":""},{"$f":"IF('CoC Renewal Ranking Report'!G81<>\"\",'CoC Renewal Ranking Report'!G81,\"\")","v":""},{"$f":"IF('CoC Renewal Ranking Report'!$D81<>\"\",'CoC Renewal Ranking Report'!$BI81,\"\")","v":""},{"$f":"IF('CoC Renewal Ranking Report'!$D81<>\"\",'CoC Renewal Ranking Report'!$BL81,\"\")","v":""},"",""]
[{"$f":"IF('CoC Renewal Ranking Report'!$D82<>\"\",'CoC Renewal Ranking Report'!$D82,\"\")","v":""},{"$f":"IF('CoC Renewal Ranking Report'!E82<>\"\",'CoC Renewal Ranking Report'!E82,\"\")","v":""},{"$f":"IF('CoC Renewal Ranking Report'!G82<>\"\",'CoC Renewal Ranking Report'!G82,\"\")","v":""},{"$f":"IF('CoC Renewal Ranking Report'!$D82<>\"\",'CoC Renewal Ranking Report'!$BI82,\"\")","v":""},{"$f":"IF('CoC Renewal Ranking Report'!$D82<>\"\",'CoC Renewal Ranking Report'!$BL82,\"\")","v":""},"",""]
[{"$f":"IF('CoC Renewal Ranking Report'!$D83<>\"\",'CoC Renewal Ranking Report'!$D83,\"\")","v":""},{"$f":"IF('CoC Renewal Ranking Report'!E83<>\"\",'CoC Renewal Ranking Report'!E83,\"\")","v":""},{"$f":"IF('CoC Renewal Ranking Report'!G83<>\"\",'CoC Renewal Ranking Report'!G83,\"\")","v":""},{"$f":"IF('CoC Renewal Ranking Report'!$D83<>\"\",'CoC Renewal Ranking Report'!$BI83,\"\")","v":""},{"$f":"IF('CoC Renewal Ranking Report'!$D83<>\"\",'CoC Renewal Ranking Report'!$BL83,\"\")","v":""},"",""]
[{"$f":"IF('CoC Renewal Ranking Report'!$D84<>\"\",'CoC Renewal Ranking Report'!$D84,\"\")","v":""},{"$f":"IF('CoC Renewal Ranking Report'!E84<>\"\",'CoC Renewal Ranking Report'!E84,\"\")","v":""},{"$f":"IF('CoC Renewal Ranking Report'!G84<>\"\",'CoC Renewal Ranking Report'!G84,\"\")","v":""},{"$f":"IF('CoC Renewal Ranking Report'!$D84<>\"\",'CoC Renewal Ranking Report'!$BI84,\"\")","v":""},{"$f":"IF('CoC Renewal Ranking Report'!$D84<>\"\",'CoC Renewal Ranking Report'!$BL84,\"\")","v":""},"",""]
[{"$f":"IF('CoC Renewal Ranking Report'!$D85<>\"\",'CoC Renewal Ranking Report'!$D85,\"\")","v":""},{"$f":"IF('CoC Renewal Ranking Report'!E85<>\"\",'CoC Renewal Ranking Report'!E85,\"\")","v":""},{"$f":"IF('CoC Renewal Ranking Report'!G85<>\"\",'CoC Renewal Ranking Report'!G85,\"\")","v":""},{"$f":"IF('CoC Renewal Ranking Report'!$D85<>\"\",'CoC Renewal Ranking Report'!$BI85,\"\")","v":""},{"$f":"IF('CoC Renewal Ranking Report'!$D85<>\"\",'CoC Renewal Ranking Report'!$BL85,\"\")","v":""},"",""]
[{"$f":"IF('CoC Renewal Ranking Report'!$D86<>\"\",'CoC Renewal Ranking Report'!$D86,\"\")","v":""},{"$f":"IF('CoC Renewal Ranking Report'!E86<>\"\",'CoC Renewal Ranking Report'!E86,\"\")","v":""},{"$f":"IF('CoC Renewal Ranking Report'!G86<>\"\",'CoC Renewal Ranking Report'!G86,\"\")","v":""},{"$f":"IF('CoC Renewal Ranking Report'!$D86<>\"\",'CoC Renewal Ranking Report'!$BI86,\"\")","v":""},{"$f":"IF('CoC Renewal Ranking Report'!$D86<>\"\",'CoC Renewal Ranking Report'!$BL86,\"\")","v":""},"",""]
[{"$f":"IF('CoC Renewal Ranking Report'!$D87<>\"\",'CoC Renewal Ranking Report'!$D87,\"\")","v":""},{"$f":"IF('CoC Renewal Ranking Report'!E87<>\"\",'CoC Renewal Ranking Report'!E87,\"\")","v":""},{"$f":"IF('CoC Renewal Ranking Report'!G87<>\"\",'CoC Renewal Ranking Report'!G87,\"\")","v":""},{"$f":"IF('CoC Renewal Ranking Report'!$D87<>\"\",'CoC Renewal Ranking Report'!$BI87,\"\")","v":""},{"$f":"IF('CoC Renewal Ranking Report'!$D87<>\"\",'CoC Renewal Ranking Report'!$BL87,\"\")","v":""},"",""]
[{"$f":"IF('CoC Renewal Ranking Report'!$D88<>\"\",'CoC Renewal Ranking Report'!$D88,\"\")","v":""},{"$f":"IF('CoC Renewal Ranking Report'!E88<>\"\",'CoC Renewal Ranking Report'!E88,\"\")","v":""},{"$f":"IF('CoC Renewal Ranking Report'!G88<>\"\",'CoC Renewal Ranking Report'!G88,\"\")","v":""},{"$f":"IF('CoC Renewal Ranking Report'!$D88<>\"\",'CoC Renewal Ranking Report'!$BI88,\"\")","v":""},{"$f":"IF('CoC Renewal Ranking Report'!$D88<>\"\",'CoC Renewal Ranking Report'!$BL88,\"\")","v":""},"",""]
[{"$f":"IF('CoC Renewal Ranking Report'!$D89<>\"\",'CoC Renewal Ranking Report'!$D89,\"\")","v":""},{"$f":"IF('CoC Renewal Ranking Report'!E89<>\"\",'CoC Renewal Ranking Report'!E89,\"\")","v":""},{"$f":"IF('CoC Renewal Ranking Report'!G89<>\"\",'CoC Renewal Ranking Report'!G89,\"\")","v":""},{"$f":"IF('CoC Renewal Ranking Report'!$D89<>\"\",'CoC Renewal Ranking Report'!$BI89,\"\")","v":""},{"$f":"IF('CoC Renewal Ranking Report'!$D89<>\"\",'CoC Renewal Ranking Report'!$BL89,\"\")","v":""},"",""]
[{"$f":"IF('CoC Renewal Ranking Report'!$D90<>\"\",'CoC Renewal Ranking Report'!$D90,\"\")","v":""},{"$f":"IF('CoC Renewal Ranking Report'!E90<>\"\",'CoC Renewal Ranking Report'!E90,\"\")","v":""},{"$f":"IF('CoC Renewal Ranking Report'!G90<>\"\",'CoC Renewal Ranking Report'!G90,\"\")","v":""},{"$f":"IF('CoC Renewal Ranking Report'!$D90<>\"\",'CoC Renewal Ranking Report'!$BI90,\"\")","v":""},{"$f":"IF('CoC Renewal Ranking Report'!$D90<>\"\",'CoC Renewal Ranking Report'!$BL90,\"\")","v":""},"",""]
[{"$f":"IF('CoC Renewal Ranking Report'!$D91<>\"\",'CoC Renewal Ranking Report'!$D91,\"\")","v":""},{"$f":"IF('CoC Renewal Ranking Report'!E91<>\"\",'CoC Renewal Ranking Report'!E91,\"\")","v":""},{"$f":"IF('CoC Renewal Ranking Report'!G91<>\"\",'CoC Renewal Ranking Report'!G91,\"\")","v":""},{"$f":"IF('CoC Renewal Ranking Report'!$D91<>\"\",'CoC Renewal Ranking Report'!$BI91,\"\")","v":""},{"$f":"IF('CoC Renewal Ranking Report'!$D91<>\"\",'CoC Renewal Ranking Report'!$BL91,\"\")","v":""},"",""]
[{"$f":"IF('CoC Renewal Ranking Report'!$D92<>\"\",'CoC Renewal Ranking Report'!$D92,\"\")","v":""},{"$f":"IF('CoC Renewal Ranking Report'!E92<>\"\",'CoC Renewal Ranking Report'!E92,\"\")","v":""},{"$f":"IF('CoC Renewal Ranking Report'!G92<>\"\",'CoC Renewal Ranking Report'!G92,\"\")","v":""},{"$f":"IF('CoC Renewal Ranking Report'!$D92<>\"\",'CoC Renewal Ranking Report'!$BI92,\"\")","v":""},{"$f":"IF('CoC Renewal Ranking Report'!$D92<>\"\",'CoC Renewal Ranking Report'!$BL92,\"\")","v":""},"",""]
[{"$f":"IF('CoC Renewal Ranking Report'!$D93<>\"\",'CoC Renewal Ranking Report'!$D93,\"\")","v":""},{"$f":"IF('CoC Renewal Ranking Report'!E93<>\"\",'CoC Renewal Ranking Report'!E93,\"\")","v":""},{"$f":"IF('CoC Renewal Ranking Report'!G93<>\"\",'CoC Renewal Ranking Report'!G93,\"\")","v":""},{"$f":"IF('CoC Renewal Ranking Report'!$D93<>\"\",'CoC Renewal Ranking Report'!$BI93,\"\")","v":""},{"$f":"IF('CoC Renewal Ranking Report'!$D93<>\"\",'CoC Renewal Ranking Report'!$BL93,\"\")","v":""},"",""]
[{"$f":"IF('CoC Renewal Ranking Report'!$D94<>\"\",'CoC Renewal Ranking Report'!$D94,\"\")","v":""},{"$f":"IF('CoC Renewal Ranking Report'!E94<>\"\",'CoC Renewal Ranking Report'!E94,\"\")","v":""},{"$f":"IF('CoC Renewal Ranking Report'!G94<>\"\",'CoC Renewal Ranking Report'!G94,\"\")","v":""},{"$f":"IF('CoC Renewal Ranking Report'!$D94<>\"\",'CoC Renewal Ranking Report'!$BI94,\"\")","v":""},{"$f":"IF('CoC Renewal Ranking Report'!$D94<>\"\",'CoC Renewal Ranking Report'!$BL94,\"\")","v":""},"",""]
[{"$f":"IF('CoC Renewal Ranking Report'!$D95<>\"\",'CoC Renewal Ranking Report'!$D95,\"\")","v":""},{"$f":"IF('CoC Renewal Ranking Report'!E95<>\"\",'CoC Renewal Ranking Report'!E95,\"\")","v":""},{"$f":"IF('CoC Renewal Ranking Report'!G95<>\"\",'CoC Renewal Ranking Report'!G95,\"\")","v":""},{"$f":"IF('CoC Renewal Ranking Report'!$D95<>\"\",'CoC Renewal Ranking Report'!$BI95,\"\")","v":""},{"$f":"IF('CoC Renewal Ranking Report'!$D95<>\"\",'CoC Renewal Ranking Report'!$BL95,\"\")","v":""},"",""]
[{"$f":"IF('CoC Renewal Ranking Report'!$D96<>\"\",'CoC Renewal Ranking Report'!$D96,\"\")","v":""},{"$f":"IF('CoC Renewal Ranking Report'!E96<>\"\",'CoC Renewal Ranking Report'!E96,\"\")","v":""},{"$f":"IF('CoC Renewal Ranking Report'!G96<>\"\",'CoC Renewal Ranking Report'!G96,\"\")","v":""},{"$f":"IF('CoC Renewal Ranking Report'!$D96<>\"\",'CoC Renewal Ranking Report'!$BI96,\"\")","v":""},{"$f":"IF('CoC Renewal Ranking Report'!$D96<>\"\",'CoC Renewal Ranking Report'!$BL96,\"\")","v":""},"",""]
[{"$f":"IF('CoC Renewal Ranking Report'!$D97<>\"\",'CoC Renewal Ranking Report'!$D97,\"\")","v":""},{"$f":"IF('CoC Renewal Ranking Report'!E97<>\"\",'CoC Renewal Ranking Report'!E97,\"\")","v":""},{"$f":"IF('CoC Renewal Ranking Report'!G97<>\"\",'CoC Renewal Ranking Report'!G97,\"\")","v":""},{"$f":"IF('CoC Renewal Ranking Report'!$D97<>\"\",'CoC Renewal Ranking Report'!$BI97,\"\")","v":""},{"$f":"IF('CoC Renewal Ranking Report'!$D97<>\"\",'CoC Renewal Ranking Report'!$BL97,\"\")","v":""},"",""]
[{"$f":"IF('CoC Renewal Ranking Report'!$D98<>\"\",'CoC Renewal Ranking Report'!$D98,\"\")","v":""},{"$f":"IF('CoC Renewal Ranking Report'!E98<>\"\",'CoC Renewal Ranking Report'!E98,\"\")","v":""},{"$f":"IF('CoC Renewal Ranking Report'!G98<>\"\",'CoC Renewal Ranking Report'!G98,\"\")","v":""},{"$f":"IF('CoC Renewal Ranking Report'!$D98<>\"\",'CoC Renewal Ranking Report'!$BI98,\"\")","v":""},{"$f":"IF('CoC Renewal Ranking Report'!$D98<>\"\",'CoC Renewal Ranking Report'!$BL98,\"\")","v":""},"",""]
[{"$f":"IF('CoC Renewal Ranking Report'!$D99<>\"\",'CoC Renewal Ranking Report'!$D99,\"\")","v":""},{"$f":"IF('CoC Renewal Ranking Report'!E99<>\"\",'CoC Renewal Ranking Report'!E99,\"\")","v":""},{"$f":"IF('CoC Renewal Ranking Report'!G99<>\"\",'CoC Renewal Ranking Report'!G99,\"\")","v":""},{"$f":"IF('CoC Renewal Ranking Report'!$D99<>\"\",'CoC Renewal Ranking Report'!$BI99,\"\")","v":""},{"$f":"IF('CoC Renewal Ranking Report'!$D99<>\"\",'CoC Renewal Ranking Report'!$BL99,\"\")","v":""},"",""]
[{"$f":"IF('CoC Renewal Ranking Report'!$D100<>\"\",'CoC Renewal Ranking Report'!$D100,\"\")","v":""},{"$f":"IF('CoC Renewal Ranking Report'!E100<>\"\",'CoC Renewal Ranking Report'!E100,\"\")","v":""},{"$f":"IF('CoC Renewal Ranking Report'!G100<>\"\",'CoC Renewal Ranking Report'!G100,\"\")","v":""},{"$f":"IF('CoC Renewal Ranking Report'!$D100<>\"\",'CoC Renewal Ranking Report'!$BI100,\"\")","v":""},{"$f":"IF('CoC Renewal Ranking Report'!$D100<>\"\",'CoC Renewal Ranking Report'!$BL100,\"\")","v":""},"",""]
[{"$f":"IF('CoC Renewal Ranking Report'!$D101<>\"\",'CoC Renewal Ranking Report'!$D101,\"\")","v":""},{"$f":"IF('CoC Renewal Ranking Report'!E101<>\"\",'CoC Renewal Ranking Report'!E101,\"\")","v":""},{"$f":"IF('CoC Renewal Ranking Report'!G101<>\"\",'CoC Renewal Ranking Report'!G101,\"\")","v":""},{"$f":"IF('CoC Renewal Ranking Report'!$D101<>\"\",'CoC Renewal Ranking Report'!$BI101,\"\")","v":""},{"$f":"IF('CoC Renewal Ranking Report'!$D101<>\"\",'CoC Renewal Ranking Report'!$BL101,\"\")","v":""},"",""]
[{"$f":"IF('CoC Renewal Ranking Report'!$D102<>\"\",'CoC Renewal Ranking Report'!$D102,\"\")","v":""},{"$f":"IF('CoC Renewal Ranking Report'!E102<>\"\",'CoC Renewal Ranking Report'!E102,\"\")","v":""},{"$f":"IF('CoC Renewal Ranking Report'!G102<>\"\",'CoC Renewal Ranking Report'!G102,\"\")","v":""},{"$f":"IF('CoC Renewal Ranking Report'!$D102<>\"\",'CoC Renewal Ranking Report'!$BI102,\"\")","v":""},{"$f":"IF('CoC Renewal Ranking Report'!$D102<>\"\",'CoC Renewal Ranking Report'!$BL102,\"\")","v":""},"",""]
[{"$f":"IF('CoC Renewal Ranking Report'!$D103<>\"\",'CoC Renewal Ranking Report'!$D103,\"\")","v":""},{"$f":"IF('CoC Renewal Ranking Report'!E103<>\"\",'CoC Renewal Ranking Report'!E103,\"\")","v":""},{"$f":"IF('CoC Renewal Ranking Report'!G103<>\"\",'CoC Renewal Ranking Report'!G103,\"\")","v":""},{"$f":"IF('CoC Renewal Ranking Report'!$D103<>\"\",'CoC Renewal Ranking Report'!$BI103,\"\")","v":""},{"$f":"IF('CoC Renewal Ranking Report'!$D103<>\"\",'CoC Renewal Ranking Report'!$BL103,\"\")","v":""},"",""]

{"sheet":"eLOCCS Drawdowns","index":11,"n_rows":102,"n_cols":5,"rows_kept":102,"cut":false,"hidden":false,"merged":[]}
[null,"eLOCCS Drawdown Rate"]
[null,"Criteria"]
[null,"minimum 1 drawdown per quarter = 3 points"]
[]
["Agency Name","Project Name","Project Type","Met Benchmark","Score"]
[{"$f":"IF('CoC Renewal Ranking Report'!D9<>\"\",'CoC Renewal Ranking Report'!D9,\"\")","v":""},{"$f":"IF('CoC Renewal Ranking Report'!E9<>\"\",'CoC Renewal Ranking Report'!E9,\"\")","v":""},{"$f":"IF('CoC Renewal Ranking Report'!G9<>\"\",'CoC Renewal Ranking Report'!G9,\"\")","v":""},{"$f":"IF('CoC Renewal Ranking Report'!G9<>\"\",'CoC Renewal Ranking Report'!BM9,\"\")","v":""},{"$f":"IF(A6<>\"\", IF(D6=\"Yes\", 3, 0), \"\")","v":""}]
[{"$f":"IF('CoC Renewal Ranking Report'!D10<>\"\",'CoC Renewal Ranking Report'!D10,\"\")","v":"Blair County Community Action Program"},{"$f":"IF('CoC Renewal Ranking Report'!E10<>\"\",'CoC Renewal Ranking Report'!E10,\"\")","v":"Rapid Re-Housing"},{"$f":"IF('CoC Renewal Ranking Report'!G10<>\"\",'CoC Renewal Ranking Report'!G10,\"\")","v":"PH-RRH"},{"$f":"IF('CoC Renewal Ranking Report'!G10<>\"\",'CoC Renewal Ranking Report'!BM10,\"\")","v":"No"},0]
[{"$f":"IF('CoC Renewal Ranking Report'!D11<>\"\",'CoC Renewal Ranking Report'!D11,\"\")","v":"Cambria County"},{"$f":"IF('CoC Renewal Ranking Report'!E11<>\"\",'CoC Renewal Ranking Report'!E11,\"\")","v":"Cambria County Comprehensive Housing Program"},{"$f":"IF('CoC Renewal Ranking Report'!G11<>\"\",'CoC Renewal Ranking Report'!G11,\"\")","v":"PH"},{"$f":"IF('CoC Renewal Ranking Report'!G11<>\"\",'CoC Renewal Ranking Report'!BM11,\"\")","v":"No"},0]
[{"$f":"IF('CoC Renewal Ranking Report'!D12<>\"\",'CoC Renewal Ranking Report'!D12,\"\")","v":"Catholic Charities of the Diocese of Allentown"},{"$f":"IF('CoC Renewal Ranking Report'!E12<>\"\",'CoC Renewal Ranking Report'!E12,\"\")","v":"Catholic Charities Allentown Permanent Housing Program"},{"$f":"IF('CoC Renewal Ranking Report'!G12<>\"\",'CoC Renewal Ranking Report'!G12,\"\")","v":"PH"},{"$f":"IF('CoC Renewal Ranking Report'!G12<>\"\",'CoC Renewal Ranking Report'!BM12,\"\")","v":"Yes"},3]
[{"$f":"IF('CoC Renewal Ranking Report'!D13<>\"\",'CoC Renewal Ranking Report'!D13,\"\")","v":"Catholic Social Services of the Diocese of Scranton, Inc."},{"$f":"IF('CoC Renewal Ranking Report'!E13<>\"\",'CoC Renewal Ranking Report'!E13,\"\")","v":"PSHP Pike County"},{"$f":"IF('CoC Renewal Ranking Report'!G13<>\"\",'CoC Renewal Ranking Report'!G13,\"\")","v":"PH"},{"$f":"IF('CoC Renewal Ranking Report'!G13<>\"\",'CoC Renewal Ranking Report'!BM13,\"\")","v":"No"},0]
[{"$f":"IF('CoC Renewal Ranking Report'!D14<>\"\",'CoC Renewal Ranking Report'!D14,\"\")","v":"Catholic Social Services of the Diocese of Scranton, Inc."},{"$f":"IF('CoC Renewal Ranking Report'!E14<>\"\",'CoC Renewal Ranking Report'!E14,\"\")","v":"Rural Permanent Supportive Housing Program"},{"$f":"IF('CoC Renewal Ranking Report'!G14<>\"\",'CoC Renewal Ranking Report'!G14,\"\")","v":"PH"},{"$f":"IF('CoC Renewal Ranking Report'!G14<>\"\",'CoC Renewal Ranking Report'!BM14,\"\")","v":"Yes"},3]
[{"$f":"IF('CoC Renewal Ranking Report'!D15<>\"\",'CoC Renewal Ranking Report'!D15,\"\")","v":"Catholic Social Services of the Diocese of Scranton, Inc."},{"$f":"IF('CoC Renewal Ranking Report'!E15<>\"\",'CoC Renewal Ranking Report'!E15,\"\")","v":"Susquehanna/Wayne PSHP"},{"$f":"IF('CoC Renewal Ranking Report'!G15<>\"\",'CoC Renewal Ranking Report'!G15,\"\")","v":"PH"},{"$f":"IF('CoC Renewal Ranking Report'!G15<>\"\",'CoC Renewal Ranking Report'!BM15,\"\")","v":"No"},0]
[{"$f":"IF('CoC Renewal Ranking Report'!D16<>\"\",'CoC Renewal Ranking Report'!D16,\"\")","v":"Center for Community Action"},{"$f":"IF('CoC Renewal Ranking Report'!E16<>\"\",'CoC Renewal Ranking Report'!E16,\"\")","v":"Bedford,Fulton, Huntingdon RRH"},{"$f":"IF('CoC Renewal Ranking Report'!G16<>\"\",'CoC Renewal Ranking Report'!G16,\"\")","v":"PH-RRH"},{"$f":"IF('CoC Renewal Ranking Report'!G16<>\"\",'CoC Renewal Ranking Report'!BM16,\"\")","v":"Yes"},3]
[{"$f":"IF('CoC Renewal Ranking Report'!D17<>\"\",'CoC Renewal Ranking Report'!D17,\"\")","v":"County of Franklin"},{"$f":"IF('CoC Renewal Ranking Report'!E17<>\"\",'CoC Renewal Ranking Report'!E17,\"\")","v":"Franklin/ Fulton S+C Project 2017"},{"$f":"IF('CoC Renewal Ranking Report'!G17<>\"\",'CoC Renewal Ranking Report'!G17,\"\")","v":"PH"},{"$f":"IF('CoC Renewal Ranking Report'!G17<>\"\",'CoC Renewal Ranking Report'!BM17,\"\")","v":"No"},0]
[{"$f":"IF('CoC Renewal Ranking Report'!D18<>\"\",'CoC Renewal Ranking Report'!D18,\"\")","v":"County of Franklin"},{"$f":"IF('CoC Renewal Ranking Report'!E18<>\"\",'CoC Renewal Ranking Report'!E18,\"\")","v":"Franklin/Fulton Homeless Assistance Project 2017"},{"$f":"IF('CoC Renewal Ranking Report'!G18<>\"\",'CoC Renewal Ranking Report'!G18,\"\")","v":"PH"},{"$f":"IF('CoC Renewal Ranking Report'!G18<>\"\",'CoC Renewal Ranking Report'!BM18,\"\")","v":"Yes"},3]
[{"$f":"IF('CoC Renewal Ranking Report'!D19<>\"\",'CoC Renewal Ranking Report'!D19,\"\")","v":"County of Lycoming DBA Lycoming- Clinton Joinder Board"},{"$f":"IF('CoC Renewal Ranking Report'!E19<>\"\",'CoC Renewal Ranking Report'!E19,\"\")","v":"Lycoming/Clinton Renewal #5"},{"$f":"IF('CoC Renewal Ranking Report'!G19<>\"\",'CoC Renewal Ranking Report'!G19,\"\")","v":"PH"},{"$f":"IF('CoC Renewal Ranking Report'!G19<>\"\",'CoC Renewal Ranking Report'!BM19,\"\")","v":"No"},0]
[{"$f":"IF('CoC Renewal Ranking Report'!D20<>\"\",'CoC Renewal Ranking Report'!D20,\"\")","v":"Fitzmaurice Community Services, Inc"},{"$f":"IF('CoC Renewal Ranking Report'!E20<>\"\",'CoC Renewal Ranking Report'!E20,\"\")","v":"Pathfinders"},{"$f":"IF('CoC Renewal Ranking Report'!G20<>\"\",'CoC Renewal Ranking Report'!G20,\"\")","v":"PH"},{"$f":"IF('CoC Renewal Ranking Report'!G20<>\"\",'CoC Renewal Ranking Report'!BM20,\"\")","v":"Yes"},3]
[{"$f":"IF('CoC Renewal Ranking Report'!D21<>\"\",'CoC Renewal Ranking Report'!D21,\"\")","v":"Home Nursing AgencyCommunity Services"},{"$f":"IF('CoC Renewal Ranking Report'!E21<>\"\",'CoC Renewal Ranking Report'!E21,\"\")","v":"Housing Assistance and Rental Program"},{"$f":"IF('CoC Renewal Ranking Report'!G21<>\"\",'CoC Renewal Ranking Report'!G21,\"\")","v":"PH"},{"$f":"IF('CoC Renewal Ranking Report'!G21<>\"\",'CoC Renewal Ranking Report'!BM21,\"\")","v":"Yes"},3]
[{"$f":"IF('CoC Renewal Ranking Report'!D22<>\"\",'CoC Renewal Ranking Report'!D22,\"\")","v":"Housing Authority of Monroe County"},{"$f":"IF('CoC Renewal Ranking Report'!E22<>\"\",'CoC Renewal Ranking Report'!E22,\"\")","v":"Renewal Application Shelter Plus Care MC 2016"},{"$f":"IF('CoC Renewal Ranking Report'!G22<>\"\",'CoC Renewal Ranking Report'!G22,\"\")","v":"PH"},{"$f":"IF('CoC Renewal Ranking Report'!G22<>\"\",'CoC Renewal Ranking Report'!BM22,\"\")","v":"Yes"},3]
[{"$f":"IF('CoC Renewal Ranking Report'!D23<>\"\",'CoC Renewal Ranking Report'!D23,\"\")","v":"Housing Authority of the County of Cumberland"},{"$f":"IF('CoC Renewal Ranking Report'!E23<>\"\",'CoC Renewal Ranking Report'!E23,\"\")","v":"Carlisle Supportive Housing Program"},{"$f":"IF('CoC Renewal Ranking Report'!G23<>\"\",'CoC Renewal Ranking Report'!G23,\"\")","v":"PH"},{"$f":"IF('CoC Renewal Ranking Report'!G23<>\"\",'CoC Renewal Ranking Report'!BM23,\"\")","v":"Yes"},3]
[{"$f":"IF('CoC Renewal Ranking Report'!D24<>\"\",'CoC Renewal Ranking Report'!D24,\"\")","v":"Housing Authority of the County of Cumberland"},{"$f":"IF('CoC Renewal Ranking Report'!E24<>\"\",'CoC Renewal Ranking Report'!E24,\"\")","v":"Perry County Permanent SHP"},{"$f":"IF('CoC Renewal Ranking Report'!G24<>\"\",'CoC Renewal Ranking Report'!G24,\"\")","v":"PH"},{"$f":"IF('CoC Renewal Ranking Report'!G24<>\"\",'CoC Renewal Ranking Report'!BM24,\"\")","v":"No"},0]
[{"$f":"IF('CoC Renewal Ranking Report'!D25<>\"\",'CoC Renewal Ranking Report'!D25,\"\")","v":"Housing Authority of the County of Cumberland"},{"$f":"IF('CoC Renewal Ranking Report'!E25<>\"\",'CoC Renewal Ranking Report'!E25,\"\")","v":"Perry County Transitional II"},{"$f":"IF('CoC Renewal Ranking Report'!G25<>\"\",'CoC Renewal Ranking Report'!G25,\"\")","v":"PH-RRH"},{"$f":"IF('CoC Renewal Ranking Report'!G25<>\"\",'CoC Renewal Ranking Report'!BM25,\"\")","v":"Yes"},3]
[{"$f":"IF('CoC Renewal Ranking Report'!D26<>\"\",'CoC Renewal Ranking Report'!D26,\"\")","v":"Housing Authority of the County of Cumberland"},{"$f":"IF('CoC Renewal Ranking Report'!E26<>\"\",'CoC Renewal Ranking Report'!E26,\"\")","v":"Perry County Veterans Program"},{"$f":"IF('CoC Renewal Ranking Report'!G26<>\"\",'CoC Renewal Ranking Report'!G26,\"\")","v":"PH"},{"$f":"IF('CoC Renewal Ranking Report'!G26<>\"\",'CoC Renewal Ranking Report'!BM26,\"\")","v":"No"},0]
[{"$f":"IF('CoC Renewal Ranking Report'!D27<>\"\",'CoC Renewal Ranking Report'!D27,\"\")","v":"Housing Authority of the County of Cumberland"},{"$f":"IF('CoC Renewal Ranking Report'!E27<>\"\",'CoC Renewal Ranking Report'!E27,\"\")","v":"Rapid Rehousing II"},{"$f":"IF('CoC Renewal Ranking Report'!G27<>\"\",'CoC Renewal Ranking Report'!G27,\"\")","v":"PH-RRH"},{"$f":"IF('CoC Renewal Ranking Report'!G27<>\"\",'CoC Renewal Ranking Report'!BM27,\"\")","v":"Yes"},3]
[{"$f":"IF('CoC Renewal Ranking Report'!D28<>\"\",'CoC Renewal Ranking Report'!D28,\"\")","v":"Housing Authority of the County of Cumberland"},{"$f":"IF('CoC Renewal Ranking Report'!E28<>\"\",'CoC Renewal Ranking Report'!E28,\"\")","v":"Safe Harbour SHP"},{"$f":"IF('CoC Renewal Ranking Report'!G28<>\"\",'CoC Renewal Ranking Report'!G28,\"\")","v":"PH"},{"$f":"IF('CoC Renewal Ranking Report'!G28<>\"\",'CoC Renewal Ranking Report'!BM28,\"\")","v":"Yes"},3]
[{"$f":"IF('CoC Renewal Ranking Report'!D29<>\"\",'CoC Renewal Ranking Report'!D29,\"\")","v":"Housing Authority of the County of Cumberland"},{"$f":"IF('CoC Renewal Ranking Report'!E29<>\"\",'CoC Renewal Ranking Report'!E29,\"\")","v":"Shelter + Care Chronic"},{"$f":"IF('CoC Renewal Ranking Report'!G29<>\"\",'CoC Renewal Ranking Report'!G29,\"\")","v":"PH"},{"$f":"IF('CoC Renewal Ranking Report'!G29<>\"\",'CoC Renewal Ranking Report'!BM29,\"\")","v":"Yes"},3]
[{"$f":"IF('CoC Renewal Ranking Report'!D30<>\"\",'CoC Renewal Ranking Report'!D30,\"\")","v":"Housing Authority of the County of Cumberland"},{"$f":"IF('CoC Renewal Ranking Report'!E30<>\"\",'CoC Renewal Ranking Report'!E30,\"\")","v":"Shelter + Care Non-Chronic"},{"$f":"IF('CoC Renewal Ranking Report'!G30<>\"\",'CoC Renewal Ranking Report'!G30,\"\")","v":"PH"},{"$f":"IF('CoC Renewal Ranking Report'!G30<>\"\",'CoC Renewal Ranking Report'!BM30,\"\")","v":"Yes"},3]
[{"$f":"IF('CoC Renewal Ranking Report'!D31<>\"\",'CoC Renewal Ranking Report'!D31,\"\")","v":"Housing Authority of the County of Cumberland"},{"$f":"IF('CoC Renewal Ranking Report'!E31<>\"\",'CoC Renewal Ranking Report'!E31,\"\")","v":"West Shore SHP I"},{"$f":"IF('CoC Renewal Ranking Report'!G31<>\"\",'CoC Renewal Ranking Report'!G31,\"\")","v":"PH"},{"$f":"IF('CoC Renewal Ranking Report'!G31<>\"\",'CoC Renewal Ranking Report'!BM31,\"\")","v":"Yes"},3]
[{"$f":"IF('CoC Renewal Ranking Report'!D32<>\"\",'CoC Renewal Ranking Report'!D32,\"\")","v":"Housing Authority of the County of Cumberland"},{"$f":"IF('CoC Renewal Ranking Report'!E32<>\"\",'CoC Renewal Ranking Report'!E32,\"\")","v":"West Shore SHP II"},{"$f":"IF('CoC Renewal Ranking Report'!G32<>\"\",'CoC Renewal Ranking Report'!G32,\"\")","v":"PH"},{"$f":"IF('CoC Renewal Ranking Report'!G32<>\"\",'CoC Renewal Ranking Report'!BM32,\"\")","v":"Yes"},3]
[{"$f":"IF('CoC Renewal Ranking Report'!D33<>\"\",'CoC Renewal Ranking Report'!D33,\"\")","v":"Housing Development Corporation of NEPA"},{"$f":"IF('CoC Renewal Ranking Report'!E33<>\"\",'CoC Renewal Ranking Report'!E33,\"\")","v":"HDC SHP 3 2016"},{"$f":"IF('CoC Renewal Ranking Report'!G33<>\"\",'CoC Renewal Ranking Report'!G33,\"\")","v":"PH"},{"$f":"IF('CoC Renewal Ranking Report'!G33<>\"\",'CoC Renewal Ranking Report'!BM33,\"\")","v":"No"},0]
[{"$f":"IF('CoC Renewal Ranking Report'!D34<>\"\",'CoC Renewal Ranking Report'!D34,\"\")","v":"Housing Development Corporation of NEPA"},{"$f":"IF('CoC Renewal Ranking Report'!E34<>\"\",'CoC Renewal Ranking Report'!E34,\"\")","v":"HDC SHP 6 2016"},{"$f":"IF('CoC Renewal Ranking Report'!G34<>\"\",'CoC Renewal Ranking Report'!G34,\"\")","v":"PH"},{"$f":"IF('CoC Renewal Ranking Report'!G34<>\"\",'CoC Renewal Ranking Report'!BM34,\"\")","v":"Yes"},3]
[{"$f":"IF('CoC Renewal Ranking Report'!D35<>\"\",'CoC Renewal Ranking Report'!D35,\"\")","v":"Housing Transitions, Inc."},{"$f":"IF('CoC Renewal Ranking Report'!E35<>\"\",'CoC Renewal Ranking Report'!E35,\"\")","v":"Nittany House Apartments"},{"$f":"IF('CoC Renewal Ranking Report'!G35<>\"\",'CoC Renewal Ranking Report'!G35,\"\")","v":"PH"},{"$f":"IF('CoC Renewal Ranking Report'!G35<>\"\",'CoC Renewal Ranking Report'!BM35,\"\")","v":"Yes"},3]
[{"$f":"IF('CoC Renewal Ranking Report'!D36<>\"\",'CoC Renewal Ranking Report'!D36,\"\")","v":"Lehigh County Conference of Churches"},{"$f":"IF('CoC Renewal Ranking Report'!E36<>\"\",'CoC Renewal Ranking Report'!E36,\"\")","v":"Outreach and Case Management for the Disabled, Chronically Homeless"},{"$f":"IF('CoC Renewal Ranking Report'!G36<>\"\",'CoC Renewal Ranking Report'!G36,\"\")","v":"SSO"},{"$f":"IF('CoC Renewal Ranking Report'!G36<>\"\",'CoC Renewal Ranking Report'!BM36,\"\")","v":"Yes"},3]
[{"$f":"IF('CoC Renewal Ranking Report'!D37<>\"\",'CoC Renewal Ranking Report'!D37,\"\")","v":"Lehigh County Conference of Churches"},{"$f":"IF('CoC Renewal Ranking Report'!E37<>\"\",'CoC Renewal Ranking Report'!E37,\"\")","v":"Pathways Housing"},{"$f":"IF('CoC Renewal Ranking Report'!G37<>\"\",'CoC Renewal Ranking Report'!G37,\"\")","v":"PH"},{"$f":"IF('CoC Renewal Ranking Report'!G37<>\"\",'CoC Renewal Ranking Report'!BM37,\"\")","v":"Yes"},3]
[{"$f":"IF('CoC Renewal Ranking Report'!D38<>\"\",'CoC Renewal Ranking Report'!D38,\"\")","v":"Lehigh County Conference of Churches"},{"$f":"IF('CoC Renewal Ranking Report'!E38<>\"\",'CoC Renewal Ranking Report'!E38,\"\")","v":"Pathways Housing 2"},{"$f":"IF('CoC Renewal Ranking Report'!G38<>\"\",'CoC Renewal Ranking Report'!G38,\"\")","v":"PH"},{"$f":"IF('CoC Renewal Ranking Report'!G38<>\"\",'CoC Renewal Ranking Report'!BM38,\"\")","v":"Yes"},3]
[{"$f":"IF('CoC Renewal Ranking Report'!D39<>\"\",'CoC Renewal Ranking Report'!D39,\"\")","v":"Lehigh County Conference of Churches"},{"$f":"IF('CoC Renewal Ranking Report'!E39<>\"\",'CoC Renewal Ranking Report'!E39,\"\")","v":"Pathways TBRA for Families, Youth and Veterans"},{"$f":"IF('CoC Renewal Ranking Report'!G39<>\"\",'CoC Renewal Ranking Report'!G39,\"\")","v":"PH"},{"$f":"IF('CoC Renewal Ranking Report'!G39<>\"\",'CoC Renewal Ranking Report'!BM39,\"\")","v":"Yes"},3]
[{"$f":"IF('CoC Renewal Ranking Report'!D40<>\"\",'CoC Renewal Ranking Report'!D40,\"\")","v":"Lehigh County Conference of Churches"},{"$f":"IF('CoC Renewal Ranking Report'!E40<>\"\",'CoC Renewal Ranking Report'!E40,\"\")","v":"Tenant-Based Rental Assistance for the Disabled,Chronically Homeless"},{"$f":"IF('CoC Renewal Ranking Report'!G40<>\"\",'CoC Renewal Ranking Report'!G40,\"\")","v":"PH"},{"$f":"IF('CoC Renewal Ranking Report'!G40<>\"\",'CoC Renewal Ranking Report'!BM40,\"\")","v":"Yes"},3]
[{"$f":"IF('CoC Renewal Ranking Report'!D41<>\"\",'CoC Renewal Ranking Report'!D41,\"\")","v":"Lehigh County Housing Authority"},{"$f":"IF('CoC Renewal Ranking Report'!E41<>\"\",'CoC Renewal Ranking Report'!E41,\"\")","v":"LCHA S+C 2016"},{"$f":"IF('CoC Renewal Ranking Report'!G41<>\"\",'CoC Renewal Ranking Report'!G41,\"\")","v":"PH"},{"$f":"IF('CoC Renewal Ranking Report'!G41<>\"\",'CoC Renewal Ranking Report'!BM41,\"\")","v":"No"},0]
[{"$f":"IF('CoC Renewal Ranking Report'!D42<>\"\",'CoC Renewal Ranking Report'!D42,\"\")","v":"Maranatha"},{"$f":"IF('CoC Renewal Ranking Report'!E42<>\"\",'CoC Renewal Ranking Report'!E42,\"\")","v":"TOTAL PERSON TRANSITIONAL PROGRAM 1 & 2"},{"$f":"IF('CoC Renewal Ranking Report'!G42<>\"\",'CoC Renewal Ranking Report'!G42,\"\")","v":"PH-RRH"},{"$f":"IF('CoC Renewal Ranking Report'!G42<>\"\",'CoC Renewal Ranking Report'!BM42,\"\")","v":"Yes"},3]
[{"$f":"IF('CoC Renewal Ranking Report'!D43<>\"\",'CoC Renewal Ranking Report'!D43,\"\")","v":"Mifflin County"},{"$f":"IF('CoC Renewal Ranking Report'!E43<>\"\",'CoC Renewal Ranking Report'!E43,\"\")","v":"Mifflin County Permanent Housing Renewal"},{"$f":"IF('CoC Renewal Ranking Report'!G43<>\"\",'CoC Renewal Ranking Report'!G43,\"\")","v":"PH"},{"$f":"IF('CoC Renewal Ranking Report'!G43<>\"\",'CoC Renewal Ranking Report'!BM43,\"\")","v":"No"},0]
[{"$f":"IF('CoC Renewal Ranking Report'!D44<>\"\",'CoC Renewal Ranking Report'!D44,\"\")","v":"Northampton County Housing Authority"},{"$f":"IF('CoC Renewal Ranking Report'!E44<>\"\",'CoC Renewal Ranking Report'!E44,\"\")","v":"NCHA S+C 2016"},{"$f":"IF('CoC Renewal Ranking Report'!G44<>\"\",'CoC Renewal Ranking Report'!G44,\"\")","v":"PH"},{"$f":"IF('CoC Renewal Ranking Report'!G44<>\"\",'CoC Renewal Ranking Report'!BM44,\"\")","v":"Yes"},3]
[{"$f":"IF('CoC Renewal Ranking Report'!D45<>\"\",'CoC Renewal Ranking Report'!D45,\"\")","v":"Northern Cambria Community Development Corporation"},{"$f":"IF('CoC Renewal Ranking Report'!E45<>\"\",'CoC Renewal Ranking Report'!E45,\"\")","v":"Independence Gardens"},{"$f":"IF('CoC Renewal Ranking Report'!G45<>\"\",'CoC Renewal Ranking Report'!G45,\"\")","v":"PH"},{"$f":"IF('CoC Renewal Ranking Report'!G45<>\"\",'CoC Renewal Ranking Report'!BM45,\"\")","v":"No"},0]
[{"$f":"IF('CoC Renewal Ranking Report'!D46<>\"\",'CoC Renewal Ranking Report'!D46,\"\")","v":"Northern Cambria Community Development Corporation"},{"$f":"IF('CoC Renewal Ranking Report'!E46<>\"\",'CoC Renewal Ranking Report'!E46,\"\")","v":"Schoolhouse Gardens"},{"$f":"IF('CoC Renewal Ranking Report'!G46<>\"\",'CoC Renewal Ranking Report'!G46,\"\")","v":"PH"},{"$f":"IF('CoC Renewal Ranking Report'!G46<>\"\",'CoC Renewal Ranking Report'!BM46,\"\")","v":"Yes"},3]
[{"$f":"IF('CoC Renewal Ranking Report'!D47<>\"\",'CoC Renewal Ranking Report'!D47,\"\")","v":"Northumberland County MH/MR"},{"$f":"IF('CoC Renewal Ranking Report'!E47<>\"\",'CoC Renewal Ranking Report'!E47,\"\")","v":"Sharing Support"},{"$f":"IF('CoC Renewal Ranking Report'!G47<>\"\",'CoC Renewal Ranking Report'!G47,\"\")","v":"PH"},{"$f":"IF('CoC Renewal Ranking Report'!G47<>\"\",'CoC Renewal Ranking Report'!BM47,\"\")","v":"No"},0]
[{"$f":"IF('CoC Renewal Ranking Report'!D48<>\"\",'CoC Renewal Ranking Report'!D48,\"\")","v":"Resources for Human Development, Inc."},{"$f":"IF('CoC Renewal Ranking Report'!E48<>\"\",'CoC Renewal Ranking Report'!E48,\"\")","v":"Crossroads Family"},{"$f":"IF('CoC Renewal Ranking Report'!G48<>\"\",'CoC Renewal Ranking Report'!G48,\"\")","v":"PH"},{"$f":"IF('CoC Renewal Ranking Report'!G48<>\"\",'CoC Renewal Ranking Report'!BM48,\"\")","v":"No"},0]
[{"$f":"IF('CoC Renewal Ranking Report'!D49<>\"\",'CoC Renewal Ranking Report'!D49,\"\")","v":"Resources for Human Development, Inc."},{"$f":"IF('CoC Renewal Ranking Report'!E49<>\"\",'CoC Renewal Ranking Report'!E49,\"\")","v":"Crossroads Housing Bonus"},{"$f":"IF('CoC Renewal Ranking Report'!G49<>\"\",'CoC Renewal Ranking Report'!G49,\"\")","v":"PH"},{"$f":"IF('CoC Renewal Ranking Report'!G49<>\"\",'CoC Renewal Ranking Report'!BM49,\"\")","v":"No"},0]
[{"$f":"IF('CoC Renewal Ranking Report'!D50<>\"\",'CoC Renewal Ranking Report'!D50,\"\")","v":"Resources for Human Development, Inc."},{"$f":"IF('CoC Renewal Ranking Report'!E50<>\"\",'CoC Renewal Ranking Report'!E50,\"\")","v":"Crossroads Individual"},{"$f":"IF('CoC Renewal Ranking Report'!G50<>\"\",'CoC Renewal Ranking Report'!G50,\"\")","v":"PH"},{"$f":"IF('CoC Renewal Ranking Report'!G50<>\"\",'CoC Renewal Ranking Report'!BM50,\"\")","v":"Yes"},3]
[{"$f":"IF('CoC Renewal Ranking Report'!D51<>\"\",'CoC Renewal Ranking Report'!D51,\"\")","v":"Resources for Human Development, Inc."},{"$f":"IF('CoC Renewal Ranking Report'!E51<>\"\",'CoC Renewal Ranking Report'!E51,\"\")","v":"Crossroads Schuylkill Co. Permanent Supportive Housing"},{"$f":"IF('CoC Renewal Ranking Report'!G51<>\"\",'CoC Renewal Ranking Report'!G51,\"\")","v":"PH"},{"$f":"IF('CoC Renewal Ranking Report'!G51<>\"\",'CoC Renewal Ranking Report'!BM51,\"\")","v":"Yes"},3]
[{"$f":"IF('CoC Renewal Ranking Report'!D52<>\"\",'CoC Renewal Ranking Report'!D52,\"\")","v":"Resources for Human Development, Inc."},{"$f":"IF('CoC Renewal Ranking Report'!E52<>\"\",'CoC Renewal Ranking Report'!E52,\"\")","v":"LV ACT Housing Supports"},{"$f":"IF('CoC Renewal Ranking Report'!G52<>\"\",'CoC Renewal Ranking Report'!G52,\"\")","v":"PH"},{"$f":"IF('CoC Renewal Ranking Report'!G52<>\"\",'CoC Renewal Ranking Report'!BM52,\"\")","v":"Yes"},3]
[{"$f":"IF('CoC Renewal Ranking Report'!D53<>\"\",'CoC Renewal Ranking Report'!D53,\"\")","v":"Tableland Services, Inc."},{"$f":"IF('CoC Renewal Ranking Report'!E53<>\"\",'CoC Renewal Ranking Report'!E53,\"\")","v":"Permanent Housing with Disabilities (SHP)"},{"$f":"IF('CoC Renewal Ranking Report'!G53<>\"\",'CoC Renewal Ranking Report'!G53,\"\")","v":"PH"},{"$f":"IF('CoC Renewal Ranking Report'!G53<>\"\",'CoC Renewal Ranking Report'!BM53,\"\")","v":"Yes"},3]
[{"$f":"IF('CoC Renewal Ranking Report'!D54<>\"\",'CoC Renewal Ranking Report'!D54,\"\")","v":"Tableland Services, Inc."},{"$f":"IF('CoC Renewal Ranking Report'!E54<>\"\",'CoC Renewal Ranking Report'!E54,\"\")","v":"Permanent Supportive Housing CH Project"},{"$f":"IF('CoC Renewal Ranking Report'!G54<>\"\",'CoC Renewal Ranking Report'!G54,\"\")","v":"PH"},{"$f":"IF('CoC Renewal Ranking Report'!G54<>\"\",'CoC Renewal Ranking Report'!BM54,\"\")","v":"Yes"},3]
[{"$f":"IF('CoC Renewal Ranking Report'!D55<>\"\",'CoC Renewal Ranking Report'!D55,\"\")","v":"The Salvation Army, a New York Corporation"},{"$f":"IF('CoC Renewal Ranking Report'!E55<>\"\",'CoC Renewal Ranking Report'!E55,\"\")","v":"Allentown Hospitality House Permanent Housing Program"},{"$f":"IF('CoC Renewal Ranking Report'!G55<>\"\",'CoC Renewal Ranking Report'!G55,\"\")","v":"PH"},{"$f":"IF('CoC Renewal Ranking Report'!G55<>\"\",'CoC Renewal Ranking Report'!BM55,\"\")","v":"No"},0]
[{"$f":"IF('CoC Renewal Ranking Report'!D56<>\"\",'CoC Renewal Ranking Report'!D56,\"\")","v":"The Salvation Army, a New York Corporation"},{"$f":"IF('CoC Renewal Ranking Report'!E56<>\"\",'CoC Renewal Ranking Report'!E56,\"\")","v":"Salvation Army Carlisle PH Project"},{"$f":"IF('CoC Renewal Ranking Report'!G56<>\"\",'CoC Renewal Ranking Report'!G56,\"\")","v":"PH"},{"$f":"IF('CoC Renewal Ranking Report'!G56<>\"\",'CoC Renewal Ranking Report'!BM56,\"\")","v":"Yes"},3]
[{"$f":"IF('CoC Renewal Ranking Report'!D57<>\"\",'CoC Renewal Ranking Report'!D57,\"\")","v":"Union-Snyder Community Action Agency"},{"$f":"IF('CoC Renewal Ranking Report'!E57<>\"\",'CoC Renewal Ranking Report'!E57,\"\")","v":"Union-Snyder Rapid ReHousing Program"},{"$f":"IF('CoC Renewal Ranking Report'!G57<>\"\",'CoC Renewal Ranking Report'!G57,\"\")","v":"PH-RRH"},{"$f":"IF('CoC Renewal Ranking Report'!G57<>\"\",'CoC Renewal Ranking Report'!BM57,\"\")","v":"Yes"},3]
[{"$f":"IF('CoC Renewal Ranking Report'!D58<>\"\",'CoC Renewal Ranking Report'!D58,\"\")","v":"United Christian Ministries"},{"$f":"IF('CoC Renewal Ranking Report'!E58<>\"\",'CoC Renewal Ranking Report'!E58,\"\")","v":"Kenner Garnet Renewal 2016"},{"$f":"IF('CoC Renewal Ranking Report'!G58<>\"\",'CoC Renewal Ranking Report'!G58,\"\")","v":"PH"},{"$f":"IF('CoC Renewal Ranking Report'!G58<>\"\",'CoC Renewal Ranking Report'!BM58,\"\")","v":"No"},0]
[{"$f":"IF('CoC Renewal Ranking Report'!D59<>\"\",'CoC Renewal Ranking Report'!D59,\"\")","v":"Valley Housing Development Corporation "},{"$f":"IF('CoC Renewal Ranking Report'!E59<>\"\",'CoC Renewal Ranking Report'!E59,\"\")","v":"VHDC SHP #2 2016"},{"$f":"IF('CoC Renewal Ranking Report'!G59<>\"\",'CoC Renewal Ranking Report'!G59,\"\")","v":"PH"},{"$f":"IF('CoC Renewal Ranking Report'!G59<>\"\",'CoC Renewal Ranking Report'!BM59,\"\")","v":"Yes"},3]
[{"$f":"IF('CoC Renewal Ranking Report'!D60<>\"\",'CoC Renewal Ranking Report'!D60,\"\")","v":"Valley Housing Development Corporation "},{"$f":"IF('CoC Renewal Ranking Report'!E60<>\"\",'CoC Renewal Ranking Report'!E60,\"\")","v":"VHDC SHP #3 2016"},{"$f":"IF('CoC Renewal Ranking Report'!G60<>\"\",'CoC Renewal Ranking Report'!G60,\"\")","v":"PH"},{"$f":"IF('CoC Renewal Ranking Report'!G60<>\"\",'CoC Renewal Ranking Report'!BM60,\"\")","v":"Yes"},3]
[{"$f":"IF('CoC Renewal Ranking Report'!D61<>\"\",'CoC Renewal Ranking Report'!D61,\"\")","v":"Valley Housing Development Corporation "},{"$f":"IF('CoC Renewal Ranking Report'!E61<>\"\",'CoC Renewal Ranking Report'!E61,\"\")","v":"VHDC SHP #4 2016"},{"$f":"IF('CoC Renewal Ranking Report'!G61<>\"\",'CoC Renewal Ranking Report'!G61,\"\")","v":"PH"},{"$f":"IF('CoC Renewal Ranking Report'!G61<>\"\",'CoC Renewal Ranking Report'!BM61,\"\")","v":"No"},0]
[{"$f":"IF('CoC Renewal Ranking Report'!D62<>\"\",'CoC Renewal Ranking Report'!D62,\"\")","v":""},{"$f":"IF('CoC Renewal Ranking Report'!E62<>\"\",'CoC Renewal Ranking Report'!E62,\"\")","v":""},{"$f":"IF('CoC Renewal Ranking Report'!G62<>\"\",'CoC Renewal Ranking Report'!G62,\"\")","v":""},{"$f":"IF('CoC Renewal Ranking Report'!G62<>\"\",'CoC Renewal Ranking Report'!BM62,\"\")","v":""},""]
[{"$f":"IF('CoC Renewal Ranking Report'!D63<>\"\",'CoC Renewal Ranking Report'!D63,\"\")","v":""},{"$f":"IF('CoC Renewal Ranking Report'!E63<>\"\",'CoC Renewal Ranking Report'!E63,\"\")","v":""},{"$f":"IF('CoC Renewal Ranking Report'!G63<>\"\",'CoC Renewal Ranking Report'!G63,\"\")","v":""},{"$f":"IF('CoC Renewal Ranking Report'!G63<>\"\",'CoC Renewal Ranking Report'!BM63,\"\")","v":""},""]
[{"$f":"IF('CoC Renewal Ranking Report'!D64<>\"\",'CoC Renewal Ranking Report'!D64,\"\")","v":""},{"$f":"IF('CoC Renewal Ranking Report'!E64<>\"\",'CoC Renewal Ranking Report'!E64,\"\")","v":""},{"$f":"IF('CoC Renewal Ranking Report'!G64<>\"\",'CoC Renewal Ranking Report'!G64,\"\")","v":""},{"$f":"IF('CoC Renewal Ranking Report'!G64<>\"\",'CoC Renewal Ranking Report'!BM64,\"\")","v":""},""]
[{"$f":"IF('CoC Renewal Ranking Report'!D65<>\"\",'CoC Renewal Ranking Report'!D65,\"\")","v":""},{"$f":"IF('CoC Renewal Ranking Report'!E65<>\"\",'CoC Renewal Ranking Report'!E65,\"\")","v":""},{"$f":"IF('CoC Renewal Ranking Report'!G65<>\"\",'CoC Renewal Ranking Report'!G65,\"\")","v":""},{"$f":"IF('CoC Renewal Ranking Report'!G65<>\"\",'CoC Renewal Ranking Report'!BM65,\"\")","v":""},""]
[{"$f":"IF('CoC Renewal Ranking Report'!D66<>\"\",'CoC Renewal Ranking Report'!D66,\"\")","v":""},{"$f":"IF('CoC Renewal Ranking Report'!E66<>\"\",'CoC Renewal Ranking Report'!E66,\"\")","v":""},{"$f":"IF('CoC Renewal Ranking Report'!G66<>\"\",'CoC Renewal Ranking Report'!G66,\"\")","v":""},{"$f":"IF('CoC Renewal Ranking Report'!G66<>\"\",'CoC Renewal Ranking Report'!BM66,\"\")","v":""},""]
[{"$f":"IF('CoC Renewal Ranking Report'!D67<>\"\",'CoC Renewal Ranking Report'!D67,\"\")","v":""},{"$f":"IF('CoC Renewal Ranking Report'!E67<>\"\",'CoC Renewal Ranking Report'!E67,\"\")","v":""},{"$f":"IF('CoC Renewal Ranking Report'!G67<>\"\",'CoC Renewal Ranking Report'!G67,\"\")","v":""},{"$f":"IF('CoC Renewal Ranking Report'!G67<>\"\",'CoC Renewal Ranking Report'!BM67,\"\")","v":""},""]
[{"$f":"IF('CoC Renewal Ranking Report'!D68<>\"\",'CoC Renewal Ranking Report'!D68,\"\")","v":""},{"$f":"IF('CoC Renewal Ranking Report'!E68<>\"\",'CoC Renewal Ranking Report'!E68,\"\")","v":""},{"$f":"IF('CoC Renewal Ranking Report'!G68<>\"\",'CoC Renewal Ranking Report'!G68,\"\")","v":""},{"$f":"IF('CoC Renewal Ranking Report'!G68<>\"\",'CoC Renewal Ranking Report'!BM68,\"\")","v":""},""]
[{"$f":"IF('CoC Renewal Ranking Report'!D69<>\"\",'CoC Renewal Ranking Report'!D69,\"\")","v":""},{"$f":"IF('CoC Renewal Ranking Report'!E69<>\"\",'CoC Renewal Ranking Report'!E69,\"\")","v":""},{"$f":"IF('CoC Renewal Ranking Report'!G69<>\"\",'CoC Renewal Ranking Report'!G69,\"\")","v":""},{"$f":"IF('CoC Renewal Ranking Report'!G69<>\"\",'CoC Renewal Ranking Report'!BM69,\"\")","v":""},""]
[{"$f":"IF('CoC Renewal Ranking Report'!D70<>\"\",'CoC Renewal Ranking Report'!D70,\"\")","v":""},{"$f":"IF('CoC Renewal Ranking Report'!E70<>\"\",'CoC Renewal Ranking Report'!E70,\"\")","v":""},{"$f":"IF('CoC Renewal Ranking Report'!G70<>\"\",'CoC Renewal Ranking Report'!G70,\"\")","v":""},{"$f":"IF('CoC Renewal Ranking Report'!G70<>\"\",'CoC Renewal Ranking Report'!BM70,\"\")","v":""},""]
[{"$f":"IF('CoC Renewal Ranking Report'!D71<>\"\",'CoC Renewal Ranking Report'!D71,\"\")","v":""},{"$f":"IF('CoC Renewal Ranking Report'!E71<>\"\",'CoC Renewal Ranking Report'!E71,\"\")","v":""},{"$f":"IF('CoC Renewal Ranking Report'!G71<>\"\",'CoC Renewal Ranking Report'!G71,\"\")","v":""},{"$f":"IF('CoC Renewal Ranking Report'!G71<>\"\",'CoC Renewal Ranking Report'!BM71,\"\")","v":""},""]
[{"$f":"IF('CoC Renewal Ranking Report'!D72<>\"\",'CoC Renewal Ranking Report'!D72,\"\")","v":""},{"$f":"IF('CoC Renewal Ranking Report'!E72<>\"\",'CoC Renewal Ranking Report'!E72,\"\")","v":""},{"$f":"IF('CoC Renewal Ranking Report'!G72<>\"\",'CoC Renewal Ranking Report'!G72,\"\")","v":""},{"$f":"IF('CoC Renewal Ranking Report'!G72<>\"\",'CoC Renewal Ranking Report'!BM72,\"\")","v":""},""]
[{"$f":"IF('CoC Renewal Ranking Report'!D73<>\"\",'CoC Renewal Ranking Report'!D73,\"\")","v":""},{"$f":"IF('CoC Renewal Ranking Report'!E73<>\"\",'CoC Renewal Ranking Report'!E73,\"\")","v":""},{"$f":"IF('CoC Renewal Ranking Report'!G73<>\"\",'CoC Renewal Ranking Report'!G73,\"\")","v":""},{"$f":"IF('CoC Renewal Ranking Report'!G73<>\"\",'CoC Renewal Ranking Report'!BM73,\"\")","v":""},{"$f":"IF(A70<>\"\", IF(D70=\"Yes\", 3, 0), \"\")","v":""}]
[{"$f":"IF('CoC Renewal Ranking Report'!D74<>\"\",'CoC Renewal Ranking Report'!D74,\"\")","v":""},{"$f":"IF('CoC Renewal Ranking Report'!E74<>\"\",'CoC Renewal Ranking Report'!E74,\"\")","v":""},{"$f":"IF('CoC Renewal Ranking Report'!G74<>\"\",'CoC Renewal Ranking Report'!G74,\"\")","v":""},{"$f":"IF('CoC Renewal Ranking Report'!G74<>\"\",'CoC Renewal Ranking Report'!BM74,\"\")","v":""},""]
[{"$f":"IF('CoC Renewal Ranking Report'!D75<>\"\",'CoC Renewal Ranking Report'!D75,\"\")","v":""},{"$f":"IF('CoC Renewal Ranking Report'!E75<>\"\",'CoC Renewal Ranking Report'!E75,\"\")","v":""},{"$f":"IF('CoC Renewal Ranking Report'!G75<>\"\",'CoC Renewal Ranking Report'!G75,\"\")","v":""},{"$f":"IF('CoC Renewal Ranking Report'!G75<>\"\",'CoC Renewal Ranking Report'!BM75,\"\")","v":""},""]
[{"$f":"IF('CoC Renewal Ranking Report'!D76<>\"\",'CoC Renewal Ranking Report'!D76,\"\")","v":""},{"$f":"IF('CoC Renewal Ranking Report'!E76<>\"\",'CoC Renewal Ranking Report'!E76,\"\")","v":""},{"$f":"IF('CoC Renewal Ranking Report'!G76<>\"\",'CoC Renewal Ranking Report'!G76,\"\")","v":""},{"$f":"IF('CoC Renewal Ranking Report'!G76<>\"\",'CoC Renewal Ranking Report'!BM76,\"\")","v":""},""]
[{"$f":"IF('CoC Renewal Ranking Report'!D77<>\"\",'CoC Renewal Ranking Report'!D77,\"\")","v":""},{"$f":"IF('CoC Renewal Ranking Report'!E77<>\"\",'CoC Renewal Ranking Report'!E77,\"\")","v":""},{"$f":"IF('CoC Renewal Ranking Report'!G77<>\"\",'CoC Renewal Ranking Report'!G77,\"\")","v":""},{"$f":"IF('CoC Renewal Ranking Report'!G77<>\"\",'CoC Renewal Ranking Report'!BM77,\"\")","v":""},""]
[{"$f":"IF('CoC Renewal Ranking Report'!D78<>\"\",'CoC Renewal Ranking Report'!D78,\"\")","v":""},{"$f":"IF('CoC Renewal Ranking Report'!E78<>\"\",'CoC Renewal Ranking Report'!E78,\"\")","v":""},{"$f":"IF('CoC Renewal Ranking Report'!G78<>\"\",'CoC Renewal Ranking Report'!G78,\"\")","v":""},{"$f":"IF('CoC Renewal Ranking Report'!G78<>\"\",'CoC Renewal Ranking Report'!BM78,\"\")","v":""},""]
[{"$f":"IF('CoC Renewal Ranking Report'!D79<>\"\",'CoC Renewal Ranking Report'!D79,\"\")","v":""},{"$f":"IF('CoC Renewal Ranking Report'!E79<>\"\",'CoC Renewal Ranking Report'!E79,\"\")","v":""},{"$f":"IF('CoC Renewal Ranking Report'!G79<>\"\",'CoC Renewal Ranking Report'!G79,\"\")","v":""},{"$f":"IF('CoC Renewal Ranking Report'!G79<>\"\",'CoC Renewal Ranking Report'!BM79,\"\")","v":""},""]
[{"$f":"IF('CoC Renewal Ranking Report'!D80<>\"\",'CoC Renewal Ranking Report'!D80,\"\")","v":""},{"$f":"IF('CoC Renewal Ranking Report'!E80<>\"\",'CoC Renewal Ranking Report'!E80,\"\")","v":""},{"$f":"IF('CoC Renewal Ranking Report'!G80<>\"\",'CoC Renewal Ranking Report'!G80,\"\")","v":""},{"$f":"IF('CoC Renewal Ranking Report'!G80<>\"\",'CoC Renewal Ranking Report'!BM80,\"\")","v":""},""]
[{"$f":"IF('CoC Renewal Ranking Report'!D81<>\"\",'CoC Renewal Ranking Report'!D81,\"\")","v":""},{"$f":"IF('CoC Renewal Ranking Report'!E81<>\"\",'CoC Renewal Ranking Report'!E81,\"\")","v":""},{"$f":"IF('CoC Renewal Ranking Report'!G81<>\"\",'CoC Renewal Ranking Report'!G81,\"\")","v":""},{"$f":"IF('CoC Renewal Ranking Report'!G81<>\"\",'CoC Renewal Ranking Report'!BM81,\"\")","v":""},""]
[{"$f":"IF('CoC Renewal Ranking Report'!D82<>\"\",'CoC Renewal Ranking Report'!D82,\"\")","v":""},{"$f":"IF('CoC Renewal Ranking Report'!E82<>\"\",'CoC Renewal Ranking Report'!E82,\"\")","v":""},{"$f":"IF('CoC Renewal Ranking Report'!G82<>\"\",'CoC Renewal Ranking Report'!G82,\"\")","v":""},{"$f":"IF('CoC Renewal Ranking Report'!G82<>\"\",'CoC Renewal Ranking Report'!BM82,\"\")","v":""},""]
[{"$f":"IF('CoC Renewal Ranking Report'!D83<>\"\",'CoC Renewal Ranking Report'!D83,\"\")","v":""},{"$f":"IF('CoC Renewal Ranking Report'!E83<>\"\",'CoC Renewal Ranking Report'!E83,\"\")","v":""},{"$f":"IF('CoC Renewal Ranking Report'!G83<>\"\",'CoC Renewal Ranking Report'!G83,\"\")","v":""},{"$f":"IF('CoC Renewal Ranking Report'!G83<>\"\",'CoC Renewal Ranking Report'!BM83,\"\")","v":""},""]
[{"$f":"IF('CoC Renewal Ranking Report'!D84<>\"\",'CoC Renewal Ranking Report'!D84,\"\")","v":""},{"$f":"IF('CoC Renewal Ranking Report'!E84<>\"\",'CoC Renewal Ranking Report'!E84,\"\")","v":""},{"$f":"IF('CoC Renewal Ranking Report'!G84<>\"\",'CoC Renewal Ranking Report'!G84,\"\")","v":""},{"$f":"IF('CoC Renewal Ranking Report'!G84<>\"\",'CoC Renewal Ranking Report'!BM84,\"\")","v":""},""]
[{"$f":"IF('CoC Renewal Ranking Report'!D85<>\"\",'CoC Renewal Ranking Report'!D85,\"\")","v":""},{"$f":"IF('CoC Renewal Ranking Report'!E85<>\"\",'CoC Renewal Ranking Report'!E85,\"\")","v":""},{"$f":"IF('CoC Renewal Ranking Report'!G85<>\"\",'CoC Renewal Ranking Report'!G85,\"\")","v":""},{"$f":"IF('CoC Renewal Ranking Report'!G85<>\"\",'CoC Renewal Ranking Report'!BM85,\"\")","v":""},""]
[{"$f":"IF('CoC Renewal Ranking Report'!D86<>\"\",'CoC Renewal Ranking Report'!D86,\"\")","v":""},{"$f":"IF('CoC Renewal Ranking Report'!E86<>\"\",'CoC Renewal Ranking Report'!E86,\"\")","v":""},{"$f":"IF('CoC Renewal Ranking Report'!G86<>\"\",'CoC Renewal Ranking Report'!G86,\"\")","v":""},{"$f":"IF('CoC Renewal Ranking Report'!G86<>\"\",'CoC Renewal Ranking Report'!BM86,\"\")","v":""},""]
[{"$f":"IF('CoC Renewal Ranking Report'!D87<>\"\",'CoC Renewal Ranking Report'!D87,\"\")","v":""},{"$f":"IF('CoC Renewal Ranking Report'!E87<>\"\",'CoC Renewal Ranking Report'!E87,\"\")","v":""},{"$f":"IF('CoC Renewal Ranking Report'!G87<>\"\",'CoC Renewal Ranking Report'!G87,\"\")","v":""},{"$f":"IF('CoC Renewal Ranking Report'!G87<>\"\",'CoC Renewal Ranking Report'!BM87,\"\")","v":""},""]
[{"$f":"IF('CoC Renewal Ranking Report'!D88<>\"\",'CoC Renewal Ranking Report'!D88,\"\")","v":""},{"$f":"IF('CoC Renewal Ranking Report'!E88<>\"\",'CoC Renewal Ranking Report'!E88,\"\")","v":""},{"$f":"IF('CoC Renewal Ranking Report'!G88<>\"\",'CoC Renewal Ranking Report'!G88,\"\")","v":""},{"$f":"IF('CoC Renewal Ranking Report'!G88<>\"\",'CoC Renewal Ranking Report'!BM88,\"\")","v":""},""]
[{"$f":"IF('CoC Renewal Ranking Report'!D89<>\"\",'CoC Renewal Ranking Report'!D89,\"\")","v":""},{"$f":"IF('CoC Renewal Ranking Report'!E89<>\"\",'CoC Renewal Ranking Report'!E89,\"\")","v":""},{"$f":"IF('CoC Renewal Ranking Report'!G89<>\"\",'CoC Renewal Ranking Report'!G89,\"\")","v":""},{"$f":"IF('CoC Renewal Ranking Report'!G89<>\"\",'CoC Renewal Ranking Report'!BM89,\"\")","v":""},""]
[{"$f":"IF('CoC Renewal Ranking Report'!D90<>\"\",'CoC Renewal Ranking Report'!D90,\"\")","v":""},{"$f":"IF('CoC Renewal Ranking Report'!E90<>\"\",'CoC Renewal Ranking Report'!E90,\"\")","v":""},{"$f":"IF('CoC Renewal Ranking Report'!G90<>\"\",'CoC Renewal Ranking Report'!G90,\"\")","v":""},{"$f":"IF('CoC Renewal Ranking Report'!G90<>\"\",'CoC Renewal Ranking Report'!BM90,\"\")","v":""},""]
[{"$f":"IF('CoC Renewal Ranking Report'!D91<>\"\",'CoC Renewal Ranking Report'!D91,\"\")","v":""},{"$f":"IF('CoC Renewal Ranking Report'!E91<>\"\",'CoC Renewal Ranking Report'!E91,\"\")","v":""},{"$f":"IF('CoC Renewal Ranking Report'!G91<>\"\",'CoC Renewal Ranking Report'!G91,\"\")","v":""},{"$f":"IF('CoC Renewal Ranking Report'!G91<>\"\",'CoC Renewal Ranking Report'!BM91,\"\")","v":""},""]
[{"$f":"IF('CoC Renewal Ranking Report'!D92<>\"\",'CoC Renewal Ranking Report'!D92,\"\")","v":""},{"$f":"IF('CoC Renewal Ranking Report'!E92<>\"\",'CoC Renewal Ranking Report'!E92,\"\")","v":""},{"$f":"IF('CoC Renewal Ranking Report'!G92<>\"\",'CoC Renewal Ranking Report'!G92,\"\")","v":""},{"$f":"IF('CoC Renewal Ranking Report'!G92<>\"\",'CoC Renewal Ranking Report'!BM92,\"\")","v":""},""]
[{"$f":"IF('CoC Renewal Ranking Report'!D93<>\"\",'CoC Renewal Ranking Report'!D93,\"\")","v":""},{"$f":"IF('CoC Renewal Ranking Report'!E93<>\"\",'CoC Renewal Ranking Report'!E93,\"\")","v":""},{"$f":"IF('CoC Renewal Ranking Report'!G93<>\"\",'CoC Renewal Ranking Report'!G93,\"\")","v":""},{"$f":"IF('CoC Renewal Ranking Report'!G93<>\"\",'CoC Renewal Ranking Report'!BM93,\"\")","v":""},""]
[{"$f":"IF('CoC Renewal Ranking Report'!D94<>\"\",'CoC Renewal Ranking Report'!D94,\"\")","v":""},{"$f":"IF('CoC Renewal Ranking Report'!E94<>\"\",'CoC Renewal Ranking Report'!E94,\"\")","v":""},{"$f":"IF('CoC Renewal Ranking Report'!G94<>\"\",'CoC Renewal Ranking Report'!G94,\"\")","v":""},{"$f":"IF('CoC Renewal Ranking Report'!G94<>\"\",'CoC Renewal Ranking Report'!BM94,\"\")","v":""},""]
[{"$f":"IF('CoC Renewal Ranking Report'!D95<>\"\",'CoC Renewal Ranking Report'!D95,\"\")","v":""},{"$f":"IF('CoC Renewal Ranking Report'!E95<>\"\",'CoC Renewal Ranking Report'!E95,\"\")","v":""},{"$f":"IF('CoC Renewal Ranking Report'!G95<>\"\",'CoC Renewal Ranking Report'!G95,\"\")","v":""},{"$f":"IF('CoC Renewal Ranking Report'!G95<>\"\",'CoC Renewal Ranking Report'!BM95,\"\")","v":""},""]
[{"$f":"IF('CoC Renewal Ranking Report'!D96<>\"\",'CoC Renewal Ranking Report'!D96,\"\")","v":""},{"$f":"IF('CoC Renewal Ranking Report'!E96<>\"\",'CoC Renewal Ranking Report'!E96,\"\")","v":""},{"$f":"IF('CoC Renewal Ranking Report'!G96<>\"\",'CoC Renewal Ranking Report'!G96,\"\")","v":""},{"$f":"IF('CoC Renewal Ranking Report'!G96<>\"\",'CoC Renewal Ranking Report'!BM96,\"\")","v":""},""]
[{"$f":"IF('CoC Renewal Ranking Report'!D97<>\"\",'CoC Renewal Ranking Report'!D97,\"\")","v":""},{"$f":"IF('CoC Renewal Ranking Report'!E97<>\"\",'CoC Renewal Ranking Report'!E97,\"\")","v":""},{"$f":"IF('CoC Renewal Ranking Report'!G97<>\"\",'CoC Renewal Ranking Report'!G97,\"\")","v":""},{"$f":"IF('CoC Renewal Ranking Report'!G97<>\"\",'CoC Renewal Ranking Report'!BM97,\"\")","v":""},""]
[{"$f":"IF('CoC Renewal Ranking Report'!D98<>\"\",'CoC Renewal Ranking Report'!D98,\"\")","v":""},{"$f":"IF('CoC Renewal Ranking Report'!E98<>\"\",'CoC Renewal Ranking Report'!E98,\"\")","v":""},{"$f":"IF('CoC Renewal Ranking Report'!G98<>\"\",'CoC Renewal Ranking Report'!G98,\"\")","v":""},{"$f":"IF('CoC Renewal Ranking Report'!G98<>\"\",'CoC Renewal Ranking Report'!BM98,\"\")","v":""},""]
[{"$f":"IF('CoC Renewal Ranking Report'!D99<>\"\",'CoC Renewal Ranking Report'!D99,\"\")","v":""},{"$f":"IF('CoC Renewal Ranking Report'!E99<>\"\",'CoC Renewal Ranking Report'!E99,\"\")","v":""},{"$f":"IF('CoC Renewal Ranking Report'!G99<>\"\",'CoC Renewal Ranking Report'!G99,\"\")","v":""},{"$f":"IF('CoC Renewal Ranking Report'!G99<>\"\",'CoC Renewal Ranking Report'!BM99,\"\")","v":""},""]
[{"$f":"IF('CoC Renewal Ranking Report'!D100<>\"\",'CoC Renewal Ranking Report'!D100,\"\")","v":""},{"$f":"IF('CoC Renewal Ranking Report'!E100<>\"\",'CoC Renewal Ranking Report'!E100,\"\")","v":""},{"$f":"IF('CoC Renewal Ranking Report'!G100<>\"\",'CoC Renewal Ranking Report'!G100,\"\")","v":""},{"$f":"IF('CoC Renewal Ranking Report'!G100<>\"\",'CoC Renewal Ranking Report'!BM100,\"\")","v":""},""]
[{"$f":"IF('CoC Renewal Ranking Report'!D101<>\"\",'CoC Renewal Ranking Report'!D101,\"\")","v":""},{"$f":"IF('CoC Renewal Ranking Report'!E101<>\"\",'CoC Renewal Ranking Report'!E101,\"\")","v":""},{"$f":"IF('CoC Renewal Ranking Report'!G101<>\"\",'CoC Renewal Ranking Report'!G101,\"\")","v":""},{"$f":"IF('CoC Renewal Ranking Report'!G101<>\"\",'CoC Renewal Ranking Report'!BM101,\"\")","v":""},""]
[{"$f":"IF('CoC Renewal Ranking Report'!D102<>\"\",'CoC Renewal Ranking Report'!D102,\"\")","v":""},{"$f":"IF('CoC Renewal Ranking Report'!E102<>\"\",'CoC Renewal Ranking Report'!E102,\"\")","v":""},{"$f":"IF('CoC Renewal Ranking Report'!G102<>\"\",'CoC Renewal Ranking Report'!G102,\"\")","v":""},{"$f":"IF('CoC Renewal Ranking Report'!G102<>\"\",'CoC Renewal Ranking Report'!BM102,\"\")","v":""},""]
[{"$f":"IF('CoC Renewal Ranking Report'!D103<>\"\",'CoC Renewal Ranking Report'!D103,\"\")","v":""},{"$f":"IF('CoC Renewal Ranking Report'!E103<>\"\",'CoC Renewal Ranking Report'!E103,\"\")","v":""},{"$f":"IF('CoC Renewal Ranking Report'!G103<>\"\",'CoC Renewal Ranking Report'!G103,\"\")","v":""},{"$f":"IF('CoC Renewal Ranking Report'!G103<>\"\",'CoC Renewal Ranking Report'!BM103,\"\")","v":""},""]
[{"$f":"IF('CoC Renewal Ranking Report'!D104<>\"\",'CoC Renewal Ranking Report'!D104,\"\")","v":""},{"$f":"IF('CoC Renewal Ranking Report'!E104<>\"\",'CoC Renewal Ranking Report'!E104,\"\")","v":""},{"$f":"IF('CoC Renewal Ranking Report'!G104<>\"\",'CoC Renewal Ranking Report'!G104,\"\")","v":""},{"$f":"IF('CoC Renewal Ranking Report'!G104<>\"\",'CoC Renewal Ranking Report'!BM104,\"\")","v":""},""]
[{"$f":"IF('CoC Renewal Ranking Report'!D105<>\"\",'CoC Renewal Ranking Report'!D105,\"\")","v":""},{"$f":"IF('CoC Renewal Ranking Report'!E105<>\"\",'CoC Renewal Ranking Report'!E105,\"\")","v":""},{"$f":"IF('CoC Renewal Ranking Report'!G105<>\"\",'CoC Renewal Ranking Report'!G105,\"\")","v":""},{"$f":"IF('CoC Renewal Ranking Report'!G105<>\"\",'CoC Renewal Ranking Report'!BM105,\"\")","v":""},""]

{"sheet":"Recaptured Funds","index":12,"n_rows":102,"n_cols":5,"rows_kept":102,"cut":false,"hidden":false,"merged":[]}
[null,"Funds Recaptured By HUD (Spent Down)"]
[null,"Criteria"]
[null,"95% - 100%  = 6 points"]
[null,"90% - 94% = 3 points"]
[null,"85% - 89% = 1 point"]
[]
[]
["Agency Name","Project Name","Project Type","Spent Down %","Score"]
[{"$f":"IF('CoC Renewal Ranking Report'!D9<>\"\",'CoC Renewal Ranking Report'!D9,\"\")","v":""},{"$f":"IF('CoC Renewal Ranking Report'!E9<>\"\",'CoC Renewal Ranking Report'!E9,\"\")","v":""},{"$f":"IF('CoC Renewal Ranking Report'!G9<>\"\",'CoC Renewal Ranking Report'!G9,\"\")","v":""},{"$f":"IF('CoC Renewal Ranking Report'!G9<>\"\",'CoC Renewal Ranking Report'!BN9,\"\")","v":""},{"$f":"IF(AND(A9<>\"\", D9<>\"\"), IF(D9 >= 0.95, 6, IF(AND(D9 < 0.95, D9 >= 0.9), 3, IF(AND(D9 < 0.9, D9 >= 0.845), 1, 0))), \"\")","v":""}]
[{"$f":"IF('CoC Renewal Ranking Report'!D10<>\"\",'CoC Renewal Ranking Report'!D10,\"\")","v":"Blair County Community Action Program"},{"$f":"IF('CoC Renewal Ranking Report'!E10<>\"\",'CoC Renewal Ranking Report'!E10,\"\")","v":"Rapid Re-Housing"},{"$f":"IF('CoC Renewal Ranking Report'!G10<>\"\",'CoC Renewal Ranking Report'!G10,\"\")","v":"PH-RRH"},{"$f":"IF('CoC Renewal Ranking Report'!G10<>\"\",'CoC Renewal Ranking Report'!BN10,\"\")","v":0.58824893864288597},{"$f":"IF(AND(A10<>\"\", D10<>\"\"), IF(D10 >= 0.95, 6, IF(AND(D10 < 0.95, D10 >= 0.9), 3, IF(AND(D10 < 0.9, D10 >= 0.845), 1, 0))), \"\")","v":0}]
[{"$f":"IF('CoC Renewal Ranking Report'!D11<>\"\",'CoC Renewal Ranking Report'!D11,\"\")","v":"Cambria County"},{"$f":"IF('CoC Renewal Ranking Report'!E11<>\"\",'CoC Renewal Ranking Report'!E11,\"\")","v":"Cambria County Comprehensive Housing Program"},{"$f":"IF('CoC Renewal Ranking Report'!G11<>\"\",'CoC Renewal Ranking Report'!G11,\"\")","v":"PH"},{"$f":"IF('CoC Renewal Ranking Report'!G11<>\"\",'CoC Renewal Ranking Report'!BN11,\"\")","v":0},0]
[{"$f":"IF('CoC Renewal Ranking Report'!D12<>\"\",'CoC Renewal Ranking Report'!D12,\"\")","v":"Catholic Charities of the Diocese of Allentown"},{"$f":"IF('CoC Renewal Ranking Report'!E12<>\"\",'CoC Renewal Ranking Report'!E12,\"\")","v":"Catholic Charities Allentown Permanent Housing Program"},{"$f":"IF('CoC Renewal Ranking Report'!G12<>\"\",'CoC Renewal Ranking Report'!G12,\"\")","v":"PH"},{"$f":"IF('CoC Renewal Ranking Report'!G12<>\"\",'CoC Renewal Ranking Report'!BN12,\"\")","v":0.76950883257035052},0]
[{"$f":"IF('CoC Renewal Ranking Report'!D13<>\"\",'CoC Renewal Ranking Report'!D13,\"\")","v":"Catholic Social Services of the Diocese of Scranton, Inc."},{"$f":"IF('CoC Renewal Ranking Report'!E13<>\"\",'CoC Renewal Ranking Report'!E13,\"\")","v":"PSHP Pike County"},{"$f":"IF('CoC Renewal Ranking Report'!G13<>\"\",'CoC Renewal Ranking Report'!G13,\"\")","v":"PH"},{"$f":"IF('CoC Renewal Ranking Report'!G13<>\"\",'CoC Renewal Ranking Report'!BN13,\"\")","v":0.84821231574191791},1]
[{"$f":"IF('CoC Renewal Ranking Report'!D14<>\"\",'CoC Renewal Ranking Report'!D14,\"\")","v":"Catholic Social Services of the Diocese of Scranton, Inc."},{"$f":"IF('CoC Renewal Ranking Report'!E14<>\"\",'CoC Renewal Ranking Report'!E14,\"\")","v":"Rural Permanent Supportive Housing Program"},{"$f":"IF('CoC Renewal Ranking Report'!G14<>\"\",'CoC Renewal Ranking Report'!G14,\"\")","v":"PH"},{"$f":"IF('CoC Renewal Ranking Report'!G14<>\"\",'CoC Renewal Ranking Report'!BN14,\"\")","v":0.81547304738771631},0]
[{"$f":"IF('CoC Renewal Ranking Report'!D15<>\"\",'CoC Renewal Ranking Report'!D15,\"\")","v":"Catholic Social Services of the Diocese of Scranton, Inc."},{"$f":"IF('CoC Renewal Ranking Report'!E15<>\"\",'CoC Renewal Ranking Report'!E15,\"\")","v":"Susquehanna/Wayne PSHP"},{"$f":"IF('CoC Renewal Ranking Report'!G15<>\"\",'CoC Renewal Ranking Report'!G15,\"\")","v":"PH"},{"$f":"IF('CoC Renewal Ranking Report'!G15<>\"\",'CoC Renewal Ranking Report'!BN15,\"\")","v":0.9516327755604933},6]
[{"$f":"IF('CoC Renewal Ranking Report'!D16<>\"\",'CoC Renewal Ranking Report'!D16,\"\")","v":"Center for Community Action"},{"$f":"IF('CoC Renewal Ranking Report'!E16<>\"\",'CoC Renewal Ranking Report'!E16,\"\")","v":"Bedford,Fulton, Huntingdon RRH"},{"$f":"IF('CoC Renewal Ranking Report'!G16<>\"\",'CoC Renewal Ranking Report'!G16,\"\")","v":"PH-RRH"},{"$f":"IF('CoC Renewal Ranking Report'!G16<>\"\",'CoC Renewal Ranking Report'!BN16,\"\")","v":1},6]
[{"$f":"IF('CoC Renewal Ranking Report'!D17<>\"\",'CoC Renewal Ranking Report'!D17,\"\")","v":"County of Franklin"},{"$f":"IF('CoC Renewal Ranking Report'!E17<>\"\",'CoC Renewal Ranking Report'!E17,\"\")","v":"Franklin/ Fulton S+C Project 2017"},{"$f":"IF('CoC Renewal Ranking Report'!G17<>\"\",'CoC Renewal Ranking Report'!G17,\"\")","v":"PH"},{"$f":"IF('CoC Renewal Ranking Report'!G17<>\"\",'CoC Renewal Ranking Report'!BN17,\"\")","v":0.99233837111670864},6]
[{"$f":"IF('CoC Renewal Ranking Report'!D18<>\"\",'CoC Renewal Ranking Report'!D18,\"\")","v":"County of Franklin"},{"$f":"IF('CoC Renewal Ranking Report'!E18<>\"\",'CoC Renewal Ranking Report'!E18,\"\")","v":"Franklin/Fulton Homeless Assistance Project 2017"},{"$f":"IF('CoC Renewal Ranking Report'!G18<>\"\",'CoC Renewal Ranking Report'!G18,\"\")","v":"PH"},{"$f":"IF('CoC Renewal Ranking Report'!G18<>\"\",'CoC Renewal Ranking Report'!BN18,\"\")","v":0.99},6]
[{"$f":"IF('CoC Renewal Ranking Report'!D19<>\"\",'CoC Renewal Ranking Report'!D19,\"\")","v":"County of Lycoming DBA Lycoming- Clinton Joinder Board"},{"$f":"IF('CoC Renewal Ranking Report'!E19<>\"\",'CoC Renewal Ranking Report'!E19,\"\")","v":"Lycoming/Clinton Renewal #5"},{"$f":"IF('CoC Renewal Ranking Report'!G19<>\"\",'CoC Renewal Ranking Report'!G19,\"\")","v":"PH"},{"$f":"IF('CoC Renewal Ranking Report'!G19<>\"\",'CoC Renewal Ranking Report'!BN19,\"\")","v":0.98114980186213463},6]
[{"$f":"IF('CoC Renewal Ranking Report'!D20<>\"\",'CoC Renewal Ranking Report'!D20,\"\")","v":"Fitzmaurice Community Services, Inc"},{"$f":"IF('CoC Renewal Ranking Report'!E20<>\"\",'CoC Renewal Ranking Report'!E20,\"\")","v":"Pathfinders"},{"$f":"IF('CoC Renewal Ranking Report'!G20<>\"\",'CoC Renewal Ranking Report'!G20,\"\")","v":"PH"},{"$f":"IF('CoC Renewal Ranking Report'!G20<>\"\",'CoC Renewal Ranking Report'!BN20,\"\")","v":1},6]
[{"$f":"IF('CoC Renewal Ranking Report'!D21<>\"\",'CoC Renewal Ranking Report'!D21,\"\")","v":"Home Nursing AgencyCommunity Services"},{"$f":"IF('CoC Renewal Ranking Report'!E21<>\"\",'CoC Renewal Ranking Report'!E21,\"\")","v":"Housing Assistance and Rental Program"},{"$f":"IF('CoC Renewal Ranking Report'!G21<>\"\",'CoC Renewal Ranking Report'!G21,\"\")","v":"PH"},{"$f":"IF('CoC Renewal Ranking Report'!G21<>\"\",'CoC Renewal Ranking Report'!BN21,\"\")","v":1},6]
[{"$f":"IF('CoC Renewal Ranking Report'!D22<>\"\",'CoC Renewal Ranking Report'!D22,\"\")","v":"Housing Authority of Monroe County"},{"$f":"IF('CoC Renewal Ranking Report'!E22<>\"\",'CoC Renewal Ranking Report'!E22,\"\")","v":"Renewal Application Shelter Plus Care MC 2016"},{"$f":"IF('CoC Renewal Ranking Report'!G22<>\"\",'CoC Renewal Ranking Report'!G22,\"\")","v":"PH"},{"$f":"IF('CoC Renewal Ranking Report'!G22<>\"\",'CoC Renewal Ranking Report'!BN22,\"\")","v":0.88324474319764057},1]
[{"$f":"IF('CoC Renewal Ranking Report'!D23<>\"\",'CoC Renewal Ranking Report'!D23,\"\")","v":"Housing Authority of the County of Cumberland"},{"$f":"IF('CoC Renewal Ranking Report'!E23<>\"\",'CoC Renewal Ranking Report'!E23,\"\")","v":"Carlisle Supportive Housing Program"},{"$f":"IF('CoC Renewal Ranking Report'!G23<>\"\",'CoC Renewal Ranking Report'!G23,\"\")","v":"PH"},{"$f":"IF('CoC Renewal Ranking Report'!G23<>\"\",'CoC Renewal Ranking Report'!BN23,\"\")","v":0.98743961352657006},6]
[{"$f":"IF('CoC Renewal Ranking Report'!D24<>\"\",'CoC Renewal Ranking Report'!D24,\"\")","v":"Housing Authority of the County of Cumberland"},{"$f":"IF('CoC Renewal Ranking Report'!E24<>\"\",'CoC Renewal Ranking Report'!E24,\"\")","v":"Perry County Permanent SHP"},{"$f":"IF('CoC Renewal Ranking Report'!G24<>\"\",'CoC Renewal Ranking Report'!G24,\"\")","v":"PH"},{"$f":"IF('CoC Renewal Ranking Report'!G24<>\"\",'CoC Renewal Ranking Report'!BN24,\"\")","v":0.88039560127128536},1]
[{"$f":"IF('CoC Renewal Ranking Report'!D25<>\"\",'CoC Renewal Ranking Report'!D25,\"\")","v":"Housing Authority of the County of Cumberland"},{"$f":"IF('CoC Renewal Ranking Report'!E25<>\"\",'CoC Renewal Ranking Report'!E25,\"\")","v":"Perry County Transitional II"},{"$f":"IF('CoC Renewal Ranking Report'!G25<>\"\",'CoC Renewal Ranking Report'!G25,\"\")","v":"PH-RRH"},{"$f":"IF('CoC Renewal Ranking Report'!G25<>\"\",'CoC Renewal Ranking Report'!BN25,\"\")","v":0.99572952564517003},6]
[{"$f":"IF('CoC Renewal Ranking Report'!D26<>\"\",'CoC Renewal Ranking Report'!D26,\"\")","v":"Housing Authority of the County of Cumberland"},{"$f":"IF('CoC Renewal Ranking Report'!E26<>\"\",'CoC Renewal Ranking Report'!E26,\"\")","v":"Perry County Veterans Program"},{"$f":"IF('CoC Renewal Ranking Report'!G26<>\"\",'CoC Renewal Ranking Report'!G26,\"\")","v":"PH"},{"$f":"IF('CoC Renewal Ranking Report'!G26<>\"\",'CoC Renewal Ranking Report'!BN26,\"\")","v":0.94294405093906564},3]
[{"$f":"IF('CoC Renewal Ranking Report'!D27<>\"\",'CoC Renewal Ranking Report'!D27,\"\")","v":"Housing Authority of the County of Cumberland"},{"$f":"IF('CoC Renewal Ranking Report'!E27<>\"\",'CoC Renewal Ranking Report'!E27,\"\")","v":"Rapid Rehousing II"},{"$f":"IF('CoC Renewal Ranking Report'!G27<>\"\",'CoC Renewal Ranking Report'!G27,\"\")","v":"PH-RRH"},{"$f":"IF('CoC Renewal Ranking Report'!G27<>\"\",'CoC Renewal Ranking Report'!BN27,\"\")","v":0.41951787339603452},0]
[{"$f":"IF('CoC Renewal Ranking Report'!D28<>\"\",'CoC Renewal Ranking Report'!D28,\"\")","v":"Housing Authority of the County of Cumberland"},{"$f":"IF('CoC Renewal Ranking Report'!E28<>\"\",'CoC Renewal Ranking Report'!E28,\"\")","v":"Safe Harbour SHP"},{"$f":"IF('CoC Renewal Ranking Report'!G28<>\"\",'CoC Renewal Ranking Report'!G28,\"\")","v":"PH"},{"$f":"IF('CoC Renewal Ranking Report'!G28<>\"\",'CoC Renewal Ranking Report'!BN28,\"\")","v":0.98171020366951312},6]
[{"$f":"IF('CoC Renewal Ranking Report'!D29<>\"\",'CoC Renewal Ranking Report'!D29,\"\")","v":"Housing Authority of the County of Cumberland"},{"$f":"IF('CoC Renewal Ranking Report'!E29<>\"\",'CoC Renewal Ranking Report'!E29,\"\")","v":"Shelter + Care Chronic"},{"$f":"IF('CoC Renewal Ranking Report'!G29<>\"\",'CoC Renewal Ranking Report'!G29,\"\")","v":"PH"},{"$f":"IF('CoC Renewal Ranking Report'!G29<>\"\",'CoC Renewal Ranking Report'!BN29,\"\")","v":0.75821970854988285},0]
[{"$f":"IF('CoC Renewal Ranking Report'!D30<>\"\",'CoC Renewal Ranking Report'!D30,\"\")","v":"Housing Authority of the County of Cumberland"},{"$f":"IF('CoC Renewal Ranking Report'!E30<>\"\",'CoC Renewal Ranking Report'!E30,\"\")","v":"Shelter + Care Non-Chronic"},{"$f":"IF('CoC Renewal Ranking Report'!G30<>\"\",'CoC Renewal Ranking Report'!G30,\"\")","v":"PH"},{"$f":"IF('CoC Renewal Ranking Report'!G30<>\"\",'CoC Renewal Ranking Report'!BN30,\"\")","v":1},6]
[{"$f":"IF('CoC Renewal Ranking Report'!D31<>\"\",'CoC Renewal Ranking Report'!D31,\"\")","v":"Housing Authority of the County of Cumberland"},{"$f":"IF('CoC Renewal Ranking Report'!E31<>\"\",'CoC Renewal Ranking Report'!E31,\"\")","v":"West Shore SHP I"},{"$f":"IF('CoC Renewal Ranking Report'!G31<>\"\",'CoC Renewal Ranking Report'!G31,\"\")","v":"PH"},{"$f":"IF('CoC Renewal Ranking Report'!G31<>\"\",'CoC Renewal Ranking Report'!BN31,\"\")","v":1},6]
[{"$f":"IF('CoC Renewal Ranking Report'!D32<>\"\",'CoC Renewal Ranking Report'!D32,\"\")","v":"Housing Authority of the County of Cumberland"},{"$f":"IF('CoC Renewal Ranking Report'!E32<>\"\",'CoC Renewal Ranking Report'!E32,\"\")","v":"West Shore SHP II"},{"$f":"IF('CoC Renewal Ranking Report'!G32<>\"\",'CoC Renewal Ranking Report'!G32,\"\")","v":"PH"},{"$f":"IF('CoC Renewal Ranking Report'!G32<>\"\",'CoC Renewal Ranking Report'!BN32,\"\")","v":1},6]
[{"$f":"IF('CoC Renewal Ranking Report'!D33<>\"\",'CoC Renewal Ranking Report'!D33,\"\")","v":"Housing Development Corporation of NEPA"},{"$f":"IF('CoC Renewal Ranking Report'!E33<>\"\",'CoC Renewal Ranking Report'!E33,\"\")","v":"HDC SHP 3 2016"},{"$f":"IF('CoC Renewal Ranking Report'!G33<>\"\",'CoC Renewal Ranking Report'!G33,\"\")","v":"PH"},{"$f":"IF('CoC Renewal Ranking Report'!G33<>\"\",'CoC Renewal Ranking Report'!BN33,\"\")","v":0.78555284332338848},0]
[{"$f":"IF('CoC Renewal Ranking Report'!D34<>\"\",'CoC Renewal Ranking Report'!D34,\"\")","v":"Housing Development Corporation of NEPA"},{"$f":"IF('CoC Renewal Ranking Report'!E34<>\"\",'CoC Renewal Ranking Report'!E34,\"\")","v":"HDC SHP 6 2016"},{"$f":"IF('CoC Renewal Ranking Report'!G34<>\"\",'CoC Renewal Ranking Report'!G34,\"\")","v":"PH"},{"$f":"IF('CoC Renewal Ranking Report'!G34<>\"\",'CoC Renewal Ranking Report'!BN34,\"\")","v":0.69835852731150883},0]
[{"$f":"IF('CoC Renewal Ranking Report'!D35<>\"\",'CoC Renewal Ranking Report'!D35,\"\")","v":"Housing Transitions, Inc."},{"$f":"IF('CoC Renewal Ranking Report'!E35<>\"\",'CoC Renewal Ranking Report'!E35,\"\")","v":"Nittany House Apartments"},{"$f":"IF('CoC Renewal Ranking Report'!G35<>\"\",'CoC Renewal Ranking Report'!G35,\"\")","v":"PH"},{"$f":"IF('CoC Renewal Ranking Report'!G35<>\"\",'CoC Renewal Ranking Report'!BN35,\"\")","v":0.92673992673992678},3]
[{"$f":"IF('CoC Renewal Ranking Report'!D36<>\"\",'CoC Renewal Ranking Report'!D36,\"\")","v":"Lehigh County Conference of Churches"},{"$f":"IF('CoC Renewal Ranking Report'!E36<>\"\",'CoC Renewal Ranking Report'!E36,\"\")","v":"Outreach and Case Management for the Disabled, Chronically Homeless"},{"$f":"IF('CoC Renewal Ranking Report'!G36<>\"\",'CoC Renewal Ranking Report'!G36,\"\")","v":"SSO"},{"$f":"IF('CoC Renewal Ranking Report'!G36<>\"\",'CoC Renewal Ranking Report'!BN36,\"\")","v":0.96508507098356877},6]
[{"$f":"IF('CoC Renewal Ranking Report'!D37<>\"\",'CoC Renewal Ranking Report'!D37,\"\")","v":"Lehigh County Conference of Churches"},{"$f":"IF('CoC Renewal Ranking Report'!E37<>\"\",'CoC Renewal Ranking Report'!E37,\"\")","v":"Pathways Housing"},{"$f":"IF('CoC Renewal Ranking Report'!G37<>\"\",'CoC Renewal Ranking Report'!G37,\"\")","v":"PH"},{"$f":"IF('CoC Renewal Ranking Report'!G37<>\"\",'CoC Renewal Ranking Report'!BN37,\"\")","v":0.92425760934436019},3]
[{"$f":"IF('CoC Renewal Ranking Report'!D38<>\"\",'CoC Renewal Ranking Report'!D38,\"\")","v":"Lehigh County Conference of Churches"},{"$f":"IF('CoC Renewal Ranking Report'!E38<>\"\",'CoC Renewal Ranking Report'!E38,\"\")","v":"Pathways Housing 2"},{"$f":"IF('CoC Renewal Ranking Report'!G38<>\"\",'CoC Renewal Ranking Report'!G38,\"\")","v":"PH"},{"$f":"IF('CoC Renewal Ranking Report'!G38<>\"\",'CoC Renewal Ranking Report'!BN38,\"\")","v":0.86147265786689964},1]
[{"$f":"IF('CoC Renewal Ranking Report'!D39<>\"\",'CoC Renewal Ranking Report'!D39,\"\")","v":"Lehigh County Conference of Churches"},{"$f":"IF('CoC Renewal Ranking Report'!E39<>\"\",'CoC Renewal Ranking Report'!E39,\"\")","v":"Pathways TBRA for Families, Youth and Veterans"},{"$f":"IF('CoC Renewal Ranking Report'!G39<>\"\",'CoC Renewal Ranking Report'!G39,\"\")","v":"PH"},{"$f":"IF('CoC Renewal Ranking Report'!G39<>\"\",'CoC Renewal Ranking Report'!BN39,\"\")","v":0.9897847782915622},6]
[{"$f":"IF('CoC Renewal Ranking Report'!D40<>\"\",'CoC Renewal Ranking Report'!D40,\"\")","v":"Lehigh County Conference of Churches"},{"$f":"IF('CoC Renewal Ranking Report'!E40<>\"\",'CoC Renewal Ranking Report'!E40,\"\")","v":"Tenant-Based Rental Assistance for the Disabled,Chronically Homeless"},{"$f":"IF('CoC Renewal Ranking Report'!G40<>\"\",'CoC Renewal Ranking Report'!G40,\"\")","v":"PH"},{"$f":"IF('CoC Renewal Ranking Report'!G40<>\"\",'CoC Renewal Ranking Report'!BN40,\"\")","v":0.99225589225589228},6]
[{"$f":"IF('CoC Renewal Ranking Report'!D41<>\"\",'CoC Renewal Ranking Report'!D41,\"\")","v":"Lehigh County Housing Authority"},{"$f":"IF('CoC Renewal Ranking Report'!E41<>\"\",'CoC Renewal Ranking Report'!E41,\"\")","v":"LCHA S+C 2016"},{"$f":"IF('CoC Renewal Ranking Report'!G41<>\"\",'CoC Renewal Ranking Report'!G41,\"\")","v":"PH"},{"$f":"IF('CoC Renewal Ranking Report'!G41<>\"\",'CoC Renewal Ranking Report'!BN41,\"\")","v":0.84669668553465793},1]
[{"$f":"IF('CoC Renewal Ranking Report'!D42<>\"\",'CoC Renewal Ranking Report'!D42,\"\")","v":"Maranatha"},{"$f":"IF('CoC Renewal Ranking Report'!E42<>\"\",'CoC Renewal Ranking Report'!E42,\"\")","v":"TOTAL PERSON TRANSITIONAL PROGRAM 1 & 2"},{"$f":"IF('CoC Renewal Ranking Report'!G42<>\"\",'CoC Renewal Ranking Report'!G42,\"\")","v":"PH-RRH"},{"$f":"IF('CoC Renewal Ranking Report'!G42<>\"\",'CoC Renewal Ranking Report'!BN42,\"\")","v":1},6]
[{"$f":"IF('CoC Renewal Ranking Report'!D43<>\"\",'CoC Renewal Ranking Report'!D43,\"\")","v":"Mifflin County"},{"$f":"IF('CoC Renewal Ranking Report'!E43<>\"\",'CoC Renewal Ranking Report'!E43,\"\")","v":"Mifflin County Permanent Housing Renewal"},{"$f":"IF('CoC Renewal Ranking Report'!G43<>\"\",'CoC Renewal Ranking Report'!G43,\"\")","v":"PH"},{"$f":"IF('CoC Renewal Ranking Report'!G43<>\"\",'CoC Renewal Ranking Report'!BN43,\"\")","v":0.32995412078745412},0]
[{"$f":"IF('CoC Renewal Ranking Report'!D44<>\"\",'CoC Renewal Ranking Report'!D44,\"\")","v":"Northampton County Housing Authority"},{"$f":"IF('CoC Renewal Ranking Report'!E44<>\"\",'CoC Renewal Ranking Report'!E44,\"\")","v":"NCHA S+C 2016"},{"$f":"IF('CoC Renewal Ranking Report'!G44<>\"\",'CoC Renewal Ranking Report'!G44,\"\")","v":"PH"},{"$f":"IF('CoC Renewal Ranking Report'!G44<>\"\",'CoC Renewal Ranking Report'!BN44,\"\")","v":0.75654169854628917},0]
[{"$f":"IF('CoC Renewal Ranking Report'!D45<>\"\",'CoC Renewal Ranking Report'!D45,\"\")","v":"Northern Cambria Community Development Corporation"},{"$f":"IF('CoC Renewal Ranking Report'!E45<>\"\",'CoC Renewal Ranking Report'!E45,\"\")","v":"Independence Gardens"},{"$f":"IF('CoC Renewal Ranking Report'!G45<>\"\",'CoC Renewal Ranking Report'!G45,\"\")","v":"PH"},{"$f":"IF('CoC Renewal Ranking Report'!G45<>\"\",'CoC Renewal Ranking Report'!BN45,\"\")","v":1},6]
[{"$f":"IF('CoC Renewal Ranking Report'!D46<>\"\",'CoC Renewal Ranking Report'!D46,\"\")","v":"Northern Cambria Community Development Corporation"},{"$f":"IF('CoC Renewal Ranking Report'!E46<>\"\",'CoC Renewal Ranking Report'!E46,\"\")","v":"Schoolhouse Gardens"},{"$f":"IF('CoC Renewal Ranking Report'!G46<>\"\",'CoC Renewal Ranking Report'!G46,\"\")","v":"PH"},{"$f":"IF('CoC Renewal Ranking Report'!G46<>\"\",'CoC Renewal Ranking Report'!BN46,\"\")","v":0.98434542132380776},6]
[{"$f":"IF('CoC Renewal Ranking Report'!D47<>\"\",'CoC Renewal Ranking Report'!D47,\"\")","v":"Northumberland County MH/MR"},{"$f":"IF('CoC Renewal Ranking Report'!E47<>\"\",'CoC Renewal Ranking Report'!E47,\"\")","v":"Sharing Support"},{"$f":"IF('CoC Renewal Ranking Report'!G47<>\"\",'CoC Renewal Ranking Report'!G47,\"\")","v":"PH"},{"$f":"IF('CoC Renewal Ranking Report'!G47<>\"\",'CoC Renewal Ranking Report'!BN47,\"\")","v":1},6]
[{"$f":"IF('CoC Renewal Ranking Report'!D48<>\"\",'CoC Renewal Ranking Report'!D48,\"\")","v":"Resources for Human Development, Inc."},{"$f":"IF('CoC Renewal Ranking Report'!E48<>\"\",'CoC Renewal Ranking Report'!E48,\"\")","v":"Crossroads Family"},{"$f":"IF('CoC Renewal Ranking Report'!G48<>\"\",'CoC Renewal Ranking Report'!G48,\"\")","v":"PH"},{"$f":"IF('CoC Renewal Ranking Report'!G48<>\"\",'CoC Renewal Ranking Report'!BN48,\"\")","v":0.87945418299850586},1]
[{"$f":"IF('CoC Renewal Ranking Report'!D49<>\"\",'CoC Renewal Ranking Report'!D49,\"\")","v":"Resources for Human Development, Inc."},{"$f":"IF('CoC Renewal Ranking Report'!E49<>\"\",'CoC Renewal Ranking Report'!E49,\"\")","v":"Crossroads Housing Bonus"},{"$f":"IF('CoC Renewal Ranking Report'!G49<>\"\",'CoC Renewal Ranking Report'!G49,\"\")","v":"PH"},{"$f":"IF('CoC Renewal Ranking Report'!G49<>\"\",'CoC Renewal Ranking Report'!BN49,\"\")","v":0.92939923982779393},3]
[{"$f":"IF('CoC Renewal Ranking Report'!D50<>\"\",'CoC Renewal Ranking Report'!D50,\"\")","v":"Resources for Human Development, Inc."},{"$f":"IF('CoC Renewal Ranking Report'!E50<>\"\",'CoC Renewal Ranking Report'!E50,\"\")","v":"Crossroads Individual"},{"$f":"IF('CoC Renewal Ranking Report'!G50<>\"\",'CoC Renewal Ranking Report'!G50,\"\")","v":"PH"},{"$f":"IF('CoC Renewal Ranking Report'!G50<>\"\",'CoC Renewal Ranking Report'!BN50,\"\")","v":0.98914457479476459},6]
[{"$f":"IF('CoC Renewal Ranking Report'!D51<>\"\",'CoC Renewal Ranking Report'!D51,\"\")","v":"Resources for Human Development, Inc."},{"$f":"IF('CoC Renewal Ranking Report'!E51<>\"\",'CoC Renewal Ranking Report'!E51,\"\")","v":"Crossroads Schuylkill Co. Permanent Supportive Housing"},{"$f":"IF('CoC Renewal Ranking Report'!G51<>\"\",'CoC Renewal Ranking Report'!G51,\"\")","v":"PH"},{"$f":"IF('CoC Renewal Ranking Report'!G51<>\"\",'CoC Renewal Ranking Report'!BN51,\"\")","v":0.74168707457655525},0]
[{"$f":"IF('CoC Renewal Ranking Report'!D52<>\"\",'CoC Renewal Ranking Report'!D52,\"\")","v":"Resources for Human Development, Inc."},{"$f":"IF('CoC Renewal Ranking Report'!E52<>\"\",'CoC Renewal Ranking Report'!E52,\"\")","v":"LV ACT Housing Supports"},{"$f":"IF('CoC Renewal Ranking Report'!G52<>\"\",'CoC Renewal Ranking Report'!G52,\"\")","v":"PH"},{"$f":"IF('CoC Renewal Ranking Report'!G52<>\"\",'CoC Renewal Ranking Report'!BN52,\"\")","v":1},6]
[{"$f":"IF('CoC Renewal Ranking Report'!D53<>\"\",'CoC Renewal Ranking Report'!D53,\"\")","v":"Tableland Services, Inc."},{"$f":"IF('CoC Renewal Ranking Report'!E53<>\"\",'CoC Renewal Ranking Report'!E53,\"\")","v":"Permanent Housing with Disabilities (SHP)"},{"$f":"IF('CoC Renewal Ranking Report'!G53<>\"\",'CoC Renewal Ranking Report'!G53,\"\")","v":"PH"},{"$f":"IF('CoC Renewal Ranking Report'!G53<>\"\",'CoC Renewal Ranking Report'!BN53,\"\")","v":0.98517857901218842},6]
[{"$f":"IF('CoC Renewal Ranking Report'!D54<>\"\",'CoC Renewal Ranking Report'!D54,\"\")","v":"Tableland Services, Inc."},{"$f":"IF('CoC Renewal Ranking Report'!E54<>\"\",'CoC Renewal Ranking Report'!E54,\"\")","v":"Permanent Supportive Housing CH Project"},{"$f":"IF('CoC Renewal Ranking Report'!G54<>\"\",'CoC Renewal Ranking Report'!G54,\"\")","v":"PH"},{"$f":"IF('CoC Renewal Ranking Report'!G54<>\"\",'CoC Renewal Ranking Report'!BN54,\"\")","v":0.74609534619750284},0]
[{"$f":"IF('CoC Renewal Ranking Report'!D55<>\"\",'CoC Renewal Ranking Report'!D55,\"\")","v":"The Salvation Army, a New York Corporation"},{"$f":"IF('CoC Renewal Ranking Report'!E55<>\"\",'CoC Renewal Ranking Report'!E55,\"\")","v":"Allentown Hospitality House Permanent Housing Program"},{"$f":"IF('CoC Renewal Ranking Report'!G55<>\"\",'CoC Renewal Ranking Report'!G55,\"\")","v":"PH"},{"$f":"IF('CoC Renewal Ranking Report'!G55<>\"\",'CoC Renewal Ranking Report'!BN55,\"\")","v":0.90959105676764918},3]
[{"$f":"IF('CoC Renewal Ranking Report'!D56<>\"\",'CoC Renewal Ranking Report'!D56,\"\")","v":"The Salvation Army, a New York Corporation"},{"$f":"IF('CoC Renewal Ranking Report'!E56<>\"\",'CoC Renewal Ranking Report'!E56,\"\")","v":"Salvation Army Carlisle PH Project"},{"$f":"IF('CoC Renewal Ranking Report'!G56<>\"\",'CoC Renewal Ranking Report'!G56,\"\")","v":"PH"},{"$f":"IF('CoC Renewal Ranking Report'!G56<>\"\",'CoC Renewal Ranking Report'!BN56,\"\")","v":0.32198100364096882},0]
[{"$f":"IF('CoC Renewal Ranking Report'!D57<>\"\",'CoC Renewal Ranking Report'!D57,\"\")","v":"Union-Snyder Community Action Agency"},{"$f":"IF('CoC Renewal Ranking Report'!E57<>\"\",'CoC Renewal Ranking Report'!E57,\"\")","v":"Union-Snyder Rapid ReHousing Program"},{"$f":"IF('CoC Renewal Ranking Report'!G57<>\"\",'CoC Renewal Ranking Report'!G57,\"\")","v":"PH-RRH"},{"$f":"IF('CoC Renewal Ranking Report'!G57<>\"\",'CoC Renewal Ranking Report'!BN57,\"\")","v":0.74987048633517228},0]
[{"$f":"IF('CoC Renewal Ranking Report'!D58<>\"\",'CoC Renewal Ranking Report'!D58,\"\")","v":"United Christian Ministries"},{"$f":"IF('CoC Renewal Ranking Report'!E58<>\"\",'CoC Renewal Ranking Report'!E58,\"\")","v":"Kenner Garnet Renewal 2016"},{"$f":"IF('CoC Renewal Ranking Report'!G58<>\"\",'CoC Renewal Ranking Report'!G58,\"\")","v":"PH"},{"$f":"IF('CoC Renewal Ranking Report'!G58<>\"\",'CoC Renewal Ranking Report'!BN58,\"\")","v":1},6]
[{"$f":"IF('CoC Renewal Ranking Report'!D59<>\"\",'CoC Renewal Ranking Report'!D59,\"\")","v":"Valley Housing Development Corporation "},{"$f":"IF('CoC Renewal Ranking Report'!E59<>\"\",'CoC Renewal Ranking Report'!E59,\"\")","v":"VHDC SHP #2 2016"},{"$f":"IF('CoC Renewal Ranking Report'!G59<>\"\",'CoC Renewal Ranking Report'!G59,\"\")","v":"PH"},{"$f":"IF('CoC Renewal Ranking Report'!G59<>\"\",'CoC Renewal Ranking Report'!BN59,\"\")","v":0.88340872868024511},1]
[{"$f":"IF('CoC Renewal Ranking Report'!D60<>\"\",'CoC Renewal Ranking Report'!D60,\"\")","v":"Valley Housing Development Corporation "},{"$f":"IF('CoC Renewal Ranking Report'!E60<>\"\",'CoC Renewal Ranking Report'!E60,\"\")","v":"VHDC SHP #3 2016"},{"$f":"IF('CoC Renewal Ranking Report'!G60<>\"\",'CoC Renewal Ranking Report'!G60,\"\")","v":"PH"},{"$f":"IF('CoC Renewal Ranking Report'!G60<>\"\",'CoC Renewal Ranking Report'!BN60,\"\")","v":0.85723340581047358},1]
[{"$f":"IF('CoC Renewal Ranking Report'!D61<>\"\",'CoC Renewal Ranking Report'!D61,\"\")","v":"Valley Housing Development Corporation "},{"$f":"IF('CoC Renewal Ranking Report'!E61<>\"\",'CoC Renewal Ranking Report'!E61,\"\")","v":"VHDC SHP #4 2016"},{"$f":"IF('CoC Renewal Ranking Report'!G61<>\"\",'CoC Renewal Ranking Report'!G61,\"\")","v":"PH"},{"$f":"IF('CoC Renewal Ranking Report'!G61<>\"\",'CoC Renewal Ranking Report'!BN61,\"\")","v":0.86686130984128151},1]
[{"$f":"IF('CoC Renewal Ranking Report'!D62<>\"\",'CoC Renewal Ranking Report'!D62,\"\")","v":""},{"$f":"IF('CoC Renewal Ranking Report'!E62<>\"\",'CoC Renewal Ranking Report'!E62,\"\")","v":""},{"$f":"IF('CoC Renewal Ranking Report'!G62<>\"\",'CoC Renewal Ranking Report'!G62,\"\")","v":""},{"$f":"IF('CoC Renewal Ranking Report'!G62<>\"\",'CoC Renewal Ranking Report'!BN62,\"\")","v":""},""]
[{"$f":"IF('CoC Renewal Ranking Report'!D63<>\"\",'CoC Renewal Ranking Report'!D63,\"\")","v":""},{"$f":"IF('CoC Renewal Ranking Report'!E63<>\"\",'CoC Renewal Ranking Report'!E63,\"\")","v":""},{"$f":"IF('CoC Renewal Ranking Report'!G63<>\"\",'CoC Renewal Ranking Report'!G63,\"\")","v":""},{"$f":"IF('CoC Renewal Ranking Report'!G63<>\"\",'CoC Renewal Ranking Report'!BN63,\"\")","v":""},""]
[{"$f":"IF('CoC Renewal Ranking Report'!D64<>\"\",'CoC Renewal Ranking Report'!D64,\"\")","v":""},{"$f":"IF('CoC Renewal Ranking Report'!E64<>\"\",'CoC Renewal Ranking Report'!E64,\"\")","v":""},{"$f":"IF('CoC Renewal Ranking Report'!G64<>\"\",'CoC Renewal Ranking Report'!G64,\"\")","v":""},{"$f":"IF('CoC Renewal Ranking Report'!G64<>\"\",'CoC Renewal Ranking Report'!BN64,\"\")","v":""},""]
[{"$f":"IF('CoC Renewal Ranking Report'!D65<>\"\",'CoC Renewal Ranking Report'!D65,\"\")","v":""},{"$f":"IF('CoC Renewal Ranking Report'!E65<>\"\",'CoC Renewal Ranking Report'!E65,\"\")","v":""},{"$f":"IF('CoC Renewal Ranking Report'!G65<>\"\",'CoC Renewal Ranking Report'!G65,\"\")","v":""},{"$f":"IF('CoC Renewal Ranking Report'!G65<>\"\",'CoC Renewal Ranking Report'!BN65,\"\")","v":""},""]
[{"$f":"IF('CoC Renewal Ranking Report'!D66<>\"\",'CoC Renewal Ranking Report'!D66,\"\")","v":""},{"$f":"IF('CoC Renewal Ranking Report'!E66<>\"\",'CoC Renewal Ranking Report'!E66,\"\")","v":""},{"$f":"IF('CoC Renewal Ranking Report'!G66<>\"\",'CoC Renewal Ranking Report'!G66,\"\")","v":""},{"$f":"IF('CoC Renewal Ranking Report'!G66<>\"\",'CoC Renewal Ranking Report'!BN66,\"\")","v":""},""]
[{"$f":"IF('CoC Renewal Ranking Report'!D67<>\"\",'CoC Renewal Ranking Report'!D67,\"\")","v":""},{"$f":"IF('CoC Renewal Ranking Report'!E67<>\"\",'CoC Renewal Ranking Report'!E67,\"\")","v":""},{"$f":"IF('CoC Renewal Ranking Report'!G67<>\"\",'CoC Renewal Ranking Report'!G67,\"\")","v":""},{"$f":"IF('CoC Renewal Ranking Report'!G67<>\"\",'CoC Renewal Ranking Report'!BN67,\"\")","v":""},""]
[{"$f":"IF('CoC Renewal Ranking Report'!D68<>\"\",'CoC Renewal Ranking Report'!D68,\"\")","v":""},{"$f":"IF('CoC Renewal Ranking Report'!E68<>\"\",'CoC Renewal Ranking Report'!E68,\"\")","v":""},{"$f":"IF('CoC Renewal Ranking Report'!G68<>\"\",'CoC Renewal Ranking Report'!G68,\"\")","v":""},{"$f":"IF('CoC Renewal Ranking Report'!G68<>\"\",'CoC Renewal Ranking Report'!BN68,\"\")","v":""},""]
[{"$f":"IF('CoC Renewal Ranking Report'!D69<>\"\",'CoC Renewal Ranking Report'!D69,\"\")","v":""},{"$f":"IF('CoC Renewal Ranking Report'!E69<>\"\",'CoC Renewal Ranking Report'!E69,\"\")","v":""},{"$f":"IF('CoC Renewal Ranking Report'!G69<>\"\",'CoC Renewal Ranking Report'!G69,\"\")","v":""},{"$f":"IF('CoC Renewal Ranking Report'!G69<>\"\",'CoC Renewal Ranking Report'!BN69,\"\")","v":""},""]
[{"$f":"IF('CoC Renewal Ranking Report'!D70<>\"\",'CoC Renewal Ranking Report'!D70,\"\")","v":""},{"$f":"IF('CoC Renewal Ranking Report'!E70<>\"\",'CoC Renewal Ranking Report'!E70,\"\")","v":""},{"$f":"IF('CoC Renewal Ranking Report'!G70<>\"\",'CoC Renewal Ranking Report'!G70,\"\")","v":""},{"$f":"IF('CoC Renewal Ranking Report'!G70<>\"\",'CoC Renewal Ranking Report'!BN70,\"\")","v":""},""]
[{"$f":"IF('CoC Renewal Ranking Report'!D71<>\"\",'CoC Renewal Ranking Report'!D71,\"\")","v":""},{"$f":"IF('CoC Renewal Ranking Report'!E71<>\"\",'CoC Renewal Ranking Report'!E71,\"\")","v":""},{"$f":"IF('CoC Renewal Ranking Report'!G71<>\"\",'CoC Renewal Ranking Report'!G71,\"\")","v":""},{"$f":"IF('CoC Renewal Ranking Report'!G71<>\"\",'CoC Renewal Ranking Report'!BN71,\"\")","v":""},""]
[{"$f":"IF('CoC Renewal Ranking Report'!D72<>\"\",'CoC Renewal Ranking Report'!D72,\"\")","v":""},{"$f":"IF('CoC Renewal Ranking Report'!E72<>\"\",'CoC Renewal Ranking Report'!E72,\"\")","v":""},{"$f":"IF('CoC Renewal Ranking Report'!G72<>\"\",'CoC Renewal Ranking Report'!G72,\"\")","v":""},{"$f":"IF('CoC Renewal Ranking Report'!G72<>\"\",'CoC Renewal Ranking Report'!BN72,\"\")","v":""},""]
[{"$f":"IF('CoC Renewal Ranking Report'!D73<>\"\",'CoC Renewal Ranking Report'!D73,\"\")","v":""},{"$f":"IF('CoC Renewal Ranking Report'!E73<>\"\",'CoC Renewal Ranking Report'!E73,\"\")","v":""},{"$f":"IF('CoC Renewal Ranking Report'!G73<>\"\",'CoC Renewal Ranking Report'!G73,\"\")","v":""},{"$f":"IF('CoC Renewal Ranking Report'!G73<>\"\",'CoC Renewal Ranking Report'!BN73,\"\")","v":""},""]
[{"$f":"IF('CoC Renewal Ranking Report'!D74<>\"\",'CoC Renewal Ranking Report'!D74,\"\")","v":""},{"$f":"IF('CoC Renewal Ranking Report'!E74<>\"\",'CoC Renewal Ranking Report'!E74,\"\")","v":""},{"$f":"IF('CoC Renewal Ranking Report'!G74<>\"\",'CoC Renewal Ranking Report'!G74,\"\")","v":""},{"$f":"IF('CoC Renewal Ranking Report'!G74<>\"\",'CoC Renewal Ranking Report'!BN74,\"\")","v":""},{"$f":"IF(AND(A74<>\"\", D74<>\"\"), IF(D74 >= 0.95, 6, IF(AND(D74 < 0.95, D74 >= 0.9), 3, IF(AND(D74 < 0.9, D74 >= 0.845), 1, 0))), \"\")","v":""}]
[{"$f":"IF('CoC Renewal Ranking Report'!D75<>\"\",'CoC Renewal Ranking Report'!D75,\"\")","v":""},{"$f":"IF('CoC Renewal Ranking Report'!E75<>\"\",'CoC Renewal Ranking Report'!E75,\"\")","v":""},{"$f":"IF('CoC Renewal Ranking Report'!G75<>\"\",'CoC Renewal Ranking Report'!G75,\"\")","v":""},{"$f":"IF('CoC Renewal Ranking Report'!G75<>\"\",'CoC Renewal Ranking Report'!BN75,\"\")","v":""},""]
[{"$f":"IF('CoC Renewal Ranking Report'!D76<>\"\",'CoC Renewal Ranking Report'!D76,\"\")","v":""},{"$f":"IF('CoC Renewal Ranking Report'!E76<>\"\",'CoC Renewal Ranking Report'!E76,\"\")","v":""},{"$f":"IF('CoC Renewal Ranking Report'!G76<>\"\",'CoC Renewal Ranking Report'!G76,\"\")","v":""},{"$f":"IF('CoC Renewal Ranking Report'!G76<>\"\",'CoC Renewal Ranking Report'!BN76,\"\")","v":""},""]
[{"$f":"IF('CoC Renewal Ranking Report'!D77<>\"\",'CoC Renewal Ranking Report'!D77,\"\")","v":""},{"$f":"IF('CoC Renewal Ranking Report'!E77<>\"\",'CoC Renewal Ranking Report'!E77,\"\")","v":""},{"$f":"IF('CoC Renewal Ranking Report'!G77<>\"\",'CoC Renewal Ranking Report'!G77,\"\")","v":""},{"$f":"IF('CoC Renewal Ranking Report'!G77<>\"\",'CoC Renewal Ranking Report'!BN77,\"\")","v":""},""]
[{"$f":"IF('CoC Renewal Ranking Report'!D78<>\"\",'CoC Renewal Ranking Report'!D78,\"\")","v":""},{"$f":"IF('CoC Renewal Ranking Report'!E78<>\"\",'CoC Renewal Ranking Report'!E78,\"\")","v":""},{"$f":"IF('CoC Renewal Ranking Report'!G78<>\"\",'CoC Renewal Ranking Report'!G78,\"\")","v":""},{"$f":"IF('CoC Renewal Ranking Report'!G78<>\"\",'CoC Renewal Ranking Report'!BN78,\"\")","v":""},""]
[{"$f":"IF('CoC Renewal Ranking Report'!D79<>\"\",'CoC Renewal Ranking Report'!D79,\"\")","v":""},{"$f":"IF('CoC Renewal Ranking Report'!E79<>\"\",'CoC Renewal Ranking Report'!E79,\"\")","v":""},{"$f":"IF('CoC Renewal Ranking Report'!G79<>\"\",'CoC Renewal Ranking Report'!G79,\"\")","v":""},{"$f":"IF('CoC Renewal Ranking Report'!G79<>\"\",'CoC Renewal Ranking Report'!BN79,\"\")","v":""},""]
[{"$f":"IF('CoC Renewal Ranking Report'!D80<>\"\",'CoC Renewal Ranking Report'!D80,\"\")","v":""},{"$f":"IF('CoC Renewal Ranking Report'!E80<>\"\",'CoC Renewal Ranking Report'!E80,\"\")","v":""},{"$f":"IF('CoC Renewal Ranking Report'!G80<>\"\",'CoC Renewal Ranking Report'!G80,\"\")","v":""},{"$f":"IF('CoC Renewal Ranking Report'!G80<>\"\",'CoC Renewal Ranking Report'!BN80,\"\")","v":""},""]
[{"$f":"IF('CoC Renewal Ranking Report'!D81<>\"\",'CoC Renewal Ranking Report'!D81,\"\")","v":""},{"$f":"IF('CoC Renewal Ranking Report'!E81<>\"\",'CoC Renewal Ranking Report'!E81,\"\")","v":""},{"$f":"IF('CoC Renewal Ranking Report'!G81<>\"\",'CoC Renewal Ranking Report'!G81,\"\")","v":""},{"$f":"IF('CoC Renewal Ranking Report'!G81<>\"\",'CoC Renewal Ranking Report'!BN81,\"\")","v":""},""]
[{"$f":"IF('CoC Renewal Ranking Report'!D82<>\"\",'CoC Renewal Ranking Report'!D82,\"\")","v":""},{"$f":"IF('CoC Renewal Ranking Report'!E82<>\"\",'CoC Renewal Ranking Report'!E82,\"\")","v":""},{"$f":"IF('CoC Renewal Ranking Report'!G82<>\"\",'CoC Renewal Ranking Report'!G82,\"\")","v":""},{"$f":"IF('CoC Renewal Ranking Report'!G82<>\"\",'CoC Renewal Ranking Report'!BN82,\"\")","v":""},""]
[{"$f":"IF('CoC Renewal Ranking Report'!D83<>\"\",'CoC Renewal Ranking Report'!D83,\"\")","v":""},{"$f":"IF('CoC Renewal Ranking Report'!E83<>\"\",'CoC Renewal Ranking Report'!E83,\"\")","v":""},{"$f":"IF('CoC Renewal Ranking Report'!G83<>\"\",'CoC Renewal Ranking Report'!G83,\"\")","v":""},{"$f":"IF('CoC Renewal Ranking Report'!G83<>\"\",'CoC Renewal Ranking Report'!BN83,\"\")","v":""},""]
[{"$f":"IF('CoC Renewal Ranking Report'!D84<>\"\",'CoC Renewal Ranking Report'!D84,\"\")","v":""},{"$f":"IF('CoC Renewal Ranking Report'!E84<>\"\",'CoC Renewal Ranking Report'!E84,\"\")","v":""},{"$f":"IF('CoC Renewal Ranking Report'!G84<>\"\",'CoC Renewal Ranking Report'!G84,\"\")","v":""},{"$f":"IF('CoC Renewal Ranking Report'!G84<>\"\",'CoC Renewal Ranking Report'!BN84,\"\")","v":""},""]
[{"$f":"IF('CoC Renewal Ranking Report'!D85<>\"\",'CoC Renewal Ranking Report'!D85,\"\")","v":""},{"$f":"IF('CoC Renewal Ranking Report'!E85<>\"\",'CoC Renewal Ranking Report'!E85,\"\")","v":""},{"$f":"IF('CoC Renewal Ranking Report'!G85<>\"\",'CoC Renewal Ranking Report'!G85,\"\")","v":""},{"$f":"IF('CoC Renewal Ranking Report'!G85<>\"\",'CoC Renewal Ranking Report'!BN85,\"\")","v":""},""]
[{"$f":"IF('CoC Renewal Ranking Report'!D86<>\"\",'CoC Renewal Ranking Report'!D86,\"\")","v":""},{"$f":"IF('CoC Renewal Ranking Report'!E86<>\"\",'CoC Renewal Ranking Report'!E86,\"\")","v":""},{"$f":"IF('CoC Renewal Ranking Report'!G86<>\"\",'CoC Renewal Ranking Report'!G86,\"\")","v":""},{"$f":"IF('CoC Renewal Ranking Report'!G86<>\"\",'CoC Renewal Ranking Report'!BN86,\"\")","v":""},""]
[{"$f":"IF('CoC Renewal Ranking Report'!D87<>\"\",'CoC Renewal Ranking Report'!D87,\"\")","v":""},{"$f":"IF('CoC Renewal Ranking Report'!E87<>\"\",'CoC Renewal Ranking Report'!E87,\"\")","v":""},{"$f":"IF('CoC Renewal Ranking Report'!G87<>\"\",'CoC Renewal Ranking Report'!G87,\"\")","v":""},{"$f":"IF('CoC Renewal Ranking Report'!G87<>\"\",'CoC Renewal Ranking Report'!BN87,\"\")","v":""},""]
[{"$f":"IF('CoC Renewal Ranking Report'!D88<>\"\",'CoC Renewal Ranking Report'!D88,\"\")","v":""},{"$f":"IF('CoC Renewal Ranking Report'!E88<>\"\",'CoC Renewal Ranking Report'!E88,\"\")","v":""},{"$f":"IF('CoC Renewal Ranking Report'!G88<>\"\",'CoC Renewal Ranking Report'!G88,\"\")","v":""},{"$f":"IF('CoC Renewal Ranking Report'!G88<>\"\",'CoC Renewal Ranking Report'!BN88,\"\")","v":""},""]
[{"$f":"IF('CoC Renewal Ranking Report'!D89<>\"\",'CoC Renewal Ranking Report'!D89,\"\")","v":""},{"$f":"IF('CoC Renewal Ranking Report'!E89<>\"\",'CoC Renewal Ranking Report'!E89,\"\")","v":""},{"$f":"IF('CoC Renewal Ranking Report'!G89<>\"\",'CoC Renewal Ranking Report'!G89,\"\")","v":""},{"$f":"IF('CoC Renewal Ranking Report'!G89<>\"\",'CoC Renewal Ranking Report'!BN89,\"\")","v":""},""]
[{"$f":"IF('CoC Renewal Ranking Report'!D90<>\"\",'CoC Renewal Ranking Report'!D90,\"\")","v":""},{"$f":"IF('CoC Renewal Ranking Report'!E90<>\"\",'CoC Renewal Ranking Report'!E90,\"\")","v":""},{"$f":"IF('CoC Renewal Ranking Report'!G90<>\"\",'CoC Renewal Ranking Report'!G90,\"\")","v":""},{"$f":"IF('CoC Renewal Ranking Report'!G90<>\"\",'CoC Renewal Ranking Report'!BN90,\"\")","v":""},""]
[{"$f":"IF('CoC Renewal Ranking Report'!D91<>\"\",'CoC Renewal Ranking Report'!D91,\"\")","v":""},{"$f":"IF('CoC Renewal Ranking Report'!E91<>\"\",'CoC Renewal Ranking Report'!E91,\"\")","v":""},{"$f":"IF('CoC Renewal Ranking Report'!G91<>\"\",'CoC Renewal Ranking Report'!G91,\"\")","v":""},{"$f":"IF('CoC Renewal Ranking Report'!G91<>\"\",'CoC Renewal Ranking Report'!BN91,\"\")","v":""},""]
[{"$f":"IF('CoC Renewal Ranking Report'!D92<>\"\",'CoC Renewal Ranking Report'!D92,\"\")","v":""},{"$f":"IF('CoC Renewal Ranking Report'!E92<>\"\",'CoC Renewal Ranking Report'!E92,\"\")","v":""},{"$f":"IF('CoC Renewal Ranking Report'!G92<>\"\",'CoC Renewal Ranking Report'!G92,\"\")","v":""},{"$f":"IF('CoC Renewal Ranking Report'!G92<>\"\",'CoC Renewal Ranking Report'!BN92,\"\")","v":""},""]
[{"$f":"IF('CoC Renewal Ranking Report'!D93<>\"\",'CoC Renewal Ranking Report'!D93,\"\")","v":""},{"$f":"IF('CoC Renewal Ranking Report'!E93<>\"\",'CoC Renewal Ranking Report'!E93,\"\")","v":""},{"$f":"IF('CoC Renewal Ranking Report'!G93<>\"\",'CoC Renewal Ranking Report'!G93,\"\")","v":""},{"$f":"IF('CoC Renewal Ranking Report'!G93<>\"\",'CoC Renewal Ranking Report'!BN93,\"\")","v":""},""]
[{"$f":"IF('CoC Renewal Ranking Report'!D94<>\"\",'CoC Renewal Ranking Report'!D94,\"\")","v":""},{"$f":"IF('CoC Renewal Ranking Report'!E94<>\"\",'CoC Renewal Ranking Report'!E94,\"\")","v":""},{"$f":"IF('CoC Renewal Ranking Report'!G94<>\"\",'CoC Renewal Ranking Report'!G94,\"\")","v":""},{"$f":"IF('CoC Renewal Ranking Report'!G94<>\"\",'CoC Renewal Ranking Report'!BN94,\"\")","v":""},""]
[{"$f":"IF('CoC Renewal Ranking Report'!D95<>\"\",'CoC Renewal Ranking Report'!D95,\"\")","v":""},{"$f":"IF('CoC Renewal Ranking Report'!E95<>\"\",'CoC Renewal Ranking Report'!E95,\"\")","v":""},{"$f":"IF('CoC Renewal Ranking Report'!G95<>\"\",'CoC Renewal Ranking Report'!G95,\"\")","v":""},{"$f":"IF('CoC Renewal Ranking Report'!G95<>\"\",'CoC Renewal Ranking Report'!BN95,\"\")","v":""},""]
[{"$f":"IF('CoC Renewal Ranking Report'!D96<>\"\",'CoC Renewal Ranking Report'!D96,\"\")","v":""},{"$f":"IF('CoC Renewal Ranking Report'!E96<>\"\",'CoC Renewal Ranking Report'!E96,\"\")","v":""},{"$f":"IF('CoC Renewal Ranking Report'!G96<>\"\",'CoC Renewal Ranking Report'!G96,\"\")","v":""},{"$f":"IF('CoC Renewal Ranking Report'!G96<>\"\",'CoC Renewal Ranking Report'!BN96,\"\")","v":""},""]
[{"$f":"IF('CoC Renewal Ranking Report'!D97<>\"\",'CoC Renewal Ranking Report'!D97,\"\")","v":""},{"$f":"IF('CoC Renewal Ranking Report'!E97<>\"\",'CoC Renewal Ranking Report'!E97,\"\")","v":""},{"$f":"IF('CoC Renewal Ranking Report'!G97<>\"\",'CoC Renewal Ranking Report'!G97,\"\")","v":""},{"$f":"IF('CoC Renewal Ranking Report'!G97<>\"\",'CoC Renewal Ranking Report'!BN97,\"\")","v":""},""]
[{"$f":"IF('CoC Renewal Ranking Report'!D98<>\"\",'CoC Renewal Ranking Report'!D98,\"\")","v":""},{"$f":"IF('CoC Renewal Ranking Report'!E98<>\"\",'CoC Renewal Ranking Report'!E98,\"\")","v":""},{"$f":"IF('CoC Renewal Ranking Report'!G98<>\"\",'CoC Renewal Ranking Report'!G98,\"\")","v":""},{"$f":"IF('CoC Renewal Ranking Report'!G98<>\"\",'CoC Renewal Ranking Report'!BN98,\"\")","v":""},""]
[{"$f":"IF('CoC Renewal Ranking Report'!D99<>\"\",'CoC Renewal Ranking Report'!D99,\"\")","v":""},{"$f":"IF('CoC Renewal Ranking Report'!E99<>\"\",'CoC Renewal Ranking Report'!E99,\"\")","v":""},{"$f":"IF('CoC Renewal Ranking Report'!G99<>\"\",'CoC Renewal Ranking Report'!G99,\"\")","v":""},{"$f":"IF('CoC Renewal Ranking Report'!G99<>\"\",'CoC Renewal Ranking Report'!BN99,\"\")","v":""},""]
[{"$f":"IF('CoC Renewal Ranking Report'!D100<>\"\",'CoC Renewal Ranking Report'!D100,\"\")","v":""},{"$f":"IF('CoC Renewal Ranking Report'!E100<>\"\",'CoC Renewal Ranking Report'!E100,\"\")","v":""},{"$f":"IF('CoC Renewal Ranking Report'!G100<>\"\",'CoC Renewal Ranking Report'!G100,\"\")","v":""},{"$f":"IF('CoC Renewal Ranking Report'!G100<>\"\",'CoC Renewal Ranking Report'!BN100,\"\")","v":""},""]
[{"$f":"IF('CoC Renewal Ranking Report'!D101<>\"\",'CoC Renewal Ranking Report'!D101,\"\")","v":""},{"$f":"IF('CoC Renewal Ranking Report'!E101<>\"\",'CoC Renewal Ranking Report'!E101,\"\")","v":""},{"$f":"IF('CoC Renewal Ranking Report'!G101<>\"\",'CoC Renewal Ranking Report'!G101,\"\")","v":""},{"$f":"IF('CoC Renewal Ranking Report'!G101<>\"\",'CoC Renewal Ranking Report'!BN101,\"\")","v":""},""]
[{"$f":"IF('CoC Renewal Ranking Report'!D102<>\"\",'CoC Renewal Ranking Report'!D102,\"\")","v":""},{"$f":"IF('CoC Renewal Ranking Report'!E102<>\"\",'CoC Renewal Ranking Report'!E102,\"\")","v":""},{"$f":"IF('CoC Renewal Ranking Report'!G102<>\"\",'CoC Renewal Ranking Report'!G102,\"\")","v":""},{"$f":"IF('CoC Renewal Ranking Report'!G102<>\"\",'CoC Renewal Ranking Report'!BN102,\"\")","v":""},""]

{"sheet":"Timely APR Submission","index":13,"n_rows":102,"n_cols":5,"rows_kept":102,"cut":false,"hidden":false,"merged":[]}
[null,"Timely APR Submission"]
[null,"Criteria - (*not scoring)"]
[null,"Submission timeframe"]
[]
["Agency Name","Project Name","Project Type","Days Late","Score"]
[{"$f":"IF('CoC Renewal Ranking Report'!D9<>\"\",'CoC Renewal Ranking Report'!D9,\"\")","v":""},{"$f":"IF('CoC Renewal Ranking Report'!E9<>\"\",'CoC Renewal Ranking Report'!E9,\"\")","v":""},{"$f":"IF('CoC Renewal Ranking Report'!G9<>\"\",'CoC Renewal Ranking Report'!G9,\"\")","v":""},{"$f":"IF('CoC Renewal Ranking Report'!H9<>\"\",'CoC Renewal Ranking Report'!BO9,\"\")","v":""}]
[{"$f":"IF('CoC Renewal Ranking Report'!D10<>\"\",'CoC Renewal Ranking Report'!D10,\"\")","v":"Blair County Community Action Program"},{"$f":"IF('CoC Renewal Ranking Report'!E10<>\"\",'CoC Renewal Ranking Report'!E10,\"\")","v":"Rapid Re-Housing"},{"$f":"IF('CoC Renewal Ranking Report'!G10<>\"\",'CoC Renewal Ranking Report'!G10,\"\")","v":"PH-RRH"},{"$f":"IF('CoC Renewal Ranking Report'!H10<>\"\",'CoC Renewal Ranking Report'!BO10,\"\")","v":"On Time"}]
[{"$f":"IF('CoC Renewal Ranking Report'!D11<>\"\",'CoC Renewal Ranking Report'!D11,\"\")","v":"Cambria County"},{"$f":"IF('CoC Renewal Ranking Report'!E11<>\"\",'CoC Renewal Ranking Report'!E11,\"\")","v":"Cambria County Comprehensive Housing Program"},{"$f":"IF('CoC Renewal Ranking Report'!G11<>\"\",'CoC Renewal Ranking Report'!G11,\"\")","v":"PH"},{"$f":"IF('CoC Renewal Ranking Report'!H11<>\"\",'CoC Renewal Ranking Report'!BO11,\"\")","v":"8+ Days"}]
[{"$f":"IF('CoC Renewal Ranking Report'!D12<>\"\",'CoC Renewal Ranking Report'!D12,\"\")","v":"Catholic Charities of the Diocese of Allentown"},{"$f":"IF('CoC Renewal Ranking Report'!E12<>\"\",'CoC Renewal Ranking Report'!E12,\"\")","v":"Catholic Charities Allentown Permanent Housing Program"},{"$f":"IF('CoC Renewal Ranking Report'!G12<>\"\",'CoC Renewal Ranking Report'!G12,\"\")","v":"PH"},{"$f":"IF('CoC Renewal Ranking Report'!H12<>\"\",'CoC Renewal Ranking Report'!BO12,\"\")","v":"On Time"}]
[{"$f":"IF('CoC Renewal Ranking Report'!D13<>\"\",'CoC Renewal Ranking Report'!D13,\"\")","v":"Catholic Social Services of the Diocese of Scranton, Inc."},{"$f":"IF('CoC Renewal Ranking Report'!E13<>\"\",'CoC Renewal Ranking Report'!E13,\"\")","v":"PSHP Pike County"},{"$f":"IF('CoC Renewal Ranking Report'!G13<>\"\",'CoC Renewal Ranking Report'!G13,\"\")","v":"PH"},{"$f":"IF('CoC Renewal Ranking Report'!H13<>\"\",'CoC Renewal Ranking Report'!BO13,\"\")","v":"On Time"}]
[{"$f":"IF('CoC Renewal Ranking Report'!D14<>\"\",'CoC Renewal Ranking Report'!D14,\"\")","v":"Catholic Social Services of the Diocese of Scranton, Inc."},{"$f":"IF('CoC Renewal Ranking Report'!E14<>\"\",'CoC Renewal Ranking Report'!E14,\"\")","v":"Rural Permanent Supportive Housing Program"},{"$f":"IF('CoC Renewal Ranking Report'!G14<>\"\",'CoC Renewal Ranking Report'!G14,\"\")","v":"PH"},{"$f":"IF('CoC Renewal Ranking Report'!H14<>\"\",'CoC Renewal Ranking Report'!BO14,\"\")","v":"1 - 7 Days"}]
[{"$f":"IF('CoC Renewal Ranking Report'!D15<>\"\",'CoC Renewal Ranking Report'!D15,\"\")","v":"Catholic Social Services of the Diocese of Scranton, Inc."},{"$f":"IF('CoC Renewal Ranking Report'!E15<>\"\",'CoC Renewal Ranking Report'!E15,\"\")","v":"Susquehanna/Wayne PSHP"},{"$f":"IF('CoC Renewal Ranking Report'!G15<>\"\",'CoC Renewal Ranking Report'!G15,\"\")","v":"PH"},{"$f":"IF('CoC Renewal Ranking Report'!H15<>\"\",'CoC Renewal Ranking Report'!BO15,\"\")","v":"1 - 7 Days"}]
[{"$f":"IF('CoC Renewal Ranking Report'!D16<>\"\",'CoC Renewal Ranking Report'!D16,\"\")","v":"Center for Community Action"},{"$f":"IF('CoC Renewal Ranking Report'!E16<>\"\",'CoC Renewal Ranking Report'!E16,\"\")","v":"Bedford,Fulton, Huntingdon RRH"},{"$f":"IF('CoC Renewal Ranking Report'!G16<>\"\",'CoC Renewal Ranking Report'!G16,\"\")","v":"PH-RRH"},{"$f":"IF('CoC Renewal Ranking Report'!H16<>\"\",'CoC Renewal Ranking Report'!BO16,\"\")","v":"On Time"}]
[{"$f":"IF('CoC Renewal Ranking Report'!D17<>\"\",'CoC Renewal Ranking Report'!D17,\"\")","v":"County of Franklin"},{"$f":"IF('CoC Renewal Ranking Report'!E17<>\"\",'CoC Renewal Ranking Report'!E17,\"\")","v":"Franklin/ Fulton S+C Project 2017"},{"$f":"IF('CoC Renewal Ranking Report'!G17<>\"\",'CoC Renewal Ranking Report'!G17,\"\")","v":"PH"},{"$f":"IF('CoC Renewal Ranking Report'!H17<>\"\",'CoC Renewal Ranking Report'!BO17,\"\")","v":"On Time"}]
[{"$f":"IF('CoC Renewal Ranking Report'!D18<>\"\",'CoC Renewal Ranking Report'!D18,\"\")","v":"County of Franklin"},{"$f":"IF('CoC Renewal Ranking Report'!E18<>\"\",'CoC Renewal Ranking Report'!E18,\"\")","v":"Franklin/Fulton Homeless Assistance Project 2017"},{"$f":"IF('CoC Renewal Ranking Report'!G18<>\"\",'CoC Renewal Ranking Report'!G18,\"\")","v":"PH"},{"$f":"IF('CoC Renewal Ranking Report'!H18<>\"\",'CoC Renewal Ranking Report'!BO18,\"\")","v":"On Time"}]
[{"$f":"IF('CoC Renewal Ranking Report'!D19<>\"\",'CoC Renewal Ranking Report'!D19,\"\")","v":"County of Lycoming DBA Lycoming- Clinton Joinder Board"},{"$f":"IF('CoC Renewal Ranking Report'!E19<>\"\",'CoC Renewal Ranking Report'!E19,\"\")","v":"Lycoming/Clinton Renewal #5"},{"$f":"IF('CoC Renewal Ranking Report'!G19<>\"\",'CoC Renewal Ranking Report'!G19,\"\")","v":"PH"},{"$f":"IF('CoC Renewal Ranking Report'!H19<>\"\",'CoC Renewal Ranking Report'!BO19,\"\")","v":"8+ Days"}]
[{"$f":"IF('CoC Renewal Ranking Report'!D20<>\"\",'CoC Renewal Ranking Report'!D20,\"\")","v":"Fitzmaurice Community Services, Inc"},{"$f":"IF('CoC Renewal Ranking Report'!E20<>\"\",'CoC Renewal Ranking Report'!E20,\"\")","v":"Pathfinders"},{"$f":"IF('CoC Renewal Ranking Report'!G20<>\"\",'CoC Renewal Ranking Report'!G20,\"\")","v":"PH"},{"$f":"IF('CoC Renewal Ranking Report'!H20<>\"\",'CoC Renewal Ranking Report'!BO20,\"\")","v":"On Time"}]
[{"$f":"IF('CoC Renewal Ranking Report'!D21<>\"\",'CoC Renewal Ranking Report'!D21,\"\")","v":"Home Nursing AgencyCommunity Services"},{"$f":"IF('CoC Renewal Ranking Report'!E21<>\"\",'CoC Renewal Ranking Report'!E21,\"\")","v":"Housing Assistance and Rental Program"},{"$f":"IF('CoC Renewal Ranking Report'!G21<>\"\",'CoC Renewal Ranking Report'!G21,\"\")","v":"PH"},{"$f":"IF('CoC Renewal Ranking Report'!H21<>\"\",'CoC Renewal Ranking Report'!BO21,\"\")","v":"1 - 7 Days"}]
[{"$f":"IF('CoC Renewal Ranking Report'!D22<>\"\",'CoC Renewal Ranking Report'!D22,\"\")","v":"Housing Authority of Monroe County"},{"$f":"IF('CoC Renewal Ranking Report'!E22<>\"\",'CoC Renewal Ranking Report'!E22,\"\")","v":"Renewal Application Shelter Plus Care MC 2016"},{"$f":"IF('CoC Renewal Ranking Report'!G22<>\"\",'CoC Renewal Ranking Report'!G22,\"\")","v":"PH"},{"$f":"IF('CoC Renewal Ranking Report'!H22<>\"\",'CoC Renewal Ranking Report'!BO22,\"\")","v":"On Time"}]
[{"$f":"IF('CoC Renewal Ranking Report'!D23<>\"\",'CoC Renewal Ranking Report'!D23,\"\")","v":"Housing Authority of the County of Cumberland"},{"$f":"IF('CoC Renewal Ranking Report'!E23<>\"\",'CoC Renewal Ranking Report'!E23,\"\")","v":"Carlisle Supportive Housing Program"},{"$f":"IF('CoC Renewal Ranking Report'!G23<>\"\",'CoC Renewal Ranking Report'!G23,\"\")","v":"PH"},{"$f":"IF('CoC Renewal Ranking Report'!H23<>\"\",'CoC Renewal Ranking Report'!BO23,\"\")","v":"On Time"}]
[{"$f":"IF('CoC Renewal Ranking Report'!D24<>\"\",'CoC Renewal Ranking Report'!D24,\"\")","v":"Housing Authority of the County of Cumberland"},{"$f":"IF('CoC Renewal Ranking Report'!E24<>\"\",'CoC Renewal Ranking Report'!E24,\"\")","v":"Perry County Permanent SHP"},{"$f":"IF('CoC Renewal Ranking Report'!G24<>\"\",'CoC Renewal Ranking Report'!G24,\"\")","v":"PH"},{"$f":"IF('CoC Renewal Ranking Report'!H24<>\"\",'CoC Renewal Ranking Report'!BO24,\"\")","v":"8+ Days"}]
[{"$f":"IF('CoC Renewal Ranking Report'!D25<>\"\",'CoC Renewal Ranking Report'!D25,\"\")","v":"Housing Authority of the County of Cumberland"},{"$f":"IF('CoC Renewal Ranking Report'!E25<>\"\",'CoC Renewal Ranking Report'!E25,\"\")","v":"Perry County Transitional II"},{"$f":"IF('CoC Renewal Ranking Report'!G25<>\"\",'CoC Renewal Ranking Report'!G25,\"\")","v":"PH-RRH"},{"$f":"IF('CoC Renewal Ranking Report'!H25<>\"\",'CoC Renewal Ranking Report'!BO25,\"\")","v":"On Time"}]
[{"$f":"IF('CoC Renewal Ranking Report'!D26<>\"\",'CoC Renewal Ranking Report'!D26,\"\")","v":"Housing Authority of the County of Cumberland"},{"$f":"IF('CoC Renewal Ranking Report'!E26<>\"\",'CoC Renewal Ranking Report'!E26,\"\")","v":"Perry County Veterans Program"},{"$f":"IF('CoC Renewal Ranking Report'!G26<>\"\",'CoC Renewal Ranking Report'!G26,\"\")","v":"PH"},{"$f":"IF('CoC Renewal Ranking Report'!H26<>\"\",'CoC Renewal Ranking Report'!BO26,\"\")","v":"8+ Days"}]
[{"$f":"IF('CoC Renewal Ranking Report'!D27<>\"\",'CoC Renewal Ranking Report'!D27,\"\")","v":"Housing Authority of the County of Cumberland"},{"$f":"IF('CoC Renewal Ranking Report'!E27<>\"\",'CoC Renewal Ranking Report'!E27,\"\")","v":"Rapid Rehousing II"},{"$f":"IF('CoC Renewal Ranking Report'!G27<>\"\",'CoC Renewal Ranking Report'!G27,\"\")","v":"PH-RRH"},{"$f":"IF('CoC Renewal Ranking Report'!H27<>\"\",'CoC Renewal Ranking Report'!BO27,\"\")","v":"8+ Days"}]
[{"$f":"IF('CoC Renewal Ranking Report'!D28<>\"\",'CoC Renewal Ranking Report'!D28,\"\")","v":"Housing Authority of the County of Cumberland"},{"$f":"IF('CoC Renewal Ranking Report'!E28<>\"\",'CoC Renewal Ranking Report'!E28,\"\")","v":"Safe Harbour SHP"},{"$f":"IF('CoC Renewal Ranking Report'!G28<>\"\",'CoC Renewal Ranking Report'!G28,\"\")","v":"PH"},{"$f":"IF('CoC Renewal Ranking Report'!H28<>\"\",'CoC Renewal Ranking Report'!BO28,\"\")","v":"On Time"}]
[{"$f":"IF('CoC Renewal Ranking Report'!D29<>\"\",'CoC Renewal Ranking Report'!D29,\"\")","v":"Housing Authority of the County of Cumberland"},{"$f":"IF('CoC Renewal Ranking Report'!E29<>\"\",'CoC Renewal Ranking Report'!E29,\"\")","v":"Shelter + Care Chronic"},{"$f":"IF('CoC Renewal Ranking Report'!G29<>\"\",'CoC Renewal Ranking Report'!G29,\"\")","v":"PH"},{"$f":"IF('CoC Renewal Ranking Report'!H29<>\"\",'CoC Renewal Ranking Report'!BO29,\"\")","v":"1 - 7 Days"}]
[{"$f":"IF('CoC Renewal Ranking Report'!D30<>\"\",'CoC Renewal Ranking Report'!D30,\"\")","v":"Housing Authority of the County of Cumberland"},{"$f":"IF('CoC Renewal Ranking Report'!E30<>\"\",'CoC Renewal Ranking Report'!E30,\"\")","v":"Shelter + Care Non-Chronic"},{"$f":"IF('CoC Renewal Ranking Report'!G30<>\"\",'CoC Renewal Ranking Report'!G30,\"\")","v":"PH"},{"$f":"IF('CoC Renewal Ranking Report'!H30<>\"\",'CoC Renewal Ranking Report'!BO30,\"\")","v":"On Time"}]
[{"$f":"IF('CoC Renewal Ranking Report'!D31<>\"\",'CoC Renewal Ranking Report'!D31,\"\")","v":"Housing Authority of the County of Cumberland"},{"$f":"IF('CoC Renewal Ranking Report'!E31<>\"\",'CoC Renewal Ranking Report'!E31,\"\")","v":"West Shore SHP I"},{"$f":"IF('CoC Renewal Ranking Report'!G31<>\"\",'CoC Renewal Ranking Report'!G31,\"\")","v":"PH"},{"$f":"IF('CoC Renewal Ranking Report'!H31<>\"\",'CoC Renewal Ranking Report'!BO31,\"\")","v":"On Time"}]
[{"$f":"IF('CoC Renewal Ranking Report'!D32<>\"\",'CoC Renewal Ranking Report'!D32,\"\")","v":"Housing Authority of the County of Cumberland"},{"$f":"IF('CoC Renewal Ranking Report'!E32<>\"\",'CoC Renewal Ranking Report'!E32,\"\")","v":"West Shore SHP II"},{"$f":"IF('CoC Renewal Ranking Report'!G32<>\"\",'CoC Renewal Ranking Report'!G32,\"\")","v":"PH"},{"$f":"IF('CoC Renewal Ranking Report'!H32<>\"\",'CoC Renewal Ranking Report'!BO32,\"\")","v":"On Time"}]
[{"$f":"IF('CoC Renewal Ranking Report'!D33<>\"\",'CoC Renewal Ranking Report'!D33,\"\")","v":"Housing Development Corporation of NEPA"},{"$f":"IF('CoC Renewal Ranking Report'!E33<>\"\",'CoC Renewal Ranking Report'!E33,\"\")","v":"HDC SHP 3 2016"},{"$f":"IF('CoC Renewal Ranking Report'!G33<>\"\",'CoC Renewal Ranking Report'!G33,\"\")","v":"PH"},{"$f":"IF('CoC Renewal Ranking Report'!H33<>\"\",'CoC Renewal Ranking Report'!BO33,\"\")","v":"8+ Days"}]
[{"$f":"IF('CoC Renewal Ranking Report'!D34<>\"\",'CoC Renewal Ranking Report'!D34,\"\")","v":"Housing Development Corporation of NEPA"},{"$f":"IF('CoC Renewal Ranking Report'!E34<>\"\",'CoC Renewal Ranking Report'!E34,\"\")","v":"HDC SHP 6 2016"},{"$f":"IF('CoC Renewal Ranking Report'!G34<>\"\",'CoC Renewal Ranking Report'!G34,\"\")","v":"PH"},{"$f":"IF('CoC Renewal Ranking Report'!H34<>\"\",'CoC Renewal Ranking Report'!BO34,\"\")","v":"On Time"}]
[{"$f":"IF('CoC Renewal Ranking Report'!D35<>\"\",'CoC Renewal Ranking Report'!D35,\"\")","v":"Housing Transitions, Inc."},{"$f":"IF('CoC Renewal Ranking Report'!E35<>\"\",'CoC Renewal Ranking Report'!E35,\"\")","v":"Nittany House Apartments"},{"$f":"IF('CoC Renewal Ranking Report'!G35<>\"\",'CoC Renewal Ranking Report'!G35,\"\")","v":"PH"},{"$f":"IF('CoC Renewal Ranking Report'!H35<>\"\",'CoC Renewal Ranking Report'!BO35,\"\")","v":"On Time"}]
[{"$f":"IF('CoC Renewal Ranking Report'!D36<>\"\",'CoC Renewal Ranking Report'!D36,\"\")","v":"Lehigh County Conference of Churches"},{"$f":"IF('CoC Renewal Ranking Report'!E36<>\"\",'CoC Renewal Ranking Report'!E36,\"\")","v":"Outreach and Case Management for the Disabled, Chronically Homeless"},{"$f":"IF('CoC Renewal Ranking Report'!G36<>\"\",'CoC Renewal Ranking Report'!G36,\"\")","v":"SSO"},{"$f":"IF('CoC Renewal Ranking Report'!H36<>\"\",'CoC Renewal Ranking Report'!BO36,\"\")","v":"On Time"}]
[{"$f":"IF('CoC Renewal Ranking Report'!D37<>\"\",'CoC Renewal Ranking Report'!D37,\"\")","v":"Lehigh County Conference of Churches"},{"$f":"IF('CoC Renewal Ranking Report'!E37<>\"\",'CoC Renewal Ranking Report'!E37,\"\")","v":"Pathways Housing"},{"$f":"IF('CoC Renewal Ranking Report'!G37<>\"\",'CoC Renewal Ranking Report'!G37,\"\")","v":"PH"},{"$f":"IF('CoC Renewal Ranking Report'!H37<>\"\",'CoC Renewal Ranking Report'!BO37,\"\")","v":"On Time"}]
[{"$f":"IF('CoC Renewal Ranking Report'!D38<>\"\",'CoC Renewal Ranking Report'!D38,\"\")","v":"Lehigh County Conference of Churches"},{"$f":"IF('CoC Renewal Ranking Report'!E38<>\"\",'CoC Renewal Ranking Report'!E38,\"\")","v":"Pathways Housing 2"},{"$f":"IF('CoC Renewal Ranking Report'!G38<>\"\",'CoC Renewal Ranking Report'!G38,\"\")","v":"PH"},{"$f":"IF('CoC Renewal Ranking Report'!H38<>\"\",'CoC Renewal Ranking Report'!BO38,\"\")","v":"On Time"}]
[{"$f":"IF('CoC Renewal Ranking Report'!D39<>\"\",'CoC Renewal Ranking Report'!D39,\"\")","v":"Lehigh County Conference of Churches"},{"$f":"IF('CoC Renewal Ranking Report'!E39<>\"\",'CoC Renewal Ranking Report'!E39,\"\")","v":"Pathways TBRA for Families, Youth and Veterans"},{"$f":"IF('CoC Renewal Ranking Report'!G39<>\"\",'CoC Renewal Ranking Report'!G39,\"\")","v":"PH"},{"$f":"IF('CoC Renewal Ranking Report'!H39<>\"\",'CoC Renewal Ranking Report'!BO39,\"\")","v":"On Time"}]
[{"$f":"IF('CoC Renewal Ranking Report'!D40<>\"\",'CoC Renewal Ranking Report'!D40,\"\")","v":"Lehigh County Conference of Churches"},{"$f":"IF('CoC Renewal Ranking Report'!E40<>\"\",'CoC Renewal Ranking Report'!E40,\"\")","v":"Tenant-Based Rental Assistance for the Disabled,Chronically Homeless"},{"$f":"IF('CoC Renewal Ranking Report'!G40<>\"\",'CoC Renewal Ranking Report'!G40,\"\")","v":"PH"},{"$f":"IF('CoC Renewal Ranking Report'!H40<>\"\",'CoC Renewal Ranking Report'!BO40,\"\")","v":"On Time"}]
[{"$f":"IF('CoC Renewal Ranking Report'!D41<>\"\",'CoC Renewal Ranking Report'!D41,\"\")","v":"Lehigh County Housing Authority"},{"$f":"IF('CoC Renewal Ranking Report'!E41<>\"\",'CoC Renewal Ranking Report'!E41,\"\")","v":"LCHA S+C 2016"},{"$f":"IF('CoC Renewal Ranking Report'!G41<>\"\",'CoC Renewal Ranking Report'!G41,\"\")","v":"PH"},{"$f":"IF('CoC Renewal Ranking Report'!H41<>\"\",'CoC Renewal Ranking Report'!BO41,\"\")","v":"On Time"}]
[{"$f":"IF('CoC Renewal Ranking Report'!D42<>\"\",'CoC Renewal Ranking Report'!D42,\"\")","v":"Maranatha"},{"$f":"IF('CoC Renewal Ranking Report'!E42<>\"\",'CoC Renewal Ranking Report'!E42,\"\")","v":"TOTAL PERSON TRANSITIONAL PROGRAM 1 & 2"},{"$f":"IF('CoC Renewal Ranking Report'!G42<>\"\",'CoC Renewal Ranking Report'!G42,\"\")","v":"PH-RRH"},{"$f":"IF('CoC Renewal Ranking Report'!H42<>\"\",'CoC Renewal Ranking Report'!BO42,\"\")","v":"1 - 7 Days"}]
[{"$f":"IF('CoC Renewal Ranking Report'!D43<>\"\",'CoC Renewal Ranking Report'!D43,\"\")","v":"Mifflin County"},{"$f":"IF('CoC Renewal Ranking Report'!E43<>\"\",'CoC Renewal Ranking Report'!E43,\"\")","v":"Mifflin County Permanent Housing Renewal"},{"$f":"IF('CoC Renewal Ranking Report'!G43<>\"\",'CoC Renewal Ranking Report'!G43,\"\")","v":"PH"},{"$f":"IF('CoC Renewal Ranking Report'!H43<>\"\",'CoC Renewal Ranking Report'!BO43,\"\")","v":"On Time"}]
[{"$f":"IF('CoC Renewal Ranking Report'!D44<>\"\",'CoC Renewal Ranking Report'!D44,\"\")","v":"Northampton County Housing Authority"},{"$f":"IF('CoC Renewal Ranking Report'!E44<>\"\",'CoC Renewal Ranking Report'!E44,\"\")","v":"NCHA S+C 2016"},{"$f":"IF('CoC Renewal Ranking Report'!G44<>\"\",'CoC Renewal Ranking Report'!G44,\"\")","v":"PH"},{"$f":"IF('CoC Renewal Ranking Report'!H44<>\"\",'CoC Renewal Ranking Report'!BO44,\"\")","v":"On Time"}]
[{"$f":"IF('CoC Renewal Ranking Report'!D45<>\"\",'CoC Renewal Ranking Report'!D45,\"\")","v":"Northern Cambria Community Development Corporation"},{"$f":"IF('CoC Renewal Ranking Report'!E45<>\"\",'CoC Renewal Ranking Report'!E45,\"\")","v":"Independence Gardens"},{"$f":"IF('CoC Renewal Ranking Report'!G45<>\"\",'CoC Renewal Ranking Report'!G45,\"\")","v":"PH"},{"$f":"IF('CoC Renewal Ranking Report'!H45<>\"\",'CoC Renewal Ranking Report'!BO45,\"\")","v":"On Time"}]
[{"$f":"IF('CoC Renewal Ranking Report'!D46<>\"\",'CoC Renewal Ranking Report'!D46,\"\")","v":"Northern Cambria Community Development Corporation"},{"$f":"IF('CoC Renewal Ranking Report'!E46<>\"\",'CoC Renewal Ranking Report'!E46,\"\")","v":"Schoolhouse Gardens"},{"$f":"IF('CoC Renewal Ranking Report'!G46<>\"\",'CoC Renewal Ranking Report'!G46,\"\")","v":"PH"},{"$f":"IF('CoC Renewal Ranking Report'!H46<>\"\",'CoC Renewal Ranking Report'!BO46,\"\")","v":"On Time"}]
[{"$f":"IF('CoC Renewal Ranking Report'!D47<>\"\",'CoC Renewal Ranking Report'!D47,\"\")","v":"Northumberland County MH/MR"},{"$f":"IF('CoC Renewal Ranking Report'!E47<>\"\",'CoC Renewal Ranking Report'!E47,\"\")","v":"Sharing Support"},{"$f":"IF('CoC Renewal Ranking Report'!G47<>\"\",'CoC Renewal Ranking Report'!G47,\"\")","v":"PH"},{"$f":"IF('CoC Renewal Ranking Report'!H47<>\"\",'CoC Renewal Ranking Report'!BO47,\"\")","v":"8+ Days"}]
[{"$f":"IF('CoC Renewal Ranking Report'!D48<>\"\",'CoC Renewal Ranking Report'!D48,\"\")","v":"Resources for Human Development, Inc."},{"$f":"IF('CoC Renewal Ranking Report'!E48<>\"\",'CoC Renewal Ranking Report'!E48,\"\")","v":"Crossroads Family"},{"$f":"IF('CoC Renewal Ranking Report'!G48<>\"\",'CoC Renewal Ranking Report'!G48,\"\")","v":"PH"},{"$f":"IF('CoC Renewal Ranking Report'!H48<>\"\",'CoC Renewal Ranking Report'!BO48,\"\")","v":"On Time"}]
[{"$f":"IF('CoC Renewal Ranking Report'!D49<>\"\",'CoC Renewal Ranking Report'!D49,\"\")","v":"Resources for Human Development, Inc."},{"$f":"IF('CoC Renewal Ranking Report'!E49<>\"\",'CoC Renewal Ranking Report'!E49,\"\")","v":"Crossroads Housing Bonus"},{"$f":"IF('CoC Renewal Ranking Report'!G49<>\"\",'CoC Renewal Ranking Report'!G49,\"\")","v":"PH"},{"$f":"IF('CoC Renewal Ranking Report'!H49<>\"\",'CoC Renewal Ranking Report'!BO49,\"\")","v":"On Time"}]
[{"$f":"IF('CoC Renewal Ranking Report'!D50<>\"\",'CoC Renewal Ranking Report'!D50,\"\")","v":"Resources for Human Development, Inc."},{"$f":"IF('CoC Renewal Ranking Report'!E50<>\"\",'CoC Renewal Ranking Report'!E50,\"\")","v":"Crossroads Individual"},{"$f":"IF('CoC Renewal Ranking Report'!G50<>\"\",'CoC Renewal Ranking Report'!G50,\"\")","v":"PH"},{"$f":"IF('CoC Renewal Ranking Report'!H50<>\"\",'CoC Renewal Ranking Report'!BO50,\"\")","v":"On Time"}]
[{"$f":"IF('CoC Renewal Ranking Report'!D51<>\"\",'CoC Renewal Ranking Report'!D51,\"\")","v":"Resources for Human Development, Inc."},{"$f":"IF('CoC Renewal Ranking Report'!E51<>\"\",'CoC Renewal Ranking Report'!E51,\"\")","v":"Crossroads Schuylkill Co. Permanent Supportive Housing"},{"$f":"IF('CoC Renewal Ranking Report'!G51<>\"\",'CoC Renewal Ranking Report'!G51,\"\")","v":"PH"},{"$f":"IF('CoC Renewal Ranking Report'!H51<>\"\",'CoC Renewal Ranking Report'!BO51,\"\")","v":"On Time"}]
[{"$f":"IF('CoC Renewal Ranking Report'!D52<>\"\",'CoC Renewal Ranking Report'!D52,\"\")","v":"Resources for Human Development, Inc."},{"$f":"IF('CoC Renewal Ranking Report'!E52<>\"\",'CoC Renewal Ranking Report'!E52,\"\")","v":"LV ACT Housing Supports"},{"$f":"IF('CoC Renewal Ranking Report'!G52<>\"\",'CoC Renewal Ranking Report'!G52,\"\")","v":"PH"},{"$f":"IF('CoC Renewal Ranking Report'!H52<>\"\",'CoC Renewal Ranking Report'!BO52,\"\")","v":"8+ Days"}]
[{"$f":"IF('CoC Renewal Ranking Report'!D53<>\"\",'CoC Renewal Ranking Report'!D53,\"\")","v":"Tableland Services, Inc."},{"$f":"IF('CoC Renewal Ranking Report'!E53<>\"\",'CoC Renewal Ranking Report'!E53,\"\")","v":"Permanent Housing with Disabilities (SHP)"},{"$f":"IF('CoC Renewal Ranking Report'!G53<>\"\",'CoC Renewal Ranking Report'!G53,\"\")","v":"PH"},{"$f":"IF('CoC Renewal Ranking Report'!H53<>\"\",'CoC Renewal Ranking Report'!BO53,\"\")","v":"8+ Days"}]
[{"$f":"IF('CoC Renewal Ranking Report'!D54<>\"\",'CoC Renewal Ranking Report'!D54,\"\")","v":"Tableland Services, Inc."},{"$f":"IF('CoC Renewal Ranking Report'!E54<>\"\",'CoC Renewal Ranking Report'!E54,\"\")","v":"Permanent Supportive Housing CH Project"},{"$f":"IF('CoC Renewal Ranking Report'!G54<>\"\",'CoC Renewal Ranking Report'!G54,\"\")","v":"PH"},{"$f":"IF('CoC Renewal Ranking Report'!H54<>\"\",'CoC Renewal Ranking Report'!BO54,\"\")","v":"8+ Days"}]
[{"$f":"IF('CoC Renewal Ranking Report'!D55<>\"\",'CoC Renewal Ranking Report'!D55,\"\")","v":"The Salvation Army, a New York Corporation"},{"$f":"IF('CoC Renewal Ranking Report'!E55<>\"\",'CoC Renewal Ranking Report'!E55,\"\")","v":"Allentown Hospitality House Permanent Housing Program"},{"$f":"IF('CoC Renewal Ranking Report'!G55<>\"\",'CoC Renewal Ranking Report'!G55,\"\")","v":"PH"},{"$f":"IF('CoC Renewal Ranking Report'!H55<>\"\",'CoC Renewal Ranking Report'!BO55,\"\")","v":"On Time"}]
[{"$f":"IF('CoC Renewal Ranking Report'!D56<>\"\",'CoC Renewal Ranking Report'!D56,\"\")","v":"The Salvation Army, a New York Corporation"},{"$f":"IF('CoC Renewal Ranking Report'!E56<>\"\",'CoC Renewal Ranking Report'!E56,\"\")","v":"Salvation Army Carlisle PH Project"},{"$f":"IF('CoC Renewal Ranking Report'!G56<>\"\",'CoC Renewal Ranking Report'!G56,\"\")","v":"PH"},{"$f":"IF('CoC Renewal Ranking Report'!H56<>\"\",'CoC Renewal Ranking Report'!BO56,\"\")","v":"On Time"}]
[{"$f":"IF('CoC Renewal Ranking Report'!D57<>\"\",'CoC Renewal Ranking Report'!D57,\"\")","v":"Union-Snyder Community Action Agency"},{"$f":"IF('CoC Renewal Ranking Report'!E57<>\"\",'CoC Renewal Ranking Report'!E57,\"\")","v":"Union-Snyder Rapid ReHousing Program"},{"$f":"IF('CoC Renewal Ranking Report'!G57<>\"\",'CoC Renewal Ranking Report'!G57,\"\")","v":"PH-RRH"},{"$f":"IF('CoC Renewal Ranking Report'!H57<>\"\",'CoC Renewal Ranking Report'!BO57,\"\")","v":"On Time"}]
[{"$f":"IF('CoC Renewal Ranking Report'!D58<>\"\",'CoC Renewal Ranking Report'!D58,\"\")","v":"United Christian Ministries"},{"$f":"IF('CoC Renewal Ranking Report'!E58<>\"\",'CoC Renewal Ranking Report'!E58,\"\")","v":"Kenner Garnet Renewal 2016"},{"$f":"IF('CoC Renewal Ranking Report'!G58<>\"\",'CoC Renewal Ranking Report'!G58,\"\")","v":"PH"},{"$f":"IF('CoC Renewal Ranking Report'!H58<>\"\",'CoC Renewal Ranking Report'!BO58,\"\")","v":"8+ Days"}]
[{"$f":"IF('CoC Renewal Ranking Report'!D59<>\"\",'CoC Renewal Ranking Report'!D59,\"\")","v":"Valley Housing Development Corporation "},{"$f":"IF('CoC Renewal Ranking Report'!E59<>\"\",'CoC Renewal Ranking Report'!E59,\"\")","v":"VHDC SHP #2 2016"},{"$f":"IF('CoC Renewal Ranking Report'!G59<>\"\",'CoC Renewal Ranking Report'!G59,\"\")","v":"PH"},{"$f":"IF('CoC Renewal Ranking Report'!H59<>\"\",'CoC Renewal Ranking Report'!BO59,\"\")","v":"8+ Days"}]
[{"$f":"IF('CoC Renewal Ranking Report'!D60<>\"\",'CoC Renewal Ranking Report'!D60,\"\")","v":"Valley Housing Development Corporation "},{"$f":"IF('CoC Renewal Ranking Report'!E60<>\"\",'CoC Renewal Ranking Report'!E60,\"\")","v":"VHDC SHP #3 2016"},{"$f":"IF('CoC Renewal Ranking Report'!G60<>\"\",'CoC Renewal Ranking Report'!G60,\"\")","v":"PH"},{"$f":"IF('CoC Renewal Ranking Report'!H60<>\"\",'CoC Renewal Ranking Report'!BO60,\"\")","v":"8+ Days"}]
[{"$f":"IF('CoC Renewal Ranking Report'!D61<>\"\",'CoC Renewal Ranking Report'!D61,\"\")","v":"Valley Housing Development Corporation "},{"$f":"IF('CoC Renewal Ranking Report'!E61<>\"\",'CoC Renewal Ranking Report'!E61,\"\")","v":"VHDC SHP #4 2016"},{"$f":"IF('CoC Renewal Ranking Report'!G61<>\"\",'CoC Renewal Ranking Report'!G61,\"\")","v":"PH"},{"$f":"IF('CoC Renewal Ranking Report'!H61<>\"\",'CoC Renewal Ranking Report'!BO61,\"\")","v":"On Time"}]
[{"$f":"IF('CoC Renewal Ranking Report'!D62<>\"\",'CoC Renewal Ranking Report'!D62,\"\")","v":""},{"$f":"IF('CoC Renewal Ranking Report'!E62<>\"\",'CoC Renewal Ranking Report'!E62,\"\")","v":""},{"$f":"IF('CoC Renewal Ranking Report'!G62<>\"\",'CoC Renewal Ranking Report'!G62,\"\")","v":""},{"$f":"IF('CoC Renewal Ranking Report'!H62<>\"\",'CoC Renewal Ranking Report'!BO62,\"\")","v":""}]
[{"$f":"IF('CoC Renewal Ranking Report'!D63<>\"\",'CoC Renewal Ranking Report'!D63,\"\")","v":""},{"$f":"IF('CoC Renewal Ranking Report'!E63<>\"\",'CoC Renewal Ranking Report'!E63,\"\")","v":""},{"$f":"IF('CoC Renewal Ranking Report'!G63<>\"\",'CoC Renewal Ranking Report'!G63,\"\")","v":""},{"$f":"IF('CoC Renewal Ranking Report'!H63<>\"\",'CoC Renewal Ranking Report'!BO63,\"\")","v":""}]
[{"$f":"IF('CoC Renewal Ranking Report'!D64<>\"\",'CoC Renewal Ranking Report'!D64,\"\")","v":""},{"$f":"IF('CoC Renewal Ranking Report'!E64<>\"\",'CoC Renewal Ranking Report'!E64,\"\")","v":""},{"$f":"IF('CoC Renewal Ranking Report'!G64<>\"\",'CoC Renewal Ranking Report'!G64,\"\")","v":""},{"$f":"IF('CoC Renewal Ranking Report'!H64<>\"\",'CoC Renewal Ranking Report'!BO64,\"\")","v":""}]
[{"$f":"IF('CoC Renewal Ranking Report'!D65<>\"\",'CoC Renewal Ranking Report'!D65,\"\")","v":""},{"$f":"IF('CoC Renewal Ranking Report'!E65<>\"\",'CoC Renewal Ranking Report'!E65,\"\")","v":""},{"$f":"IF('CoC Renewal Ranking Report'!G65<>\"\",'CoC Renewal Ranking Report'!G65,\"\")","v":""},{"$f":"IF('CoC Renewal Ranking Report'!H65<>\"\",'CoC Renewal Ranking Report'!BO65,\"\")","v":""}]
[{"$f":"IF('CoC Renewal Ranking Report'!D66<>\"\",'CoC Renewal Ranking Report'!D66,\"\")","v":""},{"$f":"IF('CoC Renewal Ranking Report'!E66<>\"\",'CoC Renewal Ranking Report'!E66,\"\")","v":""},{"$f":"IF('CoC Renewal Ranking Report'!G66<>\"\",'CoC Renewal Ranking Report'!G66,\"\")","v":""},{"$f":"IF('CoC Renewal Ranking Report'!H66<>\"\",'CoC Renewal Ranking Report'!BO66,\"\")","v":""}]
[{"$f":"IF('CoC Renewal Ranking Report'!D67<>\"\",'CoC Renewal Ranking Report'!D67,\"\")","v":""},{"$f":"IF('CoC Renewal Ranking Report'!E67<>\"\",'CoC Renewal Ranking Report'!E67,\"\")","v":""},{"$f":"IF('CoC Renewal Ranking Report'!G67<>\"\",'CoC Renewal Ranking Report'!G67,\"\")","v":""},{"$f":"IF('CoC Renewal Ranking Report'!H67<>\"\",'CoC Renewal Ranking Report'!BO67,\"\")","v":""}]
[{"$f":"IF('CoC Renewal Ranking Report'!D68<>\"\",'CoC Renewal Ranking Report'!D68,\"\")","v":""},{"$f":"IF('CoC Renewal Ranking Report'!E68<>\"\",'CoC Renewal Ranking Report'!E68,\"\")","v":""},{"$f":"IF('CoC Renewal Ranking Report'!G68<>\"\",'CoC Renewal Ranking Report'!G68,\"\")","v":""},{"$f":"IF('CoC Renewal Ranking Report'!H68<>\"\",'CoC Renewal Ranking Report'!BO68,\"\")","v":""}]
[{"$f":"IF('CoC Renewal Ranking Report'!D69<>\"\",'CoC Renewal Ranking Report'!D69,\"\")","v":""},{"$f":"IF('CoC Renewal Ranking Report'!E69<>\"\",'CoC Renewal Ranking Report'!E69,\"\")","v":""},{"$f":"IF('CoC Renewal Ranking Report'!G69<>\"\",'CoC Renewal Ranking Report'!G69,\"\")","v":""},{"$f":"IF('CoC Renewal Ranking Report'!H69<>\"\",'CoC Renewal Ranking Report'!BO69,\"\")","v":""}]
[{"$f":"IF('CoC Renewal Ranking Report'!D70<>\"\",'CoC Renewal Ranking Report'!D70,\"\")","v":""},{"$f":"IF('CoC Renewal Ranking Report'!E70<>\"\",'CoC Renewal Ranking Report'!E70,\"\")","v":""},{"$f":"IF('CoC Renewal Ranking Report'!G70<>\"\",'CoC Renewal Ranking Report'!G70,\"\")","v":""},{"$f":"IF('CoC Renewal Ranking Report'!H70<>\"\",'CoC Renewal Ranking Report'!BO70,\"\")","v":""}]
[{"$f":"IF('CoC Renewal Ranking Report'!D71<>\"\",'CoC Renewal Ranking Report'!D71,\"\")","v":""},{"$f":"IF('CoC Renewal Ranking Report'!E71<>\"\",'CoC Renewal Ranking Report'!E71,\"\")","v":""},{"$f":"IF('CoC Renewal Ranking Report'!G71<>\"\",'CoC Renewal Ranking Report'!G71,\"\")","v":""},{"$f":"IF('CoC Renewal Ranking Report'!H71<>\"\",'CoC Renewal Ranking Report'!BO71,\"\")","v":""}]
[{"$f":"IF('CoC Renewal Ranking Report'!D72<>\"\",'CoC Renewal Ranking Report'!D72,\"\")","v":""},{"$f":"IF('CoC Renewal Ranking Report'!E72<>\"\",'CoC Renewal Ranking Report'!E72,\"\")","v":""},{"$f":"IF('CoC Renewal Ranking Report'!G72<>\"\",'CoC Renewal Ranking Report'!G72,\"\")","v":""},{"$f":"IF('CoC Renewal Ranking Report'!H72<>\"\",'CoC Renewal Ranking Report'!BO72,\"\")","v":""}]
[{"$f":"IF('CoC Renewal Ranking Report'!D73<>\"\",'CoC Renewal Ranking Report'!D73,\"\")","v":""},{"$f":"IF('CoC Renewal Ranking Report'!E73<>\"\",'CoC Renewal Ranking Report'!E73,\"\")","v":""},{"$f":"IF('CoC Renewal Ranking Report'!G73<>\"\",'CoC Renewal Ranking Report'!G73,\"\")","v":""},{"$f":"IF('CoC Renewal Ranking Report'!H73<>\"\",'CoC Renewal Ranking Report'!BO73,\"\")","v":""}]
[{"$f":"IF('CoC Renewal Ranking Report'!D74<>\"\",'CoC Renewal Ranking Report'!D74,\"\")","v":""},{"$f":"IF('CoC Renewal Ranking Report'!E74<>\"\",'CoC Renewal Ranking Report'!E74,\"\")","v":""},{"$f":"IF('CoC Renewal Ranking Report'!G74<>\"\",'CoC Renewal Ranking Report'!G74,\"\")","v":""},{"$f":"IF('CoC Renewal Ranking Report'!H74<>\"\",'CoC Renewal Ranking Report'!BO74,\"\")","v":""}]
[{"$f":"IF('CoC Renewal Ranking Report'!D75<>\"\",'CoC Renewal Ranking Report'!D75,\"\")","v":""},{"$f":"IF('CoC Renewal Ranking Report'!E75<>\"\",'CoC Renewal Ranking Report'!E75,\"\")","v":""},{"$f":"IF('CoC Renewal Ranking Report'!G75<>\"\",'CoC Renewal Ranking Report'!G75,\"\")","v":""},{"$f":"IF('CoC Renewal Ranking Report'!H75<>\"\",'CoC Renewal Ranking Report'!BO75,\"\")","v":""}]
[{"$f":"IF('CoC Renewal Ranking Report'!D76<>\"\",'CoC Renewal Ranking Report'!D76,\"\")","v":""},{"$f":"IF('CoC Renewal Ranking Report'!E76<>\"\",'CoC Renewal Ranking Report'!E76,\"\")","v":""},{"$f":"IF('CoC Renewal Ranking Report'!G76<>\"\",'CoC Renewal Ranking Report'!G76,\"\")","v":""},{"$f":"IF('CoC Renewal Ranking Report'!H76<>\"\",'CoC Renewal Ranking Report'!BO76,\"\")","v":""}]
[{"$f":"IF('CoC Renewal Ranking Report'!D77<>\"\",'CoC Renewal Ranking Report'!D77,\"\")","v":""},{"$f":"IF('CoC Renewal Ranking Report'!E77<>\"\",'CoC Renewal Ranking Report'!E77,\"\")","v":""},{"$f":"IF('CoC Renewal Ranking Report'!G77<>\"\",'CoC Renewal Ranking Report'!G77,\"\")","v":""},{"$f":"IF('CoC Renewal Ranking Report'!H77<>\"\",'CoC Renewal Ranking Report'!BO77,\"\")","v":""}]
[{"$f":"IF('CoC Renewal Ranking Report'!D78<>\"\",'CoC Renewal Ranking Report'!D78,\"\")","v":""},{"$f":"IF('CoC Renewal Ranking Report'!E78<>\"\",'CoC Renewal Ranking Report'!E78,\"\")","v":""},{"$f":"IF('CoC Renewal Ranking Report'!G78<>\"\",'CoC Renewal Ranking Report'!G78,\"\")","v":""},{"$f":"IF('CoC Renewal Ranking Report'!H78<>\"\",'CoC Renewal Ranking Report'!BO78,\"\")","v":""}]
[{"$f":"IF('CoC Renewal Ranking Report'!D79<>\"\",'CoC Renewal Ranking Report'!D79,\"\")","v":""},{"$f":"IF('CoC Renewal Ranking Report'!E79<>\"\",'CoC Renewal Ranking Report'!E79,\"\")","v":""},{"$f":"IF('CoC Renewal Ranking Report'!G79<>\"\",'CoC Renewal Ranking Report'!G79,\"\")","v":""},{"$f":"IF('CoC Renewal Ranking Report'!H79<>\"\",'CoC Renewal Ranking Report'!BO79,\"\")","v":""}]
[{"$f":"IF('CoC Renewal Ranking Report'!D80<>\"\",'CoC Renewal Ranking Report'!D80,\"\")","v":""},{"$f":"IF('CoC Renewal Ranking Report'!E80<>\"\",'CoC Renewal Ranking Report'!E80,\"\")","v":""},{"$f":"IF('CoC Renewal Ranking Report'!G80<>\"\",'CoC Renewal Ranking Report'!G80,\"\")","v":""},{"$f":"IF('CoC Renewal Ranking Report'!H80<>\"\",'CoC Renewal Ranking Report'!BO80,\"\")","v":""}]
[{"$f":"IF('CoC Renewal Ranking Report'!D81<>\"\",'CoC Renewal Ranking Report'!D81,\"\")","v":""},{"$f":"IF('CoC Renewal Ranking Report'!E81<>\"\",'CoC Renewal Ranking Report'!E81,\"\")","v":""},{"$f":"IF('CoC Renewal Ranking Report'!G81<>\"\",'CoC Renewal Ranking Report'!G81,\"\")","v":""},{"$f":"IF('CoC Renewal Ranking Report'!H81<>\"\",'CoC Renewal Ranking Report'!BO81,\"\")","v":""}]
[{"$f":"IF('CoC Renewal Ranking Report'!D82<>\"\",'CoC Renewal Ranking Report'!D82,\"\")","v":""},{"$f":"IF('CoC Renewal Ranking Report'!E82<>\"\",'CoC Renewal Ranking Report'!E82,\"\")","v":""},{"$f":"IF('CoC Renewal Ranking Report'!G82<>\"\",'CoC Renewal Ranking Report'!G82,\"\")","v":""},{"$f":"IF('CoC Renewal Ranking Report'!H82<>\"\",'CoC Renewal Ranking Report'!BO82,\"\")","v":""}]
[{"$f":"IF('CoC Renewal Ranking Report'!D83<>\"\",'CoC Renewal Ranking Report'!D83,\"\")","v":""},{"$f":"IF('CoC Renewal Ranking Report'!E83<>\"\",'CoC Renewal Ranking Report'!E83,\"\")","v":""},{"$f":"IF('CoC Renewal Ranking Report'!G83<>\"\",'CoC Renewal Ranking Report'!G83,\"\")","v":""},{"$f":"IF('CoC Renewal Ranking Report'!H83<>\"\",'CoC Renewal Ranking Report'!BO83,\"\")","v":""}]
[{"$f":"IF('CoC Renewal Ranking Report'!D84<>\"\",'CoC Renewal Ranking Report'!D84,\"\")","v":""},{"$f":"IF('CoC Renewal Ranking Report'!E84<>\"\",'CoC Renewal Ranking Report'!E84,\"\")","v":""},{"$f":"IF('CoC Renewal Ranking Report'!G84<>\"\",'CoC Renewal Ranking Report'!G84,\"\")","v":""},{"$f":"IF('CoC Renewal Ranking Report'!H84<>\"\",'CoC Renewal Ranking Report'!BO84,\"\")","v":""}]
[{"$f":"IF('CoC Renewal Ranking Report'!D85<>\"\",'CoC Renewal Ranking Report'!D85,\"\")","v":""},{"$f":"IF('CoC Renewal Ranking Report'!E85<>\"\",'CoC Renewal Ranking Report'!E85,\"\")","v":""},{"$f":"IF('CoC Renewal Ranking Report'!G85<>\"\",'CoC Renewal Ranking Report'!G85,\"\")","v":""},{"$f":"IF('CoC Renewal Ranking Report'!H85<>\"\",'CoC Renewal Ranking Report'!BO85,\"\")","v":""}]
[{"$f":"IF('CoC Renewal Ranking Report'!D86<>\"\",'CoC Renewal Ranking Report'!D86,\"\")","v":""},{"$f":"IF('CoC Renewal Ranking Report'!E86<>\"\",'CoC Renewal Ranking Report'!E86,\"\")","v":""},{"$f":"IF('CoC Renewal Ranking Report'!G86<>\"\",'CoC Renewal Ranking Report'!G86,\"\")","v":""},{"$f":"IF('CoC Renewal Ranking Report'!H86<>\"\",'CoC Renewal Ranking Report'!BO86,\"\")","v":""}]
[{"$f":"IF('CoC Renewal Ranking Report'!D87<>\"\",'CoC Renewal Ranking Report'!D87,\"\")","v":""},{"$f":"IF('CoC Renewal Ranking Report'!E87<>\"\",'CoC Renewal Ranking Report'!E87,\"\")","v":""},{"$f":"IF('CoC Renewal Ranking Report'!G87<>\"\",'CoC Renewal Ranking Report'!G87,\"\")","v":""},{"$f":"IF('CoC Renewal Ranking Report'!H87<>\"\",'CoC Renewal Ranking Report'!BO87,\"\")","v":""}]
[{"$f":"IF('CoC Renewal Ranking Report'!D88<>\"\",'CoC Renewal Ranking Report'!D88,\"\")","v":""},{"$f":"IF('CoC Renewal Ranking Report'!E88<>\"\",'CoC Renewal Ranking Report'!E88,\"\")","v":""},{"$f":"IF('CoC Renewal Ranking Report'!G88<>\"\",'CoC Renewal Ranking Report'!G88,\"\")","v":""},{"$f":"IF('CoC Renewal Ranking Report'!H88<>\"\",'CoC Renewal Ranking Report'!BO88,\"\")","v":""}]
[{"$f":"IF('CoC Renewal Ranking Report'!D89<>\"\",'CoC Renewal Ranking Report'!D89,\"\")","v":""},{"$f":"IF('CoC Renewal Ranking Report'!E89<>\"\",'CoC Renewal Ranking Report'!E89,\"\")","v":""},{"$f":"IF('CoC Renewal Ranking Report'!G89<>\"\",'CoC Renewal Ranking Report'!G89,\"\")","v":""},{"$f":"IF('CoC Renewal Ranking Report'!H89<>\"\",'CoC Renewal Ranking Report'!BO89,\"\")","v":""}]
[{"$f":"IF('CoC Renewal Ranking Report'!D90<>\"\",'CoC Renewal Ranking Report'!D90,\"\")","v":""},{"$f":"IF('CoC Renewal Ranking Report'!E90<>\"\",'CoC Renewal Ranking Report'!E90,\"\")","v":""},{"$f":"IF('CoC Renewal Ranking Report'!G90<>\"\",'CoC Renewal Ranking Report'!G90,\"\")","v":""},{"$f":"IF('CoC Renewal Ranking Report'!H90<>\"\",'CoC Renewal Ranking Report'!BO90,\"\")","v":""}]
[{"$f":"IF('CoC Renewal Ranking Report'!D91<>\"\",'CoC Renewal Ranking Report'!D91,\"\")","v":""},{"$f":"IF('CoC Renewal Ranking Report'!E91<>\"\",'CoC Renewal Ranking Report'!E91,\"\")","v":""},{"$f":"IF('CoC Renewal Ranking Report'!G91<>\"\",'CoC Renewal Ranking Report'!G91,\"\")","v":""},{"$f":"IF('CoC Renewal Ranking Report'!H91<>\"\",'CoC Renewal Ranking Report'!BO91,\"\")","v":""}]
[{"$f":"IF('CoC Renewal Ranking Report'!D92<>\"\",'CoC Renewal Ranking Report'!D92,\"\")","v":""},{"$f":"IF('CoC Renewal Ranking Report'!E92<>\"\",'CoC Renewal Ranking Report'!E92,\"\")","v":""},{"$f":"IF('CoC Renewal Ranking Report'!G92<>\"\",'CoC Renewal Ranking Report'!G92,\"\")","v":""},{"$f":"IF('CoC Renewal Ranking Report'!H92<>\"\",'CoC Renewal Ranking Report'!BO92,\"\")","v":""}]
[{"$f":"IF('CoC Renewal Ranking Report'!D93<>\"\",'CoC Renewal Ranking Report'!D93,\"\")","v":""},{"$f":"IF('CoC Renewal Ranking Report'!E93<>\"\",'CoC Renewal Ranking Report'!E93,\"\")","v":""},{"$f":"IF('CoC Renewal Ranking Report'!G93<>\"\",'CoC Renewal Ranking Report'!G93,\"\")","v":""},{"$f":"IF('CoC Renewal Ranking Report'!H93<>\"\",'CoC Renewal Ranking Report'!BO93,\"\")","v":""}]
[{"$f":"IF('CoC Renewal Ranking Report'!D94<>\"\",'CoC Renewal Ranking Report'!D94,\"\")","v":""},{"$f":"IF('CoC Renewal Ranking Report'!E94<>\"\",'CoC Renewal Ranking Report'!E94,\"\")","v":""},{"$f":"IF('CoC Renewal Ranking Report'!G94<>\"\",'CoC Renewal Ranking Report'!G94,\"\")","v":""},{"$f":"IF('CoC Renewal Ranking Report'!H94<>\"\",'CoC Renewal Ranking Report'!BO94,\"\")","v":""}]
[{"$f":"IF('CoC Renewal Ranking Report'!D95<>\"\",'CoC Renewal Ranking Report'!D95,\"\")","v":""},{"$f":"IF('CoC Renewal Ranking Report'!E95<>\"\",'CoC Renewal Ranking Report'!E95,\"\")","v":""},{"$f":"IF('CoC Renewal Ranking Report'!G95<>\"\",'CoC Renewal Ranking Report'!G95,\"\")","v":""},{"$f":"IF('CoC Renewal Ranking Report'!H95<>\"\",'CoC Renewal Ranking Report'!BO95,\"\")","v":""}]
[{"$f":"IF('CoC Renewal Ranking Report'!D96<>\"\",'CoC Renewal Ranking Report'!D96,\"\")","v":""},{"$f":"IF('CoC Renewal Ranking Report'!E96<>\"\",'CoC Renewal Ranking Report'!E96,\"\")","v":""},{"$f":"IF('CoC Renewal Ranking Report'!G96<>\"\",'CoC Renewal Ranking Report'!G96,\"\")","v":""},{"$f":"IF('CoC Renewal Ranking Report'!H96<>\"\",'CoC Renewal Ranking Report'!BO96,\"\")","v":""}]
[{"$f":"IF('CoC Renewal Ranking Report'!D97<>\"\",'CoC Renewal Ranking Report'!D97,\"\")","v":""},{"$f":"IF('CoC Renewal Ranking Report'!E97<>\"\",'CoC Renewal Ranking Report'!E97,\"\")","v":""},{"$f":"IF('CoC Renewal Ranking Report'!G97<>\"\",'CoC Renewal Ranking Report'!G97,\"\")","v":""},{"$f":"IF('CoC Renewal Ranking Report'!H97<>\"\",'CoC Renewal Ranking Report'!BO97,\"\")","v":""}]
[{"$f":"IF('CoC Renewal Ranking Report'!D98<>\"\",'CoC Renewal Ranking Report'!D98,\"\")","v":""},{"$f":"IF('CoC Renewal Ranking Report'!E98<>\"\",'CoC Renewal Ranking Report'!E98,\"\")","v":""},{"$f":"IF('CoC Renewal Ranking Report'!G98<>\"\",'CoC Renewal Ranking Report'!G98,\"\")","v":""},{"$f":"IF('CoC Renewal Ranking Report'!H98<>\"\",'CoC Renewal Ranking Report'!BO98,\"\")","v":""}]
[{"$f":"IF('CoC Renewal Ranking Report'!D99<>\"\",'CoC Renewal Ranking Report'!D99,\"\")","v":""},{"$f":"IF('CoC Renewal Ranking Report'!E99<>\"\",'CoC Renewal Ranking Report'!E99,\"\")","v":""},{"$f":"IF('CoC Renewal Ranking Report'!G99<>\"\",'CoC Renewal Ranking Report'!G99,\"\")","v":""},{"$f":"IF('CoC Renewal Ranking Report'!H99<>\"\",'CoC Renewal Ranking Report'!BO99,\"\")","v":""}]
[{"$f":"IF('CoC Renewal Ranking Report'!D100<>\"\",'CoC Renewal Ranking Report'!D100,\"\")","v":""},{"$f":"IF('CoC Renewal Ranking Report'!E100<>\"\",'CoC Renewal Ranking Report'!E100,\"\")","v":""},{"$f":"IF('CoC Renewal Ranking Report'!G100<>\"\",'CoC Renewal Ranking Report'!G100,\"\")","v":""},{"$f":"IF('CoC Renewal Ranking Report'!H100<>\"\",'CoC Renewal Ranking Report'!BO100,\"\")","v":""}]
[{"$f":"IF('CoC Renewal Ranking Report'!D101<>\"\",'CoC Renewal Ranking Report'!D101,\"\")","v":""},{"$f":"IF('CoC Renewal Ranking Report'!E101<>\"\",'CoC Renewal Ranking Report'!E101,\"\")","v":""},{"$f":"IF('CoC Renewal Ranking Report'!G101<>\"\",'CoC Renewal Ranking Report'!G101,\"\")","v":""},{"$f":"IF('CoC Renewal Ranking Report'!H101<>\"\",'CoC Renewal Ranking Report'!BO101,\"\")","v":""}]
[{"$f":"IF('CoC Renewal Ranking Report'!D102<>\"\",'CoC Renewal Ranking Report'!D102,\"\")","v":""},{"$f":"IF('CoC Renewal Ranking Report'!E102<>\"\",'CoC Renewal Ranking Report'!E102,\"\")","v":""},{"$f":"IF('CoC Renewal Ranking Report'!G102<>\"\",'CoC Renewal Ranking Report'!G102,\"\")","v":""},{"$f":"IF('CoC Renewal Ranking Report'!H102<>\"\",'CoC Renewal Ranking Report'!BO102,\"\")","v":""}]
[{"$f":"IF('CoC Renewal Ranking Report'!D103<>\"\",'CoC Renewal Ranking Report'!D103,\"\")","v":""},{"$f":"IF('CoC Renewal Ranking Report'!E103<>\"\",'CoC Renewal Ranking Report'!E103,\"\")","v":""},{"$f":"IF('CoC Renewal Ranking Report'!G103<>\"\",'CoC Renewal Ranking Report'!G103,\"\")","v":""},{"$f":"IF('CoC Renewal Ranking Report'!H103<>\"\",'CoC Renewal Ranking Report'!BO103,\"\")","v":""}]
[{"$f":"IF('CoC Renewal Ranking Report'!D104<>\"\",'CoC Renewal Ranking Report'!D104,\"\")","v":""},{"$f":"IF('CoC Renewal Ranking Report'!E104<>\"\",'CoC Renewal Ranking Report'!E104,\"\")","v":""},{"$f":"IF('CoC Renewal Ranking Report'!G104<>\"\",'CoC Renewal Ranking Report'!G104,\"\")","v":""},{"$f":"IF('CoC Renewal Ranking Report'!H104<>\"\",'CoC Renewal Ranking Report'!BO104,\"\")","v":""}]
[{"$f":"IF('CoC Renewal Ranking Report'!D105<>\"\",'CoC Renewal Ranking Report'!D105,\"\")","v":""},{"$f":"IF('CoC Renewal Ranking Report'!E105<>\"\",'CoC Renewal Ranking Report'!E105,\"\")","v":""},{"$f":"IF('CoC Renewal Ranking Report'!G105<>\"\",'CoC Renewal Ranking Report'!G105,\"\")","v":""},{"$f":"IF('CoC Renewal Ranking Report'!H105<>\"\",'CoC Renewal Ranking Report'!BO105,\"\")","v":""}]

{"sheet":"Cost Effectiveness","index":14,"n_rows":106,"n_cols":7,"rows_kept":106,"cut":false,"hidden":false,"merged":[[0,1,0,2]]}
[null,"Cost Effectiveness"]
[null,"Criteria","Points"]
[null,"10%+ below Type average",5]
[null,"1 - 9% below Type average",4]
[null,"Equal to 9% above Type average",2]
[null,"CoC Average (-10%, -1%, +9%): ",2637.31,{"$f":"C6*0.9","v":2373.5790000000002},{"$f":"C6*0.99","v":2610.9368999999997},{"$f":"C6*1.09","v":2874.6679000000004}]
[null,"SSO/TH/RRH Average (-10%, -1%, +9%):",4493.6400000000003,{"$f":"C7*0.9","v":4044.2760000000003},{"$f":"C7*0.99","v":4448.7036000000007},{"$f":"C7*1.09","v":4898.0676000000003}]
[null,"PH Average (-10%, -1%, +9%):",2348.6,2113.7399999999998,2325.114,2559.9740000000002]
[]
["Agency Name","Project Name","Project Type","Total Households Served","Annual Renewal Amount","Cost Per Household","Score"]
[{"$f":"IF('CoC Renewal Ranking Report'!D9<>\"\",'CoC Renewal Ranking Report'!D9,\"\")","v":""},{"$f":"IF('CoC Renewal Ranking Report'!E9<>\"\",'CoC Renewal Ranking Report'!E9,\"\")","v":""},{"$f":"IF('CoC Renewal Ranking Report'!G9<>\"\",'CoC Renewal Ranking Report'!G9,\"\")","v":""},{"$f":"IF(A11<>\"\", 'CoC Renewal Ranking Report'!I9, \"\")","v":""},{"$f":"IF(A11<>\"\", 'CoC Renewal Ranking Report'!BP9, \"\")","v":""},{"$f":"IF(AND(D11<>\"\",E11<>\"\"), IF(D11<>0, E11/D11,0), \"\")","v":""},{"$f":"IF(AND(A11<>\"\",F11>0),IF(C11=\"PH\",IF(F11<=$C$8*0.9,5,IF(AND(F11>$C$8*0.9,F11<=$C$8*0.99),4,IF(AND(F11>$C$8*0.99,F11<=$C$8*1.09),2,0))),IF(F11<=$C$7*0.9,5,IF(AND(F11>$C$7*0.9,F11<=$C$7*0.99),4,IF(AND(F11>$C$7*0.99,F11<=$C$7*1.09),2,0)))),\"\")","v":""}]
[{"$f":"IF('CoC Renewal Ranking Report'!D10<>\"\",'CoC Renewal Ranking Report'!D10,\"\")","v":"Blair County Community Action Program"},{"$f":"IF('CoC Renewal Ranking Report'!E10<>\"\",'CoC Renewal Ranking Report'!E10,\"\")","v":"Rapid Re-Housing"},{"$f":"IF('CoC Renewal Ranking Report'!G10<>\"\",'CoC Renewal Ranking Report'!G10,\"\")","v":"PH-RRH"},{"$f":"IF(A12<>\"\", 'CoC Renewal Ranking Report'!I10, \"\")","v":23},{"$f":"IF(A12<>\"\", 'CoC Renewal Ranking Report'!BP10, \"\")","v":145925},{"$f":"IF(AND(D12<>\"\",E12<>\"\"), IF(D12<>0, E12/D12,0), \"\")","v":6344.565217391304},{"$f":"IF(AND(A12<>\"\",F12>0),IF(C12=\"PH\",IF(F12<=$C$8*0.9,5,IF(AND(F12>$C$8*0.9,F12<=$C$8*0.99),4,IF(AND(F12>$C$8*0.99,F12<=$C$8*1.09),2,0))),IF(F12<=$C$7*0.9,5,IF(AND(F12>$C$7*0.9,F12<=$C$7*0.99),4,IF(AND(F12>$C$7*0.99,F12<=$C$7*1.09),2,0)))),\"\")","v":0}]
[{"$f":"IF('CoC Renewal Ranking Report'!D11<>\"\",'CoC Renewal Ranking Report'!D11,\"\")","v":"Cambria County"},{"$f":"IF('CoC Renewal Ranking Report'!E11<>\"\",'CoC Renewal Ranking Report'!E11,\"\")","v":"Cambria County Comprehensive Housing Program"},{"$f":"IF('CoC Renewal Ranking Report'!G11<>\"\",'CoC Renewal Ranking Report'!G11,\"\")","v":"PH"},{"$f":"IF(A13<>\"\", 'CoC Renewal Ranking Report'!I11, \"\")","v":28},{"$f":"IF(A13<>\"\", 'CoC Renewal Ranking Report'!BP11, \"\")","v":9764},348.71428571428572,5]
[{"$f":"IF('CoC Renewal Ranking Report'!D12<>\"\",'CoC Renewal Ranking Report'!D12,\"\")","v":"Catholic Charities of the Diocese of Allentown"},{"$f":"IF('CoC Renewal Ranking Report'!E12<>\"\",'CoC Renewal Ranking Report'!E12,\"\")","v":"Catholic Charities Allentown Permanent Housing Program"},{"$f":"IF('CoC Renewal Ranking Report'!G12<>\"\",'CoC Renewal Ranking Report'!G12,\"\")","v":"PH"},{"$f":"IF(A14<>\"\", 'CoC Renewal Ranking Report'!I12, \"\")","v":11},{"$f":"IF(A14<>\"\", 'CoC Renewal Ranking Report'!BP12, \"\")","v":7495},681.36363636363637,5]
[{"$f":"IF('CoC Renewal Ranking Report'!D13<>\"\",'CoC Renewal Ranking Report'!D13,\"\")","v":"Catholic Social Services of the Diocese of Scranton, Inc."},{"$f":"IF('CoC Renewal Ranking Report'!E13<>\"\",'CoC Renewal Ranking Report'!E13,\"\")","v":"PSHP Pike County"},{"$f":"IF('CoC Renewal Ranking Report'!G13<>\"\",'CoC Renewal Ranking Report'!G13,\"\")","v":"PH"},{"$f":"IF(A15<>\"\", 'CoC Renewal Ranking Report'!I13, \"\")","v":6},{"$f":"IF(A15<>\"\", 'CoC Renewal Ranking Report'!BP13, \"\")","v":26396},4399.333333333333,0]
[{"$f":"IF('CoC Renewal Ranking Report'!D14<>\"\",'CoC Renewal Ranking Report'!D14,\"\")","v":"Catholic Social Services of the Diocese of Scranton, Inc."},{"$f":"IF('CoC Renewal Ranking Report'!E14<>\"\",'CoC Renewal Ranking Report'!E14,\"\")","v":"Rural Permanent Supportive Housing Program"},{"$f":"IF('CoC Renewal Ranking Report'!G14<>\"\",'CoC Renewal Ranking Report'!G14,\"\")","v":"PH"},{"$f":"IF(A16<>\"\", 'CoC Renewal Ranking Report'!I14, \"\")","v":9},{"$f":"IF(A16<>\"\", 'CoC Renewal Ranking Report'!BP14, \"\")","v":46124},5124.8888888888887,0]
[{"$f":"IF('CoC Renewal Ranking Report'!D15<>\"\",'CoC Renewal Ranking Report'!D15,\"\")","v":"Catholic Social Services of the Diocese of Scranton, Inc."},{"$f":"IF('CoC Renewal Ranking Report'!E15<>\"\",'CoC Renewal Ranking Report'!E15,\"\")","v":"Susquehanna/Wayne PSHP"},{"$f":"IF('CoC Renewal Ranking Report'!G15<>\"\",'CoC Renewal Ranking Report'!G15,\"\")","v":"PH"},{"$f":"IF(A17<>\"\", 'CoC Renewal Ranking Report'!I15, \"\")","v":11},{"$f":"IF(A17<>\"\", 'CoC Renewal Ranking Report'!BP15, \"\")","v":27108},2464.3636363636365,2]
[{"$f":"IF('CoC Renewal Ranking Report'!D16<>\"\",'CoC Renewal Ranking Report'!D16,\"\")","v":"Center for Community Action"},{"$f":"IF('CoC Renewal Ranking Report'!E16<>\"\",'CoC Renewal Ranking Report'!E16,\"\")","v":"Bedford,Fulton, Huntingdon RRH"},{"$f":"IF('CoC Renewal Ranking Report'!G16<>\"\",'CoC Renewal Ranking Report'!G16,\"\")","v":"PH-RRH"},{"$f":"IF(A18<>\"\", 'CoC Renewal Ranking Report'!I16, \"\")","v":48},{"$f":"IF(A18<>\"\", 'CoC Renewal Ranking Report'!BP16, \"\")","v":38755},807.39583333333337,5]
[{"$f":"IF('CoC Renewal Ranking Report'!D17<>\"\",'CoC Renewal Ranking Report'!D17,\"\")","v":"County of Franklin"},{"$f":"IF('CoC Renewal Ranking Report'!E17<>\"\",'CoC Renewal Ranking Report'!E17,\"\")","v":"Franklin/ Fulton S+C Project 2017"},{"$f":"IF('CoC Renewal Ranking Report'!G17<>\"\",'CoC Renewal Ranking Report'!G17,\"\")","v":"PH"},{"$f":"IF(A19<>\"\", 'CoC Renewal Ranking Report'!I17, \"\")","v":17},{"$f":"IF(A19<>\"\", 'CoC Renewal Ranking Report'!BP17, \"\")","v":6276},369.1764705882353,5]
[{"$f":"IF('CoC Renewal Ranking Report'!D18<>\"\",'CoC Renewal Ranking Report'!D18,\"\")","v":"County of Franklin"},{"$f":"IF('CoC Renewal Ranking Report'!E18<>\"\",'CoC Renewal Ranking Report'!E18,\"\")","v":"Franklin/Fulton Homeless Assistance Project 2017"},{"$f":"IF('CoC Renewal Ranking Report'!G18<>\"\",'CoC Renewal Ranking Report'!G18,\"\")","v":"PH"},{"$f":"IF(A20<>\"\", 'CoC Renewal Ranking Report'!I18, \"\")","v":21},{"$f":"IF(A20<>\"\", 'CoC Renewal Ranking Report'!BP18, \"\")","v":36640},1744.7619047619048,5]
[{"$f":"IF('CoC Renewal Ranking Report'!D19<>\"\",'CoC Renewal Ranking Report'!D19,\"\")","v":"County of Lycoming DBA Lycoming- Clinton Joinder Board"},{"$f":"IF('CoC Renewal Ranking Report'!E19<>\"\",'CoC Renewal Ranking Report'!E19,\"\")","v":"Lycoming/Clinton Renewal #5"},{"$f":"IF('CoC Renewal Ranking Report'!G19<>\"\",'CoC Renewal Ranking Report'!G19,\"\")","v":"PH"},{"$f":"IF(A21<>\"\", 'CoC Renewal Ranking Report'!I19, \"\")","v":16},{"$f":"IF(A21<>\"\", 'CoC Renewal Ranking Report'!BP19, \"\")","v":24463},1528.9375,5]
[{"$f":"IF('CoC Renewal Ranking Report'!D20<>\"\",'CoC Renewal Ranking Report'!D20,\"\")","v":"Fitzmaurice Community Services, Inc"},{"$f":"IF('CoC Renewal Ranking Report'!E20<>\"\",'CoC Renewal Ranking Report'!E20,\"\")","v":"Pathfinders"},{"$f":"IF('CoC Renewal Ranking Report'!G20<>\"\",'CoC Renewal Ranking Report'!G20,\"\")","v":"PH"},{"$f":"IF(A22<>\"\", 'CoC Renewal Ranking Report'!I20, \"\")","v":25},{"$f":"IF(A22<>\"\", 'CoC Renewal Ranking Report'!BP20, \"\")","v":190759},7630.36,0]
[{"$f":"IF('CoC Renewal Ranking Report'!D21<>\"\",'CoC Renewal Ranking Report'!D21,\"\")","v":"Home Nursing AgencyCommunity Services"},{"$f":"IF('CoC Renewal Ranking Report'!E21<>\"\",'CoC Renewal Ranking Report'!E21,\"\")","v":"Housing Assistance and Rental Program"},{"$f":"IF('CoC Renewal Ranking Report'!G21<>\"\",'CoC Renewal Ranking Report'!G21,\"\")","v":"PH"},{"$f":"IF(A23<>\"\", 'CoC Renewal Ranking Report'!I21, \"\")","v":32},{"$f":"IF(A23<>\"\", 'CoC Renewal Ranking Report'!BP21, \"\")","v":81520},2547.5,2]
[{"$f":"IF('CoC Renewal Ranking Report'!D22<>\"\",'CoC Renewal Ranking Report'!D22,\"\")","v":"Housing Authority of Monroe County"},{"$f":"IF('CoC Renewal Ranking Report'!E22<>\"\",'CoC Renewal Ranking Report'!E22,\"\")","v":"Renewal Application Shelter Plus Care MC 2016"},{"$f":"IF('CoC Renewal Ranking Report'!G22<>\"\",'CoC Renewal Ranking Report'!G22,\"\")","v":"PH"},{"$f":"IF(A24<>\"\", 'CoC Renewal Ranking Report'!I22, \"\")","v":18},{"$f":"IF(A24<>\"\", 'CoC Renewal Ranking Report'!BP22, \"\")","v":10965},609.16666666666663,5]
[{"$f":"IF('CoC Renewal Ranking Report'!D23<>\"\",'CoC Renewal Ranking Report'!D23,\"\")","v":"Housing Authority of the County of Cumberland"},{"$f":"IF('CoC Renewal Ranking Report'!E23<>\"\",'CoC Renewal Ranking Report'!E23,\"\")","v":"Carlisle Supportive Housing Program"},{"$f":"IF('CoC Renewal Ranking Report'!G23<>\"\",'CoC Renewal Ranking Report'!G23,\"\")","v":"PH"},{"$f":"IF(A25<>\"\", 'CoC Renewal Ranking Report'!I23, \"\")","v":4},{"$f":"IF(A25<>\"\", 'CoC Renewal Ranking Report'!BP23, \"\")","v":6313},1578.25,5]
[{"$f":"IF('CoC Renewal Ranking Report'!D24<>\"\",'CoC Renewal Ranking Report'!D24,\"\")","v":"Housing Authority of the County of Cumberland"},{"$f":"IF('CoC Renewal Ranking Report'!E24<>\"\",'CoC Renewal Ranking Report'!E24,\"\")","v":"Perry County Permanent SHP"},{"$f":"IF('CoC Renewal Ranking Report'!G24<>\"\",'CoC Renewal Ranking Report'!G24,\"\")","v":"PH"},{"$f":"IF(A26<>\"\", 'CoC Renewal Ranking Report'!I24, \"\")","v":10},{"$f":"IF(A26<>\"\", 'CoC Renewal Ranking Report'!BP24, \"\")","v":25495},2549.5,2]
[{"$f":"IF('CoC Renewal Ranking Report'!D25<>\"\",'CoC Renewal Ranking Report'!D25,\"\")","v":"Housing Authority of the County of Cumberland"},{"$f":"IF('CoC Renewal Ranking Report'!E25<>\"\",'CoC Renewal Ranking Report'!E25,\"\")","v":"Perry County Transitional II"},{"$f":"IF('CoC Renewal Ranking Report'!G25<>\"\",'CoC Renewal Ranking Report'!G25,\"\")","v":"PH-RRH"},{"$f":"IF(A27<>\"\", 'CoC Renewal Ranking Report'!I25, \"\")","v":24},{"$f":"IF(A27<>\"\", 'CoC Renewal Ranking Report'!BP25, \"\")","v":35117},1463.2083333333333,5]
[{"$f":"IF('CoC Renewal Ranking Report'!D26<>\"\",'CoC Renewal Ranking Report'!D26,\"\")","v":"Housing Authority of the County of Cumberland"},{"$f":"IF('CoC Renewal Ranking Report'!E26<>\"\",'CoC Renewal Ranking Report'!E26,\"\")","v":"Perry County Veterans Program"},{"$f":"IF('CoC Renewal Ranking Report'!G26<>\"\",'CoC Renewal Ranking Report'!G26,\"\")","v":"PH"},{"$f":"IF(A28<>\"\", 'CoC Renewal Ranking Report'!I26, \"\")","v":5},{"$f":"IF(A28<>\"\", 'CoC Renewal Ranking Report'!BP26, \"\")","v":20745},4149,0]
[{"$f":"IF('CoC Renewal Ranking Report'!D27<>\"\",'CoC Renewal Ranking Report'!D27,\"\")","v":"Housing Authority of the County of Cumberland"},{"$f":"IF('CoC Renewal Ranking Report'!E27<>\"\",'CoC Renewal Ranking Report'!E27,\"\")","v":"Rapid Rehousing II"},{"$f":"IF('CoC Renewal Ranking Report'!G27<>\"\",'CoC Renewal Ranking Report'!G27,\"\")","v":"PH-RRH"},{"$f":"IF(A29<>\"\", 'CoC Renewal Ranking Report'!I27, \"\")","v":14},{"$f":"IF(A29<>\"\", 'CoC Renewal Ranking Report'!BP27, \"\")","v":15898},1135.5714285714287,5]
[{"$f":"IF('CoC Renewal Ranking Report'!D28<>\"\",'CoC Renewal Ranking Report'!D28,\"\")","v":"Housing Authority of the County of Cumberland"},{"$f":"IF('CoC Renewal Ranking Report'!E28<>\"\",'CoC Renewal Ranking Report'!E28,\"\")","v":"Safe Harbour SHP"},{"$f":"IF('CoC Renewal Ranking Report'!G28<>\"\",'CoC Renewal Ranking Report'!G28,\"\")","v":"PH"},{"$f":"IF(A30<>\"\", 'CoC Renewal Ranking Report'!I28, \"\")","v":18},{"$f":"IF(A30<>\"\", 'CoC Renewal Ranking Report'!BP28, \"\")","v":25592},1421.7777777777778,5]
[{"$f":"IF('CoC Renewal Ranking Report'!D29<>\"\",'CoC Renewal Ranking Report'!D29,\"\")","v":"Housing Authority of the County of Cumberland"},{"$f":"IF('CoC Renewal Ranking Report'!E29<>\"\",'CoC Renewal Ranking Report'!E29,\"\")","v":"Shelter + Care Chronic"},{"$f":"IF('CoC Renewal Ranking Report'!G29<>\"\",'CoC Renewal Ranking Report'!G29,\"\")","v":"PH"},{"$f":"IF(A31<>\"\", 'CoC Renewal Ranking Report'!I29, \"\")","v":25},{"$f":"IF(A31<>\"\", 'CoC Renewal Ranking Report'!BP29, \"\")","v":7674},306.95999999999998,5]
[{"$f":"IF('CoC Renewal Ranking Report'!D30<>\"\",'CoC Renewal Ranking Report'!D30,\"\")","v":"Housing Authority of the County of Cumberland"},{"$f":"IF('CoC Renewal Ranking Report'!E30<>\"\",'CoC Renewal Ranking Report'!E30,\"\")","v":"Shelter + Care Non-Chronic"},{"$f":"IF('CoC Renewal Ranking Report'!G30<>\"\",'CoC Renewal Ranking Report'!G30,\"\")","v":"PH"},{"$f":"IF(A32<>\"\", 'CoC Renewal Ranking Report'!I30, \"\")","v":27},{"$f":"IF(A32<>\"\", 'CoC Renewal Ranking Report'!BP30, \"\")","v":13122},486,5]
[{"$f":"IF('CoC Renewal Ranking Report'!D31<>\"\",'CoC Renewal Ranking Report'!D31,\"\")","v":"Housing Authority of the County of Cumberland"},{"$f":"IF('CoC Renewal Ranking Report'!E31<>\"\",'CoC Renewal Ranking Report'!E31,\"\")","v":"West Shore SHP I"},{"$f":"IF('CoC Renewal Ranking Report'!G31<>\"\",'CoC Renewal Ranking Report'!G31,\"\")","v":"PH"},{"$f":"IF(A33<>\"\", 'CoC Renewal Ranking Report'!I31, \"\")","v":8},{"$f":"IF(A33<>\"\", 'CoC Renewal Ranking Report'!BP31, \"\")","v":7248},906,5]
[{"$f":"IF('CoC Renewal Ranking Report'!D32<>\"\",'CoC Renewal Ranking Report'!D32,\"\")","v":"Housing Authority of the County of Cumberland"},{"$f":"IF('CoC Renewal Ranking Report'!E32<>\"\",'CoC Renewal Ranking Report'!E32,\"\")","v":"West Shore SHP II"},{"$f":"IF('CoC Renewal Ranking Report'!G32<>\"\",'CoC Renewal Ranking Report'!G32,\"\")","v":"PH"},{"$f":"IF(A34<>\"\", 'CoC Renewal Ranking Report'!I32, \"\")","v":9},{"$f":"IF(A34<>\"\", 'CoC Renewal Ranking Report'!BP32, \"\")","v":7138},793.11111111111109,5]
[{"$f":"IF('CoC Renewal Ranking Report'!D33<>\"\",'CoC Renewal Ranking Report'!D33,\"\")","v":"Housing Development Corporation of NEPA"},{"$f":"IF('CoC Renewal Ranking Report'!E33<>\"\",'CoC Renewal Ranking Report'!E33,\"\")","v":"HDC SHP 3 2016"},{"$f":"IF('CoC Renewal Ranking Report'!G33<>\"\",'CoC Renewal Ranking Report'!G33,\"\")","v":"PH"},{"$f":"IF(A35<>\"\", 'CoC Renewal Ranking Report'!I33, \"\")","v":14},{"$f":"IF(A35<>\"\", 'CoC Renewal Ranking Report'!BP33, \"\")","v":37578},2684.1428571428573,0]
[{"$f":"IF('CoC Renewal Ranking Report'!D34<>\"\",'CoC Renewal Ranking Report'!D34,\"\")","v":"Housing Development Corporation of NEPA"},{"$f":"IF('CoC Renewal Ranking Report'!E34<>\"\",'CoC Renewal Ranking Report'!E34,\"\")","v":"HDC SHP 6 2016"},{"$f":"IF('CoC Renewal Ranking Report'!G34<>\"\",'CoC Renewal Ranking Report'!G34,\"\")","v":"PH"},{"$f":"IF(A36<>\"\", 'CoC Renewal Ranking Report'!I34, \"\")","v":13},{"$f":"IF(A36<>\"\", 'CoC Renewal Ranking Report'!BP34, \"\")","v":41373},3182.5384615384614,0]
[{"$f":"IF('CoC Renewal Ranking Report'!D35<>\"\",'CoC Renewal Ranking Report'!D35,\"\")","v":"Housing Transitions, Inc."},{"$f":"IF('CoC Renewal Ranking Report'!E35<>\"\",'CoC Renewal Ranking Report'!E35,\"\")","v":"Nittany House Apartments"},{"$f":"IF('CoC Renewal Ranking Report'!G35<>\"\",'CoC Renewal Ranking Report'!G35,\"\")","v":"PH"},{"$f":"IF(A37<>\"\", 'CoC Renewal Ranking Report'!I35, \"\")","v":8},{"$f":"IF(A37<>\"\", 'CoC Renewal Ranking Report'!BP35, \"\")","v":4379},547.375,5]
[{"$f":"IF('CoC Renewal Ranking Report'!D36<>\"\",'CoC Renewal Ranking Report'!D36,\"\")","v":"Lehigh County Conference of Churches"},{"$f":"IF('CoC Renewal Ranking Report'!E36<>\"\",'CoC Renewal Ranking Report'!E36,\"\")","v":"Outreach and Case Management for the Disabled, Chronically Homeless"},{"$f":"IF('CoC Renewal Ranking Report'!G36<>\"\",'CoC Renewal Ranking Report'!G36,\"\")","v":"SSO"},{"$f":"IF(A38<>\"\", 'CoC Renewal Ranking Report'!I36, \"\")","v":35},{"$f":"IF(A38<>\"\", 'CoC Renewal Ranking Report'!BP36, \"\")","v":97559},2787.4,5]
[{"$f":"IF('CoC Renewal Ranking Report'!D37<>\"\",'CoC Renewal Ranking Report'!D37,\"\")","v":"Lehigh County Conference of Churches"},{"$f":"IF('CoC Renewal Ranking Report'!E37<>\"\",'CoC Renewal Ranking Report'!E37,\"\")","v":"Pathways Housing"},{"$f":"IF('CoC Renewal Ranking Report'!G37<>\"\",'CoC Renewal Ranking Report'!G37,\"\")","v":"PH"},{"$f":"IF(A39<>\"\", 'CoC Renewal Ranking Report'!I37, \"\")","v":14},{"$f":"IF(A39<>\"\", 'CoC Renewal Ranking Report'!BP37, \"\")","v":39142},2795.8571428571427,0]
[{"$f":"IF('CoC Renewal Ranking Report'!D38<>\"\",'CoC Renewal Ranking Report'!D38,\"\")","v":"Lehigh County Conference of Churches"},{"$f":"IF('CoC Renewal Ranking Report'!E38<>\"\",'CoC Renewal Ranking Report'!E38,\"\")","v":"Pathways Housing 2"},{"$f":"IF('CoC Renewal Ranking Report'!G38<>\"\",'CoC Renewal Ranking Report'!G38,\"\")","v":"PH"},{"$f":"IF(A40<>\"\", 'CoC Renewal Ranking Report'!I38, \"\")","v":18},{"$f":"IF(A40<>\"\", 'CoC Renewal Ranking Report'!BP38, \"\")","v":34372},1909.5555555555557,5]
[{"$f":"IF('CoC Renewal Ranking Report'!D39<>\"\",'CoC Renewal Ranking Report'!D39,\"\")","v":"Lehigh County Conference of Churches"},{"$f":"IF('CoC Renewal Ranking Report'!E39<>\"\",'CoC Renewal Ranking Report'!E39,\"\")","v":"Pathways TBRA for Families, Youth and Veterans"},{"$f":"IF('CoC Renewal Ranking Report'!G39<>\"\",'CoC Renewal Ranking Report'!G39,\"\")","v":"PH"},{"$f":"IF(A41<>\"\", 'CoC Renewal Ranking Report'!I39, \"\")","v":24},{"$f":"IF(A41<>\"\", 'CoC Renewal Ranking Report'!BP39, \"\")","v":59124},2463.5,2]
[{"$f":"IF('CoC Renewal Ranking Report'!D40<>\"\",'CoC Renewal Ranking Report'!D40,\"\")","v":"Lehigh County Conference of Churches"},{"$f":"IF('CoC Renewal Ranking Report'!E40<>\"\",'CoC Renewal Ranking Report'!E40,\"\")","v":"Tenant-Based Rental Assistance for the Disabled,Chronically Homeless"},{"$f":"IF('CoC Renewal Ranking Report'!G40<>\"\",'CoC Renewal Ranking Report'!G40,\"\")","v":"PH"},{"$f":"IF(A42<>\"\", 'CoC Renewal Ranking Report'!I40, \"\")","v":24},{"$f":"IF(A42<>\"\", 'CoC Renewal Ranking Report'!BP40, \"\")","v":32706},1362.75,5]
[{"$f":"IF('CoC Renewal Ranking Report'!D41<>\"\",'CoC Renewal Ranking Report'!D41,\"\")","v":"Lehigh County Housing Authority"},{"$f":"IF('CoC Renewal Ranking Report'!E41<>\"\",'CoC Renewal Ranking Report'!E41,\"\")","v":"LCHA S+C 2016"},{"$f":"IF('CoC Renewal Ranking Report'!G41<>\"\",'CoC Renewal Ranking Report'!G41,\"\")","v":"PH"},{"$f":"IF(A43<>\"\", 'CoC Renewal Ranking Report'!I41, \"\")","v":28},{"$f":"IF(A43<>\"\", 'CoC Renewal Ranking Report'!BP41, \"\")","v":11770},420.35714285714283,5]
[{"$f":"IF('CoC Renewal Ranking Report'!D42<>\"\",'CoC Renewal Ranking Report'!D42,\"\")","v":"Maranatha"},{"$f":"IF('CoC Renewal Ranking Report'!E42<>\"\",'CoC Renewal Ranking Report'!E42,\"\")","v":"TOTAL PERSON TRANSITIONAL PROGRAM 1 & 2"},{"$f":"IF('CoC Renewal Ranking Report'!G42<>\"\",'CoC Renewal Ranking Report'!G42,\"\")","v":"PH-RRH"},{"$f":"IF(A44<>\"\", 'CoC Renewal Ranking Report'!I42, \"\")","v":11},{"$f":"IF(A44<>\"\", 'CoC Renewal Ranking Report'!BP42, \"\")","v":172074},15643.09090909091,0]
[{"$f":"IF('CoC Renewal Ranking Report'!D43<>\"\",'CoC Renewal Ranking Report'!D43,\"\")","v":"Mifflin County"},{"$f":"IF('CoC Renewal Ranking Report'!E43<>\"\",'CoC Renewal Ranking Report'!E43,\"\")","v":"Mifflin County Permanent Housing Renewal"},{"$f":"IF('CoC Renewal Ranking Report'!G43<>\"\",'CoC Renewal Ranking Report'!G43,\"\")","v":"PH"},{"$f":"IF(A45<>\"\", 'CoC Renewal Ranking Report'!I43, \"\")","v":10},{"$f":"IF(A45<>\"\", 'CoC Renewal Ranking Report'!BP43, \"\")","v":22069},2206.9,4]
[{"$f":"IF('CoC Renewal Ranking Report'!D44<>\"\",'CoC Renewal Ranking Report'!D44,\"\")","v":"Northampton County Housing Authority"},{"$f":"IF('CoC Renewal Ranking Report'!E44<>\"\",'CoC Renewal Ranking Report'!E44,\"\")","v":"NCHA S+C 2016"},{"$f":"IF('CoC Renewal Ranking Report'!G44<>\"\",'CoC Renewal Ranking Report'!G44,\"\")","v":"PH"},{"$f":"IF(A46<>\"\", 'CoC Renewal Ranking Report'!I44, \"\")","v":11},{"$f":"IF(A46<>\"\", 'CoC Renewal Ranking Report'!BP44, \"\")","v":6237},567,5]
[{"$f":"IF('CoC Renewal Ranking Report'!D45<>\"\",'CoC Renewal Ranking Report'!D45,\"\")","v":"Northern Cambria Community Development Corporation"},{"$f":"IF('CoC Renewal Ranking Report'!E45<>\"\",'CoC Renewal Ranking Report'!E45,\"\")","v":"Independence Gardens"},{"$f":"IF('CoC Renewal Ranking Report'!G45<>\"\",'CoC Renewal Ranking Report'!G45,\"\")","v":"PH"},{"$f":"IF(A47<>\"\", 'CoC Renewal Ranking Report'!I45, \"\")","v":18},{"$f":"IF(A47<>\"\", 'CoC Renewal Ranking Report'!BP45, \"\")","v":26542},1474.5555555555557,5]
[{"$f":"IF('CoC Renewal Ranking Report'!D46<>\"\",'CoC Renewal Ranking Report'!D46,\"\")","v":"Northern Cambria Community Development Corporation"},{"$f":"IF('CoC Renewal Ranking Report'!E46<>\"\",'CoC Renewal Ranking Report'!E46,\"\")","v":"Schoolhouse Gardens"},{"$f":"IF('CoC Renewal Ranking Report'!G46<>\"\",'CoC Renewal Ranking Report'!G46,\"\")","v":"PH"},{"$f":"IF(A48<>\"\", 'CoC Renewal Ranking Report'!I46, \"\")","v":12},{"$f":"IF(A48<>\"\", 'CoC Renewal Ranking Report'!BP46, \"\")","v":12247},1020.5833333333334,5]
[{"$f":"IF('CoC Renewal Ranking Report'!D47<>\"\",'CoC Renewal Ranking Report'!D47,\"\")","v":"Northumberland County MH/MR"},{"$f":"IF('CoC Renewal Ranking Report'!E47<>\"\",'CoC Renewal Ranking Report'!E47,\"\")","v":"Sharing Support"},{"$f":"IF('CoC Renewal Ranking Report'!G47<>\"\",'CoC Renewal Ranking Report'!G47,\"\")","v":"PH"},{"$f":"IF(A49<>\"\", 'CoC Renewal Ranking Report'!I47, \"\")","v":15},{"$f":"IF(A49<>\"\", 'CoC Renewal Ranking Report'!BP47, \"\")","v":37277},2485.1333333333332,2]
[{"$f":"IF('CoC Renewal Ranking Report'!D48<>\"\",'CoC Renewal Ranking Report'!D48,\"\")","v":"Resources for Human Development, Inc."},{"$f":"IF('CoC Renewal Ranking Report'!E48<>\"\",'CoC Renewal Ranking Report'!E48,\"\")","v":"Crossroads Family"},{"$f":"IF('CoC Renewal Ranking Report'!G48<>\"\",'CoC Renewal Ranking Report'!G48,\"\")","v":"PH"},{"$f":"IF(A50<>\"\", 'CoC Renewal Ranking Report'!I48, \"\")","v":13},{"$f":"IF(A50<>\"\", 'CoC Renewal Ranking Report'!BP48, \"\")","v":125152},9627.0769230769238,0]
[{"$f":"IF('CoC Renewal Ranking Report'!D49<>\"\",'CoC Renewal Ranking Report'!D49,\"\")","v":"Resources for Human Development, Inc."},{"$f":"IF('CoC Renewal Ranking Report'!E49<>\"\",'CoC Renewal Ranking Report'!E49,\"\")","v":"Crossroads Housing Bonus"},{"$f":"IF('CoC Renewal Ranking Report'!G49<>\"\",'CoC Renewal Ranking Report'!G49,\"\")","v":"PH"},{"$f":"IF(A51<>\"\", 'CoC Renewal Ranking Report'!I49, \"\")","v":11},{"$f":"IF(A51<>\"\", 'CoC Renewal Ranking Report'!BP49, \"\")","v":16073},1461.1818181818182,5]
[{"$f":"IF('CoC Renewal Ranking Report'!D50<>\"\",'CoC Renewal Ranking Report'!D50,\"\")","v":"Resources for Human Development, Inc."},{"$f":"IF('CoC Renewal Ranking Report'!E50<>\"\",'CoC Renewal Ranking Report'!E50,\"\")","v":"Crossroads Individual"},{"$f":"IF('CoC Renewal Ranking Report'!G50<>\"\",'CoC Renewal Ranking Report'!G50,\"\")","v":"PH"},{"$f":"IF(A52<>\"\", 'CoC Renewal Ranking Report'!I50, \"\")","v":30},{"$f":"IF(A52<>\"\", 'CoC Renewal Ranking Report'!BP50, \"\")","v":151313},5043.7666666666664,0]
[{"$f":"IF('CoC Renewal Ranking Report'!D51<>\"\",'CoC Renewal Ranking Report'!D51,\"\")","v":"Resources for Human Development, Inc."},{"$f":"IF('CoC Renewal Ranking Report'!E51<>\"\",'CoC Renewal Ranking Report'!E51,\"\")","v":"Crossroads Schuylkill Co. Permanent Supportive Housing"},{"$f":"IF('CoC Renewal Ranking Report'!G51<>\"\",'CoC Renewal Ranking Report'!G51,\"\")","v":"PH"},{"$f":"IF(A53<>\"\", 'CoC Renewal Ranking Report'!I51, \"\")","v":5},{"$f":"IF(A53<>\"\", 'CoC Renewal Ranking Report'!BP51, \"\")","v":36273},7254.6,0]
[{"$f":"IF('CoC Renewal Ranking Report'!D52<>\"\",'CoC Renewal Ranking Report'!D52,\"\")","v":"Resources for Human Development, Inc."},{"$f":"IF('CoC Renewal Ranking Report'!E52<>\"\",'CoC Renewal Ranking Report'!E52,\"\")","v":"LV ACT Housing Supports"},{"$f":"IF('CoC Renewal Ranking Report'!G52<>\"\",'CoC Renewal Ranking Report'!G52,\"\")","v":"PH"},{"$f":"IF(A54<>\"\", 'CoC Renewal Ranking Report'!I52, \"\")","v":22},{"$f":"IF(A54<>\"\", 'CoC Renewal Ranking Report'!BP52, \"\")","v":10592},481.45454545454544,5]
[{"$f":"IF('CoC Renewal Ranking Report'!D53<>\"\",'CoC Renewal Ranking Report'!D53,\"\")","v":"Tableland Services, Inc."},{"$f":"IF('CoC Renewal Ranking Report'!E53<>\"\",'CoC Renewal Ranking Report'!E53,\"\")","v":"Permanent Housing with Disabilities (SHP)"},{"$f":"IF('CoC Renewal Ranking Report'!G53<>\"\",'CoC Renewal Ranking Report'!G53,\"\")","v":"PH"},{"$f":"IF(A55<>\"\", 'CoC Renewal Ranking Report'!I53, \"\")","v":39},{"$f":"IF(A55<>\"\", 'CoC Renewal Ranking Report'!BP53, \"\")","v":45980},1178.9743589743589,5]
[{"$f":"IF('CoC Renewal Ranking Report'!D54<>\"\",'CoC Renewal Ranking Report'!D54,\"\")","v":"Tableland Services, Inc."},{"$f":"IF('CoC Renewal Ranking Report'!E54<>\"\",'CoC Renewal Ranking Report'!E54,\"\")","v":"Permanent Supportive Housing CH Project"},{"$f":"IF('CoC Renewal Ranking Report'!G54<>\"\",'CoC Renewal Ranking Report'!G54,\"\")","v":"PH"},{"$f":"IF(A56<>\"\", 'CoC Renewal Ranking Report'!I54, \"\")","v":2},{"$f":"IF(A56<>\"\", 'CoC Renewal Ranking Report'!BP54, \"\")","v":1581},790.5,5]
[{"$f":"IF('CoC Renewal Ranking Report'!D55<>\"\",'CoC Renewal Ranking Report'!D55,\"\")","v":"The Salvation Army, a New York Corporation"},{"$f":"IF('CoC Renewal Ranking Report'!E55<>\"\",'CoC Renewal Ranking Report'!E55,\"\")","v":"Allentown Hospitality House Permanent Housing Program"},{"$f":"IF('CoC Renewal Ranking Report'!G55<>\"\",'CoC Renewal Ranking Report'!G55,\"\")","v":"PH"},{"$f":"IF(A57<>\"\", 'CoC Renewal Ranking Report'!I55, \"\")","v":7},{"$f":"IF(A57<>\"\", 'CoC Renewal Ranking Report'!BP55, \"\")","v":50674},7239.1428571428569,0]
[{"$f":"IF('CoC Renewal Ranking Report'!D56<>\"\",'CoC Renewal Ranking Report'!D56,\"\")","v":"The Salvation Army, a New York Corporation"},{"$f":"IF('CoC Renewal Ranking Report'!E56<>\"\",'CoC Renewal Ranking Report'!E56,\"\")","v":"Salvation Army Carlisle PH Project"},{"$f":"IF('CoC Renewal Ranking Report'!G56<>\"\",'CoC Renewal Ranking Report'!G56,\"\")","v":"PH"},{"$f":"IF(A58<>\"\", 'CoC Renewal Ranking Report'!I56, \"\")","v":7},{"$f":"IF(A58<>\"\", 'CoC Renewal Ranking Report'!BP56, \"\")","v":23354},3336.2857142857142,0]
[{"$f":"IF('CoC Renewal Ranking Report'!D57<>\"\",'CoC Renewal Ranking Report'!D57,\"\")","v":"Union-Snyder Community Action Agency"},{"$f":"IF('CoC Renewal Ranking Report'!E57<>\"\",'CoC Renewal Ranking Report'!E57,\"\")","v":"Union-Snyder Rapid ReHousing Program"},{"$f":"IF('CoC Renewal Ranking Report'!G57<>\"\",'CoC Renewal Ranking Report'!G57,\"\")","v":"PH-RRH"},{"$f":"IF(A59<>\"\", 'CoC Renewal Ranking Report'!I57, \"\")","v":15},{"$f":"IF(A59<>\"\", 'CoC Renewal Ranking Report'!BP57, \"\")","v":49077},3271.8,5]
[{"$f":"IF('CoC Renewal Ranking Report'!D58<>\"\",'CoC Renewal Ranking Report'!D58,\"\")","v":"United Christian Ministries"},{"$f":"IF('CoC Renewal Ranking Report'!E58<>\"\",'CoC Renewal Ranking Report'!E58,\"\")","v":"Kenner Garnet Renewal 2016"},{"$f":"IF('CoC Renewal Ranking Report'!G58<>\"\",'CoC Renewal Ranking Report'!G58,\"\")","v":"PH"},{"$f":"IF(A60<>\"\", 'CoC Renewal Ranking Report'!I58, \"\")","v":27},{"$f":"IF(A60<>\"\", 'CoC Renewal Ranking Report'!BP58, \"\")","v":90403},3348.2592592592591,0]
[{"$f":"IF('CoC Renewal Ranking Report'!D59<>\"\",'CoC Renewal Ranking Report'!D59,\"\")","v":"Valley Housing Development Corporation "},{"$f":"IF('CoC Renewal Ranking Report'!E59<>\"\",'CoC Renewal Ranking Report'!E59,\"\")","v":"VHDC SHP #2 2016"},{"$f":"IF('CoC Renewal Ranking Report'!G59<>\"\",'CoC Renewal Ranking Report'!G59,\"\")","v":"PH"},{"$f":"IF(A61<>\"\", 'CoC Renewal Ranking Report'!I59, \"\")","v":24},{"$f":"IF(A61<>\"\", 'CoC Renewal Ranking Report'!BP59, \"\")","v":12072},503,5]
[{"$f":"IF('CoC Renewal Ranking Report'!D60<>\"\",'CoC Renewal Ranking Report'!D60,\"\")","v":"Valley Housing Development Corporation "},{"$f":"IF('CoC Renewal Ranking Report'!E60<>\"\",'CoC Renewal Ranking Report'!E60,\"\")","v":"VHDC SHP #3 2016"},{"$f":"IF('CoC Renewal Ranking Report'!G60<>\"\",'CoC Renewal Ranking Report'!G60,\"\")","v":"PH"},{"$f":"IF(A62<>\"\", 'CoC Renewal Ranking Report'!I60, \"\")","v":16},{"$f":"IF(A62<>\"\", 'CoC Renewal Ranking Report'!BP60, \"\")","v":7793},487.0625,5]
[{"$f":"IF('CoC Renewal Ranking Report'!D61<>\"\",'CoC Renewal Ranking Report'!D61,\"\")","v":"Valley Housing Development Corporation "},{"$f":"IF('CoC Renewal Ranking Report'!E61<>\"\",'CoC Renewal Ranking Report'!E61,\"\")","v":"VHDC SHP #4 2016"},{"$f":"IF('CoC Renewal Ranking Report'!G61<>\"\",'CoC Renewal Ranking Report'!G61,\"\")","v":"PH"},{"$f":"IF(A63<>\"\", 'CoC Renewal Ranking Report'!I61, \"\")","v":14},{"$f":"IF(A63<>\"\", 'CoC Renewal Ranking Report'!BP61, \"\")","v":30470},2176.4285714285716,4]
[{"$f":"IF('CoC Renewal Ranking Report'!D62<>\"\",'CoC Renewal Ranking Report'!D62,\"\")","v":""},{"$f":"IF('CoC Renewal Ranking Report'!E62<>\"\",'CoC Renewal Ranking Report'!E62,\"\")","v":""},{"$f":"IF('CoC Renewal Ranking Report'!G62<>\"\",'CoC Renewal Ranking Report'!G62,\"\")","v":""},{"$f":"IF(A64<>\"\", 'CoC Renewal Ranking Report'!I62, \"\")","v":""},{"$f":"IF(A64<>\"\", 'CoC Renewal Ranking Report'!BP62, \"\")","v":""},"",""]
[{"$f":"IF('CoC Renewal Ranking Report'!D63<>\"\",'CoC Renewal Ranking Report'!D63,\"\")","v":""},{"$f":"IF('CoC Renewal Ranking Report'!E63<>\"\",'CoC Renewal Ranking Report'!E63,\"\")","v":""},{"$f":"IF('CoC Renewal Ranking Report'!G63<>\"\",'CoC Renewal Ranking Report'!G63,\"\")","v":""},{"$f":"IF(A65<>\"\", 'CoC Renewal Ranking Report'!I63, \"\")","v":""},{"$f":"IF(A65<>\"\", 'CoC Renewal Ranking Report'!BP63, \"\")","v":""},"",""]
[{"$f":"IF('CoC Renewal Ranking Report'!D64<>\"\",'CoC Renewal Ranking Report'!D64,\"\")","v":""},{"$f":"IF('CoC Renewal Ranking Report'!E64<>\"\",'CoC Renewal Ranking Report'!E64,\"\")","v":""},{"$f":"IF('CoC Renewal Ranking Report'!G64<>\"\",'CoC Renewal Ranking Report'!G64,\"\")","v":""},{"$f":"IF(A66<>\"\", 'CoC Renewal Ranking Report'!I64, \"\")","v":""},{"$f":"IF(A66<>\"\", 'CoC Renewal Ranking Report'!BP64, \"\")","v":""},"",""]
[{"$f":"IF('CoC Renewal Ranking Report'!D65<>\"\",'CoC Renewal Ranking Report'!D65,\"\")","v":""},{"$f":"IF('CoC Renewal Ranking Report'!E65<>\"\",'CoC Renewal Ranking Report'!E65,\"\")","v":""},{"$f":"IF('CoC Renewal Ranking Report'!G65<>\"\",'CoC Renewal Ranking Report'!G65,\"\")","v":""},{"$f":"IF(A67<>\"\", 'CoC Renewal Ranking Report'!I65, \"\")","v":""},{"$f":"IF(A67<>\"\", 'CoC Renewal Ranking Report'!BP65, \"\")","v":""},"",""]
[{"$f":"IF('CoC Renewal Ranking Report'!D66<>\"\",'CoC Renewal Ranking Report'!D66,\"\")","v":""},{"$f":"IF('CoC Renewal Ranking Report'!E66<>\"\",'CoC Renewal Ranking Report'!E66,\"\")","v":""},{"$f":"IF('CoC Renewal Ranking Report'!G66<>\"\",'CoC Renewal Ranking Report'!G66,\"\")","v":""},{"$f":"IF(A68<>\"\", 'CoC Renewal Ranking Report'!I66, \"\")","v":""},{"$f":"IF(A68<>\"\", 'CoC Renewal Ranking Report'!BP66, \"\")","v":""},"",""]
[{"$f":"IF('CoC Renewal Ranking Report'!D67<>\"\",'CoC Renewal Ranking Report'!D67,\"\")","v":""},{"$f":"IF('CoC Renewal Ranking Report'!E67<>\"\",'CoC Renewal Ranking Report'!E67,\"\")","v":""},{"$f":"IF('CoC Renewal Ranking Report'!G67<>\"\",'CoC Renewal Ranking Report'!G67,\"\")","v":""},{"$f":"IF(A69<>\"\", 'CoC Renewal Ranking Report'!I67, \"\")","v":""},{"$f":"IF(A69<>\"\", 'CoC Renewal Ranking Report'!BP67, \"\")","v":""},"",""]
[{"$f":"IF('CoC Renewal Ranking Report'!D68<>\"\",'CoC Renewal Ranking Report'!D68,\"\")","v":""},{"$f":"IF('CoC Renewal Ranking Report'!E68<>\"\",'CoC Renewal Ranking Report'!E68,\"\")","v":""},{"$f":"IF('CoC Renewal Ranking Report'!G68<>\"\",'CoC Renewal Ranking Report'!G68,\"\")","v":""},{"$f":"IF(A70<>\"\", 'CoC Renewal Ranking Report'!I68, \"\")","v":""},{"$f":"IF(A70<>\"\", 'CoC Renewal Ranking Report'!BP68, \"\")","v":""},"",""]
[{"$f":"IF('CoC Renewal Ranking Report'!D69<>\"\",'CoC Renewal Ranking Report'!D69,\"\")","v":""},{"$f":"IF('CoC Renewal Ranking Report'!E69<>\"\",'CoC Renewal Ranking Report'!E69,\"\")","v":""},{"$f":"IF('CoC Renewal Ranking Report'!G69<>\"\",'CoC Renewal Ranking Report'!G69,\"\")","v":""},{"$f":"IF(A71<>\"\", 'CoC Renewal Ranking Report'!I69, \"\")","v":""},{"$f":"IF(A71<>\"\", 'CoC Renewal Ranking Report'!BP69, \"\")","v":""},"",""]
[{"$f":"IF('CoC Renewal Ranking Report'!D70<>\"\",'CoC Renewal Ranking Report'!D70,\"\")","v":""},{"$f":"IF('CoC Renewal Ranking Report'!E70<>\"\",'CoC Renewal Ranking Report'!E70,\"\")","v":""},{"$f":"IF('CoC Renewal Ranking Report'!G70<>\"\",'CoC Renewal Ranking Report'!G70,\"\")","v":""},{"$f":"IF(A72<>\"\", 'CoC Renewal Ranking Report'!I70, \"\")","v":""},{"$f":"IF(A72<>\"\", 'CoC Renewal Ranking Report'!BP70, \"\")","v":""},"",""]
[{"$f":"IF('CoC Renewal Ranking Report'!D71<>\"\",'CoC Renewal Ranking Report'!D71,\"\")","v":""},{"$f":"IF('CoC Renewal Ranking Report'!E71<>\"\",'CoC Renewal Ranking Report'!E71,\"\")","v":""},{"$f":"IF('CoC Renewal Ranking Report'!G71<>\"\",'CoC Renewal Ranking Report'!G71,\"\")","v":""},{"$f":"IF(A73<>\"\", 'CoC Renewal Ranking Report'!I71, \"\")","v":""},{"$f":"IF(A73<>\"\", 'CoC Renewal Ranking Report'!BP71, \"\")","v":""},"",""]
[{"$f":"IF('CoC Renewal Ranking Report'!D72<>\"\",'CoC Renewal Ranking Report'!D72,\"\")","v":""},{"$f":"IF('CoC Renewal Ranking Report'!E72<>\"\",'CoC Renewal Ranking Report'!E72,\"\")","v":""},{"$f":"IF('CoC Renewal Ranking Report'!G72<>\"\",'CoC Renewal Ranking Report'!G72,\"\")","v":""},{"$f":"IF(A74<>\"\", 'CoC Renewal Ranking Report'!I72, \"\")","v":""},{"$f":"IF(A74<>\"\", 'CoC Renewal Ranking Report'!BP72, \"\")","v":""},"",""]
[{"$f":"IF('CoC Renewal Ranking Report'!D73<>\"\",'CoC Renewal Ranking Report'!D73,\"\")","v":""},{"$f":"IF('CoC Renewal Ranking Report'!E73<>\"\",'CoC Renewal Ranking Report'!E73,\"\")","v":""},{"$f":"IF('CoC Renewal Ranking Report'!G73<>\"\",'CoC Renewal Ranking Report'!G73,\"\")","v":""},{"$f":"IF(A75<>\"\", 'CoC Renewal Ranking Report'!I73, \"\")","v":""},{"$f":"IF(A75<>\"\", 'CoC Renewal Ranking Report'!BP73, \"\")","v":""},"",""]
[{"$f":"IF('CoC Renewal Ranking Report'!D74<>\"\",'CoC Renewal Ranking Report'!D74,\"\")","v":""},{"$f":"IF('CoC Renewal Ranking Report'!E74<>\"\",'CoC Renewal Ranking Report'!E74,\"\")","v":""},{"$f":"IF('CoC Renewal Ranking Report'!G74<>\"\",'CoC Renewal Ranking Report'!G74,\"\")","v":""},{"$f":"IF(A76<>\"\", 'CoC Renewal Ranking Report'!I74, \"\")","v":""},{"$f":"IF(A76<>\"\", 'CoC Renewal Ranking Report'!BP74, \"\")","v":""},{"$f":"IF(AND(D76<>\"\",E76<>\"\"), IF(D76<>0, E76/D76,0), \"\")","v":""},{"$f":"IF(AND(A76<>\"\",F76>0),IF(C76=\"PH\",IF(F76<=$C$8*0.9,5,IF(AND(F76>$C$8*0.9,F76<=$C$8*0.99),4,IF(AND(F76>$C$8*0.99,F76<=$C$8*1.09),2,0))),IF(F76<=$C$7*0.9,5,IF(AND(F76>$C$7*0.9,F76<=$C$7*0.99),4,IF(AND(F76>$C$7*0.99,F76<=$C$7*1.09),2,0)))),\"\")","v":""}]
[{"$f":"IF('CoC Renewal Ranking Report'!D75<>\"\",'CoC Renewal Ranking Report'!D75,\"\")","v":""},{"$f":"IF('CoC Renewal Ranking Report'!E75<>\"\",'CoC Renewal Ranking Report'!E75,\"\")","v":""},{"$f":"IF('CoC Renewal Ranking Report'!G75<>\"\",'CoC Renewal Ranking Report'!G75,\"\")","v":""},{"$f":"IF(A77<>\"\", 'CoC Renewal Ranking Report'!I75, \"\")","v":""},{"$f":"IF(A77<>\"\", 'CoC Renewal Ranking Report'!BP75, \"\")","v":""},"",""]
[{"$f":"IF('CoC Renewal Ranking Report'!D76<>\"\",'CoC Renewal Ranking Report'!D76,\"\")","v":""},{"$f":"IF('CoC Renewal Ranking Report'!E76<>\"\",'CoC Renewal Ranking Report'!E76,\"\")","v":""},{"$f":"IF('CoC Renewal Ranking Report'!G76<>\"\",'CoC Renewal Ranking Report'!G76,\"\")","v":""},{"$f":"IF(A78<>\"\", 'CoC Renewal Ranking Report'!I76, \"\")","v":""},{"$f":"IF(A78<>\"\", 'CoC Renewal Ranking Report'!BP76, \"\")","v":""},"",""]
[{"$f":"IF('CoC Renewal Ranking Report'!D77<>\"\",'CoC Renewal Ranking Report'!D77,\"\")","v":""},{"$f":"IF('CoC Renewal Ranking Report'!E77<>\"\",'CoC Renewal Ranking Report'!E77,\"\")","v":""},{"$f":"IF('CoC Renewal Ranking Report'!G77<>\"\",'CoC Renewal Ranking Report'!G77,\"\")","v":""},{"$f":"IF(A79<>\"\", 'CoC Renewal Ranking Report'!I77, \"\")","v":""},{"$f":"IF(A79<>\"\", 'CoC Renewal Ranking Report'!BP77, \"\")","v":""},"",""]
[{"$f":"IF('CoC Renewal Ranking Report'!D78<>\"\",'CoC Renewal Ranking Report'!D78,\"\")","v":""},{"$f":"IF('CoC Renewal Ranking Report'!E78<>\"\",'CoC Renewal Ranking Report'!E78,\"\")","v":""},{"$f":"IF('CoC Renewal Ranking Report'!G78<>\"\",'CoC Renewal Ranking Report'!G78,\"\")","v":""},{"$f":"IF(A80<>\"\", 'CoC Renewal Ranking Report'!I78, \"\")","v":""},{"$f":"IF(A80<>\"\", 'CoC Renewal Ranking Report'!BP78, \"\")","v":""},"",""]
[{"$f":"IF('CoC Renewal Ranking Report'!D79<>\"\",'CoC Renewal Ranking Report'!D79,\"\")","v":""},{"$f":"IF('CoC Renewal Ranking Report'!E79<>\"\",'CoC Renewal Ranking Report'!E79,\"\")","v":""},{"$f":"IF('CoC Renewal Ranking Report'!G79<>\"\",'CoC Renewal Ranking Report'!G79,\"\")","v":""},{"$f":"IF(A81<>\"\", 'CoC Renewal Ranking Report'!I79, \"\")","v":""},{"$f":"IF(A81<>\"\", 'CoC Renewal Ranking Report'!BP79, \"\")","v":""},"",""]
[{"$f":"IF('CoC Renewal Ranking Report'!D80<>\"\",'CoC Renewal Ranking Report'!D80,\"\")","v":""},{"$f":"IF('CoC Renewal Ranking Report'!E80<>\"\",'CoC Renewal Ranking Report'!E80,\"\")","v":""},{"$f":"IF('CoC Renewal Ranking Report'!G80<>\"\",'CoC Renewal Ranking Report'!G80,\"\")","v":""},{"$f":"IF(A82<>\"\", 'CoC Renewal Ranking Report'!I80, \"\")","v":""},{"$f":"IF(A82<>\"\", 'CoC Renewal Ranking Report'!BP80, \"\")","v":""},"",""]
[{"$f":"IF('CoC Renewal Ranking Report'!D81<>\"\",'CoC Renewal Ranking Report'!D81,\"\")","v":""},{"$f":"IF('CoC Renewal Ranking Report'!E81<>\"\",'CoC Renewal Ranking Report'!E81,\"\")","v":""},{"$f":"IF('CoC Renewal Ranking Report'!G81<>\"\",'CoC Renewal Ranking Report'!G81,\"\")","v":""},{"$f":"IF(A83<>\"\", 'CoC Renewal Ranking Report'!I81, \"\")","v":""},{"$f":"IF(A83<>\"\", 'CoC Renewal Ranking Report'!BP81, \"\")","v":""},"",""]
[{"$f":"IF('CoC Renewal Ranking Report'!D82<>\"\",'CoC Renewal Ranking Report'!D82,\"\")","v":""},{"$f":"IF('CoC Renewal Ranking Report'!E82<>\"\",'CoC Renewal Ranking Report'!E82,\"\")","v":""},{"$f":"IF('CoC Renewal Ranking Report'!G82<>\"\",'CoC Renewal Ranking Report'!G82,\"\")","v":""},{"$f":"IF(A84<>\"\", 'CoC Renewal Ranking Report'!I82, \"\")","v":""},{"$f":"IF(A84<>\"\", 'CoC Renewal Ranking Report'!BP82, \"\")","v":""},"",""]
[{"$f":"IF('CoC Renewal Ranking Report'!D83<>\"\",'CoC Renewal Ranking Report'!D83,\"\")","v":""},{"$f":"IF('CoC Renewal Ranking Report'!E83<>\"\",'CoC Renewal Ranking Report'!E83,\"\")","v":""},{"$f":"IF('CoC Renewal Ranking Report'!G83<>\"\",'CoC Renewal Ranking Report'!G83,\"\")","v":""},{"$f":"IF(A85<>\"\", 'CoC Renewal Ranking Report'!I83, \"\")","v":""},{"$f":"IF(A85<>\"\", 'CoC Renewal Ranking Report'!BP83, \"\")","v":""},"",""]
[{"$f":"IF('CoC Renewal Ranking Report'!D84<>\"\",'CoC Renewal Ranking Report'!D84,\"\")","v":""},{"$f":"IF('CoC Renewal Ranking Report'!E84<>\"\",'CoC Renewal Ranking Report'!E84,\"\")","v":""},{"$f":"IF('CoC Renewal Ranking Report'!G84<>\"\",'CoC Renewal Ranking Report'!G84,\"\")","v":""},{"$f":"IF(A86<>\"\", 'CoC Renewal Ranking Report'!I84, \"\")","v":""},{"$f":"IF(A86<>\"\", 'CoC Renewal Ranking Report'!BP84, \"\")","v":""},"",""]
[{"$f":"IF('CoC Renewal Ranking Report'!D85<>\"\",'CoC Renewal Ranking Report'!D85,\"\")","v":""},{"$f":"IF('CoC Renewal Ranking Report'!E85<>\"\",'CoC Renewal Ranking Report'!E85,\"\")","v":""},{"$f":"IF('CoC Renewal Ranking Report'!G85<>\"\",'CoC Renewal Ranking Report'!G85,\"\")","v":""},{"$f":"IF(A87<>\"\", 'CoC Renewal Ranking Report'!I85, \"\")","v":""},{"$f":"IF(A87<>\"\", 'CoC Renewal Ranking Report'!BP85, \"\")","v":""},"",""]
[{"$f":"IF('CoC Renewal Ranking Report'!D86<>\"\",'CoC Renewal Ranking Report'!D86,\"\")","v":""},{"$f":"IF('CoC Renewal Ranking Report'!E86<>\"\",'CoC Renewal Ranking Report'!E86,\"\")","v":""},{"$f":"IF('CoC Renewal Ranking Report'!G86<>\"\",'CoC Renewal Ranking Report'!G86,\"\")","v":""},{"$f":"IF(A88<>\"\", 'CoC Renewal Ranking Report'!I86, \"\")","v":""},{"$f":"IF(A88<>\"\", 'CoC Renewal Ranking Report'!BP86, \"\")","v":""},"",""]
[{"$f":"IF('CoC Renewal Ranking Report'!D87<>\"\",'CoC Renewal Ranking Report'!D87,\"\")","v":""},{"$f":"IF('CoC Renewal Ranking Report'!E87<>\"\",'CoC Renewal Ranking Report'!E87,\"\")","v":""},{"$f":"IF('CoC Renewal Ranking Report'!G87<>\"\",'CoC Renewal Ranking Report'!G87,\"\")","v":""},{"$f":"IF(A89<>\"\", 'CoC Renewal Ranking Report'!I87, \"\")","v":""},{"$f":"IF(A89<>\"\", 'CoC Renewal Ranking Report'!BP87, \"\")","v":""},"",""]
[{"$f":"IF('CoC Renewal Ranking Report'!D88<>\"\",'CoC Renewal Ranking Report'!D88,\"\")","v":""},{"$f":"IF('CoC Renewal Ranking Report'!E88<>\"\",'CoC Renewal Ranking Report'!E88,\"\")","v":""},{"$f":"IF('CoC Renewal Ranking Report'!G88<>\"\",'CoC Renewal Ranking Report'!G88,\"\")","v":""},{"$f":"IF(A90<>\"\", 'CoC Renewal Ranking Report'!I88, \"\")","v":""},{"$f":"IF(A90<>\"\", 'CoC Renewal Ranking Report'!BP88, \"\")","v":""},"",""]
[{"$f":"IF('CoC Renewal Ranking Report'!D89<>\"\",'CoC Renewal Ranking Report'!D89,\"\")","v":""},{"$f":"IF('CoC Renewal Ranking Report'!E89<>\"\",'CoC Renewal Ranking Report'!E89,\"\")","v":""},{"$f":"IF('CoC Renewal Ranking Report'!G89<>\"\",'CoC Renewal Ranking Report'!G89,\"\")","v":""},{"$f":"IF(A91<>\"\", 'CoC Renewal Ranking Report'!I89, \"\")","v":""},{"$f":"IF(A91<>\"\", 'CoC Renewal Ranking Report'!BP89, \"\")","v":""},"",""]
[{"$f":"IF('CoC Renewal Ranking Report'!D90<>\"\",'CoC Renewal Ranking Report'!D90,\"\")","v":""},{"$f":"IF('CoC Renewal Ranking Report'!E90<>\"\",'CoC Renewal Ranking Report'!E90,\"\")","v":""},{"$f":"IF('CoC Renewal Ranking Report'!G90<>\"\",'CoC Renewal Ranking Report'!G90,\"\")","v":""},{"$f":"IF(A92<>\"\", 'CoC Renewal Ranking Report'!I90, \"\")","v":""},{"$f":"IF(A92<>\"\", 'CoC Renewal Ranking Report'!BP90, \"\")","v":""},"",""]
[{"$f":"IF('CoC Renewal Ranking Report'!D91<>\"\",'CoC Renewal Ranking Report'!D91,\"\")","v":""},{"$f":"IF('CoC Renewal Ranking Report'!E91<>\"\",'CoC Renewal Ranking Report'!E91,\"\")","v":""},{"$f":"IF('CoC Renewal Ranking Report'!G91<>\"\",'CoC Renewal Ranking Report'!G91,\"\")","v":""},{"$f":"IF(A93<>\"\", 'CoC Renewal Ranking Report'!I91, \"\")","v":""},{"$f":"IF(A93<>\"\", 'CoC Renewal Ranking Report'!BP91, \"\")","v":""},"",""]
[{"$f":"IF('CoC Renewal Ranking Report'!D92<>\"\",'CoC Renewal Ranking Report'!D92,\"\")","v":""},{"$f":"IF('CoC Renewal Ranking Report'!E92<>\"\",'CoC Renewal Ranking Report'!E92,\"\")","v":""},{"$f":"IF('CoC Renewal Ranking Report'!G92<>\"\",'CoC Renewal Ranking Report'!G92,\"\")","v":""},{"$f":"IF(A94<>\"\", 'CoC Renewal Ranking Report'!I92, \"\")","v":""},{"$f":"IF(A94<>\"\", 'CoC Renewal Ranking Report'!BP92, \"\")","v":""},"",""]
[{"$f":"IF('CoC Renewal Ranking Report'!D93<>\"\",'CoC Renewal Ranking Report'!D93,\"\")","v":""},{"$f":"IF('CoC Renewal Ranking Report'!E93<>\"\",'CoC Renewal Ranking Report'!E93,\"\")","v":""},{"$f":"IF('CoC Renewal Ranking Report'!G93<>\"\",'CoC Renewal Ranking Report'!G93,\"\")","v":""},{"$f":"IF(A95<>\"\", 'CoC Renewal Ranking Report'!I93, \"\")","v":""},{"$f":"IF(A95<>\"\", 'CoC Renewal Ranking Report'!BP93, \"\")","v":""},"",""]
[{"$f":"IF('CoC Renewal Ranking Report'!D94<>\"\",'CoC Renewal Ranking Report'!D94,\"\")","v":""},{"$f":"IF('CoC Renewal Ranking Report'!E94<>\"\",'CoC Renewal Ranking Report'!E94,\"\")","v":""},{"$f":"IF('CoC Renewal Ranking Report'!G94<>\"\",'CoC Renewal Ranking Report'!G94,\"\")","v":""},{"$f":"IF(A96<>\"\", 'CoC Renewal Ranking Report'!I94, \"\")","v":""},{"$f":"IF(A96<>\"\", 'CoC Renewal Ranking Report'!BP94, \"\")","v":""},"",""]
[{"$f":"IF('CoC Renewal Ranking Report'!D95<>\"\",'CoC Renewal Ranking Report'!D95,\"\")","v":""},{"$f":"IF('CoC Renewal Ranking Report'!E95<>\"\",'CoC Renewal Ranking Report'!E95,\"\")","v":""},{"$f":"IF('CoC Renewal Ranking Report'!G95<>\"\",'CoC Renewal Ranking Report'!G95,\"\")","v":""},{"$f":"IF(A97<>\"\", 'CoC Renewal Ranking Report'!I95, \"\")","v":""},{"$f":"IF(A97<>\"\", 'CoC Renewal Ranking Report'!BP95, \"\")","v":""},"",""]
[{"$f":"IF('CoC Renewal Ranking Report'!D96<>\"\",'CoC Renewal Ranking Report'!D96,\"\")","v":""},{"$f":"IF('CoC Renewal Ranking Report'!E96<>\"\",'CoC Renewal Ranking Report'!E96,\"\")","v":""},{"$f":"IF('CoC Renewal Ranking Report'!G96<>\"\",'CoC Renewal Ranking Report'!G96,\"\")","v":""},{"$f":"IF(A98<>\"\", 'CoC Renewal Ranking Report'!I96, \"\")","v":""},{"$f":"IF(A98<>\"\", 'CoC Renewal Ranking Report'!BP96, \"\")","v":""},"",""]
[{"$f":"IF('CoC Renewal Ranking Report'!D97<>\"\",'CoC Renewal Ranking Report'!D97,\"\")","v":""},{"$f":"IF('CoC Renewal Ranking Report'!E97<>\"\",'CoC Renewal Ranking Report'!E97,\"\")","v":""},{"$f":"IF('CoC Renewal Ranking Report'!G97<>\"\",'CoC Renewal Ranking Report'!G97,\"\")","v":""},{"$f":"IF(A99<>\"\", 'CoC Renewal Ranking Report'!I97, \"\")","v":""},{"$f":"IF(A99<>\"\", 'CoC Renewal Ranking Report'!BP97, \"\")","v":""},"",""]
[{"$f":"IF('CoC Renewal Ranking Report'!D98<>\"\",'CoC Renewal Ranking Report'!D98,\"\")","v":""},{"$f":"IF('CoC Renewal Ranking Report'!E98<>\"\",'CoC Renewal Ranking Report'!E98,\"\")","v":""},{"$f":"IF('CoC Renewal Ranking Report'!G98<>\"\",'CoC Renewal Ranking Report'!G98,\"\")","v":""},{"$f":"IF(A100<>\"\", 'CoC Renewal Ranking Report'!I98, \"\")","v":""},{"$f":"IF(A100<>\"\", 'CoC Renewal Ranking Report'!BP98, \"\")","v":""},"",""]
[{"$f":"IF('CoC Renewal Ranking Report'!D99<>\"\",'CoC Renewal Ranking Report'!D99,\"\")","v":""},{"$f":"IF('CoC Renewal Ranking Report'!E99<>\"\",'CoC Renewal Ranking Report'!E99,\"\")","v":""},{"$f":"IF('CoC Renewal Ranking Report'!G99<>\"\",'CoC Renewal Ranking Report'!G99,\"\")","v":""},{"$f":"IF(A101<>\"\", 'CoC Renewal Ranking Report'!I99, \"\")","v":""},{"$f":"IF(A101<>\"\", 'CoC Renewal Ranking Report'!BP99, \"\")","v":""},"",""]
[{"$f":"IF('CoC Renewal Ranking Report'!D100<>\"\",'CoC Renewal Ranking Report'!D100,\"\")","v":""},{"$f":"IF('CoC Renewal Ranking Report'!E100<>\"\",'CoC Renewal Ranking Report'!E100,\"\")","v":""},{"$f":"IF('CoC Renewal Ranking Report'!G100<>\"\",'CoC Renewal Ranking Report'!G100,\"\")","v":""},{"$f":"IF(A102<>\"\", 'CoC Renewal Ranking Report'!I100, \"\")","v":""},{"$f":"IF(A102<>\"\", 'CoC Renewal Ranking Report'!BP100, \"\")","v":""},"",""]
[{"$f":"IF('CoC Renewal Ranking Report'!D99<>\"\",'CoC Renewal Ranking Report'!D99,\"\")","v":""},{"$f":"IF('CoC Renewal Ranking Report'!E101<>\"\",'CoC Renewal Ranking Report'!E101,\"\")","v":""},{"$f":"IF('CoC Renewal Ranking Report'!G99<>\"\",'CoC Renewal Ranking Report'!G99,\"\")","v":""},{"$f":"IF(A103<>\"\", 'CoC Renewal Ranking Report'!I99, \"\")","v":""},{"$f":"IF(A103<>\"\", 'CoC Renewal Ranking Report'!BP99, \"\")","v":""},{"$f":"IF(AND(D103<>\"\",E103<>\"\"), IF(D103<>0, E103/D103,0), \"\")","v":""},""]
[{"$f":"IF('CoC Renewal Ranking Report'!D100<>\"\",'CoC Renewal Ranking Report'!D100,\"\")","v":""},{"$f":"IF('CoC Renewal Ranking Report'!E102<>\"\",'CoC Renewal Ranking Report'!E102,\"\")","v":""},{"$f":"IF('CoC Renewal Ranking Report'!G100<>\"\",'CoC Renewal Ranking Report'!G100,\"\")","v":""},{"$f":"IF(A104<>\"\", 'CoC Renewal Ranking Report'!I100, \"\")","v":""},{"$f":"IF(A104<>\"\", 'CoC Renewal Ranking Report'!BP100, \"\")","v":""},"",""]
[{"$f":"IF('CoC Renewal Ranking Report'!D101<>\"\",'CoC Renewal Ranking Report'!D101,\"\")","v":""},{"$f":"IF('CoC Renewal Ranking Report'!E103<>\"\",'CoC Renewal Ranking Report'!E103,\"\")","v":""},{"$f":"IF('CoC Renewal Ranking Report'!G101<>\"\",'CoC Renewal Ranking Report'!G101,\"\")","v":""},{"$f":"IF(A105<>\"\", 'CoC Renewal Ranking Report'!I101, \"\")","v":""},{"$f":"IF(A105<>\"\", 'CoC Renewal Ranking Report'!BP101, \"\")","v":""},"",""]
[{"$f":"IF('CoC Renewal Ranking Report'!D102<>\"\",'CoC Renewal Ranking Report'!D102,\"\")","v":""},{"$f":"IF('CoC Renewal Ranking Report'!E104<>\"\",'CoC Renewal Ranking Report'!E104,\"\")","v":""},{"$f":"IF('CoC Renewal Ranking Report'!G102<>\"\",'CoC Renewal Ranking Report'!G102,\"\")","v":""},{"$f":"IF(A106<>\"\", 'CoC Renewal Ranking Report'!I102, \"\")","v":""},{"$f":"IF(A106<>\"\", 'CoC Renewal Ranking Report'!BP102, \"\")","v":""},{"$f":"IF(AND(D106<>\"\",E106<>\"\"), IF(D106<>0, E106/D106,0), \"\")","v":""},""]

{"sheet":"Cost Effectiveness (Leavers)","index":15,"n_rows":106,"n_cols":7,"rows_kept":106,"cut":false,"hidden":false,"merged":[[0,1,0,2]]}
[null,"Cost Effectiveness (Persons Exited/Retained in PH)"]
[null,"Criteria","Points"]
[null,"10%+ below Type average",5]
[null,"1 - 9% below Type average",4]
[null,"Equal to 9% above Type average",2]
[null,"CoC Average (-10%, -1%, +9%): ",2887.16,{"$f":"C6*0.9","v":2598.444},{"$f":"C6*0.99","v":2858.2883999999999},{"$f":"C6*1.09","v":3147.0044000000003}]
[null,"RRH Average (-10%, -1%, +9%):",9572.94,{"$f":"C7*0.9","v":8615.6460000000006},{"$f":"C7*0.99","v":9477.2106000000003},{"$f":"C7*1.09","v":10434.504600000002}]
[null,"PH Average (-10%, -1%, +9%):",2059.88,1853.8920000000001,2039.2812000000001,2245.2692000000002]
[]
["Agency Name","Project Name","Project Type","Persons Exit/Retained in PH","Annual Renewal Amount","Cost Per Leaver/Retention","Score"]
[{"$f":"IF('CoC Renewal Ranking Report'!D9<>\"\",'CoC Renewal Ranking Report'!D9,\"\")","v":""},{"$f":"IF('CoC Renewal Ranking Report'!E9<>\"\",'CoC Renewal Ranking Report'!E9,\"\")","v":""},{"$f":"IF('CoC Renewal Ranking Report'!G9<>\"\",'CoC Renewal Ranking Report'!G9,\"\")","v":""},{"$f":"IF(A11<>\"\", 'CoC Renewal Ranking Report'!N9, \"\")","v":""},{"$f":"IF(A11<>\"\", 'CoC Renewal Ranking Report'!BP9, \"\")","v":""},{"$f":"IF(AND(D11<>\"\",E11<>\"\"), IF(D11<>0, E11/D11,0), \"\")","v":""},{"$f":"IF(AND(A11<>\"\",F11>0), IF(C11 = \"PH\", IF(F11 <= $C$8*0.9, 5, IF(AND(F11 > $C$8*0.9, F11 <= $C$8*0.99),4, IF(AND(F11 > $C$8*0.99, F11 <= $C$8*1.09),2,0))), IF(F11 <= $C$7*0.9, 5, IF(AND(F11 > $C$7*0.9, F11 <= $C$7*0.99),4, IF(AND(F11 > $C$7*0.99, F11 <= $C$7*1.09),2,0)))), \"\")","v":""}]
[{"$f":"IF('CoC Renewal Ranking Report'!D10<>\"\",'CoC Renewal Ranking Report'!D10,\"\")","v":"Blair County Community Action Program"},{"$f":"IF('CoC Renewal Ranking Report'!E10<>\"\",'CoC Renewal Ranking Report'!E10,\"\")","v":"Rapid Re-Housing"},{"$f":"IF('CoC Renewal Ranking Report'!G10<>\"\",'CoC Renewal Ranking Report'!G10,\"\")","v":"PH-RRH"},{"$f":"IF(A12<>\"\", 'CoC Renewal Ranking Report'!N10, \"\")","v":51},{"$f":"IF(A12<>\"\", 'CoC Renewal Ranking Report'!BP10, \"\")","v":145925},{"$f":"IF(AND(D12<>\"\",E12<>\"\"), IF(D12<>0, E12/D12,0), \"\")","v":2861.2745098039218},{"$f":"IF(AND(A12<>\"\",F12>0), IF(C12 = \"PH\", IF(F12 <= $C$8*0.9, 5, IF(AND(F12 > $C$8*0.9, F12 <= $C$8*0.99),4, IF(AND(F12 > $C$8*0.99, F12 <= $C$8*1.09),2,0))), IF(F12 <= $C$7*0.9, 5, IF(AND(F12 > $C$7*0.9, F12 <= $C$7*0.99),4, IF(AND(F12 > $C$7*0.99, F12 <= $C$7*1.09),2,0)))), \"\")","v":5}]
[{"$f":"IF('CoC Renewal Ranking Report'!D11<>\"\",'CoC Renewal Ranking Report'!D11,\"\")","v":"Cambria County"},{"$f":"IF('CoC Renewal Ranking Report'!E11<>\"\",'CoC Renewal Ranking Report'!E11,\"\")","v":"Cambria County Comprehensive Housing Program"},{"$f":"IF('CoC Renewal Ranking Report'!G11<>\"\",'CoC Renewal Ranking Report'!G11,\"\")","v":"PH"},{"$f":"IF(A13<>\"\", 'CoC Renewal Ranking Report'!N11, \"\")","v":28},{"$f":"IF(A13<>\"\", 'CoC Renewal Ranking Report'!BP11, \"\")","v":9764},348.71428571428572,5]
[{"$f":"IF('CoC Renewal Ranking Report'!D12<>\"\",'CoC Renewal Ranking Report'!D12,\"\")","v":"Catholic Charities of the Diocese of Allentown"},{"$f":"IF('CoC Renewal Ranking Report'!E12<>\"\",'CoC Renewal Ranking Report'!E12,\"\")","v":"Catholic Charities Allentown Permanent Housing Program"},{"$f":"IF('CoC Renewal Ranking Report'!G12<>\"\",'CoC Renewal Ranking Report'!G12,\"\")","v":"PH"},{"$f":"IF(A14<>\"\", 'CoC Renewal Ranking Report'!N12, \"\")","v":20},{"$f":"IF(A14<>\"\", 'CoC Renewal Ranking Report'!BP12, \"\")","v":7495},374.75,5]
[{"$f":"IF('CoC Renewal Ranking Report'!D13<>\"\",'CoC Renewal Ranking Report'!D13,\"\")","v":"Catholic Social Services of the Diocese of Scranton, Inc."},{"$f":"IF('CoC Renewal Ranking Report'!E13<>\"\",'CoC Renewal Ranking Report'!E13,\"\")","v":"PSHP Pike County"},{"$f":"IF('CoC Renewal Ranking Report'!G13<>\"\",'CoC Renewal Ranking Report'!G13,\"\")","v":"PH"},{"$f":"IF(A15<>\"\", 'CoC Renewal Ranking Report'!N13, \"\")","v":6},{"$f":"IF(A15<>\"\", 'CoC Renewal Ranking Report'!BP13, \"\")","v":26396},4399.333333333333,0]
[{"$f":"IF('CoC Renewal Ranking Report'!D14<>\"\",'CoC Renewal Ranking Report'!D14,\"\")","v":"Catholic Social Services of the Diocese of Scranton, Inc."},{"$f":"IF('CoC Renewal Ranking Report'!E14<>\"\",'CoC Renewal Ranking Report'!E14,\"\")","v":"Rural Permanent Supportive Housing Program"},{"$f":"IF('CoC Renewal Ranking Report'!G14<>\"\",'CoC Renewal Ranking Report'!G14,\"\")","v":"PH"},{"$f":"IF(A16<>\"\", 'CoC Renewal Ranking Report'!N14, \"\")","v":9},{"$f":"IF(A16<>\"\", 'CoC Renewal Ranking Report'!BP14, \"\")","v":46124},5124.8888888888887,0]
[{"$f":"IF('CoC Renewal Ranking Report'!D15<>\"\",'CoC Renewal Ranking Report'!D15,\"\")","v":"Catholic Social Services of the Diocese of Scranton, Inc."},{"$f":"IF('CoC Renewal Ranking Report'!E15<>\"\",'CoC Renewal Ranking Report'!E15,\"\")","v":"Susquehanna/Wayne PSHP"},{"$f":"IF('CoC Renewal Ranking Report'!G15<>\"\",'CoC Renewal Ranking Report'!G15,\"\")","v":"PH"},{"$f":"IF(A17<>\"\", 'CoC Renewal Ranking Report'!N15, \"\")","v":11},{"$f":"IF(A17<>\"\", 'CoC Renewal Ranking Report'!BP15, \"\")","v":27108},2464.3636363636365,0]
[{"$f":"IF('CoC Renewal Ranking Report'!D16<>\"\",'CoC Renewal Ranking Report'!D16,\"\")","v":"Center for Community Action"},{"$f":"IF('CoC Renewal Ranking Report'!E16<>\"\",'CoC Renewal Ranking Report'!E16,\"\")","v":"Bedford,Fulton, Huntingdon RRH"},{"$f":"IF('CoC Renewal Ranking Report'!G16<>\"\",'CoC Renewal Ranking Report'!G16,\"\")","v":"PH-RRH"},{"$f":"IF(A18<>\"\", 'CoC Renewal Ranking Report'!N16, \"\")","v":137},{"$f":"IF(A18<>\"\", 'CoC Renewal Ranking Report'!BP16, \"\")","v":38755},282.88321167883214,5]
[{"$f":"IF('CoC Renewal Ranking Report'!D17<>\"\",'CoC Renewal Ranking Report'!D17,\"\")","v":"County of Franklin"},{"$f":"IF('CoC Renewal Ranking Report'!E17<>\"\",'CoC Renewal Ranking Report'!E17,\"\")","v":"Franklin/ Fulton S+C Project 2017"},{"$f":"IF('CoC Renewal Ranking Report'!G17<>\"\",'CoC Renewal Ranking Report'!G17,\"\")","v":"PH"},{"$f":"IF(A19<>\"\", 'CoC Renewal Ranking Report'!N17, \"\")","v":15},{"$f":"IF(A19<>\"\", 'CoC Renewal Ranking Report'!BP17, \"\")","v":6276},418.4,5]
[{"$f":"IF('CoC Renewal Ranking Report'!D18<>\"\",'CoC Renewal Ranking Report'!D18,\"\")","v":"County of Franklin"},{"$f":"IF('CoC Renewal Ranking Report'!E18<>\"\",'CoC Renewal Ranking Report'!E18,\"\")","v":"Franklin/Fulton Homeless Assistance Project 2017"},{"$f":"IF('CoC Renewal Ranking Report'!G18<>\"\",'CoC Renewal Ranking Report'!G18,\"\")","v":"PH"},{"$f":"IF(A20<>\"\", 'CoC Renewal Ranking Report'!N18, \"\")","v":28},{"$f":"IF(A20<>\"\", 'CoC Renewal Ranking Report'!BP18, \"\")","v":36640},1308.5714285714287,5]
[{"$f":"IF('CoC Renewal Ranking Report'!D19<>\"\",'CoC Renewal Ranking Report'!D19,\"\")","v":"County of Lycoming DBA Lycoming- Clinton Joinder Board"},{"$f":"IF('CoC Renewal Ranking Report'!E19<>\"\",'CoC Renewal Ranking Report'!E19,\"\")","v":"Lycoming/Clinton Renewal #5"},{"$f":"IF('CoC Renewal Ranking Report'!G19<>\"\",'CoC Renewal Ranking Report'!G19,\"\")","v":"PH"},{"$f":"IF(A21<>\"\", 'CoC Renewal Ranking Report'!N19, \"\")","v":15},{"$f":"IF(A21<>\"\", 'CoC Renewal Ranking Report'!BP19, \"\")","v":24463},1630.8666666666666,5]
[{"$f":"IF('CoC Renewal Ranking Report'!D20<>\"\",'CoC Renewal Ranking Report'!D20,\"\")","v":"Fitzmaurice Community Services, Inc"},{"$f":"IF('CoC Renewal Ranking Report'!E20<>\"\",'CoC Renewal Ranking Report'!E20,\"\")","v":"Pathfinders"},{"$f":"IF('CoC Renewal Ranking Report'!G20<>\"\",'CoC Renewal Ranking Report'!G20,\"\")","v":"PH"},{"$f":"IF(A22<>\"\", 'CoC Renewal Ranking Report'!N20, \"\")","v":24},{"$f":"IF(A22<>\"\", 'CoC Renewal Ranking Report'!BP20, \"\")","v":190759},7948.291666666667,0]
[{"$f":"IF('CoC Renewal Ranking Report'!D21<>\"\",'CoC Renewal Ranking Report'!D21,\"\")","v":"Home Nursing AgencyCommunity Services"},{"$f":"IF('CoC Renewal Ranking Report'!E21<>\"\",'CoC Renewal Ranking Report'!E21,\"\")","v":"Housing Assistance and Rental Program"},{"$f":"IF('CoC Renewal Ranking Report'!G21<>\"\",'CoC Renewal Ranking Report'!G21,\"\")","v":"PH"},{"$f":"IF(A23<>\"\", 'CoC Renewal Ranking Report'!N21, \"\")","v":38},{"$f":"IF(A23<>\"\", 'CoC Renewal Ranking Report'!BP21, \"\")","v":81520},2145.2631578947367,2]
[{"$f":"IF('CoC Renewal Ranking Report'!D22<>\"\",'CoC Renewal Ranking Report'!D22,\"\")","v":"Housing Authority of Monroe County"},{"$f":"IF('CoC Renewal Ranking Report'!E22<>\"\",'CoC Renewal Ranking Report'!E22,\"\")","v":"Renewal Application Shelter Plus Care MC 2016"},{"$f":"IF('CoC Renewal Ranking Report'!G22<>\"\",'CoC Renewal Ranking Report'!G22,\"\")","v":"PH"},{"$f":"IF(A24<>\"\", 'CoC Renewal Ranking Report'!N22, \"\")","v":35},{"$f":"IF(A24<>\"\", 'CoC Renewal Ranking Report'!BP22, \"\")","v":10965},313.28571428571428,5]
[{"$f":"IF('CoC Renewal Ranking Report'!D23<>\"\",'CoC Renewal Ranking Report'!D23,\"\")","v":"Housing Authority of the County of Cumberland"},{"$f":"IF('CoC Renewal Ranking Report'!E23<>\"\",'CoC Renewal Ranking Report'!E23,\"\")","v":"Carlisle Supportive Housing Program"},{"$f":"IF('CoC Renewal Ranking Report'!G23<>\"\",'CoC Renewal Ranking Report'!G23,\"\")","v":"PH"},{"$f":"IF(A25<>\"\", 'CoC Renewal Ranking Report'!N23, \"\")","v":4},{"$f":"IF(A25<>\"\", 'CoC Renewal Ranking Report'!BP23, \"\")","v":6313},1578.25,5]
[{"$f":"IF('CoC Renewal Ranking Report'!D24<>\"\",'CoC Renewal Ranking Report'!D24,\"\")","v":"Housing Authority of the County of Cumberland"},{"$f":"IF('CoC Renewal Ranking Report'!E24<>\"\",'CoC Renewal Ranking Report'!E24,\"\")","v":"Perry County Permanent SHP"},{"$f":"IF('CoC Renewal Ranking Report'!G24<>\"\",'CoC Renewal Ranking Report'!G24,\"\")","v":"PH"},{"$f":"IF(A26<>\"\", 'CoC Renewal Ranking Report'!N24, \"\")","v":21},{"$f":"IF(A26<>\"\", 'CoC Renewal Ranking Report'!BP24, \"\")","v":25495},1214.047619047619,5]
[{"$f":"IF('CoC Renewal Ranking Report'!D25<>\"\",'CoC Renewal Ranking Report'!D25,\"\")","v":"Housing Authority of the County of Cumberland"},{"$f":"IF('CoC Renewal Ranking Report'!E25<>\"\",'CoC Renewal Ranking Report'!E25,\"\")","v":"Perry County Transitional II"},{"$f":"IF('CoC Renewal Ranking Report'!G25<>\"\",'CoC Renewal Ranking Report'!G25,\"\")","v":"PH-RRH"},{"$f":"IF(A27<>\"\", 'CoC Renewal Ranking Report'!N25, \"\")","v":23},{"$f":"IF(A27<>\"\", 'CoC Renewal Ranking Report'!BP25, \"\")","v":35117},1526.8260869565217,5]
[{"$f":"IF('CoC Renewal Ranking Report'!D26<>\"\",'CoC Renewal Ranking Report'!D26,\"\")","v":"Housing Authority of the County of Cumberland"},{"$f":"IF('CoC Renewal Ranking Report'!E26<>\"\",'CoC Renewal Ranking Report'!E26,\"\")","v":"Perry County Veterans Program"},{"$f":"IF('CoC Renewal Ranking Report'!G26<>\"\",'CoC Renewal Ranking Report'!G26,\"\")","v":"PH"},{"$f":"IF(A28<>\"\", 'CoC Renewal Ranking Report'!N26, \"\")","v":5},{"$f":"IF(A28<>\"\", 'CoC Renewal Ranking Report'!BP26, \"\")","v":20745},4149,0]
[{"$f":"IF('CoC Renewal Ranking Report'!D27<>\"\",'CoC Renewal Ranking Report'!D27,\"\")","v":"Housing Authority of the County of Cumberland"},{"$f":"IF('CoC Renewal Ranking Report'!E27<>\"\",'CoC Renewal Ranking Report'!E27,\"\")","v":"Rapid Rehousing II"},{"$f":"IF('CoC Renewal Ranking Report'!G27<>\"\",'CoC Renewal Ranking Report'!G27,\"\")","v":"PH-RRH"},{"$f":"IF(A29<>\"\", 'CoC Renewal Ranking Report'!N27, \"\")","v":1},{"$f":"IF(A29<>\"\", 'CoC Renewal Ranking Report'!BP27, \"\")","v":15898},15898,0]
[{"$f":"IF('CoC Renewal Ranking Report'!D28<>\"\",'CoC Renewal Ranking Report'!D28,\"\")","v":"Housing Authority of the County of Cumberland"},{"$f":"IF('CoC Renewal Ranking Report'!E28<>\"\",'CoC Renewal Ranking Report'!E28,\"\")","v":"Safe Harbour SHP"},{"$f":"IF('CoC Renewal Ranking Report'!G28<>\"\",'CoC Renewal Ranking Report'!G28,\"\")","v":"PH"},{"$f":"IF(A30<>\"\", 'CoC Renewal Ranking Report'!N28, \"\")","v":26},{"$f":"IF(A30<>\"\", 'CoC Renewal Ranking Report'!BP28, \"\")","v":25592},984.30769230769226,5]
[{"$f":"IF('CoC Renewal Ranking Report'!D29<>\"\",'CoC Renewal Ranking Report'!D29,\"\")","v":"Housing Authority of the County of Cumberland"},{"$f":"IF('CoC Renewal Ranking Report'!E29<>\"\",'CoC Renewal Ranking Report'!E29,\"\")","v":"Shelter + Care Chronic"},{"$f":"IF('CoC Renewal Ranking Report'!G29<>\"\",'CoC Renewal Ranking Report'!G29,\"\")","v":"PH"},{"$f":"IF(A31<>\"\", 'CoC Renewal Ranking Report'!N29, \"\")","v":26},{"$f":"IF(A31<>\"\", 'CoC Renewal Ranking Report'!BP29, \"\")","v":7674},295.15384615384613,5]
[{"$f":"IF('CoC Renewal Ranking Report'!D30<>\"\",'CoC Renewal Ranking Report'!D30,\"\")","v":"Housing Authority of the County of Cumberland"},{"$f":"IF('CoC Renewal Ranking Report'!E30<>\"\",'CoC Renewal Ranking Report'!E30,\"\")","v":"Shelter + Care Non-Chronic"},{"$f":"IF('CoC Renewal Ranking Report'!G30<>\"\",'CoC Renewal Ranking Report'!G30,\"\")","v":"PH"},{"$f":"IF(A32<>\"\", 'CoC Renewal Ranking Report'!N30, \"\")","v":48},{"$f":"IF(A32<>\"\", 'CoC Renewal Ranking Report'!BP30, \"\")","v":13122},273.375,5]
[{"$f":"IF('CoC Renewal Ranking Report'!D31<>\"\",'CoC Renewal Ranking Report'!D31,\"\")","v":"Housing Authority of the County of Cumberland"},{"$f":"IF('CoC Renewal Ranking Report'!E31<>\"\",'CoC Renewal Ranking Report'!E31,\"\")","v":"West Shore SHP I"},{"$f":"IF('CoC Renewal Ranking Report'!G31<>\"\",'CoC Renewal Ranking Report'!G31,\"\")","v":"PH"},{"$f":"IF(A33<>\"\", 'CoC Renewal Ranking Report'!N31, \"\")","v":18},{"$f":"IF(A33<>\"\", 'CoC Renewal Ranking Report'!BP31, \"\")","v":7248},402.66666666666669,5]
[{"$f":"IF('CoC Renewal Ranking Report'!D32<>\"\",'CoC Renewal Ranking Report'!D32,\"\")","v":"Housing Authority of the County of Cumberland"},{"$f":"IF('CoC Renewal Ranking Report'!E32<>\"\",'CoC Renewal Ranking Report'!E32,\"\")","v":"West Shore SHP II"},{"$f":"IF('CoC Renewal Ranking Report'!G32<>\"\",'CoC Renewal Ranking Report'!G32,\"\")","v":"PH"},{"$f":"IF(A34<>\"\", 'CoC Renewal Ranking Report'!N32, \"\")","v":11},{"$f":"IF(A34<>\"\", 'CoC Renewal Ranking Report'!BP32, \"\")","v":7138},648.90909090909088,5]
[{"$f":"IF('CoC Renewal Ranking Report'!D33<>\"\",'CoC Renewal Ranking Report'!D33,\"\")","v":"Housing Development Corporation of NEPA"},{"$f":"IF('CoC Renewal Ranking Report'!E33<>\"\",'CoC Renewal Ranking Report'!E33,\"\")","v":"HDC SHP 3 2016"},{"$f":"IF('CoC Renewal Ranking Report'!G33<>\"\",'CoC Renewal Ranking Report'!G33,\"\")","v":"PH"},{"$f":"IF(A35<>\"\", 'CoC Renewal Ranking Report'!N33, \"\")","v":39},{"$f":"IF(A35<>\"\", 'CoC Renewal Ranking Report'!BP33, \"\")","v":37578},963.53846153846155,5]
[{"$f":"IF('CoC Renewal Ranking Report'!D34<>\"\",'CoC Renewal Ranking Report'!D34,\"\")","v":"Housing Development Corporation of NEPA"},{"$f":"IF('CoC Renewal Ranking Report'!E34<>\"\",'CoC Renewal Ranking Report'!E34,\"\")","v":"HDC SHP 6 2016"},{"$f":"IF('CoC Renewal Ranking Report'!G34<>\"\",'CoC Renewal Ranking Report'!G34,\"\")","v":"PH"},{"$f":"IF(A36<>\"\", 'CoC Renewal Ranking Report'!N34, \"\")","v":28},{"$f":"IF(A36<>\"\", 'CoC Renewal Ranking Report'!BP34, \"\")","v":41373},1477.6071428571429,5]
[{"$f":"IF('CoC Renewal Ranking Report'!D35<>\"\",'CoC Renewal Ranking Report'!D35,\"\")","v":"Housing Transitions, Inc."},{"$f":"IF('CoC Renewal Ranking Report'!E35<>\"\",'CoC Renewal Ranking Report'!E35,\"\")","v":"Nittany House Apartments"},{"$f":"IF('CoC Renewal Ranking Report'!G35<>\"\",'CoC Renewal Ranking Report'!G35,\"\")","v":"PH"},{"$f":"IF(A37<>\"\", 'CoC Renewal Ranking Report'!N35, \"\")","v":13},{"$f":"IF(A37<>\"\", 'CoC Renewal Ranking Report'!BP35, \"\")","v":4379},336.84615384615387,5]
[{"$f":"IF('CoC Renewal Ranking Report'!D36<>\"\",'CoC Renewal Ranking Report'!D36,\"\")","v":"Lehigh County Conference of Churches"},{"$f":"IF('CoC Renewal Ranking Report'!E36<>\"\",'CoC Renewal Ranking Report'!E36,\"\")","v":"Outreach and Case Management for the Disabled, Chronically Homeless"},{"$f":"IF('CoC Renewal Ranking Report'!G36<>\"\",'CoC Renewal Ranking Report'!G36,\"\")","v":"SSO"},{"$f":"IF(A38<>\"\", 'CoC Renewal Ranking Report'!N36, \"\")","v":0},{"$f":"IF(A38<>\"\", 'CoC Renewal Ranking Report'!BP36, \"\")","v":97559},0,""]
[{"$f":"IF('CoC Renewal Ranking Report'!D37<>\"\",'CoC Renewal Ranking Report'!D37,\"\")","v":"Lehigh County Conference of Churches"},{"$f":"IF('CoC Renewal Ranking Report'!E37<>\"\",'CoC Renewal Ranking Report'!E37,\"\")","v":"Pathways Housing"},{"$f":"IF('CoC Renewal Ranking Report'!G37<>\"\",'CoC Renewal Ranking Report'!G37,\"\")","v":"PH"},{"$f":"IF(A39<>\"\", 'CoC Renewal Ranking Report'!N37, \"\")","v":32},{"$f":"IF(A39<>\"\", 'CoC Renewal Ranking Report'!BP37, \"\")","v":39142},1223.1875,5]
[{"$f":"IF('CoC Renewal Ranking Report'!D38<>\"\",'CoC Renewal Ranking Report'!D38,\"\")","v":"Lehigh County Conference of Churches"},{"$f":"IF('CoC Renewal Ranking Report'!E38<>\"\",'CoC Renewal Ranking Report'!E38,\"\")","v":"Pathways Housing 2"},{"$f":"IF('CoC Renewal Ranking Report'!G38<>\"\",'CoC Renewal Ranking Report'!G38,\"\")","v":"PH"},{"$f":"IF(A40<>\"\", 'CoC Renewal Ranking Report'!N38, \"\")","v":31},{"$f":"IF(A40<>\"\", 'CoC Renewal Ranking Report'!BP38, \"\")","v":34372},1108.7741935483871,5]
[{"$f":"IF('CoC Renewal Ranking Report'!D39<>\"\",'CoC Renewal Ranking Report'!D39,\"\")","v":"Lehigh County Conference of Churches"},{"$f":"IF('CoC Renewal Ranking Report'!E39<>\"\",'CoC Renewal Ranking Report'!E39,\"\")","v":"Pathways TBRA for Families, Youth and Veterans"},{"$f":"IF('CoC Renewal Ranking Report'!G39<>\"\",'CoC Renewal Ranking Report'!G39,\"\")","v":"PH"},{"$f":"IF(A41<>\"\", 'CoC Renewal Ranking Report'!N39, \"\")","v":63},{"$f":"IF(A41<>\"\", 'CoC Renewal Ranking Report'!BP39, \"\")","v":59124},938.47619047619048,5]
[{"$f":"IF('CoC Renewal Ranking Report'!D40<>\"\",'CoC Renewal Ranking Report'!D40,\"\")","v":"Lehigh County Conference of Churches"},{"$f":"IF('CoC Renewal Ranking Report'!E40<>\"\",'CoC Renewal Ranking Report'!E40,\"\")","v":"Tenant-Based Rental Assistance for the Disabled,Chronically Homeless"},{"$f":"IF('CoC Renewal Ranking Report'!G40<>\"\",'CoC Renewal Ranking Report'!G40,\"\")","v":"PH"},{"$f":"IF(A42<>\"\", 'CoC Renewal Ranking Report'!N40, \"\")","v":22},{"$f":"IF(A42<>\"\", 'CoC Renewal Ranking Report'!BP40, \"\")","v":32706},1486.6363636363637,5]
[{"$f":"IF('CoC Renewal Ranking Report'!D41<>\"\",'CoC Renewal Ranking Report'!D41,\"\")","v":"Lehigh County Housing Authority"},{"$f":"IF('CoC Renewal Ranking Report'!E41<>\"\",'CoC Renewal Ranking Report'!E41,\"\")","v":"LCHA S+C 2016"},{"$f":"IF('CoC Renewal Ranking Report'!G41<>\"\",'CoC Renewal Ranking Report'!G41,\"\")","v":"PH"},{"$f":"IF(A43<>\"\", 'CoC Renewal Ranking Report'!N41, \"\")","v":35},{"$f":"IF(A43<>\"\", 'CoC Renewal Ranking Report'!BP41, \"\")","v":11770},336.28571428571428,5]
[{"$f":"IF('CoC Renewal Ranking Report'!D42<>\"\",'CoC Renewal Ranking Report'!D42,\"\")","v":"Maranatha"},{"$f":"IF('CoC Renewal Ranking Report'!E42<>\"\",'CoC Renewal Ranking Report'!E42,\"\")","v":"TOTAL PERSON TRANSITIONAL PROGRAM 1 & 2"},{"$f":"IF('CoC Renewal Ranking Report'!G42<>\"\",'CoC Renewal Ranking Report'!G42,\"\")","v":"PH-RRH"},{"$f":"IF(A44<>\"\", 'CoC Renewal Ranking Report'!N42, \"\")","v":5},{"$f":"IF(A44<>\"\", 'CoC Renewal Ranking Report'!BP42, \"\")","v":172074},34414.800000000003,0]
[{"$f":"IF('CoC Renewal Ranking Report'!D43<>\"\",'CoC Renewal Ranking Report'!D43,\"\")","v":"Mifflin County"},{"$f":"IF('CoC Renewal Ranking Report'!E43<>\"\",'CoC Renewal Ranking Report'!E43,\"\")","v":"Mifflin County Permanent Housing Renewal"},{"$f":"IF('CoC Renewal Ranking Report'!G43<>\"\",'CoC Renewal Ranking Report'!G43,\"\")","v":"PH"},{"$f":"IF(A45<>\"\", 'CoC Renewal Ranking Report'!N43, \"\")","v":4},{"$f":"IF(A45<>\"\", 'CoC Renewal Ranking Report'!BP43, \"\")","v":22069},5517.25,0]
[{"$f":"IF('CoC Renewal Ranking Report'!D44<>\"\",'CoC Renewal Ranking Report'!D44,\"\")","v":"Northampton County Housing Authority"},{"$f":"IF('CoC Renewal Ranking Report'!E44<>\"\",'CoC Renewal Ranking Report'!E44,\"\")","v":"NCHA S+C 2016"},{"$f":"IF('CoC Renewal Ranking Report'!G44<>\"\",'CoC Renewal Ranking Report'!G44,\"\")","v":"PH"},{"$f":"IF(A46<>\"\", 'CoC Renewal Ranking Report'!N44, \"\")","v":11},{"$f":"IF(A46<>\"\", 'CoC Renewal Ranking Report'!BP44, \"\")","v":6237},567,5]
[{"$f":"IF('CoC Renewal Ranking Report'!D45<>\"\",'CoC Renewal Ranking Report'!D45,\"\")","v":"Northern Cambria Community Development Corporation"},{"$f":"IF('CoC Renewal Ranking Report'!E45<>\"\",'CoC Renewal Ranking Report'!E45,\"\")","v":"Independence Gardens"},{"$f":"IF('CoC Renewal Ranking Report'!G45<>\"\",'CoC Renewal Ranking Report'!G45,\"\")","v":"PH"},{"$f":"IF(A47<>\"\", 'CoC Renewal Ranking Report'!N45, \"\")","v":18},{"$f":"IF(A47<>\"\", 'CoC Renewal Ranking Report'!BP45, \"\")","v":26542},1474.5555555555557,5]
[{"$f":"IF('CoC Renewal Ranking Report'!D46<>\"\",'CoC Renewal Ranking Report'!D46,\"\")","v":"Northern Cambria Community Development Corporation"},{"$f":"IF('CoC Renewal Ranking Report'!E46<>\"\",'CoC Renewal Ranking Report'!E46,\"\")","v":"Schoolhouse Gardens"},{"$f":"IF('CoC Renewal Ranking Report'!G46<>\"\",'CoC Renewal Ranking Report'!G46,\"\")","v":"PH"},{"$f":"IF(A48<>\"\", 'CoC Renewal Ranking Report'!N46, \"\")","v":12},{"$f":"IF(A48<>\"\", 'CoC Renewal Ranking Report'!BP46, \"\")","v":12247},1020.5833333333334,5]
[{"$f":"IF('CoC Renewal Ranking Report'!D47<>\"\",'CoC Renewal Ranking Report'!D47,\"\")","v":"Northumberland County MH/MR"},{"$f":"IF('CoC Renewal Ranking Report'!E47<>\"\",'CoC Renewal Ranking Report'!E47,\"\")","v":"Sharing Support"},{"$f":"IF('CoC Renewal Ranking Report'!G47<>\"\",'CoC Renewal Ranking Report'!G47,\"\")","v":"PH"},{"$f":"IF(A49<>\"\", 'CoC Renewal Ranking Report'!N47, \"\")","v":12},{"$f":"IF(A49<>\"\", 'CoC Renewal Ranking Report'!BP47, \"\")","v":37277},3106.4166666666665,0]
[{"$f":"IF('CoC Renewal Ranking Report'!D48<>\"\",'CoC Renewal Ranking Report'!D48,\"\")","v":"Resources for Human Development, Inc."},{"$f":"IF('CoC Renewal Ranking Report'!E48<>\"\",'CoC Renewal Ranking Report'!E48,\"\")","v":"Crossroads Family"},{"$f":"IF('CoC Renewal Ranking Report'!G48<>\"\",'CoC Renewal Ranking Report'!G48,\"\")","v":"PH"},{"$f":"IF(A50<>\"\", 'CoC Renewal Ranking Report'!N48, \"\")","v":39},{"$f":"IF(A50<>\"\", 'CoC Renewal Ranking Report'!BP48, \"\")","v":125152},3209.0256410256411,0]
[{"$f":"IF('CoC Renewal Ranking Report'!D49<>\"\",'CoC Renewal Ranking Report'!D49,\"\")","v":"Resources for Human Development, Inc."},{"$f":"IF('CoC Renewal Ranking Report'!E49<>\"\",'CoC Renewal Ranking Report'!E49,\"\")","v":"Crossroads Housing Bonus"},{"$f":"IF('CoC Renewal Ranking Report'!G49<>\"\",'CoC Renewal Ranking Report'!G49,\"\")","v":"PH"},{"$f":"IF(A51<>\"\", 'CoC Renewal Ranking Report'!N49, \"\")","v":15},{"$f":"IF(A51<>\"\", 'CoC Renewal Ranking Report'!BP49, \"\")","v":16073},1071.5333333333333,5]
[{"$f":"IF('CoC Renewal Ranking Report'!D50<>\"\",'CoC Renewal Ranking Report'!D50,\"\")","v":"Resources for Human Development, Inc."},{"$f":"IF('CoC Renewal Ranking Report'!E50<>\"\",'CoC Renewal Ranking Report'!E50,\"\")","v":"Crossroads Individual"},{"$f":"IF('CoC Renewal Ranking Report'!G50<>\"\",'CoC Renewal Ranking Report'!G50,\"\")","v":"PH"},{"$f":"IF(A52<>\"\", 'CoC Renewal Ranking Report'!N50, \"\")","v":30},{"$f":"IF(A52<>\"\", 'CoC Renewal Ranking Report'!BP50, \"\")","v":151313},5043.7666666666664,0]
[{"$f":"IF('CoC Renewal Ranking Report'!D51<>\"\",'CoC Renewal Ranking Report'!D51,\"\")","v":"Resources for Human Development, Inc."},{"$f":"IF('CoC Renewal Ranking Report'!E51<>\"\",'CoC Renewal Ranking Report'!E51,\"\")","v":"Crossroads Schuylkill Co. Permanent Supportive Housing"},{"$f":"IF('CoC Renewal Ranking Report'!G51<>\"\",'CoC Renewal Ranking Report'!G51,\"\")","v":"PH"},{"$f":"IF(A53<>\"\", 'CoC Renewal Ranking Report'!N51, \"\")","v":5},{"$f":"IF(A53<>\"\", 'CoC Renewal Ranking Report'!BP51, \"\")","v":36273},7254.6,0]
[{"$f":"IF('CoC Renewal Ranking Report'!D52<>\"\",'CoC Renewal Ranking Report'!D52,\"\")","v":"Resources for Human Development, Inc."},{"$f":"IF('CoC Renewal Ranking Report'!E52<>\"\",'CoC Renewal Ranking Report'!E52,\"\")","v":"LV ACT Housing Supports"},{"$f":"IF('CoC Renewal Ranking Report'!G52<>\"\",'CoC Renewal Ranking Report'!G52,\"\")","v":"PH"},{"$f":"IF(A54<>\"\", 'CoC Renewal Ranking Report'!N52, \"\")","v":20},{"$f":"IF(A54<>\"\", 'CoC Renewal Ranking Report'!BP52, \"\")","v":10592},529.6,5]
[{"$f":"IF('CoC Renewal Ranking Report'!D53<>\"\",'CoC Renewal Ranking Report'!D53,\"\")","v":"Tableland Services, Inc."},{"$f":"IF('CoC Renewal Ranking Report'!E53<>\"\",'CoC Renewal Ranking Report'!E53,\"\")","v":"Permanent Housing with Disabilities (SHP)"},{"$f":"IF('CoC Renewal Ranking Report'!G53<>\"\",'CoC Renewal Ranking Report'!G53,\"\")","v":"PH"},{"$f":"IF(A55<>\"\", 'CoC Renewal Ranking Report'!N53, \"\")","v":73},{"$f":"IF(A55<>\"\", 'CoC Renewal Ranking Report'!BP53, \"\")","v":45980},629.86301369863008,5]
[{"$f":"IF('CoC Renewal Ranking Report'!D54<>\"\",'CoC Renewal Ranking Report'!D54,\"\")","v":"Tableland Services, Inc."},{"$f":"IF('CoC Renewal Ranking Report'!E54<>\"\",'CoC Renewal Ranking Report'!E54,\"\")","v":"Permanent Supportive Housing CH Project"},{"$f":"IF('CoC Renewal Ranking Report'!G54<>\"\",'CoC Renewal Ranking Report'!G54,\"\")","v":"PH"},{"$f":"IF(A56<>\"\", 'CoC Renewal Ranking Report'!N54, \"\")","v":3},{"$f":"IF(A56<>\"\", 'CoC Renewal Ranking Report'!BP54, \"\")","v":1581},527,5]
[{"$f":"IF('CoC Renewal Ranking Report'!D55<>\"\",'CoC Renewal Ranking Report'!D55,\"\")","v":"The Salvation Army, a New York Corporation"},{"$f":"IF('CoC Renewal Ranking Report'!E55<>\"\",'CoC Renewal Ranking Report'!E55,\"\")","v":"Allentown Hospitality House Permanent Housing Program"},{"$f":"IF('CoC Renewal Ranking Report'!G55<>\"\",'CoC Renewal Ranking Report'!G55,\"\")","v":"PH"},{"$f":"IF(A57<>\"\", 'CoC Renewal Ranking Report'!N55, \"\")","v":6},{"$f":"IF(A57<>\"\", 'CoC Renewal Ranking Report'!BP55, \"\")","v":50674},8445.6666666666661,0]
[{"$f":"IF('CoC Renewal Ranking Report'!D56<>\"\",'CoC Renewal Ranking Report'!D56,\"\")","v":"The Salvation Army, a New York Corporation"},{"$f":"IF('CoC Renewal Ranking Report'!E56<>\"\",'CoC Renewal Ranking Report'!E56,\"\")","v":"Salvation Army Carlisle PH Project"},{"$f":"IF('CoC Renewal Ranking Report'!G56<>\"\",'CoC Renewal Ranking Report'!G56,\"\")","v":"PH"},{"$f":"IF(A58<>\"\", 'CoC Renewal Ranking Report'!N56, \"\")","v":6},{"$f":"IF(A58<>\"\", 'CoC Renewal Ranking Report'!BP56, \"\")","v":23354},3892.3333333333335,0]
[{"$f":"IF('CoC Renewal Ranking Report'!D57<>\"\",'CoC Renewal Ranking Report'!D57,\"\")","v":"Union-Snyder Community Action Agency"},{"$f":"IF('CoC Renewal Ranking Report'!E57<>\"\",'CoC Renewal Ranking Report'!E57,\"\")","v":"Union-Snyder Rapid ReHousing Program"},{"$f":"IF('CoC Renewal Ranking Report'!G57<>\"\",'CoC Renewal Ranking Report'!G57,\"\")","v":"PH-RRH"},{"$f":"IF(A59<>\"\", 'CoC Renewal Ranking Report'!N57, \"\")","v":20},{"$f":"IF(A59<>\"\", 'CoC Renewal Ranking Report'!BP57, \"\")","v":49077},2453.85,5]
[{"$f":"IF('CoC Renewal Ranking Report'!D58<>\"\",'CoC Renewal Ranking Report'!D58,\"\")","v":"United Christian Ministries"},{"$f":"IF('CoC Renewal Ranking Report'!E58<>\"\",'CoC Renewal Ranking Report'!E58,\"\")","v":"Kenner Garnet Renewal 2016"},{"$f":"IF('CoC Renewal Ranking Report'!G58<>\"\",'CoC Renewal Ranking Report'!G58,\"\")","v":"PH"},{"$f":"IF(A60<>\"\", 'CoC Renewal Ranking Report'!N58, \"\")","v":25},{"$f":"IF(A60<>\"\", 'CoC Renewal Ranking Report'!BP58, \"\")","v":90403},3616.12,0]
[{"$f":"IF('CoC Renewal Ranking Report'!D59<>\"\",'CoC Renewal Ranking Report'!D59,\"\")","v":"Valley Housing Development Corporation "},{"$f":"IF('CoC Renewal Ranking Report'!E59<>\"\",'CoC Renewal Ranking Report'!E59,\"\")","v":"VHDC SHP #2 2016"},{"$f":"IF('CoC Renewal Ranking Report'!G59<>\"\",'CoC Renewal Ranking Report'!G59,\"\")","v":"PH"},{"$f":"IF(A61<>\"\", 'CoC Renewal Ranking Report'!N59, \"\")","v":28},{"$f":"IF(A61<>\"\", 'CoC Renewal Ranking Report'!BP59, \"\")","v":12072},431.14285714285717,5]
[{"$f":"IF('CoC Renewal Ranking Report'!D60<>\"\",'CoC Renewal Ranking Report'!D60,\"\")","v":"Valley Housing Development Corporation "},{"$f":"IF('CoC Renewal Ranking Report'!E60<>\"\",'CoC Renewal Ranking Report'!E60,\"\")","v":"VHDC SHP #3 2016"},{"$f":"IF('CoC Renewal Ranking Report'!G60<>\"\",'CoC Renewal Ranking Report'!G60,\"\")","v":"PH"},{"$f":"IF(A62<>\"\", 'CoC Renewal Ranking Report'!N60, \"\")","v":18},{"$f":"IF(A62<>\"\", 'CoC Renewal Ranking Report'!BP60, \"\")","v":7793},432.94444444444446,5]
[{"$f":"IF('CoC Renewal Ranking Report'!D61<>\"\",'CoC Renewal Ranking Report'!D61,\"\")","v":"Valley Housing Development Corporation "},{"$f":"IF('CoC Renewal Ranking Report'!E61<>\"\",'CoC Renewal Ranking Report'!E61,\"\")","v":"VHDC SHP #4 2016"},{"$f":"IF('CoC Renewal Ranking Report'!G61<>\"\",'CoC Renewal Ranking Report'!G61,\"\")","v":"PH"},{"$f":"IF(A63<>\"\", 'CoC Renewal Ranking Report'!N61, \"\")","v":15},{"$f":"IF(A63<>\"\", 'CoC Renewal Ranking Report'!BP61, \"\")","v":30470},2031.3333333333333,4]
[{"$f":"IF('CoC Renewal Ranking Report'!D62<>\"\",'CoC Renewal Ranking Report'!D62,\"\")","v":""},{"$f":"IF('CoC Renewal Ranking Report'!E62<>\"\",'CoC Renewal Ranking Report'!E62,\"\")","v":""},{"$f":"IF('CoC Renewal Ranking Report'!G62<>\"\",'CoC Renewal Ranking Report'!G62,\"\")","v":""},{"$f":"IF(A64<>\"\", 'CoC Renewal Ranking Report'!N62, \"\")","v":""},{"$f":"IF(A64<>\"\", 'CoC Renewal Ranking Report'!BP62, \"\")","v":""},"",""]
[{"$f":"IF('CoC Renewal Ranking Report'!D63<>\"\",'CoC Renewal Ranking Report'!D63,\"\")","v":""},{"$f":"IF('CoC Renewal Ranking Report'!E63<>\"\",'CoC Renewal Ranking Report'!E63,\"\")","v":""},{"$f":"IF('CoC Renewal Ranking Report'!G63<>\"\",'CoC Renewal Ranking Report'!G63,\"\")","v":""},{"$f":"IF(A65<>\"\", 'CoC Renewal Ranking Report'!N63, \"\")","v":""},{"$f":"IF(A65<>\"\", 'CoC Renewal Ranking Report'!BP63, \"\")","v":""},"",""]
[{"$f":"IF('CoC Renewal Ranking Report'!D64<>\"\",'CoC Renewal Ranking Report'!D64,\"\")","v":""},{"$f":"IF('CoC Renewal Ranking Report'!E64<>\"\",'CoC Renewal Ranking Report'!E64,\"\")","v":""},{"$f":"IF('CoC Renewal Ranking Report'!G64<>\"\",'CoC Renewal Ranking Report'!G64,\"\")","v":""},{"$f":"IF(A66<>\"\", 'CoC Renewal Ranking Report'!N64, \"\")","v":""},{"$f":"IF(A66<>\"\", 'CoC Renewal Ranking Report'!BP64, \"\")","v":""},"",""]
[{"$f":"IF('CoC Renewal Ranking Report'!D65<>\"\",'CoC Renewal Ranking Report'!D65,\"\")","v":""},{"$f":"IF('CoC Renewal Ranking Report'!E65<>\"\",'CoC Renewal Ranking Report'!E65,\"\")","v":""},{"$f":"IF('CoC Renewal Ranking Report'!G65<>\"\",'CoC Renewal Ranking Report'!G65,\"\")","v":""},{"$f":"IF(A67<>\"\", 'CoC Renewal Ranking Report'!N65, \"\")","v":""},{"$f":"IF(A67<>\"\", 'CoC Renewal Ranking Report'!BP65, \"\")","v":""},"",""]
[{"$f":"IF('CoC Renewal Ranking Report'!D66<>\"\",'CoC Renewal Ranking Report'!D66,\"\")","v":""},{"$f":"IF('CoC Renewal Ranking Report'!E66<>\"\",'CoC Renewal Ranking Report'!E66,\"\")","v":""},{"$f":"IF('CoC Renewal Ranking Report'!G66<>\"\",'CoC Renewal Ranking Report'!G66,\"\")","v":""},{"$f":"IF(A68<>\"\", 'CoC Renewal Ranking Report'!N66, \"\")","v":""},{"$f":"IF(A68<>\"\", 'CoC Renewal Ranking Report'!BP66, \"\")","v":""},"",""]
[{"$f":"IF('CoC Renewal Ranking Report'!D67<>\"\",'CoC Renewal Ranking Report'!D67,\"\")","v":""},{"$f":"IF('CoC Renewal Ranking Report'!E67<>\"\",'CoC Renewal Ranking Report'!E67,\"\")","v":""},{"$f":"IF('CoC Renewal Ranking Report'!G67<>\"\",'CoC Renewal Ranking Report'!G67,\"\")","v":""},{"$f":"IF(A69<>\"\", 'CoC Renewal Ranking Report'!N67, \"\")","v":""},{"$f":"IF(A69<>\"\", 'CoC Renewal Ranking Report'!BP67, \"\")","v":""},"",""]
[{"$f":"IF('CoC Renewal Ranking Report'!D68<>\"\",'CoC Renewal Ranking Report'!D68,\"\")","v":""},{"$f":"IF('CoC Renewal Ranking Report'!E68<>\"\",'CoC Renewal Ranking Report'!E68,\"\")","v":""},{"$f":"IF('CoC Renewal Ranking Report'!G68<>\"\",'CoC Renewal Ranking Report'!G68,\"\")","v":""},{"$f":"IF(A70<>\"\", 'CoC Renewal Ranking Report'!N68, \"\")","v":""},{"$f":"IF(A70<>\"\", 'CoC Renewal Ranking Report'!BP68, \"\")","v":""},"",""]
[{"$f":"IF('CoC Renewal Ranking Report'!D69<>\"\",'CoC Renewal Ranking Report'!D69,\"\")","v":""},{"$f":"IF('CoC Renewal Ranking Report'!E69<>\"\",'CoC Renewal Ranking Report'!E69,\"\")","v":""},{"$f":"IF('CoC Renewal Ranking Report'!G69<>\"\",'CoC Renewal Ranking Report'!G69,\"\")","v":""},{"$f":"IF(A71<>\"\", 'CoC Renewal Ranking Report'!N69, \"\")","v":""},{"$f":"IF(A71<>\"\", 'CoC Renewal Ranking Report'!BP69, \"\")","v":""},"",""]
[{"$f":"IF('CoC Renewal Ranking Report'!D70<>\"\",'CoC Renewal Ranking Report'!D70,\"\")","v":""},{"$f":"IF('CoC Renewal Ranking Report'!E70<>\"\",'CoC Renewal Ranking Report'!E70,\"\")","v":""},{"$f":"IF('CoC Renewal Ranking Report'!G70<>\"\",'CoC Renewal Ranking Report'!G70,\"\")","v":""},{"$f":"IF(A72<>\"\", 'CoC Renewal Ranking Report'!N70, \"\")","v":""},{"$f":"IF(A72<>\"\", 'CoC Renewal Ranking Report'!BP70, \"\")","v":""},"",""]
[{"$f":"IF('CoC Renewal Ranking Report'!D71<>\"\",'CoC Renewal Ranking Report'!D71,\"\")","v":""},{"$f":"IF('CoC Renewal Ranking Report'!E71<>\"\",'CoC Renewal Ranking Report'!E71,\"\")","v":""},{"$f":"IF('CoC Renewal Ranking Report'!G71<>\"\",'CoC Renewal Ranking Report'!G71,\"\")","v":""},{"$f":"IF(A73<>\"\", 'CoC Renewal Ranking Report'!N71, \"\")","v":""},{"$f":"IF(A73<>\"\", 'CoC Renewal Ranking Report'!BP71, \"\")","v":""},"",""]
[{"$f":"IF('CoC Renewal Ranking Report'!D72<>\"\",'CoC Renewal Ranking Report'!D72,\"\")","v":""},{"$f":"IF('CoC Renewal Ranking Report'!E72<>\"\",'CoC Renewal Ranking Report'!E72,\"\")","v":""},{"$f":"IF('CoC Renewal Ranking Report'!G72<>\"\",'CoC Renewal Ranking Report'!G72,\"\")","v":""},{"$f":"IF(A74<>\"\", 'CoC Renewal Ranking Report'!N72, \"\")","v":""},{"$f":"IF(A74<>\"\", 'CoC Renewal Ranking Report'!BP72, \"\")","v":""},"",""]
[{"$f":"IF('CoC Renewal Ranking Report'!D73<>\"\",'CoC Renewal Ranking Report'!D73,\"\")","v":""},{"$f":"IF('CoC Renewal Ranking Report'!E73<>\"\",'CoC Renewal Ranking Report'!E73,\"\")","v":""},{"$f":"IF('CoC Renewal Ranking Report'!G73<>\"\",'CoC Renewal Ranking Report'!G73,\"\")","v":""},{"$f":"IF(A75<>\"\", 'CoC Renewal Ranking Report'!N73, \"\")","v":""},{"$f":"IF(A75<>\"\", 'CoC Renewal Ranking Report'!BP73, \"\")","v":""},"",""]
[{"$f":"IF('CoC Renewal Ranking Report'!D74<>\"\",'CoC Renewal Ranking Report'!D74,\"\")","v":""},{"$f":"IF('CoC Renewal Ranking Report'!E74<>\"\",'CoC Renewal Ranking Report'!E74,\"\")","v":""},{"$f":"IF('CoC Renewal Ranking Report'!G74<>\"\",'CoC Renewal Ranking Report'!G74,\"\")","v":""},{"$f":"IF(A76<>\"\", 'CoC Renewal Ranking Report'!N74, \"\")","v":""},{"$f":"IF(A76<>\"\", 'CoC Renewal Ranking Report'!BP74, \"\")","v":""},{"$f":"IF(AND(D76<>\"\",E76<>\"\"), IF(D76<>0, E76/D76,0), \"\")","v":""},{"$f":"IF(AND(A76<>\"\",F76>0), IF(C76 = \"PH\", IF(F76 <= $C$8*0.9, 5, IF(AND(F76 > $C$8*0.9, F76 <= $C$8*0.99),4, IF(AND(F76 > $C$8*0.99, F76 <= $C$8*1.09),2,0))), IF(F76 <= $C$7*0.9, 5, IF(AND(F76 > $C$7*0.9, F76 <= $C$7*0.99),4, IF(AND(F76 > $C$7*0.99, F76 <= $C$7*1.09),2,0)))), \"\")","v":""}]
[{"$f":"IF('CoC Renewal Ranking Report'!D75<>\"\",'CoC Renewal Ranking Report'!D75,\"\")","v":""},{"$f":"IF('CoC Renewal Ranking Report'!E75<>\"\",'CoC Renewal Ranking Report'!E75,\"\")","v":""},{"$f":"IF('CoC Renewal Ranking Report'!G75<>\"\",'CoC Renewal Ranking Report'!G75,\"\")","v":""},{"$f":"IF(A77<>\"\", 'CoC Renewal Ranking Report'!N75, \"\")","v":""},{"$f":"IF(A77<>\"\", 'CoC Renewal Ranking Report'!BP75, \"\")","v":""},"",""]
[{"$f":"IF('CoC Renewal Ranking Report'!D76<>\"\",'CoC Renewal Ranking Report'!D76,\"\")","v":""},{"$f":"IF('CoC Renewal Ranking Report'!E76<>\"\",'CoC Renewal Ranking Report'!E76,\"\")","v":""},{"$f":"IF('CoC Renewal Ranking Report'!G76<>\"\",'CoC Renewal Ranking Report'!G76,\"\")","v":""},{"$f":"IF(A78<>\"\", 'CoC Renewal Ranking Report'!N76, \"\")","v":""},{"$f":"IF(A78<>\"\", 'CoC Renewal Ranking Report'!BP76, \"\")","v":""},"",""]
[{"$f":"IF('CoC Renewal Ranking Report'!D77<>\"\",'CoC Renewal Ranking Report'!D77,\"\")","v":""},{"$f":"IF('CoC Renewal Ranking Report'!E77<>\"\",'CoC Renewal Ranking Report'!E77,\"\")","v":""},{"$f":"IF('CoC Renewal Ranking Report'!G77<>\"\",'CoC Renewal Ranking Report'!G77,\"\")","v":""},{"$f":"IF(A79<>\"\", 'CoC Renewal Ranking Report'!N77, \"\")","v":""},{"$f":"IF(A79<>\"\", 'CoC Renewal Ranking Report'!BP77, \"\")","v":""},"",""]
[{"$f":"IF('CoC Renewal Ranking Report'!D78<>\"\",'CoC Renewal Ranking Report'!D78,\"\")","v":""},{"$f":"IF('CoC Renewal Ranking Report'!E78<>\"\",'CoC Renewal Ranking Report'!E78,\"\")","v":""},{"$f":"IF('CoC Renewal Ranking Report'!G78<>\"\",'CoC Renewal Ranking Report'!G78,\"\")","v":""},{"$f":"IF(A80<>\"\", 'CoC Renewal Ranking Report'!N78, \"\")","v":""},{"$f":"IF(A80<>\"\", 'CoC Renewal Ranking Report'!BP78, \"\")","v":""},"",""]
[{"$f":"IF('CoC Renewal Ranking Report'!D79<>\"\",'CoC Renewal Ranking Report'!D79,\"\")","v":""},{"$f":"IF('CoC Renewal Ranking Report'!E79<>\"\",'CoC Renewal Ranking Report'!E79,\"\")","v":""},{"$f":"IF('CoC Renewal Ranking Report'!G79<>\"\",'CoC Renewal Ranking Report'!G79,\"\")","v":""},{"$f":"IF(A81<>\"\", 'CoC Renewal Ranking Report'!N79, \"\")","v":""},{"$f":"IF(A81<>\"\", 'CoC Renewal Ranking Report'!BP79, \"\")","v":""},"",""]
[{"$f":"IF('CoC Renewal Ranking Report'!D80<>\"\",'CoC Renewal Ranking Report'!D80,\"\")","v":""},{"$f":"IF('CoC Renewal Ranking Report'!E80<>\"\",'CoC Renewal Ranking Report'!E80,\"\")","v":""},{"$f":"IF('CoC Renewal Ranking Report'!G80<>\"\",'CoC Renewal Ranking Report'!G80,\"\")","v":""},{"$f":"IF(A82<>\"\", 'CoC Renewal Ranking Report'!N80, \"\")","v":""},{"$f":"IF(A82<>\"\", 'CoC Renewal Ranking Report'!BP80, \"\")","v":""},"",""]
[{"$f":"IF('CoC Renewal Ranking Report'!D81<>\"\",'CoC Renewal Ranking Report'!D81,\"\")","v":""},{"$f":"IF('CoC Renewal Ranking Report'!E81<>\"\",'CoC Renewal Ranking Report'!E81,\"\")","v":""},{"$f":"IF('CoC Renewal Ranking Report'!G81<>\"\",'CoC Renewal Ranking Report'!G81,\"\")","v":""},{"$f":"IF(A83<>\"\", 'CoC Renewal Ranking Report'!N81, \"\")","v":""},{"$f":"IF(A83<>\"\", 'CoC Renewal Ranking Report'!BP81, \"\")","v":""},"",""]
[{"$f":"IF('CoC Renewal Ranking Report'!D82<>\"\",'CoC Renewal Ranking Report'!D82,\"\")","v":""},{"$f":"IF('CoC Renewal Ranking Report'!E82<>\"\",'CoC Renewal Ranking Report'!E82,\"\")","v":""},{"$f":"IF('CoC Renewal Ranking Report'!G82<>\"\",'CoC Renewal Ranking Report'!G82,\"\")","v":""},{"$f":"IF(A84<>\"\", 'CoC Renewal Ranking Report'!N82, \"\")","v":""},{"$f":"IF(A84<>\"\", 'CoC Renewal Ranking Report'!BP82, \"\")","v":""},"",""]
[{"$f":"IF('CoC Renewal Ranking Report'!D83<>\"\",'CoC Renewal Ranking Report'!D83,\"\")","v":""},{"$f":"IF('CoC Renewal Ranking Report'!E83<>\"\",'CoC Renewal Ranking Report'!E83,\"\")","v":""},{"$f":"IF('CoC Renewal Ranking Report'!G83<>\"\",'CoC Renewal Ranking Report'!G83,\"\")","v":""},{"$f":"IF(A85<>\"\", 'CoC Renewal Ranking Report'!N83, \"\")","v":""},{"$f":"IF(A85<>\"\", 'CoC Renewal Ranking Report'!BP83, \"\")","v":""},"",""]
[{"$f":"IF('CoC Renewal Ranking Report'!D84<>\"\",'CoC Renewal Ranking Report'!D84,\"\")","v":""},{"$f":"IF('CoC Renewal Ranking Report'!E84<>\"\",'CoC Renewal Ranking Report'!E84,\"\")","v":""},{"$f":"IF('CoC Renewal Ranking Report'!G84<>\"\",'CoC Renewal Ranking Report'!G84,\"\")","v":""},{"$f":"IF(A86<>\"\", 'CoC Renewal Ranking Report'!N84, \"\")","v":""},{"$f":"IF(A86<>\"\", 'CoC Renewal Ranking Report'!BP84, \"\")","v":""},"",""]
[{"$f":"IF('CoC Renewal Ranking Report'!D85<>\"\",'CoC Renewal Ranking Report'!D85,\"\")","v":""},{"$f":"IF('CoC Renewal Ranking Report'!E85<>\"\",'CoC Renewal Ranking Report'!E85,\"\")","v":""},{"$f":"IF('CoC Renewal Ranking Report'!G85<>\"\",'CoC Renewal Ranking Report'!G85,\"\")","v":""},{"$f":"IF(A87<>\"\", 'CoC Renewal Ranking Report'!N85, \"\")","v":""},{"$f":"IF(A87<>\"\", 'CoC Renewal Ranking Report'!BP85, \"\")","v":""},"",""]
[{"$f":"IF('CoC Renewal Ranking Report'!D86<>\"\",'CoC Renewal Ranking Report'!D86,\"\")","v":""},{"$f":"IF('CoC Renewal Ranking Report'!E86<>\"\",'CoC Renewal Ranking Report'!E86,\"\")","v":""},{"$f":"IF('CoC Renewal Ranking Report'!G86<>\"\",'CoC Renewal Ranking Report'!G86,\"\")","v":""},{"$f":"IF(A88<>\"\", 'CoC Renewal Ranking Report'!N86, \"\")","v":""},{"$f":"IF(A88<>\"\", 'CoC Renewal Ranking Report'!BP86, \"\")","v":""},"",""]
[{"$f":"IF('CoC Renewal Ranking Report'!D87<>\"\",'CoC Renewal Ranking Report'!D87,\"\")","v":""},{"$f":"IF('CoC Renewal Ranking Report'!E87<>\"\",'CoC Renewal Ranking Report'!E87,\"\")","v":""},{"$f":"IF('CoC Renewal Ranking Report'!G87<>\"\",'CoC Renewal Ranking Report'!G87,\"\")","v":""},{"$f":"IF(A89<>\"\", 'CoC Renewal Ranking Report'!N87, \"\")","v":""},{"$f":"IF(A89<>\"\", 'CoC Renewal Ranking Report'!BP87, \"\")","v":""},"",""]
[{"$f":"IF('CoC Renewal Ranking Report'!D88<>\"\",'CoC Renewal Ranking Report'!D88,\"\")","v":""},{"$f":"IF('CoC Renewal Ranking Report'!E88<>\"\",'CoC Renewal Ranking Report'!E88,\"\")","v":""},{"$f":"IF('CoC Renewal Ranking Report'!G88<>\"\",'CoC Renewal Ranking Report'!G88,\"\")","v":""},{"$f":"IF(A90<>\"\", 'CoC Renewal Ranking Report'!N88, \"\")","v":""},{"$f":"IF(A90<>\"\", 'CoC Renewal Ranking Report'!BP88, \"\")","v":""},"",""]
[{"$f":"IF('CoC Renewal Ranking Report'!D89<>\"\",'CoC Renewal Ranking Report'!D89,\"\")","v":""},{"$f":"IF('CoC Renewal Ranking Report'!E89<>\"\",'CoC Renewal Ranking Report'!E89,\"\")","v":""},{"$f":"IF('CoC Renewal Ranking Report'!G89<>\"\",'CoC Renewal Ranking Report'!G89,\"\")","v":""},{"$f":"IF(A91<>\"\", 'CoC Renewal Ranking Report'!N89, \"\")","v":""},{"$f":"IF(A91<>\"\", 'CoC Renewal Ranking Report'!BP89, \"\")","v":""},"",""]
[{"$f":"IF('CoC Renewal Ranking Report'!D90<>\"\",'CoC Renewal Ranking Report'!D90,\"\")","v":""},{"$f":"IF('CoC Renewal Ranking Report'!E90<>\"\",'CoC Renewal Ranking Report'!E90,\"\")","v":""},{"$f":"IF('CoC Renewal Ranking Report'!G90<>\"\",'CoC Renewal Ranking Report'!G90,\"\")","v":""},{"$f":"IF(A92<>\"\", 'CoC Renewal Ranking Report'!N90, \"\")","v":""},{"$f":"IF(A92<>\"\", 'CoC Renewal Ranking Report'!BP90, \"\")","v":""},"",""]
[{"$f":"IF('CoC Renewal Ranking Report'!D91<>\"\",'CoC Renewal Ranking Report'!D91,\"\")","v":""},{"$f":"IF('CoC Renewal Ranking Report'!E91<>\"\",'CoC Renewal Ranking Report'!E91,\"\")","v":""},{"$f":"IF('CoC Renewal Ranking Report'!G91<>\"\",'CoC Renewal Ranking Report'!G91,\"\")","v":""},{"$f":"IF(A93<>\"\", 'CoC Renewal Ranking Report'!N91, \"\")","v":""},{"$f":"IF(A93<>\"\", 'CoC Renewal Ranking Report'!BP91, \"\")","v":""},"",""]
[{"$f":"IF('CoC Renewal Ranking Report'!D92<>\"\",'CoC Renewal Ranking Report'!D92,\"\")","v":""},{"$f":"IF('CoC Renewal Ranking Report'!E92<>\"\",'CoC Renewal Ranking Report'!E92,\"\")","v":""},{"$f":"IF('CoC Renewal Ranking Report'!G92<>\"\",'CoC Renewal Ranking Report'!G92,\"\")","v":""},{"$f":"IF(A94<>\"\", 'CoC Renewal Ranking Report'!N92, \"\")","v":""},{"$f":"IF(A94<>\"\", 'CoC Renewal Ranking Report'!BP92, \"\")","v":""},"",""]
[{"$f":"IF('CoC Renewal Ranking Report'!D93<>\"\",'CoC Renewal Ranking Report'!D93,\"\")","v":""},{"$f":"IF('CoC Renewal Ranking Report'!E93<>\"\",'CoC Renewal Ranking Report'!E93,\"\")","v":""},{"$f":"IF('CoC Renewal Ranking Report'!G93<>\"\",'CoC Renewal Ranking Report'!G93,\"\")","v":""},{"$f":"IF(A95<>\"\", 'CoC Renewal Ranking Report'!N93, \"\")","v":""},{"$f":"IF(A95<>\"\", 'CoC Renewal Ranking Report'!BP93, \"\")","v":""},"",""]
[{"$f":"IF('CoC Renewal Ranking Report'!D94<>\"\",'CoC Renewal Ranking Report'!D94,\"\")","v":""},{"$f":"IF('CoC Renewal Ranking Report'!E94<>\"\",'CoC Renewal Ranking Report'!E94,\"\")","v":""},{"$f":"IF('CoC Renewal Ranking Report'!G94<>\"\",'CoC Renewal Ranking Report'!G94,\"\")","v":""},{"$f":"IF(A96<>\"\", 'CoC Renewal Ranking Report'!N94, \"\")","v":""},{"$f":"IF(A96<>\"\", 'CoC Renewal Ranking Report'!BP94, \"\")","v":""},"",""]
[{"$f":"IF('CoC Renewal Ranking Report'!D95<>\"\",'CoC Renewal Ranking Report'!D95,\"\")","v":""},{"$f":"IF('CoC Renewal Ranking Report'!E95<>\"\",'CoC Renewal Ranking Report'!E95,\"\")","v":""},{"$f":"IF('CoC Renewal Ranking Report'!G95<>\"\",'CoC Renewal Ranking Report'!G95,\"\")","v":""},{"$f":"IF(A97<>\"\", 'CoC Renewal Ranking Report'!N95, \"\")","v":""},{"$f":"IF(A97<>\"\", 'CoC Renewal Ranking Report'!BP95, \"\")","v":""},"",""]
[{"$f":"IF('CoC Renewal Ranking Report'!D96<>\"\",'CoC Renewal Ranking Report'!D96,\"\")","v":""},{"$f":"IF('CoC Renewal Ranking Report'!E96<>\"\",'CoC Renewal Ranking Report'!E96,\"\")","v":""},{"$f":"IF('CoC Renewal Ranking Report'!G96<>\"\",'CoC Renewal Ranking Report'!G96,\"\")","v":""},{"$f":"IF(A98<>\"\", 'CoC Renewal Ranking Report'!N96, \"\")","v":""},{"$f":"IF(A98<>\"\", 'CoC Renewal Ranking Report'!BP96, \"\")","v":""},"",""]
[{"$f":"IF('CoC Renewal Ranking Report'!D97<>\"\",'CoC Renewal Ranking Report'!D97,\"\")","v":""},{"$f":"IF('CoC Renewal Ranking Report'!E97<>\"\",'CoC Renewal Ranking Report'!E97,\"\")","v":""},{"$f":"IF('CoC Renewal Ranking Report'!G97<>\"\",'CoC Renewal Ranking Report'!G97,\"\")","v":""},{"$f":"IF(A99<>\"\", 'CoC Renewal Ranking Report'!N97, \"\")","v":""},{"$f":"IF(A99<>\"\", 'CoC Renewal Ranking Report'!BP97, \"\")","v":""},"",""]
[{"$f":"IF('CoC Renewal Ranking Report'!D98<>\"\",'CoC Renewal Ranking Report'!D98,\"\")","v":""},{"$f":"IF('CoC Renewal Ranking Report'!E98<>\"\",'CoC Renewal Ranking Report'!E98,\"\")","v":""},{"$f":"IF('CoC Renewal Ranking Report'!G98<>\"\",'CoC Renewal Ranking Report'!G98,\"\")","v":""},{"$f":"IF(A100<>\"\", 'CoC Renewal Ranking Report'!N98, \"\")","v":""},{"$f":"IF(A100<>\"\", 'CoC Renewal Ranking Report'!BP98, \"\")","v":""},"",""]
[{"$f":"IF('CoC Renewal Ranking Report'!D99<>\"\",'CoC Renewal Ranking Report'!D99,\"\")","v":""},{"$f":"IF('CoC Renewal Ranking Report'!E99<>\"\",'CoC Renewal Ranking Report'!E99,\"\")","v":""},{"$f":"IF('CoC Renewal Ranking Report'!G99<>\"\",'CoC Renewal Ranking Report'!G99,\"\")","v":""},{"$f":"IF(A101<>\"\", 'CoC Renewal Ranking Report'!N99, \"\")","v":""},{"$f":"IF(A101<>\"\", 'CoC Renewal Ranking Report'!BP99, \"\")","v":""},"",""]
[{"$f":"IF('CoC Renewal Ranking Report'!D100<>\"\",'CoC Renewal Ranking Report'!D100,\"\")","v":""},{"$f":"IF('CoC Renewal Ranking Report'!E100<>\"\",'CoC Renewal Ranking Report'!E100,\"\")","v":""},{"$f":"IF('CoC Renewal Ranking Report'!G100<>\"\",'CoC Renewal Ranking Report'!G100,\"\")","v":""},{"$f":"IF(A102<>\"\", 'CoC Renewal Ranking Report'!N100, \"\")","v":""},{"$f":"IF(A102<>\"\", 'CoC Renewal Ranking Report'!BP100, \"\")","v":""},"",""]
[{"$f":"IF('CoC Renewal Ranking Report'!D99<>\"\",'CoC Renewal Ranking Report'!D99,\"\")","v":""},{"$f":"IF('CoC Renewal Ranking Report'!E99<>\"\",'CoC Renewal Ranking Report'!E99,\"\")","v":""},{"$f":"IF('CoC Renewal Ranking Report'!G99<>\"\",'CoC Renewal Ranking Report'!G99,\"\")","v":""},{"$f":"IF(A103<>\"\", 'CoC Renewal Ranking Report'!N99, \"\")","v":""},{"$f":"IF(A103<>\"\", 'CoC Renewal Ranking Report'!BP99, \"\")","v":""},{"$f":"IF(AND(D103<>\"\",E103<>\"\"), IF(D103<>0, E103/D103,0), \"\")","v":""},{"$f":"IF(AND(A103<>\"\",F103>0), IF(C103 = \"PH\", IF(F103 <= $C$8*0.9, 5, IF(AND(F103 > $C$8*0.9, F103 <= $C$8*0.99),4, IF(AND(F103 > $C$8*0.99, F103 <= $C$8*1.09),2,0))), IF(F103 <= $C$7*0.9, 5, IF(AND(F103 > $C$7*0.9, F103 <= $C$7*0.99),4, IF(AND(F103 > $C$7*0.99, F103 <= $C$7*1.09),2,0)))), \"\")","v":""}]
[{"$f":"IF('CoC Renewal Ranking Report'!D100<>\"\",'CoC Renewal Ranking Report'!D100,\"\")","v":""},{"$f":"IF('CoC Renewal Ranking Report'!E100<>\"\",'CoC Renewal Ranking Report'!E100,\"\")","v":""},{"$f":"IF('CoC Renewal Ranking Report'!G100<>\"\",'CoC Renewal Ranking Report'!G100,\"\")","v":""},{"$f":"IF(A104<>\"\", 'CoC Renewal Ranking Report'!N100, \"\")","v":""},{"$f":"IF(A104<>\"\", 'CoC Renewal Ranking Report'!BP100, \"\")","v":""},"",""]
[{"$f":"IF('CoC Renewal Ranking Report'!D101<>\"\",'CoC Renewal Ranking Report'!D101,\"\")","v":""},{"$f":"IF('CoC Renewal Ranking Report'!E101<>\"\",'CoC Renewal Ranking Report'!E101,\"\")","v":""},{"$f":"IF('CoC Renewal Ranking Report'!G101<>\"\",'CoC Renewal Ranking Report'!G101,\"\")","v":""},{"$f":"IF(A105<>\"\", 'CoC Renewal Ranking Report'!N101, \"\")","v":""},{"$f":"IF(A105<>\"\", 'CoC Renewal Ranking Report'!BP101, \"\")","v":""},"",""]
[{"$f":"IF('CoC Renewal Ranking Report'!D102<>\"\",'CoC Renewal Ranking Report'!D102,\"\")","v":""},{"$f":"IF('CoC Renewal Ranking Report'!E102<>\"\",'CoC Renewal Ranking Report'!E102,\"\")","v":""},{"$f":"IF('CoC Renewal Ranking Report'!G102<>\"\",'CoC Renewal Ranking Report'!G102,\"\")","v":""},{"$f":"IF(A106<>\"\", 'CoC Renewal Ranking Report'!N102, \"\")","v":""},{"$f":"IF(A106<>\"\", 'CoC Renewal Ranking Report'!BP102, \"\")","v":""},"",""]

{"sheet":"HUD Monitoring","index":16,"n_rows":102,"n_cols":5,"rows_kept":102,"cut":false,"hidden":false,"merged":[[0,1,0,2]]}
[null,"HUD Monitoring"]
[null,"Criteria","Points"]
[null,"No montoring/no unresolved issues",0]
[null,"Project monitored/unresolved issues","(-)5"]
[]
["Agency Name","Project Name","Project Type","Unresolved","Score"]
[{"$f":"IF('CoC Renewal Ranking Report'!D9<>\"\",'CoC Renewal Ranking Report'!D9,\"\")","v":""},{"$f":"IF('CoC Renewal Ranking Report'!E9<>\"\",'CoC Renewal Ranking Report'!E9,\"\")","v":""},{"$f":"IF('CoC Renewal Ranking Report'!G9<>\"\",'CoC Renewal Ranking Report'!G9,\"\")","v":""},{"$f":"IF('CoC Renewal Ranking Report'!H9<>\"\",'CoC Renewal Ranking Report'!BQ9,\"\")","v":""},{"$f":"IF(A7<>\"\", IF(D7 = \"Yes\", -5, 0), \"\")","v":""}]
[{"$f":"IF('CoC Renewal Ranking Report'!D10<>\"\",'CoC Renewal Ranking Report'!D10,\"\")","v":"Blair County Community Action Program"},{"$f":"IF('CoC Renewal Ranking Report'!E10<>\"\",'CoC Renewal Ranking Report'!E10,\"\")","v":"Rapid Re-Housing"},{"$f":"IF('CoC Renewal Ranking Report'!G10<>\"\",'CoC Renewal Ranking Report'!G10,\"\")","v":"PH-RRH"},{"$f":"IF('CoC Renewal Ranking Report'!H10<>\"\",'CoC Renewal Ranking Report'!BQ10,\"\")","v":0},0]
[{"$f":"IF('CoC Renewal Ranking Report'!D11<>\"\",'CoC Renewal Ranking Report'!D11,\"\")","v":"Cambria County"},{"$f":"IF('CoC Renewal Ranking Report'!E11<>\"\",'CoC Renewal Ranking Report'!E11,\"\")","v":"Cambria County Comprehensive Housing Program"},{"$f":"IF('CoC Renewal Ranking Report'!G11<>\"\",'CoC Renewal Ranking Report'!G11,\"\")","v":"PH"},{"$f":"IF('CoC Renewal Ranking Report'!H11<>\"\",'CoC Renewal Ranking Report'!BQ11,\"\")","v":0},0]
[{"$f":"IF('CoC Renewal Ranking Report'!D12<>\"\",'CoC Renewal Ranking Report'!D12,\"\")","v":"Catholic Charities of the Diocese of Allentown"},{"$f":"IF('CoC Renewal Ranking Report'!E12<>\"\",'CoC Renewal Ranking Report'!E12,\"\")","v":"Catholic Charities Allentown Permanent Housing Program"},{"$f":"IF('CoC Renewal Ranking Report'!G12<>\"\",'CoC Renewal Ranking Report'!G12,\"\")","v":"PH"},{"$f":"IF('CoC Renewal Ranking Report'!H12<>\"\",'CoC Renewal Ranking Report'!BQ12,\"\")","v":0},0]
[{"$f":"IF('CoC Renewal Ranking Report'!D13<>\"\",'CoC Renewal Ranking Report'!D13,\"\")","v":"Catholic Social Services of the Diocese of Scranton, Inc."},{"$f":"IF('CoC Renewal Ranking Report'!E13<>\"\",'CoC Renewal Ranking Report'!E13,\"\")","v":"PSHP Pike County"},{"$f":"IF('CoC Renewal Ranking Report'!G13<>\"\",'CoC Renewal Ranking Report'!G13,\"\")","v":"PH"},{"$f":"IF('CoC Renewal Ranking Report'!H13<>\"\",'CoC Renewal Ranking Report'!BQ13,\"\")","v":0},0]
[{"$f":"IF('CoC Renewal Ranking Report'!D14<>\"\",'CoC Renewal Ranking Report'!D14,\"\")","v":"Catholic Social Services of the Diocese of Scranton, Inc."},{"$f":"IF('CoC Renewal Ranking Report'!E14<>\"\",'CoC Renewal Ranking Report'!E14,\"\")","v":"Rural Permanent Supportive Housing Program"},{"$f":"IF('CoC Renewal Ranking Report'!G14<>\"\",'CoC Renewal Ranking Report'!G14,\"\")","v":"PH"},{"$f":"IF('CoC Renewal Ranking Report'!H14<>\"\",'CoC Renewal Ranking Report'!BQ14,\"\")","v":0},0]
[{"$f":"IF('CoC Renewal Ranking Report'!D15<>\"\",'CoC Renewal Ranking Report'!D15,\"\")","v":"Catholic Social Services of the Diocese of Scranton, Inc."},{"$f":"IF('CoC Renewal Ranking Report'!E15<>\"\",'CoC Renewal Ranking Report'!E15,\"\")","v":"Susquehanna/Wayne PSHP"},{"$f":"IF('CoC Renewal Ranking Report'!G15<>\"\",'CoC Renewal Ranking Report'!G15,\"\")","v":"PH"},{"$f":"IF('CoC Renewal Ranking Report'!H15<>\"\",'CoC Renewal Ranking Report'!BQ15,\"\")","v":0},0]
[{"$f":"IF('CoC Renewal Ranking Report'!D16<>\"\",'CoC Renewal Ranking Report'!D16,\"\")","v":"Center for Community Action"},{"$f":"IF('CoC Renewal Ranking Report'!E16<>\"\",'CoC Renewal Ranking Report'!E16,\"\")","v":"Bedford,Fulton, Huntingdon RRH"},{"$f":"IF('CoC Renewal Ranking Report'!G16<>\"\",'CoC Renewal Ranking Report'!G16,\"\")","v":"PH-RRH"},{"$f":"IF('CoC Renewal Ranking Report'!H16<>\"\",'CoC Renewal Ranking Report'!BQ16,\"\")","v":0},0]
[{"$f":"IF('CoC Renewal Ranking Report'!D17<>\"\",'CoC Renewal Ranking Report'!D17,\"\")","v":"County of Franklin"},{"$f":"IF('CoC Renewal Ranking Report'!E17<>\"\",'CoC Renewal Ranking Report'!E17,\"\")","v":"Franklin/ Fulton S+C Project 2017"},{"$f":"IF('CoC Renewal Ranking Report'!G17<>\"\",'CoC Renewal Ranking Report'!G17,\"\")","v":"PH"},{"$f":"IF('CoC Renewal Ranking Report'!H17<>\"\",'CoC Renewal Ranking Report'!BQ17,\"\")","v":0},0]
[{"$f":"IF('CoC Renewal Ranking Report'!D18<>\"\",'CoC Renewal Ranking Report'!D18,\"\")","v":"County of Franklin"},{"$f":"IF('CoC Renewal Ranking Report'!E18<>\"\",'CoC Renewal Ranking Report'!E18,\"\")","v":"Franklin/Fulton Homeless Assistance Project 2017"},{"$f":"IF('CoC Renewal Ranking Report'!G18<>\"\",'CoC Renewal Ranking Report'!G18,\"\")","v":"PH"},{"$f":"IF('CoC Renewal Ranking Report'!H18<>\"\",'CoC Renewal Ranking Report'!BQ18,\"\")","v":0},0]
[{"$f":"IF('CoC Renewal Ranking Report'!D19<>\"\",'CoC Renewal Ranking Report'!D19,\"\")","v":"County of Lycoming DBA Lycoming- Clinton Joinder Board"},{"$f":"IF('CoC Renewal Ranking Report'!E19<>\"\",'CoC Renewal Ranking Report'!E19,\"\")","v":"Lycoming/Clinton Renewal #5"},{"$f":"IF('CoC Renewal Ranking Report'!G19<>\"\",'CoC Renewal Ranking Report'!G19,\"\")","v":"PH"},{"$f":"IF('CoC Renewal Ranking Report'!H19<>\"\",'CoC Renewal Ranking Report'!BQ19,\"\")","v":0},0]
[{"$f":"IF('CoC Renewal Ranking Report'!D20<>\"\",'CoC Renewal Ranking Report'!D20,\"\")","v":"Fitzmaurice Community Services, Inc"},{"$f":"IF('CoC Renewal Ranking Report'!E20<>\"\",'CoC Renewal Ranking Report'!E20,\"\")","v":"Pathfinders"},{"$f":"IF('CoC Renewal Ranking Report'!G20<>\"\",'CoC Renewal Ranking Report'!G20,\"\")","v":"PH"},{"$f":"IF('CoC Renewal Ranking Report'!H20<>\"\",'CoC Renewal Ranking Report'!BQ20,\"\")","v":0},0]
[{"$f":"IF('CoC Renewal Ranking Report'!D21<>\"\",'CoC Renewal Ranking Report'!D21,\"\")","v":"Home Nursing AgencyCommunity Services"},{"$f":"IF('CoC Renewal Ranking Report'!E21<>\"\",'CoC Renewal Ranking Report'!E21,\"\")","v":"Housing Assistance and Rental Program"},{"$f":"IF('CoC Renewal Ranking Report'!G21<>\"\",'CoC Renewal Ranking Report'!G21,\"\")","v":"PH"},{"$f":"IF('CoC Renewal Ranking Report'!H21<>\"\",'CoC Renewal Ranking Report'!BQ21,\"\")","v":0},0]
[{"$f":"IF('CoC Renewal Ranking Report'!D22<>\"\",'CoC Renewal Ranking Report'!D22,\"\")","v":"Housing Authority of Monroe County"},{"$f":"IF('CoC Renewal Ranking Report'!E22<>\"\",'CoC Renewal Ranking Report'!E22,\"\")","v":"Renewal Application Shelter Plus Care MC 2016"},{"$f":"IF('CoC Renewal Ranking Report'!G22<>\"\",'CoC Renewal Ranking Report'!G22,\"\")","v":"PH"},{"$f":"IF('CoC Renewal Ranking Report'!H22<>\"\",'CoC Renewal Ranking Report'!BQ22,\"\")","v":0},0]
[{"$f":"IF('CoC Renewal Ranking Report'!D23<>\"\",'CoC Renewal Ranking Report'!D23,\"\")","v":"Housing Authority of the County of Cumberland"},{"$f":"IF('CoC Renewal Ranking Report'!E23<>\"\",'CoC Renewal Ranking Report'!E23,\"\")","v":"Carlisle Supportive Housing Program"},{"$f":"IF('CoC Renewal Ranking Report'!G23<>\"\",'CoC Renewal Ranking Report'!G23,\"\")","v":"PH"},{"$f":"IF('CoC Renewal Ranking Report'!H23<>\"\",'CoC Renewal Ranking Report'!BQ23,\"\")","v":0},0]
[{"$f":"IF('CoC Renewal Ranking Report'!D24<>\"\",'CoC Renewal Ranking Report'!D24,\"\")","v":"Housing Authority of the County of Cumberland"},{"$f":"IF('CoC Renewal Ranking Report'!E24<>\"\",'CoC Renewal Ranking Report'!E24,\"\")","v":"Perry County Permanent SHP"},{"$f":"IF('CoC Renewal Ranking Report'!G24<>\"\",'CoC Renewal Ranking Report'!G24,\"\")","v":"PH"},{"$f":"IF('CoC Renewal Ranking Report'!H24<>\"\",'CoC Renewal Ranking Report'!BQ24,\"\")","v":0},0]
[{"$f":"IF('CoC Renewal Ranking Report'!D25<>\"\",'CoC Renewal Ranking Report'!D25,\"\")","v":"Housing Authority of the County of Cumberland"},{"$f":"IF('CoC Renewal Ranking Report'!E25<>\"\",'CoC Renewal Ranking Report'!E25,\"\")","v":"Perry County Transitional II"},{"$f":"IF('CoC Renewal Ranking Report'!G25<>\"\",'CoC Renewal Ranking Report'!G25,\"\")","v":"PH-RRH"},{"$f":"IF('CoC Renewal Ranking Report'!H25<>\"\",'CoC Renewal Ranking Report'!BQ25,\"\")","v":0},0]
[{"$f":"IF('CoC Renewal Ranking Report'!D26<>\"\",'CoC Renewal Ranking Report'!D26,\"\")","v":"Housing Authority of the County of Cumberland"},{"$f":"IF('CoC Renewal Ranking Report'!E26<>\"\",'CoC Renewal Ranking Report'!E26,\"\")","v":"Perry County Veterans Program"},{"$f":"IF('CoC Renewal Ranking Report'!G26<>\"\",'CoC Renewal Ranking Report'!G26,\"\")","v":"PH"},{"$f":"IF('CoC Renewal Ranking Report'!H26<>\"\",'CoC Renewal Ranking Report'!BQ26,\"\")","v":0},0]
[{"$f":"IF('CoC Renewal Ranking Report'!D27<>\"\",'CoC Renewal Ranking Report'!D27,\"\")","v":"Housing Authority of the County of Cumberland"},{"$f":"IF('CoC Renewal Ranking Report'!E27<>\"\",'CoC Renewal Ranking Report'!E27,\"\")","v":"Rapid Rehousing II"},{"$f":"IF('CoC Renewal Ranking Report'!G27<>\"\",'CoC Renewal Ranking Report'!G27,\"\")","v":"PH-RRH"},{"$f":"IF('CoC Renewal Ranking Report'!H27<>\"\",'CoC Renewal Ranking Report'!BQ27,\"\")","v":0},0]
[{"$f":"IF('CoC Renewal Ranking Report'!D28<>\"\",'CoC Renewal Ranking Report'!D28,\"\")","v":"Housing Authority of the County of Cumberland"},{"$f":"IF('CoC Renewal Ranking Report'!E28<>\"\",'CoC Renewal Ranking Report'!E28,\"\")","v":"Safe Harbour SHP"},{"$f":"IF('CoC Renewal Ranking Report'!G28<>\"\",'CoC Renewal Ranking Report'!G28,\"\")","v":"PH"},{"$f":"IF('CoC Renewal Ranking Report'!H28<>\"\",'CoC Renewal Ranking Report'!BQ28,\"\")","v":0},0]
[{"$f":"IF('CoC Renewal Ranking Report'!D29<>\"\",'CoC Renewal Ranking Report'!D29,\"\")","v":"Housing Authority of the County of Cumberland"},{"$f":"IF('CoC Renewal Ranking Report'!E29<>\"\",'CoC Renewal Ranking Report'!E29,\"\")","v":"Shelter + Care Chronic"},{"$f":"IF('CoC Renewal Ranking Report'!G29<>\"\",'CoC Renewal Ranking Report'!G29,\"\")","v":"PH"},{"$f":"IF('CoC Renewal Ranking Report'!H29<>\"\",'CoC Renewal Ranking Report'!BQ29,\"\")","v":0},0]
[{"$f":"IF('CoC Renewal Ranking Report'!D30<>\"\",'CoC Renewal Ranking Report'!D30,\"\")","v":"Housing Authority of the County of Cumberland"},{"$f":"IF('CoC Renewal Ranking Report'!E30<>\"\",'CoC Renewal Ranking Report'!E30,\"\")","v":"Shelter + Care Non-Chronic"},{"$f":"IF('CoC Renewal Ranking Report'!G30<>\"\",'CoC Renewal Ranking Report'!G30,\"\")","v":"PH"},{"$f":"IF('CoC Renewal Ranking Report'!H30<>\"\",'CoC Renewal Ranking Report'!BQ30,\"\")","v":0},0]
[{"$f":"IF('CoC Renewal Ranking Report'!D31<>\"\",'CoC Renewal Ranking Report'!D31,\"\")","v":"Housing Authority of the County of Cumberland"},{"$f":"IF('CoC Renewal Ranking Report'!E31<>\"\",'CoC Renewal Ranking Report'!E31,\"\")","v":"West Shore SHP I"},{"$f":"IF('CoC Renewal Ranking Report'!G31<>\"\",'CoC Renewal Ranking Report'!G31,\"\")","v":"PH"},{"$f":"IF('CoC Renewal Ranking Report'!H31<>\"\",'CoC Renewal Ranking Report'!BQ31,\"\")","v":0},0]
[{"$f":"IF('CoC Renewal Ranking Report'!D32<>\"\",'CoC Renewal Ranking Report'!D32,\"\")","v":"Housing Authority of the County of Cumberland"},{"$f":"IF('CoC Renewal Ranking Report'!E32<>\"\",'CoC Renewal Ranking Report'!E32,\"\")","v":"West Shore SHP II"},{"$f":"IF('CoC Renewal Ranking Report'!G32<>\"\",'CoC Renewal Ranking Report'!G32,\"\")","v":"PH"},{"$f":"IF('CoC Renewal Ranking Report'!H32<>\"\",'CoC Renewal Ranking Report'!BQ32,\"\")","v":0},0]
[{"$f":"IF('CoC Renewal Ranking Report'!D33<>\"\",'CoC Renewal Ranking Report'!D33,\"\")","v":"Housing Development Corporation of NEPA"},{"$f":"IF('CoC Renewal Ranking Report'!E33<>\"\",'CoC Renewal Ranking Report'!E33,\"\")","v":"HDC SHP 3 2016"},{"$f":"IF('CoC Renewal Ranking Report'!G33<>\"\",'CoC Renewal Ranking Report'!G33,\"\")","v":"PH"},{"$f":"IF('CoC Renewal Ranking Report'!H33<>\"\",'CoC Renewal Ranking Report'!BQ33,\"\")","v":0},0]
[{"$f":"IF('CoC Renewal Ranking Report'!D34<>\"\",'CoC Renewal Ranking Report'!D34,\"\")","v":"Housing Development Corporation of NEPA"},{"$f":"IF('CoC Renewal Ranking Report'!E34<>\"\",'CoC Renewal Ranking Report'!E34,\"\")","v":"HDC SHP 6 2016"},{"$f":"IF('CoC Renewal Ranking Report'!G34<>\"\",'CoC Renewal Ranking Report'!G34,\"\")","v":"PH"},{"$f":"IF('CoC Renewal Ranking Report'!H34<>\"\",'CoC Renewal Ranking Report'!BQ34,\"\")","v":0},0]
[{"$f":"IF('CoC Renewal Ranking Report'!D35<>\"\",'CoC Renewal Ranking Report'!D35,\"\")","v":"Housing Transitions, Inc."},{"$f":"IF('CoC Renewal Ranking Report'!E35<>\"\",'CoC Renewal Ranking Report'!E35,\"\")","v":"Nittany House Apartments"},{"$f":"IF('CoC Renewal Ranking Report'!G35<>\"\",'CoC Renewal Ranking Report'!G35,\"\")","v":"PH"},{"$f":"IF('CoC Renewal Ranking Report'!H35<>\"\",'CoC Renewal Ranking Report'!BQ35,\"\")","v":0},0]
[{"$f":"IF('CoC Renewal Ranking Report'!D36<>\"\",'CoC Renewal Ranking Report'!D36,\"\")","v":"Lehigh County Conference of Churches"},{"$f":"IF('CoC Renewal Ranking Report'!E36<>\"\",'CoC Renewal Ranking Report'!E36,\"\")","v":"Outreach and Case Management for the Disabled, Chronically Homeless"},{"$f":"IF('CoC Renewal Ranking Report'!G36<>\"\",'CoC Renewal Ranking Report'!G36,\"\")","v":"SSO"},{"$f":"IF('CoC Renewal Ranking Report'!H36<>\"\",'CoC Renewal Ranking Report'!BQ36,\"\")","v":0},0]
[{"$f":"IF('CoC Renewal Ranking Report'!D37<>\"\",'CoC Renewal Ranking Report'!D37,\"\")","v":"Lehigh County Conference of Churches"},{"$f":"IF('CoC Renewal Ranking Report'!E37<>\"\",'CoC Renewal Ranking Report'!E37,\"\")","v":"Pathways Housing"},{"$f":"IF('CoC Renewal Ranking Report'!G37<>\"\",'CoC Renewal Ranking Report'!G37,\"\")","v":"PH"},{"$f":"IF('CoC Renewal Ranking Report'!H37<>\"\",'CoC Renewal Ranking Report'!BQ37,\"\")","v":0},0]
[{"$f":"IF('CoC Renewal Ranking Report'!D38<>\"\",'CoC Renewal Ranking Report'!D38,\"\")","v":"Lehigh County Conference of Churches"},{"$f":"IF('CoC Renewal Ranking Report'!E38<>\"\",'CoC Renewal Ranking Report'!E38,\"\")","v":"Pathways Housing 2"},{"$f":"IF('CoC Renewal Ranking Report'!G38<>\"\",'CoC Renewal Ranking Report'!G38,\"\")","v":"PH"},{"$f":"IF('CoC Renewal Ranking Report'!H38<>\"\",'CoC Renewal Ranking Report'!BQ38,\"\")","v":0},0]
[{"$f":"IF('CoC Renewal Ranking Report'!D39<>\"\",'CoC Renewal Ranking Report'!D39,\"\")","v":"Lehigh County Conference of Churches"},{"$f":"IF('CoC Renewal Ranking Report'!E39<>\"\",'CoC Renewal Ranking Report'!E39,\"\")","v":"Pathways TBRA for Families, Youth and Veterans"},{"$f":"IF('CoC Renewal Ranking Report'!G39<>\"\",'CoC Renewal Ranking Report'!G39,\"\")","v":"PH"},{"$f":"IF('CoC Renewal Ranking Report'!H39<>\"\",'CoC Renewal Ranking Report'!BQ39,\"\")","v":0},0]
[{"$f":"IF('CoC Renewal Ranking Report'!D40<>\"\",'CoC Renewal Ranking Report'!D40,\"\")","v":"Lehigh County Conference of Churches"},{"$f":"IF('CoC Renewal Ranking Report'!E40<>\"\",'CoC Renewal Ranking Report'!E40,\"\")","v":"Tenant-Based Rental Assistance for the Disabled,Chronically Homeless"},{"$f":"IF('CoC Renewal Ranking Report'!G40<>\"\",'CoC Renewal Ranking Report'!G40,\"\")","v":"PH"},{"$f":"IF('CoC Renewal Ranking Report'!H40<>\"\",'CoC Renewal Ranking Report'!BQ40,\"\")","v":0},0]
[{"$f":"IF('CoC Renewal Ranking Report'!D41<>\"\",'CoC Renewal Ranking Report'!D41,\"\")","v":"Lehigh County Housing Authority"},{"$f":"IF('CoC Renewal Ranking Report'!E41<>\"\",'CoC Renewal Ranking Report'!E41,\"\")","v":"LCHA S+C 2016"},{"$f":"IF('CoC Renewal Ranking Report'!G41<>\"\",'CoC Renewal Ranking Report'!G41,\"\")","v":"PH"},{"$f":"IF('CoC Renewal Ranking Report'!H41<>\"\",'CoC Renewal Ranking Report'!BQ41,\"\")","v":0},0]
[{"$f":"IF('CoC Renewal Ranking Report'!D42<>\"\",'CoC Renewal Ranking Report'!D42,\"\")","v":"Maranatha"},{"$f":"IF('CoC Renewal Ranking Report'!E42<>\"\",'CoC Renewal Ranking Report'!E42,\"\")","v":"TOTAL PERSON TRANSITIONAL PROGRAM 1 & 2"},{"$f":"IF('CoC Renewal Ranking Report'!G42<>\"\",'CoC Renewal Ranking Report'!G42,\"\")","v":"PH-RRH"},{"$f":"IF('CoC Renewal Ranking Report'!H42<>\"\",'CoC Renewal Ranking Report'!BQ42,\"\")","v":0},0]
[{"$f":"IF('CoC Renewal Ranking Report'!D43<>\"\",'CoC Renewal Ranking Report'!D43,\"\")","v":"Mifflin County"},{"$f":"IF('CoC Renewal Ranking Report'!E43<>\"\",'CoC Renewal Ranking Report'!E43,\"\")","v":"Mifflin County Permanent Housing Renewal"},{"$f":"IF('CoC Renewal Ranking Report'!G43<>\"\",'CoC Renewal Ranking Report'!G43,\"\")","v":"PH"},{"$f":"IF('CoC Renewal Ranking Report'!H43<>\"\",'CoC Renewal Ranking Report'!BQ43,\"\")","v":0},0]
[{"$f":"IF('CoC Renewal Ranking Report'!D44<>\"\",'CoC Renewal Ranking Report'!D44,\"\")","v":"Northampton County Housing Authority"},{"$f":"IF('CoC Renewal Ranking Report'!E44<>\"\",'CoC Renewal Ranking Report'!E44,\"\")","v":"NCHA S+C 2016"},{"$f":"IF('CoC Renewal Ranking Report'!G44<>\"\",'CoC Renewal Ranking Report'!G44,\"\")","v":"PH"},{"$f":"IF('CoC Renewal Ranking Report'!H44<>\"\",'CoC Renewal Ranking Report'!BQ44,\"\")","v":0},0]
[{"$f":"IF('CoC Renewal Ranking Report'!D45<>\"\",'CoC Renewal Ranking Report'!D45,\"\")","v":"Northern Cambria Community Development Corporation"},{"$f":"IF('CoC Renewal Ranking Report'!E45<>\"\",'CoC Renewal Ranking Report'!E45,\"\")","v":"Independence Gardens"},{"$f":"IF('CoC Renewal Ranking Report'!G45<>\"\",'CoC Renewal Ranking Report'!G45,\"\")","v":"PH"},{"$f":"IF('CoC Renewal Ranking Report'!H45<>\"\",'CoC Renewal Ranking Report'!BQ45,\"\")","v":0},0]
[{"$f":"IF('CoC Renewal Ranking Report'!D46<>\"\",'CoC Renewal Ranking Report'!D46,\"\")","v":"Northern Cambria Community Development Corporation"},{"$f":"IF('CoC Renewal Ranking Report'!E46<>\"\",'CoC Renewal Ranking Report'!E46,\"\")","v":"Schoolhouse Gardens"},{"$f":"IF('CoC Renewal Ranking Report'!G46<>\"\",'CoC Renewal Ranking Report'!G46,\"\")","v":"PH"},{"$f":"IF('CoC Renewal Ranking Report'!H46<>\"\",'CoC Renewal Ranking Report'!BQ46,\"\")","v":0},0]
[{"$f":"IF('CoC Renewal Ranking Report'!D47<>\"\",'CoC Renewal Ranking Report'!D47,\"\")","v":"Northumberland County MH/MR"},{"$f":"IF('CoC Renewal Ranking Report'!E47<>\"\",'CoC Renewal Ranking Report'!E47,\"\")","v":"Sharing Support"},{"$f":"IF('CoC Renewal Ranking Report'!G47<>\"\",'CoC Renewal Ranking Report'!G47,\"\")","v":"PH"},{"$f":"IF('CoC Renewal Ranking Report'!H47<>\"\",'CoC Renewal Ranking Report'!BQ47,\"\")","v":0},0]
[{"$f":"IF('CoC Renewal Ranking Report'!D48<>\"\",'CoC Renewal Ranking Report'!D48,\"\")","v":"Resources for Human Development, Inc."},{"$f":"IF('CoC Renewal Ranking Report'!E48<>\"\",'CoC Renewal Ranking Report'!E48,\"\")","v":"Crossroads Family"},{"$f":"IF('CoC Renewal Ranking Report'!G48<>\"\",'CoC Renewal Ranking Report'!G48,\"\")","v":"PH"},{"$f":"IF('CoC Renewal Ranking Report'!H48<>\"\",'CoC Renewal Ranking Report'!BQ48,\"\")","v":0},0]
[{"$f":"IF('CoC Renewal Ranking Report'!D49<>\"\",'CoC Renewal Ranking Report'!D49,\"\")","v":"Resources for Human Development, Inc."},{"$f":"IF('CoC Renewal Ranking Report'!E49<>\"\",'CoC Renewal Ranking Report'!E49,\"\")","v":"Crossroads Housing Bonus"},{"$f":"IF('CoC Renewal Ranking Report'!G49<>\"\",'CoC Renewal Ranking Report'!G49,\"\")","v":"PH"},{"$f":"IF('CoC Renewal Ranking Report'!H49<>\"\",'CoC Renewal Ranking Report'!BQ49,\"\")","v":0},0]
[{"$f":"IF('CoC Renewal Ranking Report'!D50<>\"\",'CoC Renewal Ranking Report'!D50,\"\")","v":"Resources for Human Development, Inc."},{"$f":"IF('CoC Renewal Ranking Report'!E50<>\"\",'CoC Renewal Ranking Report'!E50,\"\")","v":"Crossroads Individual"},{"$f":"IF('CoC Renewal Ranking Report'!G50<>\"\",'CoC Renewal Ranking Report'!G50,\"\")","v":"PH"},{"$f":"IF('CoC Renewal Ranking Report'!H50<>\"\",'CoC Renewal Ranking Report'!BQ50,\"\")","v":0},0]
[{"$f":"IF('CoC Renewal Ranking Report'!D51<>\"\",'CoC Renewal Ranking Report'!D51,\"\")","v":"Resources for Human Development, Inc."},{"$f":"IF('CoC Renewal Ranking Report'!E51<>\"\",'CoC Renewal Ranking Report'!E51,\"\")","v":"Crossroads Schuylkill Co. Permanent Supportive Housing"},{"$f":"IF('CoC Renewal Ranking Report'!G51<>\"\",'CoC Renewal Ranking Report'!G51,\"\")","v":"PH"},{"$f":"IF('CoC Renewal Ranking Report'!H51<>\"\",'CoC Renewal Ranking Report'!BQ51,\"\")","v":0},0]
[{"$f":"IF('CoC Renewal Ranking Report'!D52<>\"\",'CoC Renewal Ranking Report'!D52,\"\")","v":"Resources for Human Development, Inc."},{"$f":"IF('CoC Renewal Ranking Report'!E52<>\"\",'CoC Renewal Ranking Report'!E52,\"\")","v":"LV ACT Housing Supports"},{"$f":"IF('CoC Renewal Ranking Report'!G52<>\"\",'CoC Renewal Ranking Report'!G52,\"\")","v":"PH"},{"$f":"IF('CoC Renewal Ranking Report'!H52<>\"\",'CoC Renewal Ranking Report'!BQ52,\"\")","v":0},0]
[{"$f":"IF('CoC Renewal Ranking Report'!D53<>\"\",'CoC Renewal Ranking Report'!D53,\"\")","v":"Tableland Services, Inc."},{"$f":"IF('CoC Renewal Ranking Report'!E53<>\"\",'CoC Renewal Ranking Report'!E53,\"\")","v":"Permanent Housing with Disabilities (SHP)"},{"$f":"IF('CoC Renewal Ranking Report'!G53<>\"\",'CoC Renewal Ranking Report'!G53,\"\")","v":"PH"},{"$f":"IF('CoC Renewal Ranking Report'!H53<>\"\",'CoC Renewal Ranking Report'!BQ53,\"\")","v":0},0]
[{"$f":"IF('CoC Renewal Ranking Report'!D54<>\"\",'CoC Renewal Ranking Report'!D54,\"\")","v":"Tableland Services, Inc."},{"$f":"IF('CoC Renewal Ranking Report'!E54<>\"\",'CoC Renewal Ranking Report'!E54,\"\")","v":"Permanent Supportive Housing CH Project"},{"$f":"IF('CoC Renewal Ranking Report'!G54<>\"\",'CoC Renewal Ranking Report'!G54,\"\")","v":"PH"},{"$f":"IF('CoC Renewal Ranking Report'!H54<>\"\",'CoC Renewal Ranking Report'!BQ54,\"\")","v":0},0]
[{"$f":"IF('CoC Renewal Ranking Report'!D55<>\"\",'CoC Renewal Ranking Report'!D55,\"\")","v":"The Salvation Army, a New York Corporation"},{"$f":"IF('CoC Renewal Ranking Report'!E55<>\"\",'CoC Renewal Ranking Report'!E55,\"\")","v":"Allentown Hospitality House Permanent Housing Program"},{"$f":"IF('CoC Renewal Ranking Report'!G55<>\"\",'CoC Renewal Ranking Report'!G55,\"\")","v":"PH"},{"$f":"IF('CoC Renewal Ranking Report'!H55<>\"\",'CoC Renewal Ranking Report'!BQ55,\"\")","v":0},0]
[{"$f":"IF('CoC Renewal Ranking Report'!D56<>\"\",'CoC Renewal Ranking Report'!D56,\"\")","v":"The Salvation Army, a New York Corporation"},{"$f":"IF('CoC Renewal Ranking Report'!E56<>\"\",'CoC Renewal Ranking Report'!E56,\"\")","v":"Salvation Army Carlisle PH Project"},{"$f":"IF('CoC Renewal Ranking Report'!G56<>\"\",'CoC Renewal Ranking Report'!G56,\"\")","v":"PH"},{"$f":"IF('CoC Renewal Ranking Report'!H56<>\"\",'CoC Renewal Ranking Report'!BQ56,\"\")","v":0},0]
[{"$f":"IF('CoC Renewal Ranking Report'!D57<>\"\",'CoC Renewal Ranking Report'!D57,\"\")","v":"Union-Snyder Community Action Agency"},{"$f":"IF('CoC Renewal Ranking Report'!E57<>\"\",'CoC Renewal Ranking Report'!E57,\"\")","v":"Union-Snyder Rapid ReHousing Program"},{"$f":"IF('CoC Renewal Ranking Report'!G57<>\"\",'CoC Renewal Ranking Report'!G57,\"\")","v":"PH-RRH"},{"$f":"IF('CoC Renewal Ranking Report'!H57<>\"\",'CoC Renewal Ranking Report'!BQ57,\"\")","v":0},0]
[{"$f":"IF('CoC Renewal Ranking Report'!D58<>\"\",'CoC Renewal Ranking Report'!D58,\"\")","v":"United Christian Ministries"},{"$f":"IF('CoC Renewal Ranking Report'!E58<>\"\",'CoC Renewal Ranking Report'!E58,\"\")","v":"Kenner Garnet Renewal 2016"},{"$f":"IF('CoC Renewal Ranking Report'!G58<>\"\",'CoC Renewal Ranking Report'!G58,\"\")","v":"PH"},{"$f":"IF('CoC Renewal Ranking Report'!H58<>\"\",'CoC Renewal Ranking Report'!BQ58,\"\")","v":0},0]
[{"$f":"IF('CoC Renewal Ranking Report'!D59<>\"\",'CoC Renewal Ranking Report'!D59,\"\")","v":"Valley Housing Development Corporation "},{"$f":"IF('CoC Renewal Ranking Report'!E59<>\"\",'CoC Renewal Ranking Report'!E59,\"\")","v":"VHDC SHP #2 2016"},{"$f":"IF('CoC Renewal Ranking Report'!G59<>\"\",'CoC Renewal Ranking Report'!G59,\"\")","v":"PH"},{"$f":"IF('CoC Renewal Ranking Report'!H59<>\"\",'CoC Renewal Ranking Report'!BQ59,\"\")","v":0},0]
[{"$f":"IF('CoC Renewal Ranking Report'!D60<>\"\",'CoC Renewal Ranking Report'!D60,\"\")","v":"Valley Housing Development Corporation "},{"$f":"IF('CoC Renewal Ranking Report'!E60<>\"\",'CoC Renewal Ranking Report'!E60,\"\")","v":"VHDC SHP #3 2016"},{"$f":"IF('CoC Renewal Ranking Report'!G60<>\"\",'CoC Renewal Ranking Report'!G60,\"\")","v":"PH"},{"$f":"IF('CoC Renewal Ranking Report'!H60<>\"\",'CoC Renewal Ranking Report'!BQ60,\"\")","v":0},0]
[{"$f":"IF('CoC Renewal Ranking Report'!D61<>\"\",'CoC Renewal Ranking Report'!D61,\"\")","v":"Valley Housing Development Corporation "},{"$f":"IF('CoC Renewal Ranking Report'!E61<>\"\",'CoC Renewal Ranking Report'!E61,\"\")","v":"VHDC SHP #4 2016"},{"$f":"IF('CoC Renewal Ranking Report'!G61<>\"\",'CoC Renewal Ranking Report'!G61,\"\")","v":"PH"},{"$f":"IF('CoC Renewal Ranking Report'!H61<>\"\",'CoC Renewal Ranking Report'!BQ61,\"\")","v":0},0]
[{"$f":"IF('CoC Renewal Ranking Report'!D62<>\"\",'CoC Renewal Ranking Report'!D62,\"\")","v":""},{"$f":"IF('CoC Renewal Ranking Report'!E62<>\"\",'CoC Renewal Ranking Report'!E62,\"\")","v":""},{"$f":"IF('CoC Renewal Ranking Report'!G62<>\"\",'CoC Renewal Ranking Report'!G62,\"\")","v":""},{"$f":"IF('CoC Renewal Ranking Report'!H62<>\"\",'CoC Renewal Ranking Report'!BQ62,\"\")","v":""},""]
[{"$f":"IF('CoC Renewal Ranking Report'!D63<>\"\",'CoC Renewal Ranking Report'!D63,\"\")","v":""},{"$f":"IF('CoC Renewal Ranking Report'!E63<>\"\",'CoC Renewal Ranking Report'!E63,\"\")","v":""},{"$f":"IF('CoC Renewal Ranking Report'!G63<>\"\",'CoC Renewal Ranking Report'!G63,\"\")","v":""},{"$f":"IF('CoC Renewal Ranking Report'!H63<>\"\",'CoC Renewal Ranking Report'!BQ63,\"\")","v":""},""]
[{"$f":"IF('CoC Renewal Ranking Report'!D64<>\"\",'CoC Renewal Ranking Report'!D64,\"\")","v":""},{"$f":"IF('CoC Renewal Ranking Report'!E64<>\"\",'CoC Renewal Ranking Report'!E64,\"\")","v":""},{"$f":"IF('CoC Renewal Ranking Report'!G64<>\"\",'CoC Renewal Ranking Report'!G64,\"\")","v":""},{"$f":"IF('CoC Renewal Ranking Report'!H64<>\"\",'CoC Renewal Ranking Report'!BQ64,\"\")","v":""},""]
[{"$f":"IF('CoC Renewal Ranking Report'!D65<>\"\",'CoC Renewal Ranking Report'!D65,\"\")","v":""},{"$f":"IF('CoC Renewal Ranking Report'!E65<>\"\",'CoC Renewal Ranking Report'!E65,\"\")","v":""},{"$f":"IF('CoC Renewal Ranking Report'!G65<>\"\",'CoC Renewal Ranking Report'!G65,\"\")","v":""},{"$f":"IF('CoC Renewal Ranking Report'!H65<>\"\",'CoC Renewal Ranking Report'!BQ65,\"\")","v":""},""]
[{"$f":"IF('CoC Renewal Ranking Report'!D66<>\"\",'CoC Renewal Ranking Report'!D66,\"\")","v":""},{"$f":"IF('CoC Renewal Ranking Report'!E66<>\"\",'CoC Renewal Ranking Report'!E66,\"\")","v":""},{"$f":"IF('CoC Renewal Ranking Report'!G66<>\"\",'CoC Renewal Ranking Report'!G66,\"\")","v":""},{"$f":"IF('CoC Renewal Ranking Report'!H66<>\"\",'CoC Renewal Ranking Report'!BQ66,\"\")","v":""},""]
[{"$f":"IF('CoC Renewal Ranking Report'!D67<>\"\",'CoC Renewal Ranking Report'!D67,\"\")","v":""},{"$f":"IF('CoC Renewal Ranking Report'!E67<>\"\",'CoC Renewal Ranking Report'!E67,\"\")","v":""},{"$f":"IF('CoC Renewal Ranking Report'!G67<>\"\",'CoC Renewal Ranking Report'!G67,\"\")","v":""},{"$f":"IF('CoC Renewal Ranking Report'!H67<>\"\",'CoC Renewal Ranking Report'!BQ67,\"\")","v":""},""]
[{"$f":"IF('CoC Renewal Ranking Report'!D68<>\"\",'CoC Renewal Ranking Report'!D68,\"\")","v":""},{"$f":"IF('CoC Renewal Ranking Report'!E68<>\"\",'CoC Renewal Ranking Report'!E68,\"\")","v":""},{"$f":"IF('CoC Renewal Ranking Report'!G68<>\"\",'CoC Renewal Ranking Report'!G68,\"\")","v":""},{"$f":"IF('CoC Renewal Ranking Report'!H68<>\"\",'CoC Renewal Ranking Report'!BQ68,\"\")","v":""},""]
[{"$f":"IF('CoC Renewal Ranking Report'!D69<>\"\",'CoC Renewal Ranking Report'!D69,\"\")","v":""},{"$f":"IF('CoC Renewal Ranking Report'!E69<>\"\",'CoC Renewal Ranking Report'!E69,\"\")","v":""},{"$f":"IF('CoC Renewal Ranking Report'!G69<>\"\",'CoC Renewal Ranking Report'!G69,\"\")","v":""},{"$f":"IF('CoC Renewal Ranking Report'!H69<>\"\",'CoC Renewal Ranking Report'!BQ69,\"\")","v":""},""]
[{"$f":"IF('CoC Renewal Ranking Report'!D70<>\"\",'CoC Renewal Ranking Report'!D70,\"\")","v":""},{"$f":"IF('CoC Renewal Ranking Report'!E70<>\"\",'CoC Renewal Ranking Report'!E70,\"\")","v":""},{"$f":"IF('CoC Renewal Ranking Report'!G70<>\"\",'CoC Renewal Ranking Report'!G70,\"\")","v":""},{"$f":"IF('CoC Renewal Ranking Report'!H70<>\"\",'CoC Renewal Ranking Report'!BQ70,\"\")","v":""},""]
[{"$f":"IF('CoC Renewal Ranking Report'!D71<>\"\",'CoC Renewal Ranking Report'!D71,\"\")","v":""},{"$f":"IF('CoC Renewal Ranking Report'!E71<>\"\",'CoC Renewal Ranking Report'!E71,\"\")","v":""},{"$f":"IF('CoC Renewal Ranking Report'!G71<>\"\",'CoC Renewal Ranking Report'!G71,\"\")","v":""},{"$f":"IF('CoC Renewal Ranking Report'!H71<>\"\",'CoC Renewal Ranking Report'!BQ71,\"\")","v":""},""]
[{"$f":"IF('CoC Renewal Ranking Report'!D72<>\"\",'CoC Renewal Ranking Report'!D72,\"\")","v":""},{"$f":"IF('CoC Renewal Ranking Report'!E72<>\"\",'CoC Renewal Ranking Report'!E72,\"\")","v":""},{"$f":"IF('CoC Renewal Ranking Report'!G72<>\"\",'CoC Renewal Ranking Report'!G72,\"\")","v":""},{"$f":"IF('CoC Renewal Ranking Report'!H72<>\"\",'CoC Renewal Ranking Report'!BQ72,\"\")","v":""},""]
[{"$f":"IF('CoC Renewal Ranking Report'!D73<>\"\",'CoC Renewal Ranking Report'!D73,\"\")","v":""},{"$f":"IF('CoC Renewal Ranking Report'!E73<>\"\",'CoC Renewal Ranking Report'!E73,\"\")","v":""},{"$f":"IF('CoC Renewal Ranking Report'!G73<>\"\",'CoC Renewal Ranking Report'!G73,\"\")","v":""},{"$f":"IF('CoC Renewal Ranking Report'!H73<>\"\",'CoC Renewal Ranking Report'!BQ73,\"\")","v":""},{"$f":"IF(A71<>\"\", IF(D71 = \"Yes\", -5, 0), \"\")","v":""}]
[{"$f":"IF('CoC Renewal Ranking Report'!D74<>\"\",'CoC Renewal Ranking Report'!D74,\"\")","v":""},{"$f":"IF('CoC Renewal Ranking Report'!E74<>\"\",'CoC Renewal Ranking Report'!E74,\"\")","v":""},{"$f":"IF('CoC Renewal Ranking Report'!G74<>\"\",'CoC Renewal Ranking Report'!G74,\"\")","v":""},{"$f":"IF('CoC Renewal Ranking Report'!H74<>\"\",'CoC Renewal Ranking Report'!BQ74,\"\")","v":""},""]
[{"$f":"IF('CoC Renewal Ranking Report'!D75<>\"\",'CoC Renewal Ranking Report'!D75,\"\")","v":""},{"$f":"IF('CoC Renewal Ranking Report'!E75<>\"\",'CoC Renewal Ranking Report'!E75,\"\")","v":""},{"$f":"IF('CoC Renewal Ranking Report'!G75<>\"\",'CoC Renewal Ranking Report'!G75,\"\")","v":""},{"$f":"IF('CoC Renewal Ranking Report'!H75<>\"\",'CoC Renewal Ranking Report'!BQ75,\"\")","v":""},""]
[{"$f":"IF('CoC Renewal Ranking Report'!D76<>\"\",'CoC Renewal Ranking Report'!D76,\"\")","v":""},{"$f":"IF('CoC Renewal Ranking Report'!E76<>\"\",'CoC Renewal Ranking Report'!E76,\"\")","v":""},{"$f":"IF('CoC Renewal Ranking Report'!G76<>\"\",'CoC Renewal Ranking Report'!G76,\"\")","v":""},{"$f":"IF('CoC Renewal Ranking Report'!H76<>\"\",'CoC Renewal Ranking Report'!BQ76,\"\")","v":""},""]
[{"$f":"IF('CoC Renewal Ranking Report'!D77<>\"\",'CoC Renewal Ranking Report'!D77,\"\")","v":""},{"$f":"IF('CoC Renewal Ranking Report'!E77<>\"\",'CoC Renewal Ranking Report'!E77,\"\")","v":""},{"$f":"IF('CoC Renewal Ranking Report'!G77<>\"\",'CoC Renewal Ranking Report'!G77,\"\")","v":""},{"$f":"IF('CoC Renewal Ranking Report'!H77<>\"\",'CoC Renewal Ranking Report'!BQ77,\"\")","v":""},""]
[{"$f":"IF('CoC Renewal Ranking Report'!D78<>\"\",'CoC Renewal Ranking Report'!D78,\"\")","v":""},{"$f":"IF('CoC Renewal Ranking Report'!E78<>\"\",'CoC Renewal Ranking Report'!E78,\"\")","v":""},{"$f":"IF('CoC Renewal Ranking Report'!G78<>\"\",'CoC Renewal Ranking Report'!G78,\"\")","v":""},{"$f":"IF('CoC Renewal Ranking Report'!H78<>\"\",'CoC Renewal Ranking Report'!BQ78,\"\")","v":""},""]
[{"$f":"IF('CoC Renewal Ranking Report'!D79<>\"\",'CoC Renewal Ranking Report'!D79,\"\")","v":""},{"$f":"IF('CoC Renewal Ranking Report'!E79<>\"\",'CoC Renewal Ranking Report'!E79,\"\")","v":""},{"$f":"IF('CoC Renewal Ranking Report'!G79<>\"\",'CoC Renewal Ranking Report'!G79,\"\")","v":""},{"$f":"IF('CoC Renewal Ranking Report'!H79<>\"\",'CoC Renewal Ranking Report'!BQ79,\"\")","v":""},""]
[{"$f":"IF('CoC Renewal Ranking Report'!D80<>\"\",'CoC Renewal Ranking Report'!D80,\"\")","v":""},{"$f":"IF('CoC Renewal Ranking Report'!E80<>\"\",'CoC Renewal Ranking Report'!E80,\"\")","v":""},{"$f":"IF('CoC Renewal Ranking Report'!G80<>\"\",'CoC Renewal Ranking Report'!G80,\"\")","v":""},{"$f":"IF('CoC Renewal Ranking Report'!H80<>\"\",'CoC Renewal Ranking Report'!BQ80,\"\")","v":""},""]
[{"$f":"IF('CoC Renewal Ranking Report'!D81<>\"\",'CoC Renewal Ranking Report'!D81,\"\")","v":""},{"$f":"IF('CoC Renewal Ranking Report'!E81<>\"\",'CoC Renewal Ranking Report'!E81,\"\")","v":""},{"$f":"IF('CoC Renewal Ranking Report'!G81<>\"\",'CoC Renewal Ranking Report'!G81,\"\")","v":""},{"$f":"IF('CoC Renewal Ranking Report'!H81<>\"\",'CoC Renewal Ranking Report'!BQ81,\"\")","v":""},""]
[{"$f":"IF('CoC Renewal Ranking Report'!D82<>\"\",'CoC Renewal Ranking Report'!D82,\"\")","v":""},{"$f":"IF('CoC Renewal Ranking Report'!E82<>\"\",'CoC Renewal Ranking Report'!E82,\"\")","v":""},{"$f":"IF('CoC Renewal Ranking Report'!G82<>\"\",'CoC Renewal Ranking Report'!G82,\"\")","v":""},{"$f":"IF('CoC Renewal Ranking Report'!H82<>\"\",'CoC Renewal Ranking Report'!BQ82,\"\")","v":""},""]
[{"$f":"IF('CoC Renewal Ranking Report'!D83<>\"\",'CoC Renewal Ranking Report'!D83,\"\")","v":""},{"$f":"IF('CoC Renewal Ranking Report'!E83<>\"\",'CoC Renewal Ranking Report'!E83,\"\")","v":""},{"$f":"IF('CoC Renewal Ranking Report'!G83<>\"\",'CoC Renewal Ranking Report'!G83,\"\")","v":""},{"$f":"IF('CoC Renewal Ranking Report'!H83<>\"\",'CoC Renewal Ranking Report'!BQ83,\"\")","v":""},""]
[{"$f":"IF('CoC Renewal Ranking Report'!D84<>\"\",'CoC Renewal Ranking Report'!D84,\"\")","v":""},{"$f":"IF('CoC Renewal Ranking Report'!E84<>\"\",'CoC Renewal Ranking Report'!E84,\"\")","v":""},{"$f":"IF('CoC Renewal Ranking Report'!G84<>\"\",'CoC Renewal Ranking Report'!G84,\"\")","v":""},{"$f":"IF('CoC Renewal Ranking Report'!H84<>\"\",'CoC Renewal Ranking Report'!BQ84,\"\")","v":""},""]
[{"$f":"IF('CoC Renewal Ranking Report'!D85<>\"\",'CoC Renewal Ranking Report'!D85,\"\")","v":""},{"$f":"IF('CoC Renewal Ranking Report'!E85<>\"\",'CoC Renewal Ranking Report'!E85,\"\")","v":""},{"$f":"IF('CoC Renewal Ranking Report'!G85<>\"\",'CoC Renewal Ranking Report'!G85,\"\")","v":""},{"$f":"IF('CoC Renewal Ranking Report'!H85<>\"\",'CoC Renewal Ranking Report'!BQ85,\"\")","v":""},""]
[{"$f":"IF('CoC Renewal Ranking Report'!D86<>\"\",'CoC Renewal Ranking Report'!D86,\"\")","v":""},{"$f":"IF('CoC Renewal Ranking Report'!E86<>\"\",'CoC Renewal Ranking Report'!E86,\"\")","v":""},{"$f":"IF('CoC Renewal Ranking Report'!G86<>\"\",'CoC Renewal Ranking Report'!G86,\"\")","v":""},{"$f":"IF('CoC Renewal Ranking Report'!H86<>\"\",'CoC Renewal Ranking Report'!BQ86,\"\")","v":""},""]
[{"$f":"IF('CoC Renewal Ranking Report'!D87<>\"\",'CoC Renewal Ranking Report'!D87,\"\")","v":""},{"$f":"IF('CoC Renewal Ranking Report'!E87<>\"\",'CoC Renewal Ranking Report'!E87,\"\")","v":""},{"$f":"IF('CoC Renewal Ranking Report'!G87<>\"\",'CoC Renewal Ranking Report'!G87,\"\")","v":""},{"$f":"IF('CoC Renewal Ranking Report'!H87<>\"\",'CoC Renewal Ranking Report'!BQ87,\"\")","v":""},""]
[{"$f":"IF('CoC Renewal Ranking Report'!D88<>\"\",'CoC Renewal Ranking Report'!D88,\"\")","v":""},{"$f":"IF('CoC Renewal Ranking Report'!E88<>\"\",'CoC Renewal Ranking Report'!E88,\"\")","v":""},{"$f":"IF('CoC Renewal Ranking Report'!G88<>\"\",'CoC Renewal Ranking Report'!G88,\"\")","v":""},{"$f":"IF('CoC Renewal Ranking Report'!H88<>\"\",'CoC Renewal Ranking Report'!BQ88,\"\")","v":""},""]
[{"$f":"IF('CoC Renewal Ranking Report'!D89<>\"\",'CoC Renewal Ranking Report'!D89,\"\")","v":""},{"$f":"IF('CoC Renewal Ranking Report'!E89<>\"\",'CoC Renewal Ranking Report'!E89,\"\")","v":""},{"$f":"IF('CoC Renewal Ranking Report'!G89<>\"\",'CoC Renewal Ranking Report'!G89,\"\")","v":""},{"$f":"IF('CoC Renewal Ranking Report'!H89<>\"\",'CoC Renewal Ranking Report'!BQ89,\"\")","v":""},""]
[{"$f":"IF('CoC Renewal Ranking Report'!D90<>\"\",'CoC Renewal Ranking Report'!D90,\"\")","v":""},{"$f":"IF('CoC Renewal Ranking Report'!E90<>\"\",'CoC Renewal Ranking Report'!E90,\"\")","v":""},{"$f":"IF('CoC Renewal Ranking Report'!G90<>\"\",'CoC Renewal Ranking Report'!G90,\"\")","v":""},{"$f":"IF('CoC Renewal Ranking Report'!H90<>\"\",'CoC Renewal Ranking Report'!BQ90,\"\")","v":""},""]
[{"$f":"IF('CoC Renewal Ranking Report'!D91<>\"\",'CoC Renewal Ranking Report'!D91,\"\")","v":""},{"$f":"IF('CoC Renewal Ranking Report'!E91<>\"\",'CoC Renewal Ranking Report'!E91,\"\")","v":""},{"$f":"IF('CoC Renewal Ranking Report'!G91<>\"\",'CoC Renewal Ranking Report'!G91,\"\")","v":""},{"$f":"IF('CoC Renewal Ranking Report'!H91<>\"\",'CoC Renewal Ranking Report'!BQ91,\"\")","v":""},""]
[{"$f":"IF('CoC Renewal Ranking Report'!D92<>\"\",'CoC Renewal Ranking Report'!D92,\"\")","v":""},{"$f":"IF('CoC Renewal Ranking Report'!E92<>\"\",'CoC Renewal Ranking Report'!E92,\"\")","v":""},{"$f":"IF('CoC Renewal Ranking Report'!G92<>\"\",'CoC Renewal Ranking Report'!G92,\"\")","v":""},{"$f":"IF('CoC Renewal Ranking Report'!H92<>\"\",'CoC Renewal Ranking Report'!BQ92,\"\")","v":""},""]
[{"$f":"IF('CoC Renewal Ranking Report'!D93<>\"\",'CoC Renewal Ranking Report'!D93,\"\")","v":""},{"$f":"IF('CoC Renewal Ranking Report'!E93<>\"\",'CoC Renewal Ranking Report'!E93,\"\")","v":""},{"$f":"IF('CoC Renewal Ranking Report'!G93<>\"\",'CoC Renewal Ranking Report'!G93,\"\")","v":""},{"$f":"IF('CoC Renewal Ranking Report'!H93<>\"\",'CoC Renewal Ranking Report'!BQ93,\"\")","v":""},""]
[{"$f":"IF('CoC Renewal Ranking Report'!D94<>\"\",'CoC Renewal Ranking Report'!D94,\"\")","v":""},{"$f":"IF('CoC Renewal Ranking Report'!E94<>\"\",'CoC Renewal Ranking Report'!E94,\"\")","v":""},{"$f":"IF('CoC Renewal Ranking Report'!G94<>\"\",'CoC Renewal Ranking Report'!G94,\"\")","v":""},{"$f":"IF('CoC Renewal Ranking Report'!H94<>\"\",'CoC Renewal Ranking Report'!BQ94,\"\")","v":""},""]
[{"$f":"IF('CoC Renewal Ranking Report'!D95<>\"\",'CoC Renewal Ranking Report'!D95,\"\")","v":""},{"$f":"IF('CoC Renewal Ranking Report'!E95<>\"\",'CoC Renewal Ranking Report'!E95,\"\")","v":""},{"$f":"IF('CoC Renewal Ranking Report'!G95<>\"\",'CoC Renewal Ranking Report'!G95,\"\")","v":""},{"$f":"IF('CoC Renewal Ranking Report'!H95<>\"\",'CoC Renewal Ranking Report'!BQ95,\"\")","v":""},""]
[{"$f":"IF('CoC Renewal Ranking Report'!D96<>\"\",'CoC Renewal Ranking Report'!D96,\"\")","v":""},{"$f":"IF('CoC Renewal Ranking Report'!E96<>\"\",'CoC Renewal Ranking Report'!E96,\"\")","v":""},{"$f":"IF('CoC Renewal Ranking Report'!G96<>\"\",'CoC Renewal Ranking Report'!G96,\"\")","v":""},{"$f":"IF('CoC Renewal Ranking Report'!H96<>\"\",'CoC Renewal Ranking Report'!BQ96,\"\")","v":""},""]
[{"$f":"IF('CoC Renewal Ranking Report'!D97<>\"\",'CoC Renewal Ranking Report'!D97,\"\")","v":""},{"$f":"IF('CoC Renewal Ranking Report'!E97<>\"\",'CoC Renewal Ranking Report'!E97,\"\")","v":""},{"$f":"IF('CoC Renewal Ranking Report'!G97<>\"\",'CoC Renewal Ranking Report'!G97,\"\")","v":""},{"$f":"IF('CoC Renewal Ranking Report'!H97<>\"\",'CoC Renewal Ranking Report'!BQ97,\"\")","v":""},""]
[{"$f":"IF('CoC Renewal Ranking Report'!D98<>\"\",'CoC Renewal Ranking Report'!D98,\"\")","v":""},{"$f":"IF('CoC Renewal Ranking Report'!E98<>\"\",'CoC Renewal Ranking Report'!E98,\"\")","v":""},{"$f":"IF('CoC Renewal Ranking Report'!G98<>\"\",'CoC Renewal Ranking Report'!G98,\"\")","v":""},{"$f":"IF('CoC Renewal Ranking Report'!H98<>\"\",'CoC Renewal Ranking Report'!BQ98,\"\")","v":""},""]
[{"$f":"IF('CoC Renewal Ranking Report'!D99<>\"\",'CoC Renewal Ranking Report'!D99,\"\")","v":""},{"$f":"IF('CoC Renewal Ranking Report'!E99<>\"\",'CoC Renewal Ranking Report'!E99,\"\")","v":""},{"$f":"IF('CoC Renewal Ranking Report'!G99<>\"\",'CoC Renewal Ranking Report'!G99,\"\")","v":""},{"$f":"IF('CoC Renewal Ranking Report'!H99<>\"\",'CoC Renewal Ranking Report'!BQ99,\"\")","v":""},""]
[{"$f":"IF('CoC Renewal Ranking Report'!D100<>\"\",'CoC Renewal Ranking Report'!D100,\"\")","v":""},{"$f":"IF('CoC Renewal Ranking Report'!E100<>\"\",'CoC Renewal Ranking Report'!E100,\"\")","v":""},{"$f":"IF('CoC Renewal Ranking Report'!G100<>\"\",'CoC Renewal Ranking Report'!G100,\"\")","v":""},{"$f":"IF('CoC Renewal Ranking Report'!H100<>\"\",'CoC Renewal Ranking Report'!BQ100,\"\")","v":""},""]
[{"$f":"IF('CoC Renewal Ranking Report'!D101<>\"\",'CoC Renewal Ranking Report'!D101,\"\")","v":""},{"$f":"IF('CoC Renewal Ranking Report'!E101<>\"\",'CoC Renewal Ranking Report'!E101,\"\")","v":""},{"$f":"IF('CoC Renewal Ranking Report'!G101<>\"\",'CoC Renewal Ranking Report'!G101,\"\")","v":""},{"$f":"IF('CoC Renewal Ranking Report'!H101<>\"\",'CoC Renewal Ranking Report'!BQ101,\"\")","v":""},""]
[{"$f":"IF('CoC Renewal Ranking Report'!D102<>\"\",'CoC Renewal Ranking Report'!D102,\"\")","v":""},{"$f":"IF('CoC Renewal Ranking Report'!E102<>\"\",'CoC Renewal Ranking Report'!E102,\"\")","v":""},{"$f":"IF('CoC Renewal Ranking Report'!G102<>\"\",'CoC Renewal Ranking Report'!G102,\"\")","v":""},{"$f":"IF('CoC Renewal Ranking Report'!H102<>\"\",'CoC Renewal Ranking Report'!BQ102,\"\")","v":""},""]
[{"$f":"IF('CoC Renewal Ranking Report'!D103<>\"\",'CoC Renewal Ranking Report'!D103,\"\")","v":""},{"$f":"IF('CoC Renewal Ranking Report'!E103<>\"\",'CoC Renewal Ranking Report'!E103,\"\")","v":""},{"$f":"IF('CoC Renewal Ranking Report'!G103<>\"\",'CoC Renewal Ranking Report'!G103,\"\")","v":""},{"$f":"IF('CoC Renewal Ranking Report'!H103<>\"\",'CoC Renewal Ranking Report'!BQ103,\"\")","v":""},""]
[{"$f":"IF('CoC Renewal Ranking Report'!D104<>\"\",'CoC Renewal Ranking Report'!D104,\"\")","v":""},{"$f":"IF('CoC Renewal Ranking Report'!E104<>\"\",'CoC Renewal Ranking Report'!E104,\"\")","v":""},{"$f":"IF('CoC Renewal Ranking Report'!G104<>\"\",'CoC Renewal Ranking Report'!G104,\"\")","v":""},{"$f":"IF('CoC Renewal Ranking Report'!H104<>\"\",'CoC Renewal Ranking Report'!BQ104,\"\")","v":""},""]

{"sheet":"Project Description","index":17,"n_rows":102,"n_cols":4,"rows_kept":102,"cut":false,"hidden":false,"merged":[[0,1,0,2]]}
[null,"CoC Project Description"]
[null,"Criteria","Points"]
[null,"Scored from Project Description Narrative (1.5 pts each section)","Up to 6 points"]
[]
["Agency Name","Project Name","Project Type","Score"]
[{"$f":"IF('CoC Renewal Ranking Report'!D9<>\"\",'CoC Renewal Ranking Report'!D9,\"\")","v":""},{"$f":"IF('CoC Renewal Ranking Report'!E9<>\"\",'CoC Renewal Ranking Report'!E9,\"\")","v":""},{"$f":"IF('CoC Renewal Ranking Report'!G9<>\"\",'CoC Renewal Ranking Report'!G9,\"\")","v":""},{"$f":"IF('CoC Renewal Ranking Report'!H9<>\"\",'CoC Renewal Ranking Report'!BR9,\"\")","v":""}]
[{"$f":"IF('CoC Renewal Ranking Report'!D10<>\"\",'CoC Renewal Ranking Report'!D10,\"\")","v":"Blair County Community Action Program"},{"$f":"IF('CoC Renewal Ranking Report'!E10<>\"\",'CoC Renewal Ranking Report'!E10,\"\")","v":"Rapid Re-Housing"},{"$f":"IF('CoC Renewal Ranking Report'!G10<>\"\",'CoC Renewal Ranking Report'!G10,\"\")","v":"PH-RRH"},{"$f":"IF('CoC Renewal Ranking Report'!H10<>\"\",'CoC Renewal Ranking Report'!BR10,\"\")","v":3.5}]
[{"$f":"IF('CoC Renewal Ranking Report'!D11<>\"\",'CoC Renewal Ranking Report'!D11,\"\")","v":"Cambria County"},{"$f":"IF('CoC Renewal Ranking Report'!E11<>\"\",'CoC Renewal Ranking Report'!E11,\"\")","v":"Cambria County Comprehensive Housing Program"},{"$f":"IF('CoC Renewal Ranking Report'!G11<>\"\",'CoC Renewal Ranking Report'!G11,\"\")","v":"PH"},{"$f":"IF('CoC Renewal Ranking Report'!H11<>\"\",'CoC Renewal Ranking Report'!BR11,\"\")","v":1.5}]
[{"$f":"IF('CoC Renewal Ranking Report'!D12<>\"\",'CoC Renewal Ranking Report'!D12,\"\")","v":"Catholic Charities of the Diocese of Allentown"},{"$f":"IF('CoC Renewal Ranking Report'!E12<>\"\",'CoC Renewal Ranking Report'!E12,\"\")","v":"Catholic Charities Allentown Permanent Housing Program"},{"$f":"IF('CoC Renewal Ranking Report'!G12<>\"\",'CoC Renewal Ranking Report'!G12,\"\")","v":"PH"},{"$f":"IF('CoC Renewal Ranking Report'!H12<>\"\",'CoC Renewal Ranking Report'!BR12,\"\")","v":0.5}]
[{"$f":"IF('CoC Renewal Ranking Report'!D13<>\"\",'CoC Renewal Ranking Report'!D13,\"\")","v":"Catholic Social Services of the Diocese of Scranton, Inc."},{"$f":"IF('CoC Renewal Ranking Report'!E13<>\"\",'CoC Renewal Ranking Report'!E13,\"\")","v":"PSHP Pike County"},{"$f":"IF('CoC Renewal Ranking Report'!G13<>\"\",'CoC Renewal Ranking Report'!G13,\"\")","v":"PH"},{"$f":"IF('CoC Renewal Ranking Report'!H13<>\"\",'CoC Renewal Ranking Report'!BR13,\"\")","v":4.5}]
[{"$f":"IF('CoC Renewal Ranking Report'!D14<>\"\",'CoC Renewal Ranking Report'!D14,\"\")","v":"Catholic Social Services of the Diocese of Scranton, Inc."},{"$f":"IF('CoC Renewal Ranking Report'!E14<>\"\",'CoC Renewal Ranking Report'!E14,\"\")","v":"Rural Permanent Supportive Housing Program"},{"$f":"IF('CoC Renewal Ranking Report'!G14<>\"\",'CoC Renewal Ranking Report'!G14,\"\")","v":"PH"},{"$f":"IF('CoC Renewal Ranking Report'!H14<>\"\",'CoC Renewal Ranking Report'!BR14,\"\")","v":4}]
[{"$f":"IF('CoC Renewal Ranking Report'!D15<>\"\",'CoC Renewal Ranking Report'!D15,\"\")","v":"Catholic Social Services of the Diocese of Scranton, Inc."},{"$f":"IF('CoC Renewal Ranking Report'!E15<>\"\",'CoC Renewal Ranking Report'!E15,\"\")","v":"Susquehanna/Wayne PSHP"},{"$f":"IF('CoC Renewal Ranking Report'!G15<>\"\",'CoC Renewal Ranking Report'!G15,\"\")","v":"PH"},{"$f":"IF('CoC Renewal Ranking Report'!H15<>\"\",'CoC Renewal Ranking Report'!BR15,\"\")","v":4}]
[{"$f":"IF('CoC Renewal Ranking Report'!D16<>\"\",'CoC Renewal Ranking Report'!D16,\"\")","v":"Center for Community Action"},{"$f":"IF('CoC Renewal Ranking Report'!E16<>\"\",'CoC Renewal Ranking Report'!E16,\"\")","v":"Bedford,Fulton, Huntingdon RRH"},{"$f":"IF('CoC Renewal Ranking Report'!G16<>\"\",'CoC Renewal Ranking Report'!G16,\"\")","v":"PH-RRH"},{"$f":"IF('CoC Renewal Ranking Report'!H16<>\"\",'CoC Renewal Ranking Report'!BR16,\"\")","v":4.5}]
[{"$f":"IF('CoC Renewal Ranking Report'!D17<>\"\",'CoC Renewal Ranking Report'!D17,\"\")","v":"County of Franklin"},{"$f":"IF('CoC Renewal Ranking Report'!E17<>\"\",'CoC Renewal Ranking Report'!E17,\"\")","v":"Franklin/ Fulton S+C Project 2017"},{"$f":"IF('CoC Renewal Ranking Report'!G17<>\"\",'CoC Renewal Ranking Report'!G17,\"\")","v":"PH"},{"$f":"IF('CoC Renewal Ranking Report'!H17<>\"\",'CoC Renewal Ranking Report'!BR17,\"\")","v":1}]
[{"$f":"IF('CoC Renewal Ranking Report'!D18<>\"\",'CoC Renewal Ranking Report'!D18,\"\")","v":"County of Franklin"},{"$f":"IF('CoC Renewal Ranking Report'!E18<>\"\",'CoC Renewal Ranking Report'!E18,\"\")","v":"Franklin/Fulton Homeless Assistance Project 2017"},{"$f":"IF('CoC Renewal Ranking Report'!G18<>\"\",'CoC Renewal Ranking Report'!G18,\"\")","v":"PH"},{"$f":"IF('CoC Renewal Ranking Report'!H18<>\"\",'CoC Renewal Ranking Report'!BR18,\"\")","v":2}]
[{"$f":"IF('CoC Renewal Ranking Report'!D19<>\"\",'CoC Renewal Ranking Report'!D19,\"\")","v":"County of Lycoming DBA Lycoming- Clinton Joinder Board"},{"$f":"IF('CoC Renewal Ranking Report'!E19<>\"\",'CoC Renewal Ranking Report'!E19,\"\")","v":"Lycoming/Clinton Renewal #5"},{"$f":"IF('CoC Renewal Ranking Report'!G19<>\"\",'CoC Renewal Ranking Report'!G19,\"\")","v":"PH"},{"$f":"IF('CoC Renewal Ranking Report'!H19<>\"\",'CoC Renewal Ranking Report'!BR19,\"\")","v":4.5}]
[{"$f":"IF('CoC Renewal Ranking Report'!D20<>\"\",'CoC Renewal Ranking Report'!D20,\"\")","v":"Fitzmaurice Community Services, Inc"},{"$f":"IF('CoC Renewal Ranking Report'!E20<>\"\",'CoC Renewal Ranking Report'!E20,\"\")","v":"Pathfinders"},{"$f":"IF('CoC Renewal Ranking Report'!G20<>\"\",'CoC Renewal Ranking Report'!G20,\"\")","v":"PH"},{"$f":"IF('CoC Renewal Ranking Report'!H20<>\"\",'CoC Renewal Ranking Report'!BR20,\"\")","v":5.5}]
[{"$f":"IF('CoC Renewal Ranking Report'!D21<>\"\",'CoC Renewal Ranking Report'!D21,\"\")","v":"Home Nursing AgencyCommunity Services"},{"$f":"IF('CoC Renewal Ranking Report'!E21<>\"\",'CoC Renewal Ranking Report'!E21,\"\")","v":"Housing Assistance and Rental Program"},{"$f":"IF('CoC Renewal Ranking Report'!G21<>\"\",'CoC Renewal Ranking Report'!G21,\"\")","v":"PH"},{"$f":"IF('CoC Renewal Ranking Report'!H21<>\"\",'CoC Renewal Ranking Report'!BR21,\"\")","v":4.5}]
[{"$f":"IF('CoC Renewal Ranking Report'!D22<>\"\",'CoC Renewal Ranking Report'!D22,\"\")","v":"Housing Authority of Monroe County"},{"$f":"IF('CoC Renewal Ranking Report'!E22<>\"\",'CoC Renewal Ranking Report'!E22,\"\")","v":"Renewal Application Shelter Plus Care MC 2016"},{"$f":"IF('CoC Renewal Ranking Report'!G22<>\"\",'CoC Renewal Ranking Report'!G22,\"\")","v":"PH"},{"$f":"IF('CoC Renewal Ranking Report'!H22<>\"\",'CoC Renewal Ranking Report'!BR22,\"\")","v":3}]
[{"$f":"IF('CoC Renewal Ranking Report'!D23<>\"\",'CoC Renewal Ranking Report'!D23,\"\")","v":"Housing Authority of the County of Cumberland"},{"$f":"IF('CoC Renewal Ranking Report'!E23<>\"\",'CoC Renewal Ranking Report'!E23,\"\")","v":"Carlisle Supportive Housing Program"},{"$f":"IF('CoC Renewal Ranking Report'!G23<>\"\",'CoC Renewal Ranking Report'!G23,\"\")","v":"PH"},{"$f":"IF('CoC Renewal Ranking Report'!H23<>\"\",'CoC Renewal Ranking Report'!BR23,\"\")","v":2.5}]
[{"$f":"IF('CoC Renewal Ranking Report'!D24<>\"\",'CoC Renewal Ranking Report'!D24,\"\")","v":"Housing Authority of the County of Cumberland"},{"$f":"IF('CoC Renewal Ranking Report'!E24<>\"\",'CoC Renewal Ranking Report'!E24,\"\")","v":"Perry County Permanent SHP"},{"$f":"IF('CoC Renewal Ranking Report'!G24<>\"\",'CoC Renewal Ranking Report'!G24,\"\")","v":"PH"},{"$f":"IF('CoC Renewal Ranking Report'!H24<>\"\",'CoC Renewal Ranking Report'!BR24,\"\")","v":1.5}]
[{"$f":"IF('CoC Renewal Ranking Report'!D25<>\"\",'CoC Renewal Ranking Report'!D25,\"\")","v":"Housing Authority of the County of Cumberland"},{"$f":"IF('CoC Renewal Ranking Report'!E25<>\"\",'CoC Renewal Ranking Report'!E25,\"\")","v":"Perry County Transitional II"},{"$f":"IF('CoC Renewal Ranking Report'!G25<>\"\",'CoC Renewal Ranking Report'!G25,\"\")","v":"PH-RRH"},{"$f":"IF('CoC Renewal Ranking Report'!H25<>\"\",'CoC Renewal Ranking Report'!BR25,\"\")","v":2}]
[{"$f":"IF('CoC Renewal Ranking Report'!D26<>\"\",'CoC Renewal Ranking Report'!D26,\"\")","v":"Housing Authority of the County of Cumberland"},{"$f":"IF('CoC Renewal Ranking Report'!E26<>\"\",'CoC Renewal Ranking Report'!E26,\"\")","v":"Perry County Veterans Program"},{"$f":"IF('CoC Renewal Ranking Report'!G26<>\"\",'CoC Renewal Ranking Report'!G26,\"\")","v":"PH"},{"$f":"IF('CoC Renewal Ranking Report'!H26<>\"\",'CoC Renewal Ranking Report'!BR26,\"\")","v":2.5}]
[{"$f":"IF('CoC Renewal Ranking Report'!D27<>\"\",'CoC Renewal Ranking Report'!D27,\"\")","v":"Housing Authority of the County of Cumberland"},{"$f":"IF('CoC Renewal Ranking Report'!E27<>\"\",'CoC Renewal Ranking Report'!E27,\"\")","v":"Rapid Rehousing II"},{"$f":"IF('CoC Renewal Ranking Report'!G27<>\"\",'CoC Renewal Ranking Report'!G27,\"\")","v":"PH-RRH"},{"$f":"IF('CoC Renewal Ranking Report'!H27<>\"\",'CoC Renewal Ranking Report'!BR27,\"\")","v":1}]
[{"$f":"IF('CoC Renewal Ranking Report'!D28<>\"\",'CoC Renewal Ranking Report'!D28,\"\")","v":"Housing Authority of the County of Cumberland"},{"$f":"IF('CoC Renewal Ranking Report'!E28<>\"\",'CoC Renewal Ranking Report'!E28,\"\")","v":"Safe Harbour SHP"},{"$f":"IF('CoC Renewal Ranking Report'!G28<>\"\",'CoC Renewal Ranking Report'!G28,\"\")","v":"PH"},{"$f":"IF('CoC Renewal Ranking Report'!H28<>\"\",'CoC Renewal Ranking Report'!BR28,\"\")","v":0.5}]
[{"$f":"IF('CoC Renewal Ranking Report'!D29<>\"\",'CoC Renewal Ranking Report'!D29,\"\")","v":"Housing Authority of the County of Cumberland"},{"$f":"IF('CoC Renewal Ranking Report'!E29<>\"\",'CoC Renewal Ranking Report'!E29,\"\")","v":"Shelter + Care Chronic"},{"$f":"IF('CoC Renewal Ranking Report'!G29<>\"\",'CoC Renewal Ranking Report'!G29,\"\")","v":"PH"},{"$f":"IF('CoC Renewal Ranking Report'!H29<>\"\",'CoC Renewal Ranking Report'!BR29,\"\")","v":0.5}]
[{"$f":"IF('CoC Renewal Ranking Report'!D30<>\"\",'CoC Renewal Ranking Report'!D30,\"\")","v":"Housing Authority of the County of Cumberland"},{"$f":"IF('CoC Renewal Ranking Report'!E30<>\"\",'CoC Renewal Ranking Report'!E30,\"\")","v":"Shelter + Care Non-Chronic"},{"$f":"IF('CoC Renewal Ranking Report'!G30<>\"\",'CoC Renewal Ranking Report'!G30,\"\")","v":"PH"},{"$f":"IF('CoC Renewal Ranking Report'!H30<>\"\",'CoC Renewal Ranking Report'!BR30,\"\")","v":1.5}]
[{"$f":"IF('CoC Renewal Ranking Report'!D31<>\"\",'CoC Renewal Ranking Report'!D31,\"\")","v":"Housing Authority of the County of Cumberland"},{"$f":"IF('CoC Renewal Ranking Report'!E31<>\"\",'CoC Renewal Ranking Report'!E31,\"\")","v":"West Shore SHP I"},{"$f":"IF('CoC Renewal Ranking Report'!G31<>\"\",'CoC Renewal Ranking Report'!G31,\"\")","v":"PH"},{"$f":"IF('CoC Renewal Ranking Report'!H31<>\"\",'CoC Renewal Ranking Report'!BR31,\"\")","v":1}]
[{"$f":"IF('CoC Renewal Ranking Report'!D32<>\"\",'CoC Renewal Ranking Report'!D32,\"\")","v":"Housing Authority of the County of Cumberland"},{"$f":"IF('CoC Renewal Ranking Report'!E32<>\"\",'CoC Renewal Ranking Report'!E32,\"\")","v":"West Shore SHP II"},{"$f":"IF('CoC Renewal Ranking Report'!G32<>\"\",'CoC Renewal Ranking Report'!G32,\"\")","v":"PH"},{"$f":"IF('CoC Renewal Ranking Report'!H32<>\"\",'CoC Renewal Ranking Report'!BR32,\"\")","v":1}]
[{"$f":"IF('CoC Renewal Ranking Report'!D33<>\"\",'CoC Renewal Ranking Report'!D33,\"\")","v":"Housing Development Corporation of NEPA"},{"$f":"IF('CoC Renewal Ranking Report'!E33<>\"\",'CoC Renewal Ranking Report'!E33,\"\")","v":"HDC SHP 3 2016"},{"$f":"IF('CoC Renewal Ranking Report'!G33<>\"\",'CoC Renewal Ranking Report'!G33,\"\")","v":"PH"},{"$f":"IF('CoC Renewal Ranking Report'!H33<>\"\",'CoC Renewal Ranking Report'!BR33,\"\")","v":4}]
[{"$f":"IF('CoC Renewal Ranking Report'!D34<>\"\",'CoC Renewal Ranking Report'!D34,\"\")","v":"Housing Development Corporation of NEPA"},{"$f":"IF('CoC Renewal Ranking Report'!E34<>\"\",'CoC Renewal Ranking Report'!E34,\"\")","v":"HDC SHP 6 2016"},{"$f":"IF('CoC Renewal Ranking Report'!G34<>\"\",'CoC Renewal Ranking Report'!G34,\"\")","v":"PH"},{"$f":"IF('CoC Renewal Ranking Report'!H34<>\"\",'CoC Renewal Ranking Report'!BR34,\"\")","v":4}]
[{"$f":"IF('CoC Renewal Ranking Report'!D35<>\"\",'CoC Renewal Ranking Report'!D35,\"\")","v":"Housing Transitions, Inc."},{"$f":"IF('CoC Renewal Ranking Report'!E35<>\"\",'CoC Renewal Ranking Report'!E35,\"\")","v":"Nittany House Apartments"},{"$f":"IF('CoC Renewal Ranking Report'!G35<>\"\",'CoC Renewal Ranking Report'!G35,\"\")","v":"PH"},{"$f":"IF('CoC Renewal Ranking Report'!H35<>\"\",'CoC Renewal Ranking Report'!BR35,\"\")","v":5}]
[{"$f":"IF('CoC Renewal Ranking Report'!D36<>\"\",'CoC Renewal Ranking Report'!D36,\"\")","v":"Lehigh County Conference of Churches"},{"$f":"IF('CoC Renewal Ranking Report'!E36<>\"\",'CoC Renewal Ranking Report'!E36,\"\")","v":"Outreach and Case Management for the Disabled, Chronically Homeless"},{"$f":"IF('CoC Renewal Ranking Report'!G36<>\"\",'CoC Renewal Ranking Report'!G36,\"\")","v":"SSO"},{"$f":"IF('CoC Renewal Ranking Report'!H36<>\"\",'CoC Renewal Ranking Report'!BR36,\"\")","v":5.5}]
[{"$f":"IF('CoC Renewal Ranking Report'!D37<>\"\",'CoC Renewal Ranking Report'!D37,\"\")","v":"Lehigh County Conference of Churches"},{"$f":"IF('CoC Renewal Ranking Report'!E37<>\"\",'CoC Renewal Ranking Report'!E37,\"\")","v":"Pathways Housing"},{"$f":"IF('CoC Renewal Ranking Report'!G37<>\"\",'CoC Renewal Ranking Report'!G37,\"\")","v":"PH"},{"$f":"IF('CoC Renewal Ranking Report'!H37<>\"\",'CoC Renewal Ranking Report'!BR37,\"\")","v":6}]
[{"$f":"IF('CoC Renewal Ranking Report'!D38<>\"\",'CoC Renewal Ranking Report'!D38,\"\")","v":"Lehigh County Conference of Churches"},{"$f":"IF('CoC Renewal Ranking Report'!E38<>\"\",'CoC Renewal Ranking Report'!E38,\"\")","v":"Pathways Housing 2"},{"$f":"IF('CoC Renewal Ranking Report'!G38<>\"\",'CoC Renewal Ranking Report'!G38,\"\")","v":"PH"},{"$f":"IF('CoC Renewal Ranking Report'!H38<>\"\",'CoC Renewal Ranking Report'!BR38,\"\")","v":6}]
[{"$f":"IF('CoC Renewal Ranking Report'!D39<>\"\",'CoC Renewal Ranking Report'!D39,\"\")","v":"Lehigh County Conference of Churches"},{"$f":"IF('CoC Renewal Ranking Report'!E39<>\"\",'CoC Renewal Ranking Report'!E39,\"\")","v":"Pathways TBRA for Families, Youth and Veterans"},{"$f":"IF('CoC Renewal Ranking Report'!G39<>\"\",'CoC Renewal Ranking Report'!G39,\"\")","v":"PH"},{"$f":"IF('CoC Renewal Ranking Report'!H39<>\"\",'CoC Renewal Ranking Report'!BR39,\"\")","v":6}]
[{"$f":"IF('CoC Renewal Ranking Report'!D40<>\"\",'CoC Renewal Ranking Report'!D40,\"\")","v":"Lehigh County Conference of Churches"},{"$f":"IF('CoC Renewal Ranking Report'!E40<>\"\",'CoC Renewal Ranking Report'!E40,\"\")","v":"Tenant-Based Rental Assistance for the Disabled,Chronically Homeless"},{"$f":"IF('CoC Renewal Ranking Report'!G40<>\"\",'CoC Renewal Ranking Report'!G40,\"\")","v":"PH"},{"$f":"IF('CoC Renewal Ranking Report'!H40<>\"\",'CoC Renewal Ranking Report'!BR40,\"\")","v":6}]
[{"$f":"IF('CoC Renewal Ranking Report'!D41<>\"\",'CoC Renewal Ranking Report'!D41,\"\")","v":"Lehigh County Housing Authority"},{"$f":"IF('CoC Renewal Ranking Report'!E41<>\"\",'CoC Renewal Ranking Report'!E41,\"\")","v":"LCHA S+C 2016"},{"$f":"IF('CoC Renewal Ranking Report'!G41<>\"\",'CoC Renewal Ranking Report'!G41,\"\")","v":"PH"},{"$f":"IF('CoC Renewal Ranking Report'!H41<>\"\",'CoC Renewal Ranking Report'!BR41,\"\")","v":3}]
[{"$f":"IF('CoC Renewal Ranking Report'!D42<>\"\",'CoC Renewal Ranking Report'!D42,\"\")","v":"Maranatha"},{"$f":"IF('CoC Renewal Ranking Report'!E42<>\"\",'CoC Renewal Ranking Report'!E42,\"\")","v":"TOTAL PERSON TRANSITIONAL PROGRAM 1 & 2"},{"$f":"IF('CoC Renewal Ranking Report'!G42<>\"\",'CoC Renewal Ranking Report'!G42,\"\")","v":"PH-RRH"},{"$f":"IF('CoC Renewal Ranking Report'!H42<>\"\",'CoC Renewal Ranking Report'!BR42,\"\")","v":0}]
[{"$f":"IF('CoC Renewal Ranking Report'!D43<>\"\",'CoC Renewal Ranking Report'!D43,\"\")","v":"Mifflin County"},{"$f":"IF('CoC Renewal Ranking Report'!E43<>\"\",'CoC Renewal Ranking Report'!E43,\"\")","v":"Mifflin County Permanent Housing Renewal"},{"$f":"IF('CoC Renewal Ranking Report'!G43<>\"\",'CoC Renewal Ranking Report'!G43,\"\")","v":"PH"},{"$f":"IF('CoC Renewal Ranking Report'!H43<>\"\",'CoC Renewal Ranking Report'!BR43,\"\")","v":3}]
[{"$f":"IF('CoC Renewal Ranking Report'!D44<>\"\",'CoC Renewal Ranking Report'!D44,\"\")","v":"Northampton County Housing Authority"},{"$f":"IF('CoC Renewal Ranking Report'!E44<>\"\",'CoC Renewal Ranking Report'!E44,\"\")","v":"NCHA S+C 2016"},{"$f":"IF('CoC Renewal Ranking Report'!G44<>\"\",'CoC Renewal Ranking Report'!G44,\"\")","v":"PH"},{"$f":"IF('CoC Renewal Ranking Report'!H44<>\"\",'CoC Renewal Ranking Report'!BR44,\"\")","v":3}]
[{"$f":"IF('CoC Renewal Ranking Report'!D45<>\"\",'CoC Renewal Ranking Report'!D45,\"\")","v":"Northern Cambria Community Development Corporation"},{"$f":"IF('CoC Renewal Ranking Report'!E45<>\"\",'CoC Renewal Ranking Report'!E45,\"\")","v":"Independence Gardens"},{"$f":"IF('CoC Renewal Ranking Report'!G45<>\"\",'CoC Renewal Ranking Report'!G45,\"\")","v":"PH"},{"$f":"IF('CoC Renewal Ranking Report'!H45<>\"\",'CoC Renewal Ranking Report'!BR45,\"\")","v":2}]
[{"$f":"IF('CoC Renewal Ranking Report'!D46<>\"\",'CoC Renewal Ranking Report'!D46,\"\")","v":"Northern Cambria Community Development Corporation"},{"$f":"IF('CoC Renewal Ranking Report'!E46<>\"\",'CoC Renewal Ranking Report'!E46,\"\")","v":"Schoolhouse Gardens"},{"$f":"IF('CoC Renewal Ranking Report'!G46<>\"\",'CoC Renewal Ranking Report'!G46,\"\")","v":"PH"},{"$f":"IF('CoC Renewal Ranking Report'!H46<>\"\",'CoC Renewal Ranking Report'!BR46,\"\")","v":2}]
[{"$f":"IF('CoC Renewal Ranking Report'!D47<>\"\",'CoC Renewal Ranking Report'!D47,\"\")","v":"Northumberland County MH/MR"},{"$f":"IF('CoC Renewal Ranking Report'!E47<>\"\",'CoC Renewal Ranking Report'!E47,\"\")","v":"Sharing Support"},{"$f":"IF('CoC Renewal Ranking Report'!G47<>\"\",'CoC Renewal Ranking Report'!G47,\"\")","v":"PH"},{"$f":"IF('CoC Renewal Ranking Report'!H47<>\"\",'CoC Renewal Ranking Report'!BR47,\"\")","v":0}]
[{"$f":"IF('CoC Renewal Ranking Report'!D48<>\"\",'CoC Renewal Ranking Report'!D48,\"\")","v":"Resources for Human Development, Inc."},{"$f":"IF('CoC Renewal Ranking Report'!E48<>\"\",'CoC Renewal Ranking Report'!E48,\"\")","v":"Crossroads Family"},{"$f":"IF('CoC Renewal Ranking Report'!G48<>\"\",'CoC Renewal Ranking Report'!G48,\"\")","v":"PH"},{"$f":"IF('CoC Renewal Ranking Report'!H48<>\"\",'CoC Renewal Ranking Report'!BR48,\"\")","v":5.5}]
[{"$f":"IF('CoC Renewal Ranking Report'!D49<>\"\",'CoC Renewal Ranking Report'!D49,\"\")","v":"Resources for Human Development, Inc."},{"$f":"IF('CoC Renewal Ranking Report'!E49<>\"\",'CoC Renewal Ranking Report'!E49,\"\")","v":"Crossroads Housing Bonus"},{"$f":"IF('CoC Renewal Ranking Report'!G49<>\"\",'CoC Renewal Ranking Report'!G49,\"\")","v":"PH"},{"$f":"IF('CoC Renewal Ranking Report'!H49<>\"\",'CoC Renewal Ranking Report'!BR49,\"\")","v":5.5}]
[{"$f":"IF('CoC Renewal Ranking Report'!D50<>\"\",'CoC Renewal Ranking Report'!D50,\"\")","v":"Resources for Human Development, Inc."},{"$f":"IF('CoC Renewal Ranking Report'!E50<>\"\",'CoC Renewal Ranking Report'!E50,\"\")","v":"Crossroads Individual"},{"$f":"IF('CoC Renewal Ranking Report'!G50<>\"\",'CoC Renewal Ranking Report'!G50,\"\")","v":"PH"},{"$f":"IF('CoC Renewal Ranking Report'!H50<>\"\",'CoC Renewal Ranking Report'!BR50,\"\")","v":5.5}]
[{"$f":"IF('CoC Renewal Ranking Report'!D51<>\"\",'CoC Renewal Ranking Report'!D51,\"\")","v":"Resources for Human Development, Inc."},{"$f":"IF('CoC Renewal Ranking Report'!E51<>\"\",'CoC Renewal Ranking Report'!E51,\"\")","v":"Crossroads Schuylkill Co. Permanent Supportive Housing"},{"$f":"IF('CoC Renewal Ranking Report'!G51<>\"\",'CoC Renewal Ranking Report'!G51,\"\")","v":"PH"},{"$f":"IF('CoC Renewal Ranking Report'!H51<>\"\",'CoC Renewal Ranking Report'!BR51,\"\")","v":5.5}]
[{"$f":"IF('CoC Renewal Ranking Report'!D52<>\"\",'CoC Renewal Ranking Report'!D52,\"\")","v":"Resources for Human Development, Inc."},{"$f":"IF('CoC Renewal Ranking Report'!E52<>\"\",'CoC Renewal Ranking Report'!E52,\"\")","v":"LV ACT Housing Supports"},{"$f":"IF('CoC Renewal Ranking Report'!G52<>\"\",'CoC Renewal Ranking Report'!G52,\"\")","v":"PH"},{"$f":"IF('CoC Renewal Ranking Report'!H52<>\"\",'CoC Renewal Ranking Report'!BR52,\"\")","v":4}]
[{"$f":"IF('CoC Renewal Ranking Report'!D53<>\"\",'CoC Renewal Ranking Report'!D53,\"\")","v":"Tableland Services, Inc."},{"$f":"IF('CoC Renewal Ranking Report'!E53<>\"\",'CoC Renewal Ranking Report'!E53,\"\")","v":"Permanent Housing with Disabilities (SHP)"},{"$f":"IF('CoC Renewal Ranking Report'!G53<>\"\",'CoC Renewal Ranking Report'!G53,\"\")","v":"PH"},{"$f":"IF('CoC Renewal Ranking Report'!H53<>\"\",'CoC Renewal Ranking Report'!BR53,\"\")","v":4}]
[{"$f":"IF('CoC Renewal Ranking Report'!D54<>\"\",'CoC Renewal Ranking Report'!D54,\"\")","v":"Tableland Services, Inc."},{"$f":"IF('CoC Renewal Ranking Report'!E54<>\"\",'CoC Renewal Ranking Report'!E54,\"\")","v":"Permanent Supportive Housing CH Project"},{"$f":"IF('CoC Renewal Ranking Report'!G54<>\"\",'CoC Renewal Ranking Report'!G54,\"\")","v":"PH"},{"$f":"IF('CoC Renewal Ranking Report'!H54<>\"\",'CoC Renewal Ranking Report'!BR54,\"\")","v":4}]
[{"$f":"IF('CoC Renewal Ranking Report'!D55<>\"\",'CoC Renewal Ranking Report'!D55,\"\")","v":"The Salvation Army, a New York Corporation"},{"$f":"IF('CoC Renewal Ranking Report'!E55<>\"\",'CoC Renewal Ranking Report'!E55,\"\")","v":"Allentown Hospitality House Permanent Housing Program"},{"$f":"IF('CoC Renewal Ranking Report'!G55<>\"\",'CoC Renewal Ranking Report'!G55,\"\")","v":"PH"},{"$f":"IF('CoC Renewal Ranking Report'!H55<>\"\",'CoC Renewal Ranking Report'!BR55,\"\")","v":4.5}]
[{"$f":"IF('CoC Renewal Ranking Report'!D56<>\"\",'CoC Renewal Ranking Report'!D56,\"\")","v":"The Salvation Army, a New York Corporation"},{"$f":"IF('CoC Renewal Ranking Report'!E56<>\"\",'CoC Renewal Ranking Report'!E56,\"\")","v":"Salvation Army Carlisle PH Project"},{"$f":"IF('CoC Renewal Ranking Report'!G56<>\"\",'CoC Renewal Ranking Report'!G56,\"\")","v":"PH"},{"$f":"IF('CoC Renewal Ranking Report'!H56<>\"\",'CoC Renewal Ranking Report'!BR56,\"\")","v":4.5}]
[{"$f":"IF('CoC Renewal Ranking Report'!D57<>\"\",'CoC Renewal Ranking Report'!D57,\"\")","v":"Union-Snyder Community Action Agency"},{"$f":"IF('CoC Renewal Ranking Report'!E57<>\"\",'CoC Renewal Ranking Report'!E57,\"\")","v":"Union-Snyder Rapid ReHousing Program"},{"$f":"IF('CoC Renewal Ranking Report'!G57<>\"\",'CoC Renewal Ranking Report'!G57,\"\")","v":"PH-RRH"},{"$f":"IF('CoC Renewal Ranking Report'!H57<>\"\",'CoC Renewal Ranking Report'!BR57,\"\")","v":4.5}]
[{"$f":"IF('CoC Renewal Ranking Report'!D58<>\"\",'CoC Renewal Ranking Report'!D58,\"\")","v":"United Christian Ministries"},{"$f":"IF('CoC Renewal Ranking Report'!E58<>\"\",'CoC Renewal Ranking Report'!E58,\"\")","v":"Kenner Garnet Renewal 2016"},{"$f":"IF('CoC Renewal Ranking Report'!G58<>\"\",'CoC Renewal Ranking Report'!G58,\"\")","v":"PH"},{"$f":"IF('CoC Renewal Ranking Report'!H58<>\"\",'CoC Renewal Ranking Report'!BR58,\"\")","v":1}]
[{"$f":"IF('CoC Renewal Ranking Report'!D59<>\"\",'CoC Renewal Ranking Report'!D59,\"\")","v":"Valley Housing Development Corporation "},{"$f":"IF('CoC Renewal Ranking Report'!E59<>\"\",'CoC Renewal Ranking Report'!E59,\"\")","v":"VHDC SHP #2 2016"},{"$f":"IF('CoC Renewal Ranking Report'!G59<>\"\",'CoC Renewal Ranking Report'!G59,\"\")","v":"PH"},{"$f":"IF('CoC Renewal Ranking Report'!H59<>\"\",'CoC Renewal Ranking Report'!BR59,\"\")","v":2}]
[{"$f":"IF('CoC Renewal Ranking Report'!D60<>\"\",'CoC Renewal Ranking Report'!D60,\"\")","v":"Valley Housing Development Corporation "},{"$f":"IF('CoC Renewal Ranking Report'!E60<>\"\",'CoC Renewal Ranking Report'!E60,\"\")","v":"VHDC SHP #3 2016"},{"$f":"IF('CoC Renewal Ranking Report'!G60<>\"\",'CoC Renewal Ranking Report'!G60,\"\")","v":"PH"},{"$f":"IF('CoC Renewal Ranking Report'!H60<>\"\",'CoC Renewal Ranking Report'!BR60,\"\")","v":2}]
[{"$f":"IF('CoC Renewal Ranking Report'!D61<>\"\",'CoC Renewal Ranking Report'!D61,\"\")","v":"Valley Housing Development Corporation "},{"$f":"IF('CoC Renewal Ranking Report'!E61<>\"\",'CoC Renewal Ranking Report'!E61,\"\")","v":"VHDC SHP #4 2016"},{"$f":"IF('CoC Renewal Ranking Report'!G61<>\"\",'CoC Renewal Ranking Report'!G61,\"\")","v":"PH"},{"$f":"IF('CoC Renewal Ranking Report'!H61<>\"\",'CoC Renewal Ranking Report'!BR61,\"\")","v":2}]
[{"$f":"IF('CoC Renewal Ranking Report'!D62<>\"\",'CoC Renewal Ranking Report'!D62,\"\")","v":""},{"$f":"IF('CoC Renewal Ranking Report'!E62<>\"\",'CoC Renewal Ranking Report'!E62,\"\")","v":""},{"$f":"IF('CoC Renewal Ranking Report'!G62<>\"\",'CoC Renewal Ranking Report'!G62,\"\")","v":""},{"$f":"IF('CoC Renewal Ranking Report'!H62<>\"\",'CoC Renewal Ranking Report'!BR62,\"\")","v":""}]
[{"$f":"IF('CoC Renewal Ranking Report'!D63<>\"\",'CoC Renewal Ranking Report'!D63,\"\")","v":""},{"$f":"IF('CoC Renewal Ranking Report'!E63<>\"\",'CoC Renewal Ranking Report'!E63,\"\")","v":""},{"$f":"IF('CoC Renewal Ranking Report'!G63<>\"\",'CoC Renewal Ranking Report'!G63,\"\")","v":""},{"$f":"IF('CoC Renewal Ranking Report'!H63<>\"\",'CoC Renewal Ranking Report'!BR63,\"\")","v":""}]
[{"$f":"IF('CoC Renewal Ranking Report'!D64<>\"\",'CoC Renewal Ranking Report'!D64,\"\")","v":""},{"$f":"IF('CoC Renewal Ranking Report'!E64<>\"\",'CoC Renewal Ranking Report'!E64,\"\")","v":""},{"$f":"IF('CoC Renewal Ranking Report'!G64<>\"\",'CoC Renewal Ranking Report'!G64,\"\")","v":""},{"$f":"IF('CoC Renewal Ranking Report'!H64<>\"\",'CoC Renewal Ranking Report'!BR64,\"\")","v":""}]
[{"$f":"IF('CoC Renewal Ranking Report'!D65<>\"\",'CoC Renewal Ranking Report'!D65,\"\")","v":""},{"$f":"IF('CoC Renewal Ranking Report'!E65<>\"\",'CoC Renewal Ranking Report'!E65,\"\")","v":""},{"$f":"IF('CoC Renewal Ranking Report'!G65<>\"\",'CoC Renewal Ranking Report'!G65,\"\")","v":""},{"$f":"IF('CoC Renewal Ranking Report'!H65<>\"\",'CoC Renewal Ranking Report'!BR65,\"\")","v":""}]
[{"$f":"IF('CoC Renewal Ranking Report'!D66<>\"\",'CoC Renewal Ranking Report'!D66,\"\")","v":""},{"$f":"IF('CoC Renewal Ranking Report'!E66<>\"\",'CoC Renewal Ranking Report'!E66,\"\")","v":""},{"$f":"IF('CoC Renewal Ranking Report'!G66<>\"\",'CoC Renewal Ranking Report'!G66,\"\")","v":""},{"$f":"IF('CoC Renewal Ranking Report'!H66<>\"\",'CoC Renewal Ranking Report'!BR66,\"\")","v":""}]
[{"$f":"IF('CoC Renewal Ranking Report'!D67<>\"\",'CoC Renewal Ranking Report'!D67,\"\")","v":""},{"$f":"IF('CoC Renewal Ranking Report'!E67<>\"\",'CoC Renewal Ranking Report'!E67,\"\")","v":""},{"$f":"IF('CoC Renewal Ranking Report'!G67<>\"\",'CoC Renewal Ranking Report'!G67,\"\")","v":""},{"$f":"IF('CoC Renewal Ranking Report'!H67<>\"\",'CoC Renewal Ranking Report'!BR67,\"\")","v":""}]
[{"$f":"IF('CoC Renewal Ranking Report'!D68<>\"\",'CoC Renewal Ranking Report'!D68,\"\")","v":""},{"$f":"IF('CoC Renewal Ranking Report'!E68<>\"\",'CoC Renewal Ranking Report'!E68,\"\")","v":""},{"$f":"IF('CoC Renewal Ranking Report'!G68<>\"\",'CoC Renewal Ranking Report'!G68,\"\")","v":""},{"$f":"IF('CoC Renewal Ranking Report'!H68<>\"\",'CoC Renewal Ranking Report'!BR68,\"\")","v":""}]
[{"$f":"IF('CoC Renewal Ranking Report'!D69<>\"\",'CoC Renewal Ranking Report'!D69,\"\")","v":""},{"$f":"IF('CoC Renewal Ranking Report'!E69<>\"\",'CoC Renewal Ranking Report'!E69,\"\")","v":""},{"$f":"IF('CoC Renewal Ranking Report'!G69<>\"\",'CoC Renewal Ranking Report'!G69,\"\")","v":""},{"$f":"IF('CoC Renewal Ranking Report'!H69<>\"\",'CoC Renewal Ranking Report'!BR69,\"\")","v":""}]
[{"$f":"IF('CoC Renewal Ranking Report'!D70<>\"\",'CoC Renewal Ranking Report'!D70,\"\")","v":""},{"$f":"IF('CoC Renewal Ranking Report'!E70<>\"\",'CoC Renewal Ranking Report'!E70,\"\")","v":""},{"$f":"IF('CoC Renewal Ranking Report'!G70<>\"\",'CoC Renewal Ranking Report'!G70,\"\")","v":""},{"$f":"IF('CoC Renewal Ranking Report'!H70<>\"\",'CoC Renewal Ranking Report'!BR70,\"\")","v":""}]
[{"$f":"IF('CoC Renewal Ranking Report'!D71<>\"\",'CoC Renewal Ranking Report'!D71,\"\")","v":""},{"$f":"IF('CoC Renewal Ranking Report'!E71<>\"\",'CoC Renewal Ranking Report'!E71,\"\")","v":""},{"$f":"IF('CoC Renewal Ranking Report'!G71<>\"\",'CoC Renewal Ranking Report'!G71,\"\")","v":""},{"$f":"IF('CoC Renewal Ranking Report'!H71<>\"\",'CoC Renewal Ranking Report'!BR71,\"\")","v":""}]
[{"$f":"IF('CoC Renewal Ranking Report'!D72<>\"\",'CoC Renewal Ranking Report'!D72,\"\")","v":""},{"$f":"IF('CoC Renewal Ranking Report'!E72<>\"\",'CoC Renewal Ranking Report'!E72,\"\")","v":""},{"$f":"IF('CoC Renewal Ranking Report'!G72<>\"\",'CoC Renewal Ranking Report'!G72,\"\")","v":""},{"$f":"IF('CoC Renewal Ranking Report'!H72<>\"\",'CoC Renewal Ranking Report'!BR72,\"\")","v":""}]
[{"$f":"IF('CoC Renewal Ranking Report'!D73<>\"\",'CoC Renewal Ranking Report'!D73,\"\")","v":""},{"$f":"IF('CoC Renewal Ranking Report'!E73<>\"\",'CoC Renewal Ranking Report'!E73,\"\")","v":""},{"$f":"IF('CoC Renewal Ranking Report'!G73<>\"\",'CoC Renewal Ranking Report'!G73,\"\")","v":""},{"$f":"IF('CoC Renewal Ranking Report'!H73<>\"\",'CoC Renewal Ranking Report'!BR73,\"\")","v":""}]
[{"$f":"IF('CoC Renewal Ranking Report'!D74<>\"\",'CoC Renewal Ranking Report'!D74,\"\")","v":""},{"$f":"IF('CoC Renewal Ranking Report'!E74<>\"\",'CoC Renewal Ranking Report'!E74,\"\")","v":""},{"$f":"IF('CoC Renewal Ranking Report'!G74<>\"\",'CoC Renewal Ranking Report'!G74,\"\")","v":""},{"$f":"IF('CoC Renewal Ranking Report'!H74<>\"\",'CoC Renewal Ranking Report'!BR74,\"\")","v":""}]
[{"$f":"IF('CoC Renewal Ranking Report'!D75<>\"\",'CoC Renewal Ranking Report'!D75,\"\")","v":""},{"$f":"IF('CoC Renewal Ranking Report'!E75<>\"\",'CoC Renewal Ranking Report'!E75,\"\")","v":""},{"$f":"IF('CoC Renewal Ranking Report'!G75<>\"\",'CoC Renewal Ranking Report'!G75,\"\")","v":""},{"$f":"IF('CoC Renewal Ranking Report'!H75<>\"\",'CoC Renewal Ranking Report'!BR75,\"\")","v":""}]
[{"$f":"IF('CoC Renewal Ranking Report'!D76<>\"\",'CoC Renewal Ranking Report'!D76,\"\")","v":""},{"$f":"IF('CoC Renewal Ranking Report'!E76<>\"\",'CoC Renewal Ranking Report'!E76,\"\")","v":""},{"$f":"IF('CoC Renewal Ranking Report'!G76<>\"\",'CoC Renewal Ranking Report'!G76,\"\")","v":""},{"$f":"IF('CoC Renewal Ranking Report'!H76<>\"\",'CoC Renewal Ranking Report'!BR76,\"\")","v":""}]
[{"$f":"IF('CoC Renewal Ranking Report'!D77<>\"\",'CoC Renewal Ranking Report'!D77,\"\")","v":""},{"$f":"IF('CoC Renewal Ranking Report'!E77<>\"\",'CoC Renewal Ranking Report'!E77,\"\")","v":""},{"$f":"IF('CoC Renewal Ranking Report'!G77<>\"\",'CoC Renewal Ranking Report'!G77,\"\")","v":""},{"$f":"IF('CoC Renewal Ranking Report'!H77<>\"\",'CoC Renewal Ranking Report'!BR77,\"\")","v":""}]
[{"$f":"IF('CoC Renewal Ranking Report'!D78<>\"\",'CoC Renewal Ranking Report'!D78,\"\")","v":""},{"$f":"IF('CoC Renewal Ranking Report'!E78<>\"\",'CoC Renewal Ranking Report'!E78,\"\")","v":""},{"$f":"IF('CoC Renewal Ranking Report'!G78<>\"\",'CoC Renewal Ranking Report'!G78,\"\")","v":""},{"$f":"IF('CoC Renewal Ranking Report'!H78<>\"\",'CoC Renewal Ranking Report'!BR78,\"\")","v":""}]
[{"$f":"IF('CoC Renewal Ranking Report'!D79<>\"\",'CoC Renewal Ranking Report'!D79,\"\")","v":""},{"$f":"IF('CoC Renewal Ranking Report'!E79<>\"\",'CoC Renewal Ranking Report'!E79,\"\")","v":""},{"$f":"IF('CoC Renewal Ranking Report'!G79<>\"\",'CoC Renewal Ranking Report'!G79,\"\")","v":""},{"$f":"IF('CoC Renewal Ranking Report'!H79<>\"\",'CoC Renewal Ranking Report'!BR79,\"\")","v":""}]
[{"$f":"IF('CoC Renewal Ranking Report'!D80<>\"\",'CoC Renewal Ranking Report'!D80,\"\")","v":""},{"$f":"IF('CoC Renewal Ranking Report'!E80<>\"\",'CoC Renewal Ranking Report'!E80,\"\")","v":""},{"$f":"IF('CoC Renewal Ranking Report'!G80<>\"\",'CoC Renewal Ranking Report'!G80,\"\")","v":""},{"$f":"IF('CoC Renewal Ranking Report'!H80<>\"\",'CoC Renewal Ranking Report'!BR80,\"\")","v":""}]
[{"$f":"IF('CoC Renewal Ranking Report'!D81<>\"\",'CoC Renewal Ranking Report'!D81,\"\")","v":""},{"$f":"IF('CoC Renewal Ranking Report'!E81<>\"\",'CoC Renewal Ranking Report'!E81,\"\")","v":""},{"$f":"IF('CoC Renewal Ranking Report'!G81<>\"\",'CoC Renewal Ranking Report'!G81,\"\")","v":""},{"$f":"IF('CoC Renewal Ranking Report'!H81<>\"\",'CoC Renewal Ranking Report'!BR81,\"\")","v":""}]
[{"$f":"IF('CoC Renewal Ranking Report'!D82<>\"\",'CoC Renewal Ranking Report'!D82,\"\")","v":""},{"$f":"IF('CoC Renewal Ranking Report'!E82<>\"\",'CoC Renewal Ranking Report'!E82,\"\")","v":""},{"$f":"IF('CoC Renewal Ranking Report'!G82<>\"\",'CoC Renewal Ranking Report'!G82,\"\")","v":""},{"$f":"IF('CoC Renewal Ranking Report'!H82<>\"\",'CoC Renewal Ranking Report'!BR82,\"\")","v":""}]
[{"$f":"IF('CoC Renewal Ranking Report'!D83<>\"\",'CoC Renewal Ranking Report'!D83,\"\")","v":""},{"$f":"IF('CoC Renewal Ranking Report'!E83<>\"\",'CoC Renewal Ranking Report'!E83,\"\")","v":""},{"$f":"IF('CoC Renewal Ranking Report'!G83<>\"\",'CoC Renewal Ranking Report'!G83,\"\")","v":""},{"$f":"IF('CoC Renewal Ranking Report'!H83<>\"\",'CoC Renewal Ranking Report'!BR83,\"\")","v":""}]
[{"$f":"IF('CoC Renewal Ranking Report'!D84<>\"\",'CoC Renewal Ranking Report'!D84,\"\")","v":""},{"$f":"IF('CoC Renewal Ranking Report'!E84<>\"\",'CoC Renewal Ranking Report'!E84,\"\")","v":""},{"$f":"IF('CoC Renewal Ranking Report'!G84<>\"\",'CoC Renewal Ranking Report'!G84,\"\")","v":""},{"$f":"IF('CoC Renewal Ranking Report'!H84<>\"\",'CoC Renewal Ranking Report'!BR84,\"\")","v":""}]
[{"$f":"IF('CoC Renewal Ranking Report'!D85<>\"\",'CoC Renewal Ranking Report'!D85,\"\")","v":""},{"$f":"IF('CoC Renewal Ranking Report'!E85<>\"\",'CoC Renewal Ranking Report'!E85,\"\")","v":""},{"$f":"IF('CoC Renewal Ranking Report'!G85<>\"\",'CoC Renewal Ranking Report'!G85,\"\")","v":""},{"$f":"IF('CoC Renewal Ranking Report'!H85<>\"\",'CoC Renewal Ranking Report'!BR85,\"\")","v":""}]
[{"$f":"IF('CoC Renewal Ranking Report'!D86<>\"\",'CoC Renewal Ranking Report'!D86,\"\")","v":""},{"$f":"IF('CoC Renewal Ranking Report'!E86<>\"\",'CoC Renewal Ranking Report'!E86,\"\")","v":""},{"$f":"IF('CoC Renewal Ranking Report'!G86<>\"\",'CoC Renewal Ranking Report'!G86,\"\")","v":""},{"$f":"IF('CoC Renewal Ranking Report'!H86<>\"\",'CoC Renewal Ranking Report'!BR86,\"\")","v":""}]
[{"$f":"IF('CoC Renewal Ranking Report'!D87<>\"\",'CoC Renewal Ranking Report'!D87,\"\")","v":""},{"$f":"IF('CoC Renewal Ranking Report'!E87<>\"\",'CoC Renewal Ranking Report'!E87,\"\")","v":""},{"$f":"IF('CoC Renewal Ranking Report'!G87<>\"\",'CoC Renewal Ranking Report'!G87,\"\")","v":""},{"$f":"IF('CoC Renewal Ranking Report'!H87<>\"\",'CoC Renewal Ranking Report'!BR87,\"\")","v":""}]
[{"$f":"IF('CoC Renewal Ranking Report'!D88<>\"\",'CoC Renewal Ranking Report'!D88,\"\")","v":""},{"$f":"IF('CoC Renewal Ranking Report'!E88<>\"\",'CoC Renewal Ranking Report'!E88,\"\")","v":""},{"$f":"IF('CoC Renewal Ranking Report'!G88<>\"\",'CoC Renewal Ranking Report'!G88,\"\")","v":""},{"$f":"IF('CoC Renewal Ranking Report'!H88<>\"\",'CoC Renewal Ranking Report'!BR88,\"\")","v":""}]
[{"$f":"IF('CoC Renewal Ranking Report'!D89<>\"\",'CoC Renewal Ranking Report'!D89,\"\")","v":""},{"$f":"IF('CoC Renewal Ranking Report'!E89<>\"\",'CoC Renewal Ranking Report'!E89,\"\")","v":""},{"$f":"IF('CoC Renewal Ranking Report'!G89<>\"\",'CoC Renewal Ranking Report'!G89,\"\")","v":""},{"$f":"IF('CoC Renewal Ranking Report'!H89<>\"\",'CoC Renewal Ranking Report'!BR89,\"\")","v":""}]
[{"$f":"IF('CoC Renewal Ranking Report'!D90<>\"\",'CoC Renewal Ranking Report'!D90,\"\")","v":""},{"$f":"IF('CoC Renewal Ranking Report'!E90<>\"\",'CoC Renewal Ranking Report'!E90,\"\")","v":""},{"$f":"IF('CoC Renewal Ranking Report'!G90<>\"\",'CoC Renewal Ranking Report'!G90,\"\")","v":""},{"$f":"IF('CoC Renewal Ranking Report'!H90<>\"\",'CoC Renewal Ranking Report'!BR90,\"\")","v":""}]
[{"$f":"IF('CoC Renewal Ranking Report'!D91<>\"\",'CoC Renewal Ranking Report'!D91,\"\")","v":""},{"$f":"IF('CoC Renewal Ranking Report'!E91<>\"\",'CoC Renewal Ranking Report'!E91,\"\")","v":""},{"$f":"IF('CoC Renewal Ranking Report'!G91<>\"\",'CoC Renewal Ranking Report'!G91,\"\")","v":""},{"$f":"IF('CoC Renewal Ranking Report'!H91<>\"\",'CoC Renewal Ranking Report'!BR91,\"\")","v":""}]
[{"$f":"IF('CoC Renewal Ranking Report'!D92<>\"\",'CoC Renewal Ranking Report'!D92,\"\")","v":""},{"$f":"IF('CoC Renewal Ranking Report'!E92<>\"\",'CoC Renewal Ranking Report'!E92,\"\")","v":""},{"$f":"IF('CoC Renewal Ranking Report'!G92<>\"\",'CoC Renewal Ranking Report'!G92,\"\")","v":""},{"$f":"IF('CoC Renewal Ranking Report'!H92<>\"\",'CoC Renewal Ranking Report'!BR92,\"\")","v":""}]
[{"$f":"IF('CoC Renewal Ranking Report'!D93<>\"\",'CoC Renewal Ranking Report'!D93,\"\")","v":""},{"$f":"IF('CoC Renewal Ranking Report'!E93<>\"\",'CoC Renewal Ranking Report'!E93,\"\")","v":""},{"$f":"IF('CoC Renewal Ranking Report'!G93<>\"\",'CoC Renewal Ranking Report'!G93,\"\")","v":""},{"$f":"IF('CoC Renewal Ranking Report'!H93<>\"\",'CoC Renewal Ranking Report'!BR93,\"\")","v":""}]
[{"$f":"IF('CoC Renewal Ranking Report'!D94<>\"\",'CoC Renewal Ranking Report'!D94,\"\")","v":""},{"$f":"IF('CoC Renewal Ranking Report'!E94<>\"\",'CoC Renewal Ranking Report'!E94,\"\")","v":""},{"$f":"IF('CoC Renewal Ranking Report'!G94<>\"\",'CoC Renewal Ranking Report'!G94,\"\")","v":""},{"$f":"IF('CoC Renewal Ranking Report'!H94<>\"\",'CoC Renewal Ranking Report'!BR94,\"\")","v":""}]
[{"$f":"IF('CoC Renewal Ranking Report'!D95<>\"\",'CoC Renewal Ranking Report'!D95,\"\")","v":""},{"$f":"IF('CoC Renewal Ranking Report'!E95<>\"\",'CoC Renewal Ranking Report'!E95,\"\")","v":""},{"$f":"IF('CoC Renewal Ranking Report'!G95<>\"\",'CoC Renewal Ranking Report'!G95,\"\")","v":""},{"$f":"IF('CoC Renewal Ranking Report'!H95<>\"\",'CoC Renewal Ranking Report'!BR95,\"\")","v":""}]
[{"$f":"IF('CoC Renewal Ranking Report'!D96<>\"\",'CoC Renewal Ranking Report'!D96,\"\")","v":""},{"$f":"IF('CoC Renewal Ranking Report'!E96<>\"\",'CoC Renewal Ranking Report'!E96,\"\")","v":""},{"$f":"IF('CoC Renewal Ranking Report'!G96<>\"\",'CoC Renewal Ranking Report'!G96,\"\")","v":""},{"$f":"IF('CoC Renewal Ranking Report'!H96<>\"\",'CoC Renewal Ranking Report'!BR96,\"\")","v":""}]
[{"$f":"IF('CoC Renewal Ranking Report'!D97<>\"\",'CoC Renewal Ranking Report'!D97,\"\")","v":""},{"$f":"IF('CoC Renewal Ranking Report'!E97<>\"\",'CoC Renewal Ranking Report'!E97,\"\")","v":""},{"$f":"IF('CoC Renewal Ranking Report'!G97<>\"\",'CoC Renewal Ranking Report'!G97,\"\")","v":""},{"$f":"IF('CoC Renewal Ranking Report'!H97<>\"\",'CoC Renewal Ranking Report'!BR97,\"\")","v":""}]
[{"$f":"IF('CoC Renewal Ranking Report'!D98<>\"\",'CoC Renewal Ranking Report'!D98,\"\")","v":""},{"$f":"IF('CoC Renewal Ranking Report'!E98<>\"\",'CoC Renewal Ranking Report'!E98,\"\")","v":""},{"$f":"IF('CoC Renewal Ranking Report'!G98<>\"\",'CoC Renewal Ranking Report'!G98,\"\")","v":""},{"$f":"IF('CoC Renewal Ranking Report'!H98<>\"\",'CoC Renewal Ranking Report'!BR98,\"\")","v":""}]
[{"$f":"IF('CoC Renewal Ranking Report'!D99<>\"\",'CoC Renewal Ranking Report'!D99,\"\")","v":""},{"$f":"IF('CoC Renewal Ranking Report'!E99<>\"\",'CoC Renewal Ranking Report'!E99,\"\")","v":""},{"$f":"IF('CoC Renewal Ranking Report'!G99<>\"\",'CoC Renewal Ranking Report'!G99,\"\")","v":""},{"$f":"IF('CoC Renewal Ranking Report'!H99<>\"\",'CoC Renewal Ranking Report'!BR99,\"\")","v":""}]
[{"$f":"IF('CoC Renewal Ranking Report'!D100<>\"\",'CoC Renewal Ranking Report'!D100,\"\")","v":""},{"$f":"IF('CoC Renewal Ranking Report'!E100<>\"\",'CoC Renewal Ranking Report'!E100,\"\")","v":""},{"$f":"IF('CoC Renewal Ranking Report'!G100<>\"\",'CoC Renewal Ranking Report'!G100,\"\")","v":""},{"$f":"IF('CoC Renewal Ranking Report'!H100<>\"\",'CoC Renewal Ranking Report'!BR100,\"\")","v":""}]
[{"$f":"IF('CoC Renewal Ranking Report'!D101<>\"\",'CoC Renewal Ranking Report'!D101,\"\")","v":""},{"$f":"IF('CoC Renewal Ranking Report'!E101<>\"\",'CoC Renewal Ranking Report'!E101,\"\")","v":""},{"$f":"IF('CoC Renewal Ranking Report'!G101<>\"\",'CoC Renewal Ranking Report'!G101,\"\")","v":""},{"$f":"IF('CoC Renewal Ranking Report'!H101<>\"\",'CoC Renewal Ranking Report'!BR101,\"\")","v":""}]
[{"$f":"IF('CoC Renewal Ranking Report'!D102<>\"\",'CoC Renewal Ranking Report'!D102,\"\")","v":""},{"$f":"IF('CoC Renewal Ranking Report'!E102<>\"\",'CoC Renewal Ranking Report'!E102,\"\")","v":""},{"$f":"IF('CoC Renewal Ranking Report'!G102<>\"\",'CoC Renewal Ranking Report'!G102,\"\")","v":""},{"$f":"IF('CoC Renewal Ranking Report'!H102<>\"\",'CoC Renewal Ranking Report'!BR102,\"\")","v":""}]
[{"$f":"IF('CoC Renewal Ranking Report'!D103<>\"\",'CoC Renewal Ranking Report'!D103,\"\")","v":""},{"$f":"IF('CoC Renewal Ranking Report'!E103<>\"\",'CoC Renewal Ranking Report'!E103,\"\")","v":""},{"$f":"IF('CoC Renewal Ranking Report'!G103<>\"\",'CoC Renewal Ranking Report'!G103,\"\")","v":""},{"$f":"IF('CoC Renewal Ranking Report'!H103<>\"\",'CoC Renewal Ranking Report'!BR103,\"\")","v":""}]
[{"$f":"IF('CoC Renewal Ranking Report'!D104<>\"\",'CoC Renewal Ranking Report'!D104,\"\")","v":""},{"$f":"IF('CoC Renewal Ranking Report'!E104<>\"\",'CoC Renewal Ranking Report'!E104,\"\")","v":""},{"$f":"IF('CoC Renewal Ranking Report'!G104<>\"\",'CoC Renewal Ranking Report'!G104,\"\")","v":""},{"$f":"IF('CoC Renewal Ranking Report'!H104<>\"\",'CoC Renewal Ranking Report'!BR104,\"\")","v":""}]
[{"$f":"IF('CoC Renewal Ranking Report'!D105<>\"\",'CoC Renewal Ranking Report'!D105,\"\")","v":""},{"$f":"IF('CoC Renewal Ranking Report'!E105<>\"\",'CoC Renewal Ranking Report'!E105,\"\")","v":""},{"$f":"IF('CoC Renewal Ranking Report'!G105<>\"\",'CoC Renewal Ranking Report'!G105,\"\")","v":""},{"$f":"IF('CoC Renewal Ranking Report'!H105<>\"\",'CoC Renewal Ranking Report'!BR105,\"\")","v":""}]

{"sheet":"Opening Doors Goals","index":18,"n_rows":102,"n_cols":4,"rows_kept":102,"cut":false,"hidden":false,"merged":[[0,1,0,2],[2,1,4,1],[2,2,4,2]]}
[null,"Opening Doors Goal"]
[null,"Criteria","Points"]
[null,"Project targets one or more special populations: Youth, Families w/Children, Veterans or Chronically Homeless",5]
[]
[]
[]
["Agency Name","Project Name","Project Type","Score"]
[{"$f":"IF('CoC Renewal Ranking Report'!D9<>\"\",'CoC Renewal Ranking Report'!D9,\"\")","v":""},{"$f":"IF('CoC Renewal Ranking Report'!E9<>\"\",'CoC Renewal Ranking Report'!E9,\"\")","v":""},{"$f":"IF('CoC Renewal Ranking Report'!G9<>\"\",'CoC Renewal Ranking Report'!G9,\"\")","v":""},{"$f":"IF('CoC Renewal Ranking Report'!BS9<>\"\",'CoC Renewal Ranking Report'!BS9,\"\")","v":""}]
[{"$f":"IF('CoC Renewal Ranking Report'!D10<>\"\",'CoC Renewal Ranking Report'!D10,\"\")","v":"Blair County Community Action Program"},{"$f":"IF('CoC Renewal Ranking Report'!E10<>\"\",'CoC Renewal Ranking Report'!E10,\"\")","v":"Rapid Re-Housing"},{"$f":"IF('CoC Renewal Ranking Report'!G10<>\"\",'CoC Renewal Ranking Report'!G10,\"\")","v":"PH-RRH"},{"$f":"IF('CoC Renewal Ranking Report'!BS10<>\"\",'CoC Renewal Ranking Report'!BS10,\"\")","v":5}]
[{"$f":"IF('CoC Renewal Ranking Report'!D11<>\"\",'CoC Renewal Ranking Report'!D11,\"\")","v":"Cambria County"},{"$f":"IF('CoC Renewal Ranking Report'!E11<>\"\",'CoC Renewal Ranking Report'!E11,\"\")","v":"Cambria County Comprehensive Housing Program"},{"$f":"IF('CoC Renewal Ranking Report'!G11<>\"\",'CoC Renewal Ranking Report'!G11,\"\")","v":"PH"},{"$f":"IF('CoC Renewal Ranking Report'!BS11<>\"\",'CoC Renewal Ranking Report'!BS11,\"\")","v":5}]
[{"$f":"IF('CoC Renewal Ranking Report'!D12<>\"\",'CoC Renewal Ranking Report'!D12,\"\")","v":"Catholic Charities of the Diocese of Allentown"},{"$f":"IF('CoC Renewal Ranking Report'!E12<>\"\",'CoC Renewal Ranking Report'!E12,\"\")","v":"Catholic Charities Allentown Permanent Housing Program"},{"$f":"IF('CoC Renewal Ranking Report'!G12<>\"\",'CoC Renewal Ranking Report'!G12,\"\")","v":"PH"},{"$f":"IF('CoC Renewal Ranking Report'!BS12<>\"\",'CoC Renewal Ranking Report'!BS12,\"\")","v":5}]
[{"$f":"IF('CoC Renewal Ranking Report'!D13<>\"\",'CoC Renewal Ranking Report'!D13,\"\")","v":"Catholic Social Services of the Diocese of Scranton, Inc."},{"$f":"IF('CoC Renewal Ranking Report'!E13<>\"\",'CoC Renewal Ranking Report'!E13,\"\")","v":"PSHP Pike County"},{"$f":"IF('CoC Renewal Ranking Report'!G13<>\"\",'CoC Renewal Ranking Report'!G13,\"\")","v":"PH"},{"$f":"IF('CoC Renewal Ranking Report'!BS13<>\"\",'CoC Renewal Ranking Report'!BS13,\"\")","v":5}]
[{"$f":"IF('CoC Renewal Ranking Report'!D14<>\"\",'CoC Renewal Ranking Report'!D14,\"\")","v":"Catholic Social Services of the Diocese of Scranton, Inc."},{"$f":"IF('CoC Renewal Ranking Report'!E14<>\"\",'CoC Renewal Ranking Report'!E14,\"\")","v":"Rural Permanent Supportive Housing Program"},{"$f":"IF('CoC Renewal Ranking Report'!G14<>\"\",'CoC Renewal Ranking Report'!G14,\"\")","v":"PH"},{"$f":"IF('CoC Renewal Ranking Report'!BS14<>\"\",'CoC Renewal Ranking Report'!BS14,\"\")","v":5}]
[{"$f":"IF('CoC Renewal Ranking Report'!D15<>\"\",'CoC Renewal Ranking Report'!D15,\"\")","v":"Catholic Social Services of the Diocese of Scranton, Inc."},{"$f":"IF('CoC Renewal Ranking Report'!E15<>\"\",'CoC Renewal Ranking Report'!E15,\"\")","v":"Susquehanna/Wayne PSHP"},{"$f":"IF('CoC Renewal Ranking Report'!G15<>\"\",'CoC Renewal Ranking Report'!G15,\"\")","v":"PH"},{"$f":"IF('CoC Renewal Ranking Report'!BS15<>\"\",'CoC Renewal Ranking Report'!BS15,\"\")","v":5}]
[{"$f":"IF('CoC Renewal Ranking Report'!D16<>\"\",'CoC Renewal Ranking Report'!D16,\"\")","v":"Center for Community Action"},{"$f":"IF('CoC Renewal Ranking Report'!E16<>\"\",'CoC Renewal Ranking Report'!E16,\"\")","v":"Bedford,Fulton, Huntingdon RRH"},{"$f":"IF('CoC Renewal Ranking Report'!G16<>\"\",'CoC Renewal Ranking Report'!G16,\"\")","v":"PH-RRH"},{"$f":"IF('CoC Renewal Ranking Report'!BS16<>\"\",'CoC Renewal Ranking Report'!BS16,\"\")","v":5}]
[{"$f":"IF('CoC Renewal Ranking Report'!D17<>\"\",'CoC Renewal Ranking Report'!D17,\"\")","v":"County of Franklin"},{"$f":"IF('CoC Renewal Ranking Report'!E17<>\"\",'CoC Renewal Ranking Report'!E17,\"\")","v":"Franklin/ Fulton S+C Project 2017"},{"$f":"IF('CoC Renewal Ranking Report'!G17<>\"\",'CoC Renewal Ranking Report'!G17,\"\")","v":"PH"},{"$f":"IF('CoC Renewal Ranking Report'!BS17<>\"\",'CoC Renewal Ranking Report'!BS17,\"\")","v":5}]
[{"$f":"IF('CoC Renewal Ranking Report'!D18<>\"\",'CoC Renewal Ranking Report'!D18,\"\")","v":"County of Franklin"},{"$f":"IF('CoC Renewal Ranking Report'!E18<>\"\",'CoC Renewal Ranking Report'!E18,\"\")","v":"Franklin/Fulton Homeless Assistance Project 2017"},{"$f":"IF('CoC Renewal Ranking Report'!G18<>\"\",'CoC Renewal Ranking Report'!G18,\"\")","v":"PH"},{"$f":"IF('CoC Renewal Ranking Report'!BS18<>\"\",'CoC Renewal Ranking Report'!BS18,\"\")","v":5}]
[{"$f":"IF('CoC Renewal Ranking Report'!D19<>\"\",'CoC Renewal Ranking Report'!D19,\"\")","v":"County of Lycoming DBA Lycoming- Clinton Joinder Board"},{"$f":"IF('CoC Renewal Ranking Report'!E19<>\"\",'CoC Renewal Ranking Report'!E19,\"\")","v":"Lycoming/Clinton Renewal #5"},{"$f":"IF('CoC Renewal Ranking Report'!G19<>\"\",'CoC Renewal Ranking Report'!G19,\"\")","v":"PH"},{"$f":"IF('CoC Renewal Ranking Report'!BS19<>\"\",'CoC Renewal Ranking Report'!BS19,\"\")","v":5}]
[{"$f":"IF('CoC Renewal Ranking Report'!D20<>\"\",'CoC Renewal Ranking Report'!D20,\"\")","v":"Fitzmaurice Community Services, Inc"},{"$f":"IF('CoC Renewal Ranking Report'!E20<>\"\",'CoC Renewal Ranking Report'!E20,\"\")","v":"Pathfinders"},{"$f":"IF('CoC Renewal Ranking Report'!G20<>\"\",'CoC Renewal Ranking Report'!G20,\"\")","v":"PH"},{"$f":"IF('CoC Renewal Ranking Report'!BS20<>\"\",'CoC Renewal Ranking Report'!BS20,\"\")","v":5}]
[{"$f":"IF('CoC Renewal Ranking Report'!D21<>\"\",'CoC Renewal Ranking Report'!D21,\"\")","v":"Home Nursing AgencyCommunity Services"},{"$f":"IF('CoC Renewal Ranking Report'!E21<>\"\",'CoC Renewal Ranking Report'!E21,\"\")","v":"Housing Assistance and Rental Program"},{"$f":"IF('CoC Renewal Ranking Report'!G21<>\"\",'CoC Renewal Ranking Report'!G21,\"\")","v":"PH"},{"$f":"IF('CoC Renewal Ranking Report'!BS21<>\"\",'CoC Renewal Ranking Report'!BS21,\"\")","v":5}]
[{"$f":"IF('CoC Renewal Ranking Report'!D22<>\"\",'CoC Renewal Ranking Report'!D22,\"\")","v":"Housing Authority of Monroe County"},{"$f":"IF('CoC Renewal Ranking Report'!E22<>\"\",'CoC Renewal Ranking Report'!E22,\"\")","v":"Renewal Application Shelter Plus Care MC 2016"},{"$f":"IF('CoC Renewal Ranking Report'!G22<>\"\",'CoC Renewal Ranking Report'!G22,\"\")","v":"PH"},{"$f":"IF('CoC Renewal Ranking Report'!BS22<>\"\",'CoC Renewal Ranking Report'!BS22,\"\")","v":5}]
[{"$f":"IF('CoC Renewal Ranking Report'!D23<>\"\",'CoC Renewal Ranking Report'!D23,\"\")","v":"Housing Authority of the County of Cumberland"},{"$f":"IF('CoC Renewal Ranking Report'!E23<>\"\",'CoC Renewal Ranking Report'!E23,\"\")","v":"Carlisle Supportive Housing Program"},{"$f":"IF('CoC Renewal Ranking Report'!G23<>\"\",'CoC Renewal Ranking Report'!G23,\"\")","v":"PH"},{"$f":"IF('CoC Renewal Ranking Report'!BS23<>\"\",'CoC Renewal Ranking Report'!BS23,\"\")","v":5}]
[{"$f":"IF('CoC Renewal Ranking Report'!D24<>\"\",'CoC Renewal Ranking Report'!D24,\"\")","v":"Housing Authority of the County of Cumberland"},{"$f":"IF('CoC Renewal Ranking Report'!E24<>\"\",'CoC Renewal Ranking Report'!E24,\"\")","v":"Perry County Permanent SHP"},{"$f":"IF('CoC Renewal Ranking Report'!G24<>\"\",'CoC Renewal Ranking Report'!G24,\"\")","v":"PH"},{"$f":"IF('CoC Renewal Ranking Report'!BS24<>\"\",'CoC Renewal Ranking Report'!BS24,\"\")","v":5}]
[{"$f":"IF('CoC Renewal Ranking Report'!D25<>\"\",'CoC Renewal Ranking Report'!D25,\"\")","v":"Housing Authority of the County of Cumberland"},{"$f":"IF('CoC Renewal Ranking Report'!E25<>\"\",'CoC Renewal Ranking Report'!E25,\"\")","v":"Perry County Transitional II"},{"$f":"IF('CoC Renewal Ranking Report'!G25<>\"\",'CoC Renewal Ranking Report'!G25,\"\")","v":"PH-RRH"},{"$f":"IF('CoC Renewal Ranking Report'!BS25<>\"\",'CoC Renewal Ranking Report'!BS25,\"\")","v":0}]
[{"$f":"IF('CoC Renewal Ranking Report'!D26<>\"\",'CoC Renewal Ranking Report'!D26,\"\")","v":"Housing Authority of the County of Cumberland"},{"$f":"IF('CoC Renewal Ranking Report'!E26<>\"\",'CoC Renewal Ranking Report'!E26,\"\")","v":"Perry County Veterans Program"},{"$f":"IF('CoC Renewal Ranking Report'!G26<>\"\",'CoC Renewal Ranking Report'!G26,\"\")","v":"PH"},{"$f":"IF('CoC Renewal Ranking Report'!BS26<>\"\",'CoC Renewal Ranking Report'!BS26,\"\")","v":5}]
[{"$f":"IF('CoC Renewal Ranking Report'!D27<>\"\",'CoC Renewal Ranking Report'!D27,\"\")","v":"Housing Authority of the County of Cumberland"},{"$f":"IF('CoC Renewal Ranking Report'!E27<>\"\",'CoC Renewal Ranking Report'!E27,\"\")","v":"Rapid Rehousing II"},{"$f":"IF('CoC Renewal Ranking Report'!G27<>\"\",'CoC Renewal Ranking Report'!G27,\"\")","v":"PH-RRH"},{"$f":"IF('CoC Renewal Ranking Report'!BS27<>\"\",'CoC Renewal Ranking Report'!BS27,\"\")","v":5}]
[{"$f":"IF('CoC Renewal Ranking Report'!D28<>\"\",'CoC Renewal Ranking Report'!D28,\"\")","v":"Housing Authority of the County of Cumberland"},{"$f":"IF('CoC Renewal Ranking Report'!E28<>\"\",'CoC Renewal Ranking Report'!E28,\"\")","v":"Safe Harbour SHP"},{"$f":"IF('CoC Renewal Ranking Report'!G28<>\"\",'CoC Renewal Ranking Report'!G28,\"\")","v":"PH"},{"$f":"IF('CoC Renewal Ranking Report'!BS28<>\"\",'CoC Renewal Ranking Report'!BS28,\"\")","v":0}]
[{"$f":"IF('CoC Renewal Ranking Report'!D29<>\"\",'CoC Renewal Ranking Report'!D29,\"\")","v":"Housing Authority of the County of Cumberland"},{"$f":"IF('CoC Renewal Ranking Report'!E29<>\"\",'CoC Renewal Ranking Report'!E29,\"\")","v":"Shelter + Care Chronic"},{"$f":"IF('CoC Renewal Ranking Report'!G29<>\"\",'CoC Renewal Ranking Report'!G29,\"\")","v":"PH"},{"$f":"IF('CoC Renewal Ranking Report'!BS29<>\"\",'CoC Renewal Ranking Report'!BS29,\"\")","v":5}]
[{"$f":"IF('CoC Renewal Ranking Report'!D30<>\"\",'CoC Renewal Ranking Report'!D30,\"\")","v":"Housing Authority of the County of Cumberland"},{"$f":"IF('CoC Renewal Ranking Report'!E30<>\"\",'CoC Renewal Ranking Report'!E30,\"\")","v":"Shelter + Care Non-Chronic"},{"$f":"IF('CoC Renewal Ranking Report'!G30<>\"\",'CoC Renewal Ranking Report'!G30,\"\")","v":"PH"},{"$f":"IF('CoC Renewal Ranking Report'!BS30<>\"\",'CoC Renewal Ranking Report'!BS30,\"\")","v":5}]
[{"$f":"IF('CoC Renewal Ranking Report'!D31<>\"\",'CoC Renewal Ranking Report'!D31,\"\")","v":"Housing Authority of the County of Cumberland"},{"$f":"IF('CoC Renewal Ranking Report'!E31<>\"\",'CoC Renewal Ranking Report'!E31,\"\")","v":"West Shore SHP I"},{"$f":"IF('CoC Renewal Ranking Report'!G31<>\"\",'CoC Renewal Ranking Report'!G31,\"\")","v":"PH"},{"$f":"IF('CoC Renewal Ranking Report'!BS31<>\"\",'CoC Renewal Ranking Report'!BS31,\"\")","v":5}]
[{"$f":"IF('CoC Renewal Ranking Report'!D32<>\"\",'CoC Renewal Ranking Report'!D32,\"\")","v":"Housing Authority of the County of Cumberland"},{"$f":"IF('CoC Renewal Ranking Report'!E32<>\"\",'CoC Renewal Ranking Report'!E32,\"\")","v":"West Shore SHP II"},{"$f":"IF('CoC Renewal Ranking Report'!G32<>\"\",'CoC Renewal Ranking Report'!G32,\"\")","v":"PH"},{"$f":"IF('CoC Renewal Ranking Report'!BS32<>\"\",'CoC Renewal Ranking Report'!BS32,\"\")","v":5}]
[{"$f":"IF('CoC Renewal Ranking Report'!D33<>\"\",'CoC Renewal Ranking Report'!D33,\"\")","v":"Housing Development Corporation of NEPA"},{"$f":"IF('CoC Renewal Ranking Report'!E33<>\"\",'CoC Renewal Ranking Report'!E33,\"\")","v":"HDC SHP 3 2016"},{"$f":"IF('CoC Renewal Ranking Report'!G33<>\"\",'CoC Renewal Ranking Report'!G33,\"\")","v":"PH"},{"$f":"IF('CoC Renewal Ranking Report'!BS33<>\"\",'CoC Renewal Ranking Report'!BS33,\"\")","v":0}]
[{"$f":"IF('CoC Renewal Ranking Report'!D34<>\"\",'CoC Renewal Ranking Report'!D34,\"\")","v":"Housing Development Corporation of NEPA"},{"$f":"IF('CoC Renewal Ranking Report'!E34<>\"\",'CoC Renewal Ranking Report'!E34,\"\")","v":"HDC SHP 6 2016"},{"$f":"IF('CoC Renewal Ranking Report'!G34<>\"\",'CoC Renewal Ranking Report'!G34,\"\")","v":"PH"},{"$f":"IF('CoC Renewal Ranking Report'!BS34<>\"\",'CoC Renewal Ranking Report'!BS34,\"\")","v":5}]
[{"$f":"IF('CoC Renewal Ranking Report'!D35<>\"\",'CoC Renewal Ranking Report'!D35,\"\")","v":"Housing Transitions, Inc."},{"$f":"IF('CoC Renewal Ranking Report'!E35<>\"\",'CoC Renewal Ranking Report'!E35,\"\")","v":"Nittany House Apartments"},{"$f":"IF('CoC Renewal Ranking Report'!G35<>\"\",'CoC Renewal Ranking Report'!G35,\"\")","v":"PH"},{"$f":"IF('CoC Renewal Ranking Report'!BS35<>\"\",'CoC Renewal Ranking Report'!BS35,\"\")","v":5}]
[{"$f":"IF('CoC Renewal Ranking Report'!D36<>\"\",'CoC Renewal Ranking Report'!D36,\"\")","v":"Lehigh County Conference of Churches"},{"$f":"IF('CoC Renewal Ranking Report'!E36<>\"\",'CoC Renewal Ranking Report'!E36,\"\")","v":"Outreach and Case Management for the Disabled, Chronically Homeless"},{"$f":"IF('CoC Renewal Ranking Report'!G36<>\"\",'CoC Renewal Ranking Report'!G36,\"\")","v":"SSO"},{"$f":"IF('CoC Renewal Ranking Report'!BS36<>\"\",'CoC Renewal Ranking Report'!BS36,\"\")","v":5}]
[{"$f":"IF('CoC Renewal Ranking Report'!D37<>\"\",'CoC Renewal Ranking Report'!D37,\"\")","v":"Lehigh County Conference of Churches"},{"$f":"IF('CoC Renewal Ranking Report'!E37<>\"\",'CoC Renewal Ranking Report'!E37,\"\")","v":"Pathways Housing"},{"$f":"IF('CoC Renewal Ranking Report'!G37<>\"\",'CoC Renewal Ranking Report'!G37,\"\")","v":"PH"},{"$f":"IF('CoC Renewal Ranking Report'!BS37<>\"\",'CoC Renewal Ranking Report'!BS37,\"\")","v":5}]
[{"$f":"IF('CoC Renewal Ranking Report'!D38<>\"\",'CoC Renewal Ranking Report'!D38,\"\")","v":"Lehigh County Conference of Churches"},{"$f":"IF('CoC Renewal Ranking Report'!E38<>\"\",'CoC Renewal Ranking Report'!E38,\"\")","v":"Pathways Housing 2"},{"$f":"IF('CoC Renewal Ranking Report'!G38<>\"\",'CoC Renewal Ranking Report'!G38,\"\")","v":"PH"},{"$f":"IF('CoC Renewal Ranking Report'!BS38<>\"\",'CoC Renewal Ranking Report'!BS38,\"\")","v":5}]
[{"$f":"IF('CoC Renewal Ranking Report'!D39<>\"\",'CoC Renewal Ranking Report'!D39,\"\")","v":"Lehigh County Conference of Churches"},{"$f":"IF('CoC Renewal Ranking Report'!E39<>\"\",'CoC Renewal Ranking Report'!E39,\"\")","v":"Pathways TBRA for Families, Youth and Veterans"},{"$f":"IF('CoC Renewal Ranking Report'!G39<>\"\",'CoC Renewal Ranking Report'!G39,\"\")","v":"PH"},{"$f":"IF('CoC Renewal Ranking Report'!BS39<>\"\",'CoC Renewal Ranking Report'!BS39,\"\")","v":5}]
[{"$f":"IF('CoC Renewal Ranking Report'!D40<>\"\",'CoC Renewal Ranking Report'!D40,\"\")","v":"Lehigh County Conference of Churches"},{"$f":"IF('CoC Renewal Ranking Report'!E40<>\"\",'CoC Renewal Ranking Report'!E40,\"\")","v":"Tenant-Based Rental Assistance for the Disabled,Chronically Homeless"},{"$f":"IF('CoC Renewal Ranking Report'!G40<>\"\",'CoC Renewal Ranking Report'!G40,\"\")","v":"PH"},{"$f":"IF('CoC Renewal Ranking Report'!BS40<>\"\",'CoC Renewal Ranking Report'!BS40,\"\")","v":5}]
[{"$f":"IF('CoC Renewal Ranking Report'!D41<>\"\",'CoC Renewal Ranking Report'!D41,\"\")","v":"Lehigh County Housing Authority"},{"$f":"IF('CoC Renewal Ranking Report'!E41<>\"\",'CoC Renewal Ranking Report'!E41,\"\")","v":"LCHA S+C 2016"},{"$f":"IF('CoC Renewal Ranking Report'!G41<>\"\",'CoC Renewal Ranking Report'!G41,\"\")","v":"PH"},{"$f":"IF('CoC Renewal Ranking Report'!BS41<>\"\",'CoC Renewal Ranking Report'!BS41,\"\")","v":0}]
[{"$f":"IF('CoC Renewal Ranking Report'!D42<>\"\",'CoC Renewal Ranking Report'!D42,\"\")","v":"Maranatha"},{"$f":"IF('CoC Renewal Ranking Report'!E42<>\"\",'CoC Renewal Ranking Report'!E42,\"\")","v":"TOTAL PERSON TRANSITIONAL PROGRAM 1 & 2"},{"$f":"IF('CoC Renewal Ranking Report'!G42<>\"\",'CoC Renewal Ranking Report'!G42,\"\")","v":"PH-RRH"},{"$f":"IF('CoC Renewal Ranking Report'!BS42<>\"\",'CoC Renewal Ranking Report'!BS42,\"\")","v":5}]
[{"$f":"IF('CoC Renewal Ranking Report'!D43<>\"\",'CoC Renewal Ranking Report'!D43,\"\")","v":"Mifflin County"},{"$f":"IF('CoC Renewal Ranking Report'!E43<>\"\",'CoC Renewal Ranking Report'!E43,\"\")","v":"Mifflin County Permanent Housing Renewal"},{"$f":"IF('CoC Renewal Ranking Report'!G43<>\"\",'CoC Renewal Ranking Report'!G43,\"\")","v":"PH"},{"$f":"IF('CoC Renewal Ranking Report'!BS43<>\"\",'CoC Renewal Ranking Report'!BS43,\"\")","v":5}]
[{"$f":"IF('CoC Renewal Ranking Report'!D44<>\"\",'CoC Renewal Ranking Report'!D44,\"\")","v":"Northampton County Housing Authority"},{"$f":"IF('CoC Renewal Ranking Report'!E44<>\"\",'CoC Renewal Ranking Report'!E44,\"\")","v":"NCHA S+C 2016"},{"$f":"IF('CoC Renewal Ranking Report'!G44<>\"\",'CoC Renewal Ranking Report'!G44,\"\")","v":"PH"},{"$f":"IF('CoC Renewal Ranking Report'!BS44<>\"\",'CoC Renewal Ranking Report'!BS44,\"\")","v":0}]
[{"$f":"IF('CoC Renewal Ranking Report'!D45<>\"\",'CoC Renewal Ranking Report'!D45,\"\")","v":"Northern Cambria Community Development Corporation"},{"$f":"IF('CoC Renewal Ranking Report'!E45<>\"\",'CoC Renewal Ranking Report'!E45,\"\")","v":"Independence Gardens"},{"$f":"IF('CoC Renewal Ranking Report'!G45<>\"\",'CoC Renewal Ranking Report'!G45,\"\")","v":"PH"},{"$f":"IF('CoC Renewal Ranking Report'!BS45<>\"\",'CoC Renewal Ranking Report'!BS45,\"\")","v":5}]
[{"$f":"IF('CoC Renewal Ranking Report'!D46<>\"\",'CoC Renewal Ranking Report'!D46,\"\")","v":"Northern Cambria Community Development Corporation"},{"$f":"IF('CoC Renewal Ranking Report'!E46<>\"\",'CoC Renewal Ranking Report'!E46,\"\")","v":"Schoolhouse Gardens"},{"$f":"IF('CoC Renewal Ranking Report'!G46<>\"\",'CoC Renewal Ranking Report'!G46,\"\")","v":"PH"},{"$f":"IF('CoC Renewal Ranking Report'!BS46<>\"\",'CoC Renewal Ranking Report'!BS46,\"\")","v":5}]
[{"$f":"IF('CoC Renewal Ranking Report'!D47<>\"\",'CoC Renewal Ranking Report'!D47,\"\")","v":"Northumberland County MH/MR"},{"$f":"IF('CoC Renewal Ranking Report'!E47<>\"\",'CoC Renewal Ranking Report'!E47,\"\")","v":"Sharing Support"},{"$f":"IF('CoC Renewal Ranking Report'!G47<>\"\",'CoC Renewal Ranking Report'!G47,\"\")","v":"PH"},{"$f":"IF('CoC Renewal Ranking Report'!BS47<>\"\",'CoC Renewal Ranking Report'!BS47,\"\")","v":5}]
[{"$f":"IF('CoC Renewal Ranking Report'!D48<>\"\",'CoC Renewal Ranking Report'!D48,\"\")","v":"Resources for Human Development, Inc."},{"$f":"IF('CoC Renewal Ranking Report'!E48<>\"\",'CoC Renewal Ranking Report'!E48,\"\")","v":"Crossroads Family"},{"$f":"IF('CoC Renewal Ranking Report'!G48<>\"\",'CoC Renewal Ranking Report'!G48,\"\")","v":"PH"},{"$f":"IF('CoC Renewal Ranking Report'!BS48<>\"\",'CoC Renewal Ranking Report'!BS48,\"\")","v":5}]
[{"$f":"IF('CoC Renewal Ranking Report'!D49<>\"\",'CoC Renewal Ranking Report'!D49,\"\")","v":"Resources for Human Development, Inc."},{"$f":"IF('CoC Renewal Ranking Report'!E49<>\"\",'CoC Renewal Ranking Report'!E49,\"\")","v":"Crossroads Housing Bonus"},{"$f":"IF('CoC Renewal Ranking Report'!G49<>\"\",'CoC Renewal Ranking Report'!G49,\"\")","v":"PH"},{"$f":"IF('CoC Renewal Ranking Report'!BS49<>\"\",'CoC Renewal Ranking Report'!BS49,\"\")","v":5}]
[{"$f":"IF('CoC Renewal Ranking Report'!D50<>\"\",'CoC Renewal Ranking Report'!D50,\"\")","v":"Resources for Human Development, Inc."},{"$f":"IF('CoC Renewal Ranking Report'!E50<>\"\",'CoC Renewal Ranking Report'!E50,\"\")","v":"Crossroads Individual"},{"$f":"IF('CoC Renewal Ranking Report'!G50<>\"\",'CoC Renewal Ranking Report'!G50,\"\")","v":"PH"},{"$f":"IF('CoC Renewal Ranking Report'!BS50<>\"\",'CoC Renewal Ranking Report'!BS50,\"\")","v":5}]
[{"$f":"IF('CoC Renewal Ranking Report'!D51<>\"\",'CoC Renewal Ranking Report'!D51,\"\")","v":"Resources for Human Development, Inc."},{"$f":"IF('CoC Renewal Ranking Report'!E51<>\"\",'CoC Renewal Ranking Report'!E51,\"\")","v":"Crossroads Schuylkill Co. Permanent Supportive Housing"},{"$f":"IF('CoC Renewal Ranking Report'!G51<>\"\",'CoC Renewal Ranking Report'!G51,\"\")","v":"PH"},{"$f":"IF('CoC Renewal Ranking Report'!BS51<>\"\",'CoC Renewal Ranking Report'!BS51,\"\")","v":5}]
[{"$f":"IF('CoC Renewal Ranking Report'!D52<>\"\",'CoC Renewal Ranking Report'!D52,\"\")","v":"Resources for Human Development, Inc."},{"$f":"IF('CoC Renewal Ranking Report'!E52<>\"\",'CoC Renewal Ranking Report'!E52,\"\")","v":"LV ACT Housing Supports"},{"$f":"IF('CoC Renewal Ranking Report'!G52<>\"\",'CoC Renewal Ranking Report'!G52,\"\")","v":"PH"},{"$f":"IF('CoC Renewal Ranking Report'!BS52<>\"\",'CoC Renewal Ranking Report'!BS52,\"\")","v":5}]
[{"$f":"IF('CoC Renewal Ranking Report'!D53<>\"\",'CoC Renewal Ranking Report'!D53,\"\")","v":"Tableland Services, Inc."},{"$f":"IF('CoC Renewal Ranking Report'!E53<>\"\",'CoC Renewal Ranking Report'!E53,\"\")","v":"Permanent Housing with Disabilities (SHP)"},{"$f":"IF('CoC Renewal Ranking Report'!G53<>\"\",'CoC Renewal Ranking Report'!G53,\"\")","v":"PH"},{"$f":"IF('CoC Renewal Ranking Report'!BS53<>\"\",'CoC Renewal Ranking Report'!BS53,\"\")","v":5}]
[{"$f":"IF('CoC Renewal Ranking Report'!D54<>\"\",'CoC Renewal Ranking Report'!D54,\"\")","v":"Tableland Services, Inc."},{"$f":"IF('CoC Renewal Ranking Report'!E54<>\"\",'CoC Renewal Ranking Report'!E54,\"\")","v":"Permanent Supportive Housing CH Project"},{"$f":"IF('CoC Renewal Ranking Report'!G54<>\"\",'CoC Renewal Ranking Report'!G54,\"\")","v":"PH"},{"$f":"IF('CoC Renewal Ranking Report'!BS54<>\"\",'CoC Renewal Ranking Report'!BS54,\"\")","v":5}]
[{"$f":"IF('CoC Renewal Ranking Report'!D55<>\"\",'CoC Renewal Ranking Report'!D55,\"\")","v":"The Salvation Army, a New York Corporation"},{"$f":"IF('CoC Renewal Ranking Report'!E55<>\"\",'CoC Renewal Ranking Report'!E55,\"\")","v":"Allentown Hospitality House Permanent Housing Program"},{"$f":"IF('CoC Renewal Ranking Report'!G55<>\"\",'CoC Renewal Ranking Report'!G55,\"\")","v":"PH"},{"$f":"IF('CoC Renewal Ranking Report'!BS55<>\"\",'CoC Renewal Ranking Report'!BS55,\"\")","v":5}]
[{"$f":"IF('CoC Renewal Ranking Report'!D56<>\"\",'CoC Renewal Ranking Report'!D56,\"\")","v":"The Salvation Army, a New York Corporation"},{"$f":"IF('CoC Renewal Ranking Report'!E56<>\"\",'CoC Renewal Ranking Report'!E56,\"\")","v":"Salvation Army Carlisle PH Project"},{"$f":"IF('CoC Renewal Ranking Report'!G56<>\"\",'CoC Renewal Ranking Report'!G56,\"\")","v":"PH"},{"$f":"IF('CoC Renewal Ranking Report'!BS56<>\"\",'CoC Renewal Ranking Report'!BS56,\"\")","v":5}]
[{"$f":"IF('CoC Renewal Ranking Report'!D57<>\"\",'CoC Renewal Ranking Report'!D57,\"\")","v":"Union-Snyder Community Action Agency"},{"$f":"IF('CoC Renewal Ranking Report'!E57<>\"\",'CoC Renewal Ranking Report'!E57,\"\")","v":"Union-Snyder Rapid ReHousing Program"},{"$f":"IF('CoC Renewal Ranking Report'!G57<>\"\",'CoC Renewal Ranking Report'!G57,\"\")","v":"PH-RRH"},{"$f":"IF('CoC Renewal Ranking Report'!BS57<>\"\",'CoC Renewal Ranking Report'!BS57,\"\")","v":0}]
[{"$f":"IF('CoC Renewal Ranking Report'!D58<>\"\",'CoC Renewal Ranking Report'!D58,\"\")","v":"United Christian Ministries"},{"$f":"IF('CoC Renewal Ranking Report'!E58<>\"\",'CoC Renewal Ranking Report'!E58,\"\")","v":"Kenner Garnet Renewal 2016"},{"$f":"IF('CoC Renewal Ranking Report'!G58<>\"\",'CoC Renewal Ranking Report'!G58,\"\")","v":"PH"},{"$f":"IF('CoC Renewal Ranking Report'!BS58<>\"\",'CoC Renewal Ranking Report'!BS58,\"\")","v":0}]
[{"$f":"IF('CoC Renewal Ranking Report'!D59<>\"\",'CoC Renewal Ranking Report'!D59,\"\")","v":"Valley Housing Development Corporation "},{"$f":"IF('CoC Renewal Ranking Report'!E59<>\"\",'CoC Renewal Ranking Report'!E59,\"\")","v":"VHDC SHP #2 2016"},{"$f":"IF('CoC Renewal Ranking Report'!G59<>\"\",'CoC Renewal Ranking Report'!G59,\"\")","v":"PH"},{"$f":"IF('CoC Renewal Ranking Report'!BS59<>\"\",'CoC Renewal Ranking Report'!BS59,\"\")","v":0}]
[{"$f":"IF('CoC Renewal Ranking Report'!D60<>\"\",'CoC Renewal Ranking Report'!D60,\"\")","v":"Valley Housing Development Corporation "},{"$f":"IF('CoC Renewal Ranking Report'!E60<>\"\",'CoC Renewal Ranking Report'!E60,\"\")","v":"VHDC SHP #3 2016"},{"$f":"IF('CoC Renewal Ranking Report'!G60<>\"\",'CoC Renewal Ranking Report'!G60,\"\")","v":"PH"},{"$f":"IF('CoC Renewal Ranking Report'!BS60<>\"\",'CoC Renewal Ranking Report'!BS60,\"\")","v":0}]
[{"$f":"IF('CoC Renewal Ranking Report'!D61<>\"\",'CoC Renewal Ranking Report'!D61,\"\")","v":"Valley Housing Development Corporation "},{"$f":"IF('CoC Renewal Ranking Report'!E61<>\"\",'CoC Renewal Ranking Report'!E61,\"\")","v":"VHDC SHP #4 2016"},{"$f":"IF('CoC Renewal Ranking Report'!G61<>\"\",'CoC Renewal Ranking Report'!G61,\"\")","v":"PH"},{"$f":"IF('CoC Renewal Ranking Report'!BS61<>\"\",'CoC Renewal Ranking Report'!BS61,\"\")","v":0}]
[{"$f":"IF('CoC Renewal Ranking Report'!D62<>\"\",'CoC Renewal Ranking Report'!D62,\"\")","v":""},{"$f":"IF('CoC Renewal Ranking Report'!E62<>\"\",'CoC Renewal Ranking Report'!E62,\"\")","v":""},{"$f":"IF('CoC Renewal Ranking Report'!G62<>\"\",'CoC Renewal Ranking Report'!G62,\"\")","v":""},{"$f":"IF('CoC Renewal Ranking Report'!BS62<>\"\",'CoC Renewal Ranking Report'!BS62,\"\")","v":""}]
[{"$f":"IF('CoC Renewal Ranking Report'!D63<>\"\",'CoC Renewal Ranking Report'!D63,\"\")","v":""},{"$f":"IF('CoC Renewal Ranking Report'!E63<>\"\",'CoC Renewal Ranking Report'!E63,\"\")","v":""},{"$f":"IF('CoC Renewal Ranking Report'!G63<>\"\",'CoC Renewal Ranking Report'!G63,\"\")","v":""},{"$f":"IF('CoC Renewal Ranking Report'!BS63<>\"\",'CoC Renewal Ranking Report'!BS63,\"\")","v":""}]
[{"$f":"IF('CoC Renewal Ranking Report'!D64<>\"\",'CoC Renewal Ranking Report'!D64,\"\")","v":""},{"$f":"IF('CoC Renewal Ranking Report'!E64<>\"\",'CoC Renewal Ranking Report'!E64,\"\")","v":""},{"$f":"IF('CoC Renewal Ranking Report'!G64<>\"\",'CoC Renewal Ranking Report'!G64,\"\")","v":""},{"$f":"IF('CoC Renewal Ranking Report'!BS64<>\"\",'CoC Renewal Ranking Report'!BS64,\"\")","v":""}]
[{"$f":"IF('CoC Renewal Ranking Report'!D65<>\"\",'CoC Renewal Ranking Report'!D65,\"\")","v":""},{"$f":"IF('CoC Renewal Ranking Report'!E65<>\"\",'CoC Renewal Ranking Report'!E65,\"\")","v":""},{"$f":"IF('CoC Renewal Ranking Report'!G65<>\"\",'CoC Renewal Ranking Report'!G65,\"\")","v":""},{"$f":"IF('CoC Renewal Ranking Report'!BS65<>\"\",'CoC Renewal Ranking Report'!BS65,\"\")","v":""}]
[{"$f":"IF('CoC Renewal Ranking Report'!D66<>\"\",'CoC Renewal Ranking Report'!D66,\"\")","v":""},{"$f":"IF('CoC Renewal Ranking Report'!E66<>\"\",'CoC Renewal Ranking Report'!E66,\"\")","v":""},{"$f":"IF('CoC Renewal Ranking Report'!G66<>\"\",'CoC Renewal Ranking Report'!G66,\"\")","v":""},{"$f":"IF('CoC Renewal Ranking Report'!BS66<>\"\",'CoC Renewal Ranking Report'!BS66,\"\")","v":""}]
[{"$f":"IF('CoC Renewal Ranking Report'!D67<>\"\",'CoC Renewal Ranking Report'!D67,\"\")","v":""},{"$f":"IF('CoC Renewal Ranking Report'!E67<>\"\",'CoC Renewal Ranking Report'!E67,\"\")","v":""},{"$f":"IF('CoC Renewal Ranking Report'!G67<>\"\",'CoC Renewal Ranking Report'!G67,\"\")","v":""},{"$f":"IF('CoC Renewal Ranking Report'!BS67<>\"\",'CoC Renewal Ranking Report'!BS67,\"\")","v":""}]
[{"$f":"IF('CoC Renewal Ranking Report'!D68<>\"\",'CoC Renewal Ranking Report'!D68,\"\")","v":""},{"$f":"IF('CoC Renewal Ranking Report'!E68<>\"\",'CoC Renewal Ranking Report'!E68,\"\")","v":""},{"$f":"IF('CoC Renewal Ranking Report'!G68<>\"\",'CoC Renewal Ranking Report'!G68,\"\")","v":""},{"$f":"IF('CoC Renewal Ranking Report'!BS68<>\"\",'CoC Renewal Ranking Report'!BS68,\"\")","v":""}]
[{"$f":"IF('CoC Renewal Ranking Report'!D69<>\"\",'CoC Renewal Ranking Report'!D69,\"\")","v":""},{"$f":"IF('CoC Renewal Ranking Report'!E69<>\"\",'CoC Renewal Ranking Report'!E69,\"\")","v":""},{"$f":"IF('CoC Renewal Ranking Report'!G69<>\"\",'CoC Renewal Ranking Report'!G69,\"\")","v":""},{"$f":"IF('CoC Renewal Ranking Report'!BS69<>\"\",'CoC Renewal Ranking Report'!BS69,\"\")","v":""}]
[{"$f":"IF('CoC Renewal Ranking Report'!D70<>\"\",'CoC Renewal Ranking Report'!D70,\"\")","v":""},{"$f":"IF('CoC Renewal Ranking Report'!E70<>\"\",'CoC Renewal Ranking Report'!E70,\"\")","v":""},{"$f":"IF('CoC Renewal Ranking Report'!G70<>\"\",'CoC Renewal Ranking Report'!G70,\"\")","v":""},{"$f":"IF('CoC Renewal Ranking Report'!BS70<>\"\",'CoC Renewal Ranking Report'!BS70,\"\")","v":""}]
[{"$f":"IF('CoC Renewal Ranking Report'!D71<>\"\",'CoC Renewal Ranking Report'!D71,\"\")","v":""},{"$f":"IF('CoC Renewal Ranking Report'!E71<>\"\",'CoC Renewal Ranking Report'!E71,\"\")","v":""},{"$f":"IF('CoC Renewal Ranking Report'!G71<>\"\",'CoC Renewal Ranking Report'!G71,\"\")","v":""},{"$f":"IF('CoC Renewal Ranking Report'!BS71<>\"\",'CoC Renewal Ranking Report'!BS71,\"\")","v":""}]
[{"$f":"IF('CoC Renewal Ranking Report'!D72<>\"\",'CoC Renewal Ranking Report'!D72,\"\")","v":""},{"$f":"IF('CoC Renewal Ranking Report'!E72<>\"\",'CoC Renewal Ranking Report'!E72,\"\")","v":""},{"$f":"IF('CoC Renewal Ranking Report'!G72<>\"\",'CoC Renewal Ranking Report'!G72,\"\")","v":""},{"$f":"IF('CoC Renewal Ranking Report'!BS72<>\"\",'CoC Renewal Ranking Report'!BS72,\"\")","v":""}]
[{"$f":"IF('CoC Renewal Ranking Report'!D73<>\"\",'CoC Renewal Ranking Report'!D73,\"\")","v":""},{"$f":"IF('CoC Renewal Ranking Report'!E73<>\"\",'CoC Renewal Ranking Report'!E73,\"\")","v":""},{"$f":"IF('CoC Renewal Ranking Report'!G73<>\"\",'CoC Renewal Ranking Report'!G73,\"\")","v":""},{"$f":"IF('CoC Renewal Ranking Report'!BS73<>\"\",'CoC Renewal Ranking Report'!BS73,\"\")","v":""}]
[{"$f":"IF('CoC Renewal Ranking Report'!D74<>\"\",'CoC Renewal Ranking Report'!D74,\"\")","v":""},{"$f":"IF('CoC Renewal Ranking Report'!E74<>\"\",'CoC Renewal Ranking Report'!E74,\"\")","v":""},{"$f":"IF('CoC Renewal Ranking Report'!G74<>\"\",'CoC Renewal Ranking Report'!G74,\"\")","v":""},{"$f":"IF('CoC Renewal Ranking Report'!BS74<>\"\",'CoC Renewal Ranking Report'!BS74,\"\")","v":""}]
[{"$f":"IF('CoC Renewal Ranking Report'!D75<>\"\",'CoC Renewal Ranking Report'!D75,\"\")","v":""},{"$f":"IF('CoC Renewal Ranking Report'!E75<>\"\",'CoC Renewal Ranking Report'!E75,\"\")","v":""},{"$f":"IF('CoC Renewal Ranking Report'!G75<>\"\",'CoC Renewal Ranking Report'!G75,\"\")","v":""},{"$f":"IF('CoC Renewal Ranking Report'!BS75<>\"\",'CoC Renewal Ranking Report'!BS75,\"\")","v":""}]
[{"$f":"IF('CoC Renewal Ranking Report'!D76<>\"\",'CoC Renewal Ranking Report'!D76,\"\")","v":""},{"$f":"IF('CoC Renewal Ranking Report'!E76<>\"\",'CoC Renewal Ranking Report'!E76,\"\")","v":""},{"$f":"IF('CoC Renewal Ranking Report'!G76<>\"\",'CoC Renewal Ranking Report'!G76,\"\")","v":""},{"$f":"IF('CoC Renewal Ranking Report'!BS76<>\"\",'CoC Renewal Ranking Report'!BS76,\"\")","v":""}]
[{"$f":"IF('CoC Renewal Ranking Report'!D77<>\"\",'CoC Renewal Ranking Report'!D77,\"\")","v":""},{"$f":"IF('CoC Renewal Ranking Report'!E77<>\"\",'CoC Renewal Ranking Report'!E77,\"\")","v":""},{"$f":"IF('CoC Renewal Ranking Report'!G77<>\"\",'CoC Renewal Ranking Report'!G77,\"\")","v":""},{"$f":"IF('CoC Renewal Ranking Report'!BS77<>\"\",'CoC Renewal Ranking Report'!BS77,\"\")","v":""}]
[{"$f":"IF('CoC Renewal Ranking Report'!D78<>\"\",'CoC Renewal Ranking Report'!D78,\"\")","v":""},{"$f":"IF('CoC Renewal Ranking Report'!E78<>\"\",'CoC Renewal Ranking Report'!E78,\"\")","v":""},{"$f":"IF('CoC Renewal Ranking Report'!G78<>\"\",'CoC Renewal Ranking Report'!G78,\"\")","v":""},{"$f":"IF('CoC Renewal Ranking Report'!BS78<>\"\",'CoC Renewal Ranking Report'!BS78,\"\")","v":""}]
[{"$f":"IF('CoC Renewal Ranking Report'!D79<>\"\",'CoC Renewal Ranking Report'!D79,\"\")","v":""},{"$f":"IF('CoC Renewal Ranking Report'!E79<>\"\",'CoC Renewal Ranking Report'!E79,\"\")","v":""},{"$f":"IF('CoC Renewal Ranking Report'!G79<>\"\",'CoC Renewal Ranking Report'!G79,\"\")","v":""},{"$f":"IF('CoC Renewal Ranking Report'!BS79<>\"\",'CoC Renewal Ranking Report'!BS79,\"\")","v":""}]
[{"$f":"IF('CoC Renewal Ranking Report'!D80<>\"\",'CoC Renewal Ranking Report'!D80,\"\")","v":""},{"$f":"IF('CoC Renewal Ranking Report'!E80<>\"\",'CoC Renewal Ranking Report'!E80,\"\")","v":""},{"$f":"IF('CoC Renewal Ranking Report'!G80<>\"\",'CoC Renewal Ranking Report'!G80,\"\")","v":""},{"$f":"IF('CoC Renewal Ranking Report'!BS80<>\"\",'CoC Renewal Ranking Report'!BS80,\"\")","v":""}]
[{"$f":"IF('CoC Renewal Ranking Report'!D81<>\"\",'CoC Renewal Ranking Report'!D81,\"\")","v":""},{"$f":"IF('CoC Renewal Ranking Report'!E81<>\"\",'CoC Renewal Ranking Report'!E81,\"\")","v":""},{"$f":"IF('CoC Renewal Ranking Report'!G81<>\"\",'CoC Renewal Ranking Report'!G81,\"\")","v":""},{"$f":"IF('CoC Renewal Ranking Report'!BS81<>\"\",'CoC Renewal Ranking Report'!BS81,\"\")","v":""}]
[{"$f":"IF('CoC Renewal Ranking Report'!D82<>\"\",'CoC Renewal Ranking Report'!D82,\"\")","v":""},{"$f":"IF('CoC Renewal Ranking Report'!E82<>\"\",'CoC Renewal Ranking Report'!E82,\"\")","v":""},{"$f":"IF('CoC Renewal Ranking Report'!G82<>\"\",'CoC Renewal Ranking Report'!G82,\"\")","v":""},{"$f":"IF('CoC Renewal Ranking Report'!BS82<>\"\",'CoC Renewal Ranking Report'!BS82,\"\")","v":""}]
[{"$f":"IF('CoC Renewal Ranking Report'!D83<>\"\",'CoC Renewal Ranking Report'!D83,\"\")","v":""},{"$f":"IF('CoC Renewal Ranking Report'!E83<>\"\",'CoC Renewal Ranking Report'!E83,\"\")","v":""},{"$f":"IF('CoC Renewal Ranking Report'!G83<>\"\",'CoC Renewal Ranking Report'!G83,\"\")","v":""},{"$f":"IF('CoC Renewal Ranking Report'!BS83<>\"\",'CoC Renewal Ranking Report'!BS83,\"\")","v":""}]
[{"$f":"IF('CoC Renewal Ranking Report'!D84<>\"\",'CoC Renewal Ranking Report'!D84,\"\")","v":""},{"$f":"IF('CoC Renewal Ranking Report'!E84<>\"\",'CoC Renewal Ranking Report'!E84,\"\")","v":""},{"$f":"IF('CoC Renewal Ranking Report'!G84<>\"\",'CoC Renewal Ranking Report'!G84,\"\")","v":""},{"$f":"IF('CoC Renewal Ranking Report'!BS84<>\"\",'CoC Renewal Ranking Report'!BS84,\"\")","v":""}]
[{"$f":"IF('CoC Renewal Ranking Report'!D85<>\"\",'CoC Renewal Ranking Report'!D85,\"\")","v":""},{"$f":"IF('CoC Renewal Ranking Report'!E85<>\"\",'CoC Renewal Ranking Report'!E85,\"\")","v":""},{"$f":"IF('CoC Renewal Ranking Report'!G85<>\"\",'CoC Renewal Ranking Report'!G85,\"\")","v":""},{"$f":"IF('CoC Renewal Ranking Report'!BS85<>\"\",'CoC Renewal Ranking Report'!BS85,\"\")","v":""}]
[{"$f":"IF('CoC Renewal Ranking Report'!D86<>\"\",'CoC Renewal Ranking Report'!D86,\"\")","v":""},{"$f":"IF('CoC Renewal Ranking Report'!E86<>\"\",'CoC Renewal Ranking Report'!E86,\"\")","v":""},{"$f":"IF('CoC Renewal Ranking Report'!G86<>\"\",'CoC Renewal Ranking Report'!G86,\"\")","v":""},{"$f":"IF('CoC Renewal Ranking Report'!BS86<>\"\",'CoC Renewal Ranking Report'!BS86,\"\")","v":""}]
[{"$f":"IF('CoC Renewal Ranking Report'!D87<>\"\",'CoC Renewal Ranking Report'!D87,\"\")","v":""},{"$f":"IF('CoC Renewal Ranking Report'!E87<>\"\",'CoC Renewal Ranking Report'!E87,\"\")","v":""},{"$f":"IF('CoC Renewal Ranking Report'!G87<>\"\",'CoC Renewal Ranking Report'!G87,\"\")","v":""},{"$f":"IF('CoC Renewal Ranking Report'!BS87<>\"\",'CoC Renewal Ranking Report'!BS87,\"\")","v":""}]
[{"$f":"IF('CoC Renewal Ranking Report'!D88<>\"\",'CoC Renewal Ranking Report'!D88,\"\")","v":""},{"$f":"IF('CoC Renewal Ranking Report'!E88<>\"\",'CoC Renewal Ranking Report'!E88,\"\")","v":""},{"$f":"IF('CoC Renewal Ranking Report'!G88<>\"\",'CoC Renewal Ranking Report'!G88,\"\")","v":""},{"$f":"IF('CoC Renewal Ranking Report'!BS88<>\"\",'CoC Renewal Ranking Report'!BS88,\"\")","v":""}]
[{"$f":"IF('CoC Renewal Ranking Report'!D89<>\"\",'CoC Renewal Ranking Report'!D89,\"\")","v":""},{"$f":"IF('CoC Renewal Ranking Report'!E89<>\"\",'CoC Renewal Ranking Report'!E89,\"\")","v":""},{"$f":"IF('CoC Renewal Ranking Report'!G89<>\"\",'CoC Renewal Ranking Report'!G89,\"\")","v":""},{"$f":"IF('CoC Renewal Ranking Report'!BS89<>\"\",'CoC Renewal Ranking Report'!BS89,\"\")","v":""}]
[{"$f":"IF('CoC Renewal Ranking Report'!D90<>\"\",'CoC Renewal Ranking Report'!D90,\"\")","v":""},{"$f":"IF('CoC Renewal Ranking Report'!E90<>\"\",'CoC Renewal Ranking Report'!E90,\"\")","v":""},{"$f":"IF('CoC Renewal Ranking Report'!G90<>\"\",'CoC Renewal Ranking Report'!G90,\"\")","v":""},{"$f":"IF('CoC Renewal Ranking Report'!BS90<>\"\",'CoC Renewal Ranking Report'!BS90,\"\")","v":""}]
[{"$f":"IF('CoC Renewal Ranking Report'!D91<>\"\",'CoC Renewal Ranking Report'!D91,\"\")","v":""},{"$f":"IF('CoC Renewal Ranking Report'!E91<>\"\",'CoC Renewal Ranking Report'!E91,\"\")","v":""},{"$f":"IF('CoC Renewal Ranking Report'!G91<>\"\",'CoC Renewal Ranking Report'!G91,\"\")","v":""},{"$f":"IF('CoC Renewal Ranking Report'!BS91<>\"\",'CoC Renewal Ranking Report'!BS91,\"\")","v":""}]
[{"$f":"IF('CoC Renewal Ranking Report'!D92<>\"\",'CoC Renewal Ranking Report'!D92,\"\")","v":""},{"$f":"IF('CoC Renewal Ranking Report'!E92<>\"\",'CoC Renewal Ranking Report'!E92,\"\")","v":""},{"$f":"IF('CoC Renewal Ranking Report'!G92<>\"\",'CoC Renewal Ranking Report'!G92,\"\")","v":""},{"$f":"IF('CoC Renewal Ranking Report'!BS92<>\"\",'CoC Renewal Ranking Report'!BS92,\"\")","v":""}]
[{"$f":"IF('CoC Renewal Ranking Report'!D93<>\"\",'CoC Renewal Ranking Report'!D93,\"\")","v":""},{"$f":"IF('CoC Renewal Ranking Report'!E93<>\"\",'CoC Renewal Ranking Report'!E93,\"\")","v":""},{"$f":"IF('CoC Renewal Ranking Report'!G93<>\"\",'CoC Renewal Ranking Report'!G93,\"\")","v":""},{"$f":"IF('CoC Renewal Ranking Report'!BS93<>\"\",'CoC Renewal Ranking Report'!BS93,\"\")","v":""}]
[{"$f":"IF('CoC Renewal Ranking Report'!D94<>\"\",'CoC Renewal Ranking Report'!D94,\"\")","v":""},{"$f":"IF('CoC Renewal Ranking Report'!E94<>\"\",'CoC Renewal Ranking Report'!E94,\"\")","v":""},{"$f":"IF('CoC Renewal Ranking Report'!G94<>\"\",'CoC Renewal Ranking Report'!G94,\"\")","v":""},{"$f":"IF('CoC Renewal Ranking Report'!BS94<>\"\",'CoC Renewal Ranking Report'!BS94,\"\")","v":""}]
[{"$f":"IF('CoC Renewal Ranking Report'!D95<>\"\",'CoC Renewal Ranking Report'!D95,\"\")","v":""},{"$f":"IF('CoC Renewal Ranking Report'!E95<>\"\",'CoC Renewal Ranking Report'!E95,\"\")","v":""},{"$f":"IF('CoC Renewal Ranking Report'!G95<>\"\",'CoC Renewal Ranking Report'!G95,\"\")","v":""},{"$f":"IF('CoC Renewal Ranking Report'!BS95<>\"\",'CoC Renewal Ranking Report'!BS95,\"\")","v":""}]
[{"$f":"IF('CoC Renewal Ranking Report'!D96<>\"\",'CoC Renewal Ranking Report'!D96,\"\")","v":""},{"$f":"IF('CoC Renewal Ranking Report'!E96<>\"\",'CoC Renewal Ranking Report'!E96,\"\")","v":""},{"$f":"IF('CoC Renewal Ranking Report'!G96<>\"\",'CoC Renewal Ranking Report'!G96,\"\")","v":""},{"$f":"IF('CoC Renewal Ranking Report'!BS96<>\"\",'CoC Renewal Ranking Report'!BS96,\"\")","v":""}]
[{"$f":"IF('CoC Renewal Ranking Report'!D97<>\"\",'CoC Renewal Ranking Report'!D97,\"\")","v":""},{"$f":"IF('CoC Renewal Ranking Report'!E97<>\"\",'CoC Renewal Ranking Report'!E97,\"\")","v":""},{"$f":"IF('CoC Renewal Ranking Report'!G97<>\"\",'CoC Renewal Ranking Report'!G97,\"\")","v":""},{"$f":"IF('CoC Renewal Ranking Report'!BS97<>\"\",'CoC Renewal Ranking Report'!BS97,\"\")","v":""}]
[{"$f":"IF('CoC Renewal Ranking Report'!D98<>\"\",'CoC Renewal Ranking Report'!D98,\"\")","v":""},{"$f":"IF('CoC Renewal Ranking Report'!E98<>\"\",'CoC Renewal Ranking Report'!E98,\"\")","v":""},{"$f":"IF('CoC Renewal Ranking Report'!G98<>\"\",'CoC Renewal Ranking Report'!G98,\"\")","v":""},{"$f":"IF('CoC Renewal Ranking Report'!BS98<>\"\",'CoC Renewal Ranking Report'!BS98,\"\")","v":""}]
[{"$f":"IF('CoC Renewal Ranking Report'!D99<>\"\",'CoC Renewal Ranking Report'!D99,\"\")","v":""},{"$f":"IF('CoC Renewal Ranking Report'!E99<>\"\",'CoC Renewal Ranking Report'!E99,\"\")","v":""},{"$f":"IF('CoC Renewal Ranking Report'!G99<>\"\",'CoC Renewal Ranking Report'!G99,\"\")","v":""},{"$f":"IF('CoC Renewal Ranking Report'!BS99<>\"\",'CoC Renewal Ranking Report'!BS99,\"\")","v":""}]
[{"$f":"IF('CoC Renewal Ranking Report'!D100<>\"\",'CoC Renewal Ranking Report'!D100,\"\")","v":""},{"$f":"IF('CoC Renewal Ranking Report'!E100<>\"\",'CoC Renewal Ranking Report'!E100,\"\")","v":""},{"$f":"IF('CoC Renewal Ranking Report'!G100<>\"\",'CoC Renewal Ranking Report'!G100,\"\")","v":""},{"$f":"IF('CoC Renewal Ranking Report'!BS100<>\"\",'CoC Renewal Ranking Report'!BS100,\"\")","v":""}]
[{"$f":"IF('CoC Renewal Ranking Report'!D101<>\"\",'CoC Renewal Ranking Report'!D101,\"\")","v":""},{"$f":"IF('CoC Renewal Ranking Report'!E101<>\"\",'CoC Renewal Ranking Report'!E101,\"\")","v":""},{"$f":"IF('CoC Renewal Ranking Report'!G101<>\"\",'CoC Renewal Ranking Report'!G101,\"\")","v":""},{"$f":"IF('CoC Renewal Ranking Report'!BS101<>\"\",'CoC Renewal Ranking Report'!BS101,\"\")","v":""}]
[{"$f":"IF('CoC Renewal Ranking Report'!D102<>\"\",'CoC Renewal Ranking Report'!D102,\"\")","v":""},{"$f":"IF('CoC Renewal Ranking Report'!E102<>\"\",'CoC Renewal Ranking Report'!E102,\"\")","v":""},{"$f":"IF('CoC Renewal Ranking Report'!G102<>\"\",'CoC Renewal Ranking Report'!G102,\"\")","v":""},{"$f":"IF('CoC Renewal Ranking Report'!BS102<>\"\",'CoC Renewal Ranking Report'!BS102,\"\")","v":""}]
[{"$f":"IF('CoC Renewal Ranking Report'!D103<>\"\",'CoC Renewal Ranking Report'!D103,\"\")","v":""},{"$f":"IF('CoC Renewal Ranking Report'!E103<>\"\",'CoC Renewal Ranking Report'!E103,\"\")","v":""},{"$f":"IF('CoC Renewal Ranking Report'!G103<>\"\",'CoC Renewal Ranking Report'!G103,\"\")","v":""},{"$f":"IF('CoC Renewal Ranking Report'!BS103<>\"\",'CoC Renewal Ranking Report'!BS103,\"\")","v":""}]

{"sheet":"Severity of Needs","index":19,"n_rows":102,"n_cols":5,"rows_kept":102,"cut":false,"hidden":false,"merged":[]}
[null,"Severity of Needs"]
[null,"CoC Baseline: "]
[null,"Criteria","Points"]
[null,"Exceed or equal baseline (1.64)",7.5]
[null,"Up to 25% below baseline (1.23 - 1.63)",2.5]
[null,"Less than 25% below (< 1.23)",0]
[]
["Agency Name","Project Name","Project Type","Index","Score"]
[{"$f":"IF('CoC Renewal Ranking Report'!D9<>\"\",'CoC Renewal Ranking Report'!D9,\"\")","v":""},{"$f":"IF('CoC Renewal Ranking Report'!E9<>\"\",'CoC Renewal Ranking Report'!E9,\"\")","v":""},{"$f":"IF('CoC Renewal Ranking Report'!G9<>\"\",'CoC Renewal Ranking Report'!G9,\"\")","v":""},{"$f":"IF('CoC Renewal Ranking Report'!AR9<>\"\",'CoC Renewal Ranking Report'!AY9,\"\")","v":""},{"$f":"IF(AND(A9<>\"\", D9<>\"\"), IF(D9 >= 1.64, 7.5, IF(AND(D9 < 1.64, D9 >= 1.23), 2.5, 0)), \"\")","v":""}]
[{"$f":"IF('CoC Renewal Ranking Report'!D10<>\"\",'CoC Renewal Ranking Report'!D10,\"\")","v":"Blair County Community Action Program"},{"$f":"IF('CoC Renewal Ranking Report'!E10<>\"\",'CoC Renewal Ranking Report'!E10,\"\")","v":"Rapid Re-Housing"},{"$f":"IF('CoC Renewal Ranking Report'!G10<>\"\",'CoC Renewal Ranking Report'!G10,\"\")","v":"PH-RRH"},{"$f":"IF('CoC Renewal Ranking Report'!AR10<>\"\",'CoC Renewal Ranking Report'!AY10,\"\")","v":0.5},{"$f":"IF(AND(A10<>\"\", D10<>\"\"), IF(D10 >= 1.64, 7.5, IF(AND(D10 < 1.64, D10 >= 1.23), 2.5, 0)), \"\")","v":0}]
[{"$f":"IF('CoC Renewal Ranking Report'!D11<>\"\",'CoC Renewal Ranking Report'!D11,\"\")","v":"Cambria County"},{"$f":"IF('CoC Renewal Ranking Report'!E11<>\"\",'CoC Renewal Ranking Report'!E11,\"\")","v":"Cambria County Comprehensive Housing Program"},{"$f":"IF('CoC Renewal Ranking Report'!G11<>\"\",'CoC Renewal Ranking Report'!G11,\"\")","v":"PH"},{"$f":"IF('CoC Renewal Ranking Report'!AR11<>\"\",'CoC Renewal Ranking Report'!AY11,\"\")","v":1.43},2.5]
[{"$f":"IF('CoC Renewal Ranking Report'!D12<>\"\",'CoC Renewal Ranking Report'!D12,\"\")","v":"Catholic Charities of the Diocese of Allentown"},{"$f":"IF('CoC Renewal Ranking Report'!E12<>\"\",'CoC Renewal Ranking Report'!E12,\"\")","v":"Catholic Charities Allentown Permanent Housing Program"},{"$f":"IF('CoC Renewal Ranking Report'!G12<>\"\",'CoC Renewal Ranking Report'!G12,\"\")","v":"PH"},{"$f":"IF('CoC Renewal Ranking Report'!AR12<>\"\",'CoC Renewal Ranking Report'!AY12,\"\")","v":1.64},7.5]
[{"$f":"IF('CoC Renewal Ranking Report'!D13<>\"\",'CoC Renewal Ranking Report'!D13,\"\")","v":"Catholic Social Services of the Diocese of Scranton, Inc."},{"$f":"IF('CoC Renewal Ranking Report'!E13<>\"\",'CoC Renewal Ranking Report'!E13,\"\")","v":"PSHP Pike County"},{"$f":"IF('CoC Renewal Ranking Report'!G13<>\"\",'CoC Renewal Ranking Report'!G13,\"\")","v":"PH"},{"$f":"IF('CoC Renewal Ranking Report'!AR13<>\"\",'CoC Renewal Ranking Report'!AY13,\"\")","v":2.33},7.5]
[{"$f":"IF('CoC Renewal Ranking Report'!D14<>\"\",'CoC Renewal Ranking Report'!D14,\"\")","v":"Catholic Social Services of the Diocese of Scranton, Inc."},{"$f":"IF('CoC Renewal Ranking Report'!E14<>\"\",'CoC Renewal Ranking Report'!E14,\"\")","v":"Rural Permanent Supportive Housing Program"},{"$f":"IF('CoC Renewal Ranking Report'!G14<>\"\",'CoC Renewal Ranking Report'!G14,\"\")","v":"PH"},{"$f":"IF('CoC Renewal Ranking Report'!AR14<>\"\",'CoC Renewal Ranking Report'!AY14,\"\")","v":2.33},7.5]
[{"$f":"IF('CoC Renewal Ranking Report'!D15<>\"\",'CoC Renewal Ranking Report'!D15,\"\")","v":"Catholic Social Services of the Diocese of Scranton, Inc."},{"$f":"IF('CoC Renewal Ranking Report'!E15<>\"\",'CoC Renewal Ranking Report'!E15,\"\")","v":"Susquehanna/Wayne PSHP"},{"$f":"IF('CoC Renewal Ranking Report'!G15<>\"\",'CoC Renewal Ranking Report'!G15,\"\")","v":"PH"},{"$f":"IF('CoC Renewal Ranking Report'!AR15<>\"\",'CoC Renewal Ranking Report'!AY15,\"\")","v":2.82},7.5]
[{"$f":"IF('CoC Renewal Ranking Report'!D16<>\"\",'CoC Renewal Ranking Report'!D16,\"\")","v":"Center for Community Action"},{"$f":"IF('CoC Renewal Ranking Report'!E16<>\"\",'CoC Renewal Ranking Report'!E16,\"\")","v":"Bedford,Fulton, Huntingdon RRH"},{"$f":"IF('CoC Renewal Ranking Report'!G16<>\"\",'CoC Renewal Ranking Report'!G16,\"\")","v":"PH-RRH"},{"$f":"IF('CoC Renewal Ranking Report'!AR16<>\"\",'CoC Renewal Ranking Report'!AY16,\"\")","v":0.33},0]
[{"$f":"IF('CoC Renewal Ranking Report'!D17<>\"\",'CoC Renewal Ranking Report'!D17,\"\")","v":"County of Franklin"},{"$f":"IF('CoC Renewal Ranking Report'!E17<>\"\",'CoC Renewal Ranking Report'!E17,\"\")","v":"Franklin/ Fulton S+C Project 2017"},{"$f":"IF('CoC Renewal Ranking Report'!G17<>\"\",'CoC Renewal Ranking Report'!G17,\"\")","v":"PH"},{"$f":"IF('CoC Renewal Ranking Report'!AR17<>\"\",'CoC Renewal Ranking Report'!AY17,\"\")","v":2.5299999999999998},7.5]
[{"$f":"IF('CoC Renewal Ranking Report'!D18<>\"\",'CoC Renewal Ranking Report'!D18,\"\")","v":"County of Franklin"},{"$f":"IF('CoC Renewal Ranking Report'!E18<>\"\",'CoC Renewal Ranking Report'!E18,\"\")","v":"Franklin/Fulton Homeless Assistance Project 2017"},{"$f":"IF('CoC Renewal Ranking Report'!G18<>\"\",'CoC Renewal Ranking Report'!G18,\"\")","v":"PH"},{"$f":"IF('CoC Renewal Ranking Report'!AR18<>\"\",'CoC Renewal Ranking Report'!AY18,\"\")","v":2.4},7.5]
[{"$f":"IF('CoC Renewal Ranking Report'!D19<>\"\",'CoC Renewal Ranking Report'!D19,\"\")","v":"County of Lycoming DBA Lycoming- Clinton Joinder Board"},{"$f":"IF('CoC Renewal Ranking Report'!E19<>\"\",'CoC Renewal Ranking Report'!E19,\"\")","v":"Lycoming/Clinton Renewal #5"},{"$f":"IF('CoC Renewal Ranking Report'!G19<>\"\",'CoC Renewal Ranking Report'!G19,\"\")","v":"PH"},{"$f":"IF('CoC Renewal Ranking Report'!AR19<>\"\",'CoC Renewal Ranking Report'!AY19,\"\")","v":1.59},2.5]
[{"$f":"IF('CoC Renewal Ranking Report'!D20<>\"\",'CoC Renewal Ranking Report'!D20,\"\")","v":"Fitzmaurice Community Services, Inc"},{"$f":"IF('CoC Renewal Ranking Report'!E20<>\"\",'CoC Renewal Ranking Report'!E20,\"\")","v":"Pathfinders"},{"$f":"IF('CoC Renewal Ranking Report'!G20<>\"\",'CoC Renewal Ranking Report'!G20,\"\")","v":"PH"},{"$f":"IF('CoC Renewal Ranking Report'!AR20<>\"\",'CoC Renewal Ranking Report'!AY20,\"\")","v":1.69},7.5]
[{"$f":"IF('CoC Renewal Ranking Report'!D21<>\"\",'CoC Renewal Ranking Report'!D21,\"\")","v":"Home Nursing AgencyCommunity Services"},{"$f":"IF('CoC Renewal Ranking Report'!E21<>\"\",'CoC Renewal Ranking Report'!E21,\"\")","v":"Housing Assistance and Rental Program"},{"$f":"IF('CoC Renewal Ranking Report'!G21<>\"\",'CoC Renewal Ranking Report'!G21,\"\")","v":"PH"},{"$f":"IF('CoC Renewal Ranking Report'!AR21<>\"\",'CoC Renewal Ranking Report'!AY21,\"\")","v":1.84},7.5]
[{"$f":"IF('CoC Renewal Ranking Report'!D22<>\"\",'CoC Renewal Ranking Report'!D22,\"\")","v":"Housing Authority of Monroe County"},{"$f":"IF('CoC Renewal Ranking Report'!E22<>\"\",'CoC Renewal Ranking Report'!E22,\"\")","v":"Renewal Application Shelter Plus Care MC 2016"},{"$f":"IF('CoC Renewal Ranking Report'!G22<>\"\",'CoC Renewal Ranking Report'!G22,\"\")","v":"PH"},{"$f":"IF('CoC Renewal Ranking Report'!AR22<>\"\",'CoC Renewal Ranking Report'!AY22,\"\")","v":1.24},2.5]
[{"$f":"IF('CoC Renewal Ranking Report'!D23<>\"\",'CoC Renewal Ranking Report'!D23,\"\")","v":"Housing Authority of the County of Cumberland"},{"$f":"IF('CoC Renewal Ranking Report'!E23<>\"\",'CoC Renewal Ranking Report'!E23,\"\")","v":"Carlisle Supportive Housing Program"},{"$f":"IF('CoC Renewal Ranking Report'!G23<>\"\",'CoC Renewal Ranking Report'!G23,\"\")","v":"PH"},{"$f":"IF('CoC Renewal Ranking Report'!AR23<>\"\",'CoC Renewal Ranking Report'!AY23,\"\")","v":2},7.5]
[{"$f":"IF('CoC Renewal Ranking Report'!D24<>\"\",'CoC Renewal Ranking Report'!D24,\"\")","v":"Housing Authority of the County of Cumberland"},{"$f":"IF('CoC Renewal Ranking Report'!E24<>\"\",'CoC Renewal Ranking Report'!E24,\"\")","v":"Perry County Permanent SHP"},{"$f":"IF('CoC Renewal Ranking Report'!G24<>\"\",'CoC Renewal Ranking Report'!G24,\"\")","v":"PH"},{"$f":"IF('CoC Renewal Ranking Report'!AR24<>\"\",'CoC Renewal Ranking Report'!AY24,\"\")","v":1.55},2.5]
[{"$f":"IF('CoC Renewal Ranking Report'!D25<>\"\",'CoC Renewal Ranking Report'!D25,\"\")","v":"Housing Authority of the County of Cumberland"},{"$f":"IF('CoC Renewal Ranking Report'!E25<>\"\",'CoC Renewal Ranking Report'!E25,\"\")","v":"Perry County Transitional II"},{"$f":"IF('CoC Renewal Ranking Report'!G25<>\"\",'CoC Renewal Ranking Report'!G25,\"\")","v":"PH-RRH"},{"$f":"IF('CoC Renewal Ranking Report'!AR25<>\"\",'CoC Renewal Ranking Report'!AY25,\"\")","v":0.52},0]
[{"$f":"IF('CoC Renewal Ranking Report'!D26<>\"\",'CoC Renewal Ranking Report'!D26,\"\")","v":"Housing Authority of the County of Cumberland"},{"$f":"IF('CoC Renewal Ranking Report'!E26<>\"\",'CoC Renewal Ranking Report'!E26,\"\")","v":"Perry County Veterans Program"},{"$f":"IF('CoC Renewal Ranking Report'!G26<>\"\",'CoC Renewal Ranking Report'!G26,\"\")","v":"PH"},{"$f":"IF('CoC Renewal Ranking Report'!AR26<>\"\",'CoC Renewal Ranking Report'!AY26,\"\")","v":1.8},7.5]
[{"$f":"IF('CoC Renewal Ranking Report'!D27<>\"\",'CoC Renewal Ranking Report'!D27,\"\")","v":"Housing Authority of the County of Cumberland"},{"$f":"IF('CoC Renewal Ranking Report'!E27<>\"\",'CoC Renewal Ranking Report'!E27,\"\")","v":"Rapid Rehousing II"},{"$f":"IF('CoC Renewal Ranking Report'!G27<>\"\",'CoC Renewal Ranking Report'!G27,\"\")","v":"PH-RRH"},{"$f":"IF('CoC Renewal Ranking Report'!AR27<>\"\",'CoC Renewal Ranking Report'!AY27,\"\")","v":1.21},0]
[{"$f":"IF('CoC Renewal Ranking Report'!D28<>\"\",'CoC Renewal Ranking Report'!D28,\"\")","v":"Housing Authority of the County of Cumberland"},{"$f":"IF('CoC Renewal Ranking Report'!E28<>\"\",'CoC Renewal Ranking Report'!E28,\"\")","v":"Safe Harbour SHP"},{"$f":"IF('CoC Renewal Ranking Report'!G28<>\"\",'CoC Renewal Ranking Report'!G28,\"\")","v":"PH"},{"$f":"IF('CoC Renewal Ranking Report'!AR28<>\"\",'CoC Renewal Ranking Report'!AY28,\"\")","v":2.2200000000000002},7.5]
[{"$f":"IF('CoC Renewal Ranking Report'!D29<>\"\",'CoC Renewal Ranking Report'!D29,\"\")","v":"Housing Authority of the County of Cumberland"},{"$f":"IF('CoC Renewal Ranking Report'!E29<>\"\",'CoC Renewal Ranking Report'!E29,\"\")","v":"Shelter + Care Chronic"},{"$f":"IF('CoC Renewal Ranking Report'!G29<>\"\",'CoC Renewal Ranking Report'!G29,\"\")","v":"PH"},{"$f":"IF('CoC Renewal Ranking Report'!AR29<>\"\",'CoC Renewal Ranking Report'!AY29,\"\")","v":1.68},7.5]
[{"$f":"IF('CoC Renewal Ranking Report'!D30<>\"\",'CoC Renewal Ranking Report'!D30,\"\")","v":"Housing Authority of the County of Cumberland"},{"$f":"IF('CoC Renewal Ranking Report'!E30<>\"\",'CoC Renewal Ranking Report'!E30,\"\")","v":"Shelter + Care Non-Chronic"},{"$f":"IF('CoC Renewal Ranking Report'!G30<>\"\",'CoC Renewal Ranking Report'!G30,\"\")","v":"PH"},{"$f":"IF('CoC Renewal Ranking Report'!AR30<>\"\",'CoC Renewal Ranking Report'!AY30,\"\")","v":1.19},0]
[{"$f":"IF('CoC Renewal Ranking Report'!D31<>\"\",'CoC Renewal Ranking Report'!D31,\"\")","v":"Housing Authority of the County of Cumberland"},{"$f":"IF('CoC Renewal Ranking Report'!E31<>\"\",'CoC Renewal Ranking Report'!E31,\"\")","v":"West Shore SHP I"},{"$f":"IF('CoC Renewal Ranking Report'!G31<>\"\",'CoC Renewal Ranking Report'!G31,\"\")","v":"PH"},{"$f":"IF('CoC Renewal Ranking Report'!AR31<>\"\",'CoC Renewal Ranking Report'!AY31,\"\")","v":1.75},7.5]
[{"$f":"IF('CoC Renewal Ranking Report'!D32<>\"\",'CoC Renewal Ranking Report'!D32,\"\")","v":"Housing Authority of the County of Cumberland"},{"$f":"IF('CoC Renewal Ranking Report'!E32<>\"\",'CoC Renewal Ranking Report'!E32,\"\")","v":"West Shore SHP II"},{"$f":"IF('CoC Renewal Ranking Report'!G32<>\"\",'CoC Renewal Ranking Report'!G32,\"\")","v":"PH"},{"$f":"IF('CoC Renewal Ranking Report'!AR32<>\"\",'CoC Renewal Ranking Report'!AY32,\"\")","v":1.89},7.5]
[{"$f":"IF('CoC Renewal Ranking Report'!D33<>\"\",'CoC Renewal Ranking Report'!D33,\"\")","v":"Housing Development Corporation of NEPA"},{"$f":"IF('CoC Renewal Ranking Report'!E33<>\"\",'CoC Renewal Ranking Report'!E33,\"\")","v":"HDC SHP 3 2016"},{"$f":"IF('CoC Renewal Ranking Report'!G33<>\"\",'CoC Renewal Ranking Report'!G33,\"\")","v":"PH"},{"$f":"IF('CoC Renewal Ranking Report'!AR33<>\"\",'CoC Renewal Ranking Report'!AY33,\"\")","v":1.29},2.5]
[{"$f":"IF('CoC Renewal Ranking Report'!D34<>\"\",'CoC Renewal Ranking Report'!D34,\"\")","v":"Housing Development Corporation of NEPA"},{"$f":"IF('CoC Renewal Ranking Report'!E34<>\"\",'CoC Renewal Ranking Report'!E34,\"\")","v":"HDC SHP 6 2016"},{"$f":"IF('CoC Renewal Ranking Report'!G34<>\"\",'CoC Renewal Ranking Report'!G34,\"\")","v":"PH"},{"$f":"IF('CoC Renewal Ranking Report'!AR34<>\"\",'CoC Renewal Ranking Report'!AY34,\"\")","v":1.54},2.5]
[{"$f":"IF('CoC Renewal Ranking Report'!D35<>\"\",'CoC Renewal Ranking Report'!D35,\"\")","v":"Housing Transitions, Inc."},{"$f":"IF('CoC Renewal Ranking Report'!E35<>\"\",'CoC Renewal Ranking Report'!E35,\"\")","v":"Nittany House Apartments"},{"$f":"IF('CoC Renewal Ranking Report'!G35<>\"\",'CoC Renewal Ranking Report'!G35,\"\")","v":"PH"},{"$f":"IF('CoC Renewal Ranking Report'!AR35<>\"\",'CoC Renewal Ranking Report'!AY35,\"\")","v":1.75},7.5]
[{"$f":"IF('CoC Renewal Ranking Report'!D36<>\"\",'CoC Renewal Ranking Report'!D36,\"\")","v":"Lehigh County Conference of Churches"},{"$f":"IF('CoC Renewal Ranking Report'!E36<>\"\",'CoC Renewal Ranking Report'!E36,\"\")","v":"Outreach and Case Management for the Disabled, Chronically Homeless"},{"$f":"IF('CoC Renewal Ranking Report'!G36<>\"\",'CoC Renewal Ranking Report'!G36,\"\")","v":"SSO"},{"$f":"IF('CoC Renewal Ranking Report'!AR36<>\"\",'CoC Renewal Ranking Report'!AY36,\"\")","v":1.77},7.5]
[{"$f":"IF('CoC Renewal Ranking Report'!D37<>\"\",'CoC Renewal Ranking Report'!D37,\"\")","v":"Lehigh County Conference of Churches"},{"$f":"IF('CoC Renewal Ranking Report'!E37<>\"\",'CoC Renewal Ranking Report'!E37,\"\")","v":"Pathways Housing"},{"$f":"IF('CoC Renewal Ranking Report'!G37<>\"\",'CoC Renewal Ranking Report'!G37,\"\")","v":"PH"},{"$f":"IF('CoC Renewal Ranking Report'!AR37<>\"\",'CoC Renewal Ranking Report'!AY37,\"\")","v":1.21},0]
[{"$f":"IF('CoC Renewal Ranking Report'!D38<>\"\",'CoC Renewal Ranking Report'!D38,\"\")","v":"Lehigh County Conference of Churches"},{"$f":"IF('CoC Renewal Ranking Report'!E38<>\"\",'CoC Renewal Ranking Report'!E38,\"\")","v":"Pathways Housing 2"},{"$f":"IF('CoC Renewal Ranking Report'!G38<>\"\",'CoC Renewal Ranking Report'!G38,\"\")","v":"PH"},{"$f":"IF('CoC Renewal Ranking Report'!AR38<>\"\",'CoC Renewal Ranking Report'!AY38,\"\")","v":1.17},0]
[{"$f":"IF('CoC Renewal Ranking Report'!D39<>\"\",'CoC Renewal Ranking Report'!D39,\"\")","v":"Lehigh County Conference of Churches"},{"$f":"IF('CoC Renewal Ranking Report'!E39<>\"\",'CoC Renewal Ranking Report'!E39,\"\")","v":"Pathways TBRA for Families, Youth and Veterans"},{"$f":"IF('CoC Renewal Ranking Report'!G39<>\"\",'CoC Renewal Ranking Report'!G39,\"\")","v":"PH"},{"$f":"IF('CoC Renewal Ranking Report'!AR39<>\"\",'CoC Renewal Ranking Report'!AY39,\"\")","v":1.32},2.5]
[{"$f":"IF('CoC Renewal Ranking Report'!D40<>\"\",'CoC Renewal Ranking Report'!D40,\"\")","v":"Lehigh County Conference of Churches"},{"$f":"IF('CoC Renewal Ranking Report'!E40<>\"\",'CoC Renewal Ranking Report'!E40,\"\")","v":"Tenant-Based Rental Assistance for the Disabled,Chronically Homeless"},{"$f":"IF('CoC Renewal Ranking Report'!G40<>\"\",'CoC Renewal Ranking Report'!G40,\"\")","v":"PH"},{"$f":"IF('CoC Renewal Ranking Report'!AR40<>\"\",'CoC Renewal Ranking Report'!AY40,\"\")","v":1.88},7.5]
[{"$f":"IF('CoC Renewal Ranking Report'!D41<>\"\",'CoC Renewal Ranking Report'!D41,\"\")","v":"Lehigh County Housing Authority"},{"$f":"IF('CoC Renewal Ranking Report'!E41<>\"\",'CoC Renewal Ranking Report'!E41,\"\")","v":"LCHA S+C 2016"},{"$f":"IF('CoC Renewal Ranking Report'!G41<>\"\",'CoC Renewal Ranking Report'!G41,\"\")","v":"PH"},{"$f":"IF('CoC Renewal Ranking Report'!AR41<>\"\",'CoC Renewal Ranking Report'!AY41,\"\")","v":1.64},7.5]
[{"$f":"IF('CoC Renewal Ranking Report'!D42<>\"\",'CoC Renewal Ranking Report'!D42,\"\")","v":"Maranatha"},{"$f":"IF('CoC Renewal Ranking Report'!E42<>\"\",'CoC Renewal Ranking Report'!E42,\"\")","v":"TOTAL PERSON TRANSITIONAL PROGRAM 1 & 2"},{"$f":"IF('CoC Renewal Ranking Report'!G42<>\"\",'CoC Renewal Ranking Report'!G42,\"\")","v":"PH-RRH"},{"$f":"IF('CoC Renewal Ranking Report'!AR42<>\"\",'CoC Renewal Ranking Report'!AY42,\"\")","v":0.09},0]
[{"$f":"IF('CoC Renewal Ranking Report'!D43<>\"\",'CoC Renewal Ranking Report'!D43,\"\")","v":"Mifflin County"},{"$f":"IF('CoC Renewal Ranking Report'!E43<>\"\",'CoC Renewal Ranking Report'!E43,\"\")","v":"Mifflin County Permanent Housing Renewal"},{"$f":"IF('CoC Renewal Ranking Report'!G43<>\"\",'CoC Renewal Ranking Report'!G43,\"\")","v":"PH"},{"$f":"IF('CoC Renewal Ranking Report'!AR43<>\"\",'CoC Renewal Ranking Report'!AY43,\"\")","v":2.2000000000000002},7.5]
[{"$f":"IF('CoC Renewal Ranking Report'!D44<>\"\",'CoC Renewal Ranking Report'!D44,\"\")","v":"Northampton County Housing Authority"},{"$f":"IF('CoC Renewal Ranking Report'!E44<>\"\",'CoC Renewal Ranking Report'!E44,\"\")","v":"NCHA S+C 2016"},{"$f":"IF('CoC Renewal Ranking Report'!G44<>\"\",'CoC Renewal Ranking Report'!G44,\"\")","v":"PH"},{"$f":"IF('CoC Renewal Ranking Report'!AR44<>\"\",'CoC Renewal Ranking Report'!AY44,\"\")","v":1.91},7.5]
[{"$f":"IF('CoC Renewal Ranking Report'!D45<>\"\",'CoC Renewal Ranking Report'!D45,\"\")","v":"Northern Cambria Community Development Corporation"},{"$f":"IF('CoC Renewal Ranking Report'!E45<>\"\",'CoC Renewal Ranking Report'!E45,\"\")","v":"Independence Gardens"},{"$f":"IF('CoC Renewal Ranking Report'!G45<>\"\",'CoC Renewal Ranking Report'!G45,\"\")","v":"PH"},{"$f":"IF('CoC Renewal Ranking Report'!AR45<>\"\",'CoC Renewal Ranking Report'!AY45,\"\")","v":1.5},2.5]
[{"$f":"IF('CoC Renewal Ranking Report'!D46<>\"\",'CoC Renewal Ranking Report'!D46,\"\")","v":"Northern Cambria Community Development Corporation"},{"$f":"IF('CoC Renewal Ranking Report'!E46<>\"\",'CoC Renewal Ranking Report'!E46,\"\")","v":"Schoolhouse Gardens"},{"$f":"IF('CoC Renewal Ranking Report'!G46<>\"\",'CoC Renewal Ranking Report'!G46,\"\")","v":"PH"},{"$f":"IF('CoC Renewal Ranking Report'!AR46<>\"\",'CoC Renewal Ranking Report'!AY46,\"\")","v":1.42},2.5]
[{"$f":"IF('CoC Renewal Ranking Report'!D47<>\"\",'CoC Renewal Ranking Report'!D47,\"\")","v":"Northumberland County MH/MR"},{"$f":"IF('CoC Renewal Ranking Report'!E47<>\"\",'CoC Renewal Ranking Report'!E47,\"\")","v":"Sharing Support"},{"$f":"IF('CoC Renewal Ranking Report'!G47<>\"\",'CoC Renewal Ranking Report'!G47,\"\")","v":"PH"},{"$f":"IF('CoC Renewal Ranking Report'!AR47<>\"\",'CoC Renewal Ranking Report'!AY47,\"\")","v":1.33},2.5]
[{"$f":"IF('CoC Renewal Ranking Report'!D48<>\"\",'CoC Renewal Ranking Report'!D48,\"\")","v":"Resources for Human Development, Inc."},{"$f":"IF('CoC Renewal Ranking Report'!E48<>\"\",'CoC Renewal Ranking Report'!E48,\"\")","v":"Crossroads Family"},{"$f":"IF('CoC Renewal Ranking Report'!G48<>\"\",'CoC Renewal Ranking Report'!G48,\"\")","v":"PH"},{"$f":"IF('CoC Renewal Ranking Report'!AR48<>\"\",'CoC Renewal Ranking Report'!AY48,\"\")","v":1.54},2.5]
[{"$f":"IF('CoC Renewal Ranking Report'!D49<>\"\",'CoC Renewal Ranking Report'!D49,\"\")","v":"Resources for Human Development, Inc."},{"$f":"IF('CoC Renewal Ranking Report'!E49<>\"\",'CoC Renewal Ranking Report'!E49,\"\")","v":"Crossroads Housing Bonus"},{"$f":"IF('CoC Renewal Ranking Report'!G49<>\"\",'CoC Renewal Ranking Report'!G49,\"\")","v":"PH"},{"$f":"IF('CoC Renewal Ranking Report'!AR49<>\"\",'CoC Renewal Ranking Report'!AY49,\"\")","v":1.91},7.5]
[{"$f":"IF('CoC Renewal Ranking Report'!D50<>\"\",'CoC Renewal Ranking Report'!D50,\"\")","v":"Resources for Human Development, Inc."},{"$f":"IF('CoC Renewal Ranking Report'!E50<>\"\",'CoC Renewal Ranking Report'!E50,\"\")","v":"Crossroads Individual"},{"$f":"IF('CoC Renewal Ranking Report'!G50<>\"\",'CoC Renewal Ranking Report'!G50,\"\")","v":"PH"},{"$f":"IF('CoC Renewal Ranking Report'!AR50<>\"\",'CoC Renewal Ranking Report'!AY50,\"\")","v":1.57},2.5]
[{"$f":"IF('CoC Renewal Ranking Report'!D51<>\"\",'CoC Renewal Ranking Report'!D51,\"\")","v":"Resources for Human Development, Inc."},{"$f":"IF('CoC Renewal Ranking Report'!E51<>\"\",'CoC Renewal Ranking Report'!E51,\"\")","v":"Crossroads Schuylkill Co. Permanent Supportive Housing"},{"$f":"IF('CoC Renewal Ranking Report'!G51<>\"\",'CoC Renewal Ranking Report'!G51,\"\")","v":"PH"},{"$f":"IF('CoC Renewal Ranking Report'!AR51<>\"\",'CoC Renewal Ranking Report'!AY51,\"\")","v":2},7.5]
[{"$f":"IF('CoC Renewal Ranking Report'!D52<>\"\",'CoC Renewal Ranking Report'!D52,\"\")","v":"Resources for Human Development, Inc."},{"$f":"IF('CoC Renewal Ranking Report'!E52<>\"\",'CoC Renewal Ranking Report'!E52,\"\")","v":"LV ACT Housing Supports"},{"$f":"IF('CoC Renewal Ranking Report'!G52<>\"\",'CoC Renewal Ranking Report'!G52,\"\")","v":"PH"},{"$f":"IF('CoC Renewal Ranking Report'!AR52<>\"\",'CoC Renewal Ranking Report'!AY52,\"\")","v":2.77},7.5]
[{"$f":"IF('CoC Renewal Ranking Report'!D53<>\"\",'CoC Renewal Ranking Report'!D53,\"\")","v":"Tableland Services, Inc."},{"$f":"IF('CoC Renewal Ranking Report'!E53<>\"\",'CoC Renewal Ranking Report'!E53,\"\")","v":"Permanent Housing with Disabilities (SHP)"},{"$f":"IF('CoC Renewal Ranking Report'!G53<>\"\",'CoC Renewal Ranking Report'!G53,\"\")","v":"PH"},{"$f":"IF('CoC Renewal Ranking Report'!AR53<>\"\",'CoC Renewal Ranking Report'!AY53,\"\")","v":2.2400000000000002},7.5]
[{"$f":"IF('CoC Renewal Ranking Report'!D54<>\"\",'CoC Renewal Ranking Report'!D54,\"\")","v":"Tableland Services, Inc."},{"$f":"IF('CoC Renewal Ranking Report'!E54<>\"\",'CoC Renewal Ranking Report'!E54,\"\")","v":"Permanent Supportive Housing CH Project"},{"$f":"IF('CoC Renewal Ranking Report'!G54<>\"\",'CoC Renewal Ranking Report'!G54,\"\")","v":"PH"},{"$f":"IF('CoC Renewal Ranking Report'!AR54<>\"\",'CoC Renewal Ranking Report'!AY54,\"\")","v":4},7.5]
[{"$f":"IF('CoC Renewal Ranking Report'!D55<>\"\",'CoC Renewal Ranking Report'!D55,\"\")","v":"The Salvation Army, a New York Corporation"},{"$f":"IF('CoC Renewal Ranking Report'!E55<>\"\",'CoC Renewal Ranking Report'!E55,\"\")","v":"Allentown Hospitality House Permanent Housing Program"},{"$f":"IF('CoC Renewal Ranking Report'!G55<>\"\",'CoC Renewal Ranking Report'!G55,\"\")","v":"PH"},{"$f":"IF('CoC Renewal Ranking Report'!AR55<>\"\",'CoC Renewal Ranking Report'!AY55,\"\")","v":1.43},2.5]
[{"$f":"IF('CoC Renewal Ranking Report'!D56<>\"\",'CoC Renewal Ranking Report'!D56,\"\")","v":"The Salvation Army, a New York Corporation"},{"$f":"IF('CoC Renewal Ranking Report'!E56<>\"\",'CoC Renewal Ranking Report'!E56,\"\")","v":"Salvation Army Carlisle PH Project"},{"$f":"IF('CoC Renewal Ranking Report'!G56<>\"\",'CoC Renewal Ranking Report'!G56,\"\")","v":"PH"},{"$f":"IF('CoC Renewal Ranking Report'!AR56<>\"\",'CoC Renewal Ranking Report'!AY56,\"\")","v":2.57},7.5]
[{"$f":"IF('CoC Renewal Ranking Report'!D57<>\"\",'CoC Renewal Ranking Report'!D57,\"\")","v":"Union-Snyder Community Action Agency"},{"$f":"IF('CoC Renewal Ranking Report'!E57<>\"\",'CoC Renewal Ranking Report'!E57,\"\")","v":"Union-Snyder Rapid ReHousing Program"},{"$f":"IF('CoC Renewal Ranking Report'!G57<>\"\",'CoC Renewal Ranking Report'!G57,\"\")","v":"PH-RRH"},{"$f":"IF('CoC Renewal Ranking Report'!AR57<>\"\",'CoC Renewal Ranking Report'!AY57,\"\")","v":0.6},0]
[{"$f":"IF('CoC Renewal Ranking Report'!D58<>\"\",'CoC Renewal Ranking Report'!D58,\"\")","v":"United Christian Ministries"},{"$f":"IF('CoC Renewal Ranking Report'!E58<>\"\",'CoC Renewal Ranking Report'!E58,\"\")","v":"Kenner Garnet Renewal 2016"},{"$f":"IF('CoC Renewal Ranking Report'!G58<>\"\",'CoC Renewal Ranking Report'!G58,\"\")","v":"PH"},{"$f":"IF('CoC Renewal Ranking Report'!AR58<>\"\",'CoC Renewal Ranking Report'!AY58,\"\")","v":2.0699999999999998},7.5]
[{"$f":"IF('CoC Renewal Ranking Report'!D59<>\"\",'CoC Renewal Ranking Report'!D59,\"\")","v":"Valley Housing Development Corporation "},{"$f":"IF('CoC Renewal Ranking Report'!E59<>\"\",'CoC Renewal Ranking Report'!E59,\"\")","v":"VHDC SHP #2 2016"},{"$f":"IF('CoC Renewal Ranking Report'!G59<>\"\",'CoC Renewal Ranking Report'!G59,\"\")","v":"PH"},{"$f":"IF('CoC Renewal Ranking Report'!AR59<>\"\",'CoC Renewal Ranking Report'!AY59,\"\")","v":1.54},2.5]
[{"$f":"IF('CoC Renewal Ranking Report'!D60<>\"\",'CoC Renewal Ranking Report'!D60,\"\")","v":"Valley Housing Development Corporation "},{"$f":"IF('CoC Renewal Ranking Report'!E60<>\"\",'CoC Renewal Ranking Report'!E60,\"\")","v":"VHDC SHP #3 2016"},{"$f":"IF('CoC Renewal Ranking Report'!G60<>\"\",'CoC Renewal Ranking Report'!G60,\"\")","v":"PH"},{"$f":"IF('CoC Renewal Ranking Report'!AR60<>\"\",'CoC Renewal Ranking Report'!AY60,\"\")","v":1.63},2.5]
[{"$f":"IF('CoC Renewal Ranking Report'!D61<>\"\",'CoC Renewal Ranking Report'!D61,\"\")","v":"Valley Housing Development Corporation "},{"$f":"IF('CoC Renewal Ranking Report'!E61<>\"\",'CoC Renewal Ranking Report'!E61,\"\")","v":"VHDC SHP #4 2016"},{"$f":"IF('CoC Renewal Ranking Report'!G61<>\"\",'CoC Renewal Ranking Report'!G61,\"\")","v":"PH"},{"$f":"IF('CoC Renewal Ranking Report'!AR61<>\"\",'CoC Renewal Ranking Report'!AY61,\"\")","v":1.79},7.5]
[{"$f":"IF('CoC Renewal Ranking Report'!D62<>\"\",'CoC Renewal Ranking Report'!D62,\"\")","v":""},{"$f":"IF('CoC Renewal Ranking Report'!E62<>\"\",'CoC Renewal Ranking Report'!E62,\"\")","v":""},{"$f":"IF('CoC Renewal Ranking Report'!G62<>\"\",'CoC Renewal Ranking Report'!G62,\"\")","v":""},{"$f":"IF('CoC Renewal Ranking Report'!AR62<>\"\",'CoC Renewal Ranking Report'!AY62,\"\")","v":""},""]
[{"$f":"IF('CoC Renewal Ranking Report'!D63<>\"\",'CoC Renewal Ranking Report'!D63,\"\")","v":""},{"$f":"IF('CoC Renewal Ranking Report'!E63<>\"\",'CoC Renewal Ranking Report'!E63,\"\")","v":""},{"$f":"IF('CoC Renewal Ranking Report'!G63<>\"\",'CoC Renewal Ranking Report'!G63,\"\")","v":""},{"$f":"IF('CoC Renewal Ranking Report'!AR63<>\"\",'CoC Renewal Ranking Report'!AY63,\"\")","v":""},""]
[{"$f":"IF('CoC Renewal Ranking Report'!D64<>\"\",'CoC Renewal Ranking Report'!D64,\"\")","v":""},{"$f":"IF('CoC Renewal Ranking Report'!E64<>\"\",'CoC Renewal Ranking Report'!E64,\"\")","v":""},{"$f":"IF('CoC Renewal Ranking Report'!G64<>\"\",'CoC Renewal Ranking Report'!G64,\"\")","v":""},{"$f":"IF('CoC Renewal Ranking Report'!AR64<>\"\",'CoC Renewal Ranking Report'!AY64,\"\")","v":""},""]
[{"$f":"IF('CoC Renewal Ranking Report'!D65<>\"\",'CoC Renewal Ranking Report'!D65,\"\")","v":""},{"$f":"IF('CoC Renewal Ranking Report'!E65<>\"\",'CoC Renewal Ranking Report'!E65,\"\")","v":""},{"$f":"IF('CoC Renewal Ranking Report'!G65<>\"\",'CoC Renewal Ranking Report'!G65,\"\")","v":""},{"$f":"IF('CoC Renewal Ranking Report'!AR65<>\"\",'CoC Renewal Ranking Report'!AY65,\"\")","v":""},""]
[{"$f":"IF('CoC Renewal Ranking Report'!D66<>\"\",'CoC Renewal Ranking Report'!D66,\"\")","v":""},{"$f":"IF('CoC Renewal Ranking Report'!E66<>\"\",'CoC Renewal Ranking Report'!E66,\"\")","v":""},{"$f":"IF('CoC Renewal Ranking Report'!G66<>\"\",'CoC Renewal Ranking Report'!G66,\"\")","v":""},{"$f":"IF('CoC Renewal Ranking Report'!AR66<>\"\",'CoC Renewal Ranking Report'!AY66,\"\")","v":""},""]
[{"$f":"IF('CoC Renewal Ranking Report'!D67<>\"\",'CoC Renewal Ranking Report'!D67,\"\")","v":""},{"$f":"IF('CoC Renewal Ranking Report'!E67<>\"\",'CoC Renewal Ranking Report'!E67,\"\")","v":""},{"$f":"IF('CoC Renewal Ranking Report'!G67<>\"\",'CoC Renewal Ranking Report'!G67,\"\")","v":""},{"$f":"IF('CoC Renewal Ranking Report'!AR67<>\"\",'CoC Renewal Ranking Report'!AY67,\"\")","v":""},""]
[{"$f":"IF('CoC Renewal Ranking Report'!D68<>\"\",'CoC Renewal Ranking Report'!D68,\"\")","v":""},{"$f":"IF('CoC Renewal Ranking Report'!E68<>\"\",'CoC Renewal Ranking Report'!E68,\"\")","v":""},{"$f":"IF('CoC Renewal Ranking Report'!G68<>\"\",'CoC Renewal Ranking Report'!G68,\"\")","v":""},{"$f":"IF('CoC Renewal Ranking Report'!AR68<>\"\",'CoC Renewal Ranking Report'!AY68,\"\")","v":""},""]
[{"$f":"IF('CoC Renewal Ranking Report'!D69<>\"\",'CoC Renewal Ranking Report'!D69,\"\")","v":""},{"$f":"IF('CoC Renewal Ranking Report'!E69<>\"\",'CoC Renewal Ranking Report'!E69,\"\")","v":""},{"$f":"IF('CoC Renewal Ranking Report'!G69<>\"\",'CoC Renewal Ranking Report'!G69,\"\")","v":""},{"$f":"IF('CoC Renewal Ranking Report'!AR69<>\"\",'CoC Renewal Ranking Report'!AY69,\"\")","v":""},""]
[{"$f":"IF('CoC Renewal Ranking Report'!D70<>\"\",'CoC Renewal Ranking Report'!D70,\"\")","v":""},{"$f":"IF('CoC Renewal Ranking Report'!E70<>\"\",'CoC Renewal Ranking Report'!E70,\"\")","v":""},{"$f":"IF('CoC Renewal Ranking Report'!G70<>\"\",'CoC Renewal Ranking Report'!G70,\"\")","v":""},{"$f":"IF('CoC Renewal Ranking Report'!AR70<>\"\",'CoC Renewal Ranking Report'!AY70,\"\")","v":""},""]
[{"$f":"IF('CoC Renewal Ranking Report'!D71<>\"\",'CoC Renewal Ranking Report'!D71,\"\")","v":""},{"$f":"IF('CoC Renewal Ranking Report'!E71<>\"\",'CoC Renewal Ranking Report'!E71,\"\")","v":""},{"$f":"IF('CoC Renewal Ranking Report'!G71<>\"\",'CoC Renewal Ranking Report'!G71,\"\")","v":""},{"$f":"IF('CoC Renewal Ranking Report'!AR71<>\"\",'CoC Renewal Ranking Report'!AY71,\"\")","v":""},""]
[{"$f":"IF('CoC Renewal Ranking Report'!D72<>\"\",'CoC Renewal Ranking Report'!D72,\"\")","v":""},{"$f":"IF('CoC Renewal Ranking Report'!E72<>\"\",'CoC Renewal Ranking Report'!E72,\"\")","v":""},{"$f":"IF('CoC Renewal Ranking Report'!G72<>\"\",'CoC Renewal Ranking Report'!G72,\"\")","v":""},{"$f":"IF('CoC Renewal Ranking Report'!AR72<>\"\",'CoC Renewal Ranking Report'!AY72,\"\")","v":""},""]
[{"$f":"IF('CoC Renewal Ranking Report'!D73<>\"\",'CoC Renewal Ranking Report'!D73,\"\")","v":""},{"$f":"IF('CoC Renewal Ranking Report'!E73<>\"\",'CoC Renewal Ranking Report'!E73,\"\")","v":""},{"$f":"IF('CoC Renewal Ranking Report'!G73<>\"\",'CoC Renewal Ranking Report'!G73,\"\")","v":""},{"$f":"IF('CoC Renewal Ranking Report'!AR73<>\"\",'CoC Renewal Ranking Report'!AY73,\"\")","v":""},""]
[{"$f":"IF('CoC Renewal Ranking Report'!D74<>\"\",'CoC Renewal Ranking Report'!D74,\"\")","v":""},{"$f":"IF('CoC Renewal Ranking Report'!E74<>\"\",'CoC Renewal Ranking Report'!E74,\"\")","v":""},{"$f":"IF('CoC Renewal Ranking Report'!G74<>\"\",'CoC Renewal Ranking Report'!G74,\"\")","v":""},{"$f":"IF('CoC Renewal Ranking Report'!AR74<>\"\",'CoC Renewal Ranking Report'!AY74,\"\")","v":""},{"$f":"IF(AND(A74<>\"\", D74<>\"\"), IF(D74 >= 1.64, 7.5, IF(AND(D74 < 1.64, D74 >= 1.23), 2.5, 0)), \"\")","v":""}]
[{"$f":"IF('CoC Renewal Ranking Report'!D75<>\"\",'CoC Renewal Ranking Report'!D75,\"\")","v":""},{"$f":"IF('CoC Renewal Ranking Report'!E75<>\"\",'CoC Renewal Ranking Report'!E75,\"\")","v":""},{"$f":"IF('CoC Renewal Ranking Report'!G75<>\"\",'CoC Renewal Ranking Report'!G75,\"\")","v":""},{"$f":"IF('CoC Renewal Ranking Report'!AR75<>\"\",'CoC Renewal Ranking Report'!AY75,\"\")","v":""},""]
[{"$f":"IF('CoC Renewal Ranking Report'!D76<>\"\",'CoC Renewal Ranking Report'!D76,\"\")","v":""},{"$f":"IF('CoC Renewal Ranking Report'!E76<>\"\",'CoC Renewal Ranking Report'!E76,\"\")","v":""},{"$f":"IF('CoC Renewal Ranking Report'!G76<>\"\",'CoC Renewal Ranking Report'!G76,\"\")","v":""},{"$f":"IF('CoC Renewal Ranking Report'!AR76<>\"\",'CoC Renewal Ranking Report'!AY76,\"\")","v":""},""]
[{"$f":"IF('CoC Renewal Ranking Report'!D77<>\"\",'CoC Renewal Ranking Report'!D77,\"\")","v":""},{"$f":"IF('CoC Renewal Ranking Report'!E77<>\"\",'CoC Renewal Ranking Report'!E77,\"\")","v":""},{"$f":"IF('CoC Renewal Ranking Report'!G77<>\"\",'CoC Renewal Ranking Report'!G77,\"\")","v":""},{"$f":"IF('CoC Renewal Ranking Report'!AR77<>\"\",'CoC Renewal Ranking Report'!AY77,\"\")","v":""},""]
[{"$f":"IF('CoC Renewal Ranking Report'!D78<>\"\",'CoC Renewal Ranking Report'!D78,\"\")","v":""},{"$f":"IF('CoC Renewal Ranking Report'!E78<>\"\",'CoC Renewal Ranking Report'!E78,\"\")","v":""},{"$f":"IF('CoC Renewal Ranking Report'!G78<>\"\",'CoC Renewal Ranking Report'!G78,\"\")","v":""},{"$f":"IF('CoC Renewal Ranking Report'!AR78<>\"\",'CoC Renewal Ranking Report'!AY78,\"\")","v":""},""]
[{"$f":"IF('CoC Renewal Ranking Report'!D79<>\"\",'CoC Renewal Ranking Report'!D79,\"\")","v":""},{"$f":"IF('CoC Renewal Ranking Report'!E79<>\"\",'CoC Renewal Ranking Report'!E79,\"\")","v":""},{"$f":"IF('CoC Renewal Ranking Report'!G79<>\"\",'CoC Renewal Ranking Report'!G79,\"\")","v":""},{"$f":"IF('CoC Renewal Ranking Report'!AR79<>\"\",'CoC Renewal Ranking Report'!AY79,\"\")","v":""},""]
[{"$f":"IF('CoC Renewal Ranking Report'!D80<>\"\",'CoC Renewal Ranking Report'!D80,\"\")","v":""},{"$f":"IF('CoC Renewal Ranking Report'!E80<>\"\",'CoC Renewal Ranking Report'!E80,\"\")","v":""},{"$f":"IF('CoC Renewal Ranking Report'!G80<>\"\",'CoC Renewal Ranking Report'!G80,\"\")","v":""},{"$f":"IF('CoC Renewal Ranking Report'!AR80<>\"\",'CoC Renewal Ranking Report'!AY80,\"\")","v":""},""]
[{"$f":"IF('CoC Renewal Ranking Report'!D81<>\"\",'CoC Renewal Ranking Report'!D81,\"\")","v":""},{"$f":"IF('CoC Renewal Ranking Report'!E81<>\"\",'CoC Renewal Ranking Report'!E81,\"\")","v":""},{"$f":"IF('CoC Renewal Ranking Report'!G81<>\"\",'CoC Renewal Ranking Report'!G81,\"\")","v":""},{"$f":"IF('CoC Renewal Ranking Report'!AR81<>\"\",'CoC Renewal Ranking Report'!AY81,\"\")","v":""},""]
[{"$f":"IF('CoC Renewal Ranking Report'!D82<>\"\",'CoC Renewal Ranking Report'!D82,\"\")","v":""},{"$f":"IF('CoC Renewal Ranking Report'!E82<>\"\",'CoC Renewal Ranking Report'!E82,\"\")","v":""},{"$f":"IF('CoC Renewal Ranking Report'!G82<>\"\",'CoC Renewal Ranking Report'!G82,\"\")","v":""},{"$f":"IF('CoC Renewal Ranking Report'!AR82<>\"\",'CoC Renewal Ranking Report'!AY82,\"\")","v":""},""]
[{"$f":"IF('CoC Renewal Ranking Report'!D83<>\"\",'CoC Renewal Ranking Report'!D83,\"\")","v":""},{"$f":"IF('CoC Renewal Ranking Report'!E83<>\"\",'CoC Renewal Ranking Report'!E83,\"\")","v":""},{"$f":"IF('CoC Renewal Ranking Report'!G83<>\"\",'CoC Renewal Ranking Report'!G83,\"\")","v":""},{"$f":"IF('CoC Renewal Ranking Report'!AR83<>\"\",'CoC Renewal Ranking Report'!AY83,\"\")","v":""},""]
[{"$f":"IF('CoC Renewal Ranking Report'!D84<>\"\",'CoC Renewal Ranking Report'!D84,\"\")","v":""},{"$f":"IF('CoC Renewal Ranking Report'!E84<>\"\",'CoC Renewal Ranking Report'!E84,\"\")","v":""},{"$f":"IF('CoC Renewal Ranking Report'!G84<>\"\",'CoC Renewal Ranking Report'!G84,\"\")","v":""},{"$f":"IF('CoC Renewal Ranking Report'!AR84<>\"\",'CoC Renewal Ranking Report'!AY84,\"\")","v":""},""]
[{"$f":"IF('CoC Renewal Ranking Report'!D85<>\"\",'CoC Renewal Ranking Report'!D85,\"\")","v":""},{"$f":"IF('CoC Renewal Ranking Report'!E85<>\"\",'CoC Renewal Ranking Report'!E85,\"\")","v":""},{"$f":"IF('CoC Renewal Ranking Report'!G85<>\"\",'CoC Renewal Ranking Report'!G85,\"\")","v":""},{"$f":"IF('CoC Renewal Ranking Report'!AR85<>\"\",'CoC Renewal Ranking Report'!AY85,\"\")","v":""},""]
[{"$f":"IF('CoC Renewal Ranking Report'!D86<>\"\",'CoC Renewal Ranking Report'!D86,\"\")","v":""},{"$f":"IF('CoC Renewal Ranking Report'!E86<>\"\",'CoC Renewal Ranking Report'!E86,\"\")","v":""},{"$f":"IF('CoC Renewal Ranking Report'!G86<>\"\",'CoC Renewal Ranking Report'!G86,\"\")","v":""},{"$f":"IF('CoC Renewal Ranking Report'!AR86<>\"\",'CoC Renewal Ranking Report'!AY86,\"\")","v":""},""]
[{"$f":"IF('CoC Renewal Ranking Report'!D87<>\"\",'CoC Renewal Ranking Report'!D87,\"\")","v":""},{"$f":"IF('CoC Renewal Ranking Report'!E87<>\"\",'CoC Renewal Ranking Report'!E87,\"\")","v":""},{"$f":"IF('CoC Renewal Ranking Report'!G87<>\"\",'CoC Renewal Ranking Report'!G87,\"\")","v":""},{"$f":"IF('CoC Renewal Ranking Report'!AR87<>\"\",'CoC Renewal Ranking Report'!AY87,\"\")","v":""},""]
[{"$f":"IF('CoC Renewal Ranking Report'!D88<>\"\",'CoC Renewal Ranking Report'!D88,\"\")","v":""},{"$f":"IF('CoC Renewal Ranking Report'!E88<>\"\",'CoC Renewal Ranking Report'!E88,\"\")","v":""},{"$f":"IF('CoC Renewal Ranking Report'!G88<>\"\",'CoC Renewal Ranking Report'!G88,\"\")","v":""},{"$f":"IF('CoC Renewal Ranking Report'!AR88<>\"\",'CoC Renewal Ranking Report'!AY88,\"\")","v":""},""]
[{"$f":"IF('CoC Renewal Ranking Report'!D89<>\"\",'CoC Renewal Ranking Report'!D89,\"\")","v":""},{"$f":"IF('CoC Renewal Ranking Report'!E89<>\"\",'CoC Renewal Ranking Report'!E89,\"\")","v":""},{"$f":"IF('CoC Renewal Ranking Report'!G89<>\"\",'CoC Renewal Ranking Report'!G89,\"\")","v":""},{"$f":"IF('CoC Renewal Ranking Report'!AR89<>\"\",'CoC Renewal Ranking Report'!AY89,\"\")","v":""},""]
[{"$f":"IF('CoC Renewal Ranking Report'!D90<>\"\",'CoC Renewal Ranking Report'!D90,\"\")","v":""},{"$f":"IF('CoC Renewal Ranking Report'!E90<>\"\",'CoC Renewal Ranking Report'!E90,\"\")","v":""},{"$f":"IF('CoC Renewal Ranking Report'!G90<>\"\",'CoC Renewal Ranking Report'!G90,\"\")","v":""},{"$f":"IF('CoC Renewal Ranking Report'!AR90<>\"\",'CoC Renewal Ranking Report'!AY90,\"\")","v":""},""]
[{"$f":"IF('CoC Renewal Ranking Report'!D91<>\"\",'CoC Renewal Ranking Report'!D91,\"\")","v":""},{"$f":"IF('CoC Renewal Ranking Report'!E91<>\"\",'CoC Renewal Ranking Report'!E91,\"\")","v":""},{"$f":"IF('CoC Renewal Ranking Report'!G91<>\"\",'CoC Renewal Ranking Report'!G91,\"\")","v":""},{"$f":"IF('CoC Renewal Ranking Report'!AR91<>\"\",'CoC Renewal Ranking Report'!AY91,\"\")","v":""},""]
[{"$f":"IF('CoC Renewal Ranking Report'!D92<>\"\",'CoC Renewal Ranking Report'!D92,\"\")","v":""},{"$f":"IF('CoC Renewal Ranking Report'!E92<>\"\",'CoC Renewal Ranking Report'!E92,\"\")","v":""},{"$f":"IF('CoC Renewal Ranking Report'!G92<>\"\",'CoC Renewal Ranking Report'!G92,\"\")","v":""},{"$f":"IF('CoC Renewal Ranking Report'!AR92<>\"\",'CoC Renewal Ranking Report'!AY92,\"\")","v":""},""]
[{"$f":"IF('CoC Renewal Ranking Report'!D93<>\"\",'CoC Renewal Ranking Report'!D93,\"\")","v":""},{"$f":"IF('CoC Renewal Ranking Report'!E93<>\"\",'CoC Renewal Ranking Report'!E93,\"\")","v":""},{"$f":"IF('CoC Renewal Ranking Report'!G93<>\"\",'CoC Renewal Ranking Report'!G93,\"\")","v":""},{"$f":"IF('CoC Renewal Ranking Report'!AR93<>\"\",'CoC Renewal Ranking Report'!AY93,\"\")","v":""},""]
[{"$f":"IF('CoC Renewal Ranking Report'!D94<>\"\",'CoC Renewal Ranking Report'!D94,\"\")","v":""},{"$f":"IF('CoC Renewal Ranking Report'!E94<>\"\",'CoC Renewal Ranking Report'!E94,\"\")","v":""},{"$f":"IF('CoC Renewal Ranking Report'!G94<>\"\",'CoC Renewal Ranking Report'!G94,\"\")","v":""},{"$f":"IF('CoC Renewal Ranking Report'!AR94<>\"\",'CoC Renewal Ranking Report'!AY94,\"\")","v":""},""]
[{"$f":"IF('CoC Renewal Ranking Report'!D95<>\"\",'CoC Renewal Ranking Report'!D95,\"\")","v":""},{"$f":"IF('CoC Renewal Ranking Report'!E95<>\"\",'CoC Renewal Ranking Report'!E95,\"\")","v":""},{"$f":"IF('CoC Renewal Ranking Report'!G95<>\"\",'CoC Renewal Ranking Report'!G95,\"\")","v":""},{"$f":"IF('CoC Renewal Ranking Report'!AR95<>\"\",'CoC Renewal Ranking Report'!AY95,\"\")","v":""},""]
[{"$f":"IF('CoC Renewal Ranking Report'!D96<>\"\",'CoC Renewal Ranking Report'!D96,\"\")","v":""},{"$f":"IF('CoC Renewal Ranking Report'!E96<>\"\",'CoC Renewal Ranking Report'!E96,\"\")","v":""},{"$f":"IF('CoC Renewal Ranking Report'!G96<>\"\",'CoC Renewal Ranking Report'!G96,\"\")","v":""},{"$f":"IF('CoC Renewal Ranking Report'!AR96<>\"\",'CoC Renewal Ranking Report'!AY96,\"\")","v":""},""]
[{"$f":"IF('CoC Renewal Ranking Report'!D97<>\"\",'CoC Renewal Ranking Report'!D97,\"\")","v":""},{"$f":"IF('CoC Renewal Ranking Report'!E97<>\"\",'CoC Renewal Ranking Report'!E97,\"\")","v":""},{"$f":"IF('CoC Renewal Ranking Report'!G97<>\"\",'CoC Renewal Ranking Report'!G97,\"\")","v":""},{"$f":"IF('CoC Renewal Ranking Report'!AR97<>\"\",'CoC Renewal Ranking Report'!AY97,\"\")","v":""},""]
[{"$f":"IF('CoC Renewal Ranking Report'!D98<>\"\",'CoC Renewal Ranking Report'!D98,\"\")","v":""},{"$f":"IF('CoC Renewal Ranking Report'!E98<>\"\",'CoC Renewal Ranking Report'!E98,\"\")","v":""},{"$f":"IF('CoC Renewal Ranking Report'!G98<>\"\",'CoC Renewal Ranking Report'!G98,\"\")","v":""},{"$f":"IF('CoC Renewal Ranking Report'!AR98<>\"\",'CoC Renewal Ranking Report'!AY98,\"\")","v":""},""]
[{"$f":"IF('CoC Renewal Ranking Report'!D99<>\"\",'CoC Renewal Ranking Report'!D99,\"\")","v":""},{"$f":"IF('CoC Renewal Ranking Report'!E99<>\"\",'CoC Renewal Ranking Report'!E99,\"\")","v":""},{"$f":"IF('CoC Renewal Ranking Report'!G99<>\"\",'CoC Renewal Ranking Report'!G99,\"\")","v":""},{"$f":"IF('CoC Renewal Ranking Report'!AR99<>\"\",'CoC Renewal Ranking Report'!AY99,\"\")","v":""},""]
[{"$f":"IF('CoC Renewal Ranking Report'!D100<>\"\",'CoC Renewal Ranking Report'!D100,\"\")","v":""},{"$f":"IF('CoC Renewal Ranking Report'!E100<>\"\",'CoC Renewal Ranking Report'!E100,\"\")","v":""},{"$f":"IF('CoC Renewal Ranking Report'!G100<>\"\",'CoC Renewal Ranking Report'!G100,\"\")","v":""},{"$f":"IF('CoC Renewal Ranking Report'!AR100<>\"\",'CoC Renewal Ranking Report'!AY100,\"\")","v":""},""]
[{"$f":"IF('CoC Renewal Ranking Report'!D101<>\"\",'CoC Renewal Ranking Report'!D101,\"\")","v":""},{"$f":"IF('CoC Renewal Ranking Report'!E101<>\"\",'CoC Renewal Ranking Report'!E101,\"\")","v":""},{"$f":"IF('CoC Renewal Ranking Report'!G101<>\"\",'CoC Renewal Ranking Report'!G101,\"\")","v":""},{"$f":"IF('CoC Renewal Ranking Report'!AR101<>\"\",'CoC Renewal Ranking Report'!AY101,\"\")","v":""},""]
[{"$f":"IF('CoC Renewal Ranking Report'!D102<>\"\",'CoC Renewal Ranking Report'!D102,\"\")","v":""},{"$f":"IF('CoC Renewal Ranking Report'!E102<>\"\",'CoC Renewal Ranking Report'!E102,\"\")","v":""},{"$f":"IF('CoC Renewal Ranking Report'!G102<>\"\",'CoC Renewal Ranking Report'!G102,\"\")","v":""},{"$f":"IF('CoC Renewal Ranking Report'!AR102<>\"\",'CoC Renewal Ranking Report'!AY102,\"\")","v":""},""]

{"sheet":"Prioritization of PSH","index":20,"n_rows":102,"n_cols":5,"rows_kept":102,"cut":false,"hidden":false,"merged":[[0,1,0,2]]}
[null,"Prioritization of PSH"]
[null,"Criteria","Points"]
[null,"100% Chronic Dedicated Beds",2.5]
[null,"Less than 100% Chronic Dedicated Beds",0]
[]
["Agency Name","Project Name","Project Type","Fully Dedicated","Score"]
[{"$f":"IF('CoC Renewal Ranking Report'!D9<>\"\",'CoC Renewal Ranking Report'!D9,\"\")","v":""},{"$f":"IF('CoC Renewal Ranking Report'!E9<>\"\",'CoC Renewal Ranking Report'!E9,\"\")","v":""},{"$f":"IF('CoC Renewal Ranking Report'!G9<>\"\",'CoC Renewal Ranking Report'!G9,\"\")","v":""},{"$f":"IF('CoC Renewal Ranking Report'!K9<>\"\",'CoC Renewal Ranking Report'!BT9,\"\")","v":""},{"$f":"IF(AND(A7<>\"\", D7<>\"\"), IF(D7 = \"Y\", 2.5, 0), \"\")","v":""}]
[{"$f":"IF('CoC Renewal Ranking Report'!D10<>\"\",'CoC Renewal Ranking Report'!D10,\"\")","v":"Blair County Community Action Program"},{"$f":"IF('CoC Renewal Ranking Report'!E10<>\"\",'CoC Renewal Ranking Report'!E10,\"\")","v":"Rapid Re-Housing"},{"$f":"IF('CoC Renewal Ranking Report'!G10<>\"\",'CoC Renewal Ranking Report'!G10,\"\")","v":"PH-RRH"},{"$f":"IF('CoC Renewal Ranking Report'!K10<>\"\",'CoC Renewal Ranking Report'!BT10,\"\")","v":"n/a"},{"$f":"IF(AND(A8<>\"\", D8<>\"\"), IF(D8 = \"Y\", 2.5, 0), \"\")","v":0}]
[{"$f":"IF('CoC Renewal Ranking Report'!D11<>\"\",'CoC Renewal Ranking Report'!D11,\"\")","v":"Cambria County"},{"$f":"IF('CoC Renewal Ranking Report'!E11<>\"\",'CoC Renewal Ranking Report'!E11,\"\")","v":"Cambria County Comprehensive Housing Program"},{"$f":"IF('CoC Renewal Ranking Report'!G11<>\"\",'CoC Renewal Ranking Report'!G11,\"\")","v":"PH"},{"$f":"IF('CoC Renewal Ranking Report'!K11<>\"\",'CoC Renewal Ranking Report'!BT11,\"\")","v":"Y"},2.5]
[{"$f":"IF('CoC Renewal Ranking Report'!D12<>\"\",'CoC Renewal Ranking Report'!D12,\"\")","v":"Catholic Charities of the Diocese of Allentown"},{"$f":"IF('CoC Renewal Ranking Report'!E12<>\"\",'CoC Renewal Ranking Report'!E12,\"\")","v":"Catholic Charities Allentown Permanent Housing Program"},{"$f":"IF('CoC Renewal Ranking Report'!G12<>\"\",'CoC Renewal Ranking Report'!G12,\"\")","v":"PH"},{"$f":"IF('CoC Renewal Ranking Report'!K12<>\"\",'CoC Renewal Ranking Report'!BT12,\"\")","v":"Y"},2.5]
[{"$f":"IF('CoC Renewal Ranking Report'!D13<>\"\",'CoC Renewal Ranking Report'!D13,\"\")","v":"Catholic Social Services of the Diocese of Scranton, Inc."},{"$f":"IF('CoC Renewal Ranking Report'!E13<>\"\",'CoC Renewal Ranking Report'!E13,\"\")","v":"PSHP Pike County"},{"$f":"IF('CoC Renewal Ranking Report'!G13<>\"\",'CoC Renewal Ranking Report'!G13,\"\")","v":"PH"},{"$f":"IF('CoC Renewal Ranking Report'!K13<>\"\",'CoC Renewal Ranking Report'!BT13,\"\")","v":"Y"},2.5]
[{"$f":"IF('CoC Renewal Ranking Report'!D14<>\"\",'CoC Renewal Ranking Report'!D14,\"\")","v":"Catholic Social Services of the Diocese of Scranton, Inc."},{"$f":"IF('CoC Renewal Ranking Report'!E14<>\"\",'CoC Renewal Ranking Report'!E14,\"\")","v":"Rural Permanent Supportive Housing Program"},{"$f":"IF('CoC Renewal Ranking Report'!G14<>\"\",'CoC Renewal Ranking Report'!G14,\"\")","v":"PH"},{"$f":"IF('CoC Renewal Ranking Report'!K14<>\"\",'CoC Renewal Ranking Report'!BT14,\"\")","v":"Y"},2.5]
[{"$f":"IF('CoC Renewal Ranking Report'!D15<>\"\",'CoC Renewal Ranking Report'!D15,\"\")","v":"Catholic Social Services of the Diocese of Scranton, Inc."},{"$f":"IF('CoC Renewal Ranking Report'!E15<>\"\",'CoC Renewal Ranking Report'!E15,\"\")","v":"Susquehanna/Wayne PSHP"},{"$f":"IF('CoC Renewal Ranking Report'!G15<>\"\",'CoC Renewal Ranking Report'!G15,\"\")","v":"PH"},{"$f":"IF('CoC Renewal Ranking Report'!K15<>\"\",'CoC Renewal Ranking Report'!BT15,\"\")","v":"Y"},2.5]
[{"$f":"IF('CoC Renewal Ranking Report'!D16<>\"\",'CoC Renewal Ranking Report'!D16,\"\")","v":"Center for Community Action"},{"$f":"IF('CoC Renewal Ranking Report'!E16<>\"\",'CoC Renewal Ranking Report'!E16,\"\")","v":"Bedford,Fulton, Huntingdon RRH"},{"$f":"IF('CoC Renewal Ranking Report'!G16<>\"\",'CoC Renewal Ranking Report'!G16,\"\")","v":"PH-RRH"},{"$f":"IF('CoC Renewal Ranking Report'!K16<>\"\",'CoC Renewal Ranking Report'!BT16,\"\")","v":"Y"},2.5]
[{"$f":"IF('CoC Renewal Ranking Report'!D17<>\"\",'CoC Renewal Ranking Report'!D17,\"\")","v":"County of Franklin"},{"$f":"IF('CoC Renewal Ranking Report'!E17<>\"\",'CoC Renewal Ranking Report'!E17,\"\")","v":"Franklin/ Fulton S+C Project 2017"},{"$f":"IF('CoC Renewal Ranking Report'!G17<>\"\",'CoC Renewal Ranking Report'!G17,\"\")","v":"PH"},{"$f":"IF('CoC Renewal Ranking Report'!K17<>\"\",'CoC Renewal Ranking Report'!BT17,\"\")","v":"Y"},2.5]
[{"$f":"IF('CoC Renewal Ranking Report'!D18<>\"\",'CoC Renewal Ranking Report'!D18,\"\")","v":"County of Franklin"},{"$f":"IF('CoC Renewal Ranking Report'!E18<>\"\",'CoC Renewal Ranking Report'!E18,\"\")","v":"Franklin/Fulton Homeless Assistance Project 2017"},{"$f":"IF('CoC Renewal Ranking Report'!G18<>\"\",'CoC Renewal Ranking Report'!G18,\"\")","v":"PH"},{"$f":"IF('CoC Renewal Ranking Report'!K18<>\"\",'CoC Renewal Ranking Report'!BT18,\"\")","v":"Y"},2.5]
[{"$f":"IF('CoC Renewal Ranking Report'!D19<>\"\",'CoC Renewal Ranking Report'!D19,\"\")","v":"County of Lycoming DBA Lycoming- Clinton Joinder Board"},{"$f":"IF('CoC Renewal Ranking Report'!E19<>\"\",'CoC Renewal Ranking Report'!E19,\"\")","v":"Lycoming/Clinton Renewal #5"},{"$f":"IF('CoC Renewal Ranking Report'!G19<>\"\",'CoC Renewal Ranking Report'!G19,\"\")","v":"PH"},{"$f":"IF('CoC Renewal Ranking Report'!K19<>\"\",'CoC Renewal Ranking Report'!BT19,\"\")","v":"Y"},2.5]
[{"$f":"IF('CoC Renewal Ranking Report'!D20<>\"\",'CoC Renewal Ranking Report'!D20,\"\")","v":"Fitzmaurice Community Services, Inc"},{"$f":"IF('CoC Renewal Ranking Report'!E20<>\"\",'CoC Renewal Ranking Report'!E20,\"\")","v":"Pathfinders"},{"$f":"IF('CoC Renewal Ranking Report'!G20<>\"\",'CoC Renewal Ranking Report'!G20,\"\")","v":"PH"},{"$f":"IF('CoC Renewal Ranking Report'!K20<>\"\",'CoC Renewal Ranking Report'!BT20,\"\")","v":"Y"},2.5]
[{"$f":"IF('CoC Renewal Ranking Report'!D21<>\"\",'CoC Renewal Ranking Report'!D21,\"\")","v":"Home Nursing AgencyCommunity Services"},{"$f":"IF('CoC Renewal Ranking Report'!E21<>\"\",'CoC Renewal Ranking Report'!E21,\"\")","v":"Housing Assistance and Rental Program"},{"$f":"IF('CoC Renewal Ranking Report'!G21<>\"\",'CoC Renewal Ranking Report'!G21,\"\")","v":"PH"},{"$f":"IF('CoC Renewal Ranking Report'!K21<>\"\",'CoC Renewal Ranking Report'!BT21,\"\")","v":"Y"},2.5]
[{"$f":"IF('CoC Renewal Ranking Report'!D22<>\"\",'CoC Renewal Ranking Report'!D22,\"\")","v":"Housing Authority of Monroe County"},{"$f":"IF('CoC Renewal Ranking Report'!E22<>\"\",'CoC Renewal Ranking Report'!E22,\"\")","v":"Renewal Application Shelter Plus Care MC 2016"},{"$f":"IF('CoC Renewal Ranking Report'!G22<>\"\",'CoC Renewal Ranking Report'!G22,\"\")","v":"PH"},{"$f":"IF('CoC Renewal Ranking Report'!K22<>\"\",'CoC Renewal Ranking Report'!BT22,\"\")","v":"Y"},2.5]
[{"$f":"IF('CoC Renewal Ranking Report'!D23<>\"\",'CoC Renewal Ranking Report'!D23,\"\")","v":"Housing Authority of the County of Cumberland"},{"$f":"IF('CoC Renewal Ranking Report'!E23<>\"\",'CoC Renewal Ranking Report'!E23,\"\")","v":"Carlisle Supportive Housing Program"},{"$f":"IF('CoC Renewal Ranking Report'!G23<>\"\",'CoC Renewal Ranking Report'!G23,\"\")","v":"PH"},{"$f":"IF('CoC Renewal Ranking Report'!K23<>\"\",'CoC Renewal Ranking Report'!BT23,\"\")","v":"Y"},2.5]
[{"$f":"IF('CoC Renewal Ranking Report'!D24<>\"\",'CoC Renewal Ranking Report'!D24,\"\")","v":"Housing Authority of the County of Cumberland"},{"$f":"IF('CoC Renewal Ranking Report'!E24<>\"\",'CoC Renewal Ranking Report'!E24,\"\")","v":"Perry County Permanent SHP"},{"$f":"IF('CoC Renewal Ranking Report'!G24<>\"\",'CoC Renewal Ranking Report'!G24,\"\")","v":"PH"},{"$f":"IF('CoC Renewal Ranking Report'!K24<>\"\",'CoC Renewal Ranking Report'!BT24,\"\")","v":"Y"},2.5]
[{"$f":"IF('CoC Renewal Ranking Report'!D25<>\"\",'CoC Renewal Ranking Report'!D25,\"\")","v":"Housing Authority of the County of Cumberland"},{"$f":"IF('CoC Renewal Ranking Report'!E25<>\"\",'CoC Renewal Ranking Report'!E25,\"\")","v":"Perry County Transitional II"},{"$f":"IF('CoC Renewal Ranking Report'!G25<>\"\",'CoC Renewal Ranking Report'!G25,\"\")","v":"PH-RRH"},{"$f":"IF('CoC Renewal Ranking Report'!K25<>\"\",'CoC Renewal Ranking Report'!BT25,\"\")","v":"n/a"},0]
[{"$f":"IF('CoC Renewal Ranking Report'!D26<>\"\",'CoC Renewal Ranking Report'!D26,\"\")","v":"Housing Authority of the County of Cumberland"},{"$f":"IF('CoC Renewal Ranking Report'!E26<>\"\",'CoC Renewal Ranking Report'!E26,\"\")","v":"Perry County Veterans Program"},{"$f":"IF('CoC Renewal Ranking Report'!G26<>\"\",'CoC Renewal Ranking Report'!G26,\"\")","v":"PH"},{"$f":"IF('CoC Renewal Ranking Report'!K26<>\"\",'CoC Renewal Ranking Report'!BT26,\"\")","v":"Y"},2.5]
[{"$f":"IF('CoC Renewal Ranking Report'!D27<>\"\",'CoC Renewal Ranking Report'!D27,\"\")","v":"Housing Authority of the County of Cumberland"},{"$f":"IF('CoC Renewal Ranking Report'!E27<>\"\",'CoC Renewal Ranking Report'!E27,\"\")","v":"Rapid Rehousing II"},{"$f":"IF('CoC Renewal Ranking Report'!G27<>\"\",'CoC Renewal Ranking Report'!G27,\"\")","v":"PH-RRH"},{"$f":"IF('CoC Renewal Ranking Report'!K27<>\"\",'CoC Renewal Ranking Report'!BT27,\"\")","v":"n/a"},0]
[{"$f":"IF('CoC Renewal Ranking Report'!D28<>\"\",'CoC Renewal Ranking Report'!D28,\"\")","v":"Housing Authority of the County of Cumberland"},{"$f":"IF('CoC Renewal Ranking Report'!E28<>\"\",'CoC Renewal Ranking Report'!E28,\"\")","v":"Safe Harbour SHP"},{"$f":"IF('CoC Renewal Ranking Report'!G28<>\"\",'CoC Renewal Ranking Report'!G28,\"\")","v":"PH"},{"$f":"IF('CoC Renewal Ranking Report'!K28<>\"\",'CoC Renewal Ranking Report'!BT28,\"\")","v":"Y"},2.5]
[{"$f":"IF('CoC Renewal Ranking Report'!D29<>\"\",'CoC Renewal Ranking Report'!D29,\"\")","v":"Housing Authority of the County of Cumberland"},{"$f":"IF('CoC Renewal Ranking Report'!E29<>\"\",'CoC Renewal Ranking Report'!E29,\"\")","v":"Shelter + Care Chronic"},{"$f":"IF('CoC Renewal Ranking Report'!G29<>\"\",'CoC Renewal Ranking Report'!G29,\"\")","v":"PH"},{"$f":"IF('CoC Renewal Ranking Report'!K29<>\"\",'CoC Renewal Ranking Report'!BT29,\"\")","v":"Y"},2.5]
[{"$f":"IF('CoC Renewal Ranking Report'!D30<>\"\",'CoC Renewal Ranking Report'!D30,\"\")","v":"Housing Authority of the County of Cumberland"},{"$f":"IF('CoC Renewal Ranking Report'!E30<>\"\",'CoC Renewal Ranking Report'!E30,\"\")","v":"Shelter + Care Non-Chronic"},{"$f":"IF('CoC Renewal Ranking Report'!G30<>\"\",'CoC Renewal Ranking Report'!G30,\"\")","v":"PH"},{"$f":"IF('CoC Renewal Ranking Report'!K30<>\"\",'CoC Renewal Ranking Report'!BT30,\"\")","v":"Y"},2.5]
[{"$f":"IF('CoC Renewal Ranking Report'!D31<>\"\",'CoC Renewal Ranking Report'!D31,\"\")","v":"Housing Authority of the County of Cumberland"},{"$f":"IF('CoC Renewal Ranking Report'!E31<>\"\",'CoC Renewal Ranking Report'!E31,\"\")","v":"West Shore SHP I"},{"$f":"IF('CoC Renewal Ranking Report'!G31<>\"\",'CoC Renewal Ranking Report'!G31,\"\")","v":"PH"},{"$f":"IF('CoC Renewal Ranking Report'!K31<>\"\",'CoC Renewal Ranking Report'!BT31,\"\")","v":"Y"},2.5]
[{"$f":"IF('CoC Renewal Ranking Report'!D32<>\"\",'CoC Renewal Ranking Report'!D32,\"\")","v":"Housing Authority of the County of Cumberland"},{"$f":"IF('CoC Renewal Ranking Report'!E32<>\"\",'CoC Renewal Ranking Report'!E32,\"\")","v":"West Shore SHP II"},{"$f":"IF('CoC Renewal Ranking Report'!G32<>\"\",'CoC Renewal Ranking Report'!G32,\"\")","v":"PH"},{"$f":"IF('CoC Renewal Ranking Report'!K32<>\"\",'CoC Renewal Ranking Report'!BT32,\"\")","v":"Y"},2.5]
[{"$f":"IF('CoC Renewal Ranking Report'!D33<>\"\",'CoC Renewal Ranking Report'!D33,\"\")","v":"Housing Development Corporation of NEPA"},{"$f":"IF('CoC Renewal Ranking Report'!E33<>\"\",'CoC Renewal Ranking Report'!E33,\"\")","v":"HDC SHP 3 2016"},{"$f":"IF('CoC Renewal Ranking Report'!G33<>\"\",'CoC Renewal Ranking Report'!G33,\"\")","v":"PH"},{"$f":"IF('CoC Renewal Ranking Report'!K33<>\"\",'CoC Renewal Ranking Report'!BT33,\"\")","v":"Y"},2.5]
[{"$f":"IF('CoC Renewal Ranking Report'!D34<>\"\",'CoC Renewal Ranking Report'!D34,\"\")","v":"Housing Development Corporation of NEPA"},{"$f":"IF('CoC Renewal Ranking Report'!E34<>\"\",'CoC Renewal Ranking Report'!E34,\"\")","v":"HDC SHP 6 2016"},{"$f":"IF('CoC Renewal Ranking Report'!G34<>\"\",'CoC Renewal Ranking Report'!G34,\"\")","v":"PH"},{"$f":"IF('CoC Renewal Ranking Report'!K34<>\"\",'CoC Renewal Ranking Report'!BT34,\"\")","v":"Y"},2.5]
[{"$f":"IF('CoC Renewal Ranking Report'!D35<>\"\",'CoC Renewal Ranking Report'!D35,\"\")","v":"Housing Transitions, Inc."},{"$f":"IF('CoC Renewal Ranking Report'!E35<>\"\",'CoC Renewal Ranking Report'!E35,\"\")","v":"Nittany House Apartments"},{"$f":"IF('CoC Renewal Ranking Report'!G35<>\"\",'CoC Renewal Ranking Report'!G35,\"\")","v":"PH"},{"$f":"IF('CoC Renewal Ranking Report'!K35<>\"\",'CoC Renewal Ranking Report'!BT35,\"\")","v":"Y"},2.5]
[{"$f":"IF('CoC Renewal Ranking Report'!D36<>\"\",'CoC Renewal Ranking Report'!D36,\"\")","v":"Lehigh County Conference of Churches"},{"$f":"IF('CoC Renewal Ranking Report'!E36<>\"\",'CoC Renewal Ranking Report'!E36,\"\")","v":"Outreach and Case Management for the Disabled, Chronically Homeless"},{"$f":"IF('CoC Renewal Ranking Report'!G36<>\"\",'CoC Renewal Ranking Report'!G36,\"\")","v":"SSO"},{"$f":"IF('CoC Renewal Ranking Report'!K36<>\"\",'CoC Renewal Ranking Report'!BT36,\"\")","v":"n/a"},0]
[{"$f":"IF('CoC Renewal Ranking Report'!D37<>\"\",'CoC Renewal Ranking Report'!D37,\"\")","v":"Lehigh County Conference of Churches"},{"$f":"IF('CoC Renewal Ranking Report'!E37<>\"\",'CoC Renewal Ranking Report'!E37,\"\")","v":"Pathways Housing"},{"$f":"IF('CoC Renewal Ranking Report'!G37<>\"\",'CoC Renewal Ranking Report'!G37,\"\")","v":"PH"},{"$f":"IF('CoC Renewal Ranking Report'!K37<>\"\",'CoC Renewal Ranking Report'!BT37,\"\")","v":"Y"},2.5]
[{"$f":"IF('CoC Renewal Ranking Report'!D38<>\"\",'CoC Renewal Ranking Report'!D38,\"\")","v":"Lehigh County Conference of Churches"},{"$f":"IF('CoC Renewal Ranking Report'!E38<>\"\",'CoC Renewal Ranking Report'!E38,\"\")","v":"Pathways Housing 2"},{"$f":"IF('CoC Renewal Ranking Report'!G38<>\"\",'CoC Renewal Ranking Report'!G38,\"\")","v":"PH"},{"$f":"IF('CoC Renewal Ranking Report'!K38<>\"\",'CoC Renewal Ranking Report'!BT38,\"\")","v":"Y"},2.5]
[{"$f":"IF('CoC Renewal Ranking Report'!D39<>\"\",'CoC Renewal Ranking Report'!D39,\"\")","v":"Lehigh County Conference of Churches"},{"$f":"IF('CoC Renewal Ranking Report'!E39<>\"\",'CoC Renewal Ranking Report'!E39,\"\")","v":"Pathways TBRA for Families, Youth and Veterans"},{"$f":"IF('CoC Renewal Ranking Report'!G39<>\"\",'CoC Renewal Ranking Report'!G39,\"\")","v":"PH"},{"$f":"IF('CoC Renewal Ranking Report'!K39<>\"\",'CoC Renewal Ranking Report'!BT39,\"\")","v":"Y"},2.5]
[{"$f":"IF('CoC Renewal Ranking Report'!D40<>\"\",'CoC Renewal Ranking Report'!D40,\"\")","v":"Lehigh County Conference of Churches"},{"$f":"IF('CoC Renewal Ranking Report'!E40<>\"\",'CoC Renewal Ranking Report'!E40,\"\")","v":"Tenant-Based Rental Assistance for the Disabled,Chronically Homeless"},{"$f":"IF('CoC Renewal Ranking Report'!G40<>\"\",'CoC Renewal Ranking Report'!G40,\"\")","v":"PH"},{"$f":"IF('CoC Renewal Ranking Report'!K40<>\"\",'CoC Renewal Ranking Report'!BT40,\"\")","v":"Y"},2.5]
[{"$f":"IF('CoC Renewal Ranking Report'!D41<>\"\",'CoC Renewal Ranking Report'!D41,\"\")","v":"Lehigh County Housing Authority"},{"$f":"IF('CoC Renewal Ranking Report'!E41<>\"\",'CoC Renewal Ranking Report'!E41,\"\")","v":"LCHA S+C 2016"},{"$f":"IF('CoC Renewal Ranking Report'!G41<>\"\",'CoC Renewal Ranking Report'!G41,\"\")","v":"PH"},{"$f":"IF('CoC Renewal Ranking Report'!K41<>\"\",'CoC Renewal Ranking Report'!BT41,\"\")","v":"Y"},2.5]
[{"$f":"IF('CoC Renewal Ranking Report'!D42<>\"\",'CoC Renewal Ranking Report'!D42,\"\")","v":"Maranatha"},{"$f":"IF('CoC Renewal Ranking Report'!E42<>\"\",'CoC Renewal Ranking Report'!E42,\"\")","v":"TOTAL PERSON TRANSITIONAL PROGRAM 1 & 2"},{"$f":"IF('CoC Renewal Ranking Report'!G42<>\"\",'CoC Renewal Ranking Report'!G42,\"\")","v":"PH-RRH"},{"$f":"IF('CoC Renewal Ranking Report'!K42<>\"\",'CoC Renewal Ranking Report'!BT42,\"\")","v":"n/a"},0]
[{"$f":"IF('CoC Renewal Ranking Report'!D43<>\"\",'CoC Renewal Ranking Report'!D43,\"\")","v":"Mifflin County"},{"$f":"IF('CoC Renewal Ranking Report'!E43<>\"\",'CoC Renewal Ranking Report'!E43,\"\")","v":"Mifflin County Permanent Housing Renewal"},{"$f":"IF('CoC Renewal Ranking Report'!G43<>\"\",'CoC Renewal Ranking Report'!G43,\"\")","v":"PH"},{"$f":"IF('CoC Renewal Ranking Report'!K43<>\"\",'CoC Renewal Ranking Report'!BT43,\"\")","v":"Y"},2.5]
[{"$f":"IF('CoC Renewal Ranking Report'!D44<>\"\",'CoC Renewal Ranking Report'!D44,\"\")","v":"Northampton County Housing Authority"},{"$f":"IF('CoC Renewal Ranking Report'!E44<>\"\",'CoC Renewal Ranking Report'!E44,\"\")","v":"NCHA S+C 2016"},{"$f":"IF('CoC Renewal Ranking Report'!G44<>\"\",'CoC Renewal Ranking Report'!G44,\"\")","v":"PH"},{"$f":"IF('CoC Renewal Ranking Report'!K44<>\"\",'CoC Renewal Ranking Report'!BT44,\"\")","v":"Y"},2.5]
[{"$f":"IF('CoC Renewal Ranking Report'!D45<>\"\",'CoC Renewal Ranking Report'!D45,\"\")","v":"Northern Cambria Community Development Corporation"},{"$f":"IF('CoC Renewal Ranking Report'!E45<>\"\",'CoC Renewal Ranking Report'!E45,\"\")","v":"Independence Gardens"},{"$f":"IF('CoC Renewal Ranking Report'!G45<>\"\",'CoC Renewal Ranking Report'!G45,\"\")","v":"PH"},{"$f":"IF('CoC Renewal Ranking Report'!K45<>\"\",'CoC Renewal Ranking Report'!BT45,\"\")","v":"Y"},2.5]
[{"$f":"IF('CoC Renewal Ranking Report'!D46<>\"\",'CoC Renewal Ranking Report'!D46,\"\")","v":"Northern Cambria Community Development Corporation"},{"$f":"IF('CoC Renewal Ranking Report'!E46<>\"\",'CoC Renewal Ranking Report'!E46,\"\")","v":"Schoolhouse Gardens"},{"$f":"IF('CoC Renewal Ranking Report'!G46<>\"\",'CoC Renewal Ranking Report'!G46,\"\")","v":"PH"},{"$f":"IF('CoC Renewal Ranking Report'!K46<>\"\",'CoC Renewal Ranking Report'!BT46,\"\")","v":"Y"},2.5]
[{"$f":"IF('CoC Renewal Ranking Report'!D47<>\"\",'CoC Renewal Ranking Report'!D47,\"\")","v":"Northumberland County MH/MR"},{"$f":"IF('CoC Renewal Ranking Report'!E47<>\"\",'CoC Renewal Ranking Report'!E47,\"\")","v":"Sharing Support"},{"$f":"IF('CoC Renewal Ranking Report'!G47<>\"\",'CoC Renewal Ranking Report'!G47,\"\")","v":"PH"},{"$f":"IF('CoC Renewal Ranking Report'!K47<>\"\",'CoC Renewal Ranking Report'!BT47,\"\")","v":"Y"},2.5]
[{"$f":"IF('CoC Renewal Ranking Report'!D48<>\"\",'CoC Renewal Ranking Report'!D48,\"\")","v":"Resources for Human Development, Inc."},{"$f":"IF('CoC Renewal Ranking Report'!E48<>\"\",'CoC Renewal Ranking Report'!E48,\"\")","v":"Crossroads Family"},{"$f":"IF('CoC Renewal Ranking Report'!G48<>\"\",'CoC Renewal Ranking Report'!G48,\"\")","v":"PH"},{"$f":"IF('CoC Renewal Ranking Report'!K48<>\"\",'CoC Renewal Ranking Report'!BT48,\"\")","v":"Y"},2.5]
[{"$f":"IF('CoC Renewal Ranking Report'!D49<>\"\",'CoC Renewal Ranking Report'!D49,\"\")","v":"Resources for Human Development, Inc."},{"$f":"IF('CoC Renewal Ranking Report'!E49<>\"\",'CoC Renewal Ranking Report'!E49,\"\")","v":"Crossroads Housing Bonus"},{"$f":"IF('CoC Renewal Ranking Report'!G49<>\"\",'CoC Renewal Ranking Report'!G49,\"\")","v":"PH"},{"$f":"IF('CoC Renewal Ranking Report'!K49<>\"\",'CoC Renewal Ranking Report'!BT49,\"\")","v":"Y"},2.5]
[{"$f":"IF('CoC Renewal Ranking Report'!D50<>\"\",'CoC Renewal Ranking Report'!D50,\"\")","v":"Resources for Human Development, Inc."},{"$f":"IF('CoC Renewal Ranking Report'!E50<>\"\",'CoC Renewal Ranking Report'!E50,\"\")","v":"Crossroads Individual"},{"$f":"IF('CoC Renewal Ranking Report'!G50<>\"\",'CoC Renewal Ranking Report'!G50,\"\")","v":"PH"},{"$f":"IF('CoC Renewal Ranking Report'!K50<>\"\",'CoC Renewal Ranking Report'!BT50,\"\")","v":"Y"},2.5]
[{"$f":"IF('CoC Renewal Ranking Report'!D51<>\"\",'CoC Renewal Ranking Report'!D51,\"\")","v":"Resources for Human Development, Inc."},{"$f":"IF('CoC Renewal Ranking Report'!E51<>\"\",'CoC Renewal Ranking Report'!E51,\"\")","v":"Crossroads Schuylkill Co. Permanent Supportive Housing"},{"$f":"IF('CoC Renewal Ranking Report'!G51<>\"\",'CoC Renewal Ranking Report'!G51,\"\")","v":"PH"},{"$f":"IF('CoC Renewal Ranking Report'!K51<>\"\",'CoC Renewal Ranking Report'!BT51,\"\")","v":"Y"},2.5]
[{"$f":"IF('CoC Renewal Ranking Report'!D52<>\"\",'CoC Renewal Ranking Report'!D52,\"\")","v":"Resources for Human Development, Inc."},{"$f":"IF('CoC Renewal Ranking Report'!E52<>\"\",'CoC Renewal Ranking Report'!E52,\"\")","v":"LV ACT Housing Supports"},{"$f":"IF('CoC Renewal Ranking Report'!G52<>\"\",'CoC Renewal Ranking Report'!G52,\"\")","v":"PH"},{"$f":"IF('CoC Renewal Ranking Report'!K52<>\"\",'CoC Renewal Ranking Report'!BT52,\"\")","v":"Y"},2.5]
[{"$f":"IF('CoC Renewal Ranking Report'!D53<>\"\",'CoC Renewal Ranking Report'!D53,\"\")","v":"Tableland Services, Inc."},{"$f":"IF('CoC Renewal Ranking Report'!E53<>\"\",'CoC Renewal Ranking Report'!E53,\"\")","v":"Permanent Housing with Disabilities (SHP)"},{"$f":"IF('CoC Renewal Ranking Report'!G53<>\"\",'CoC Renewal Ranking Report'!G53,\"\")","v":"PH"},{"$f":"IF('CoC Renewal Ranking Report'!K53<>\"\",'CoC Renewal Ranking Report'!BT53,\"\")","v":"Y"},2.5]
[{"$f":"IF('CoC Renewal Ranking Report'!D54<>\"\",'CoC Renewal Ranking Report'!D54,\"\")","v":"Tableland Services, Inc."},{"$f":"IF('CoC Renewal Ranking Report'!E54<>\"\",'CoC Renewal Ranking Report'!E54,\"\")","v":"Permanent Supportive Housing CH Project"},{"$f":"IF('CoC Renewal Ranking Report'!G54<>\"\",'CoC Renewal Ranking Report'!G54,\"\")","v":"PH"},{"$f":"IF('CoC Renewal Ranking Report'!K54<>\"\",'CoC Renewal Ranking Report'!BT54,\"\")","v":"Y"},2.5]
[{"$f":"IF('CoC Renewal Ranking Report'!D55<>\"\",'CoC Renewal Ranking Report'!D55,\"\")","v":"The Salvation Army, a New York Corporation"},{"$f":"IF('CoC Renewal Ranking Report'!E55<>\"\",'CoC Renewal Ranking Report'!E55,\"\")","v":"Allentown Hospitality House Permanent Housing Program"},{"$f":"IF('CoC Renewal Ranking Report'!G55<>\"\",'CoC Renewal Ranking Report'!G55,\"\")","v":"PH"},{"$f":"IF('CoC Renewal Ranking Report'!K55<>\"\",'CoC Renewal Ranking Report'!BT55,\"\")","v":"Y"},2.5]
[{"$f":"IF('CoC Renewal Ranking Report'!D56<>\"\",'CoC Renewal Ranking Report'!D56,\"\")","v":"The Salvation Army, a New York Corporation"},{"$f":"IF('CoC Renewal Ranking Report'!E56<>\"\",'CoC Renewal Ranking Report'!E56,\"\")","v":"Salvation Army Carlisle PH Project"},{"$f":"IF('CoC Renewal Ranking Report'!G56<>\"\",'CoC Renewal Ranking Report'!G56,\"\")","v":"PH"},{"$f":"IF('CoC Renewal Ranking Report'!K56<>\"\",'CoC Renewal Ranking Report'!BT56,\"\")","v":"Y"},2.5]
[{"$f":"IF('CoC Renewal Ranking Report'!D57<>\"\",'CoC Renewal Ranking Report'!D57,\"\")","v":"Union-Snyder Community Action Agency"},{"$f":"IF('CoC Renewal Ranking Report'!E57<>\"\",'CoC Renewal Ranking Report'!E57,\"\")","v":"Union-Snyder Rapid ReHousing Program"},{"$f":"IF('CoC Renewal Ranking Report'!G57<>\"\",'CoC Renewal Ranking Report'!G57,\"\")","v":"PH-RRH"},{"$f":"IF('CoC Renewal Ranking Report'!K57<>\"\",'CoC Renewal Ranking Report'!BT57,\"\")","v":"n/a"},0]
[{"$f":"IF('CoC Renewal Ranking Report'!D58<>\"\",'CoC Renewal Ranking Report'!D58,\"\")","v":"United Christian Ministries"},{"$f":"IF('CoC Renewal Ranking Report'!E58<>\"\",'CoC Renewal Ranking Report'!E58,\"\")","v":"Kenner Garnet Renewal 2016"},{"$f":"IF('CoC Renewal Ranking Report'!G58<>\"\",'CoC Renewal Ranking Report'!G58,\"\")","v":"PH"},{"$f":"IF('CoC Renewal Ranking Report'!K58<>\"\",'CoC Renewal Ranking Report'!BT58,\"\")","v":"Y"},2.5]
[{"$f":"IF('CoC Renewal Ranking Report'!D59<>\"\",'CoC Renewal Ranking Report'!D59,\"\")","v":"Valley Housing Development Corporation "},{"$f":"IF('CoC Renewal Ranking Report'!E59<>\"\",'CoC Renewal Ranking Report'!E59,\"\")","v":"VHDC SHP #2 2016"},{"$f":"IF('CoC Renewal Ranking Report'!G59<>\"\",'CoC Renewal Ranking Report'!G59,\"\")","v":"PH"},{"$f":"IF('CoC Renewal Ranking Report'!K59<>\"\",'CoC Renewal Ranking Report'!BT59,\"\")","v":"Y"},2.5]
[{"$f":"IF('CoC Renewal Ranking Report'!D60<>\"\",'CoC Renewal Ranking Report'!D60,\"\")","v":"Valley Housing Development Corporation "},{"$f":"IF('CoC Renewal Ranking Report'!E60<>\"\",'CoC Renewal Ranking Report'!E60,\"\")","v":"VHDC SHP #3 2016"},{"$f":"IF('CoC Renewal Ranking Report'!G60<>\"\",'CoC Renewal Ranking Report'!G60,\"\")","v":"PH"},{"$f":"IF('CoC Renewal Ranking Report'!K60<>\"\",'CoC Renewal Ranking Report'!BT60,\"\")","v":"Y"},2.5]
[{"$f":"IF('CoC Renewal Ranking Report'!D61<>\"\",'CoC Renewal Ranking Report'!D61,\"\")","v":"Valley Housing Development Corporation "},{"$f":"IF('CoC Renewal Ranking Report'!E61<>\"\",'CoC Renewal Ranking Report'!E61,\"\")","v":"VHDC SHP #4 2016"},{"$f":"IF('CoC Renewal Ranking Report'!G61<>\"\",'CoC Renewal Ranking Report'!G61,\"\")","v":"PH"},{"$f":"IF('CoC Renewal Ranking Report'!K61<>\"\",'CoC Renewal Ranking Report'!BT61,\"\")","v":"Y"},2.5]
[{"$f":"IF('CoC Renewal Ranking Report'!D62<>\"\",'CoC Renewal Ranking Report'!D62,\"\")","v":""},{"$f":"IF('CoC Renewal Ranking Report'!E62<>\"\",'CoC Renewal Ranking Report'!E62,\"\")","v":""},{"$f":"IF('CoC Renewal Ranking Report'!G62<>\"\",'CoC Renewal Ranking Report'!G62,\"\")","v":""},{"$f":"IF('CoC Renewal Ranking Report'!K62<>\"\",'CoC Renewal Ranking Report'!BT62,\"\")","v":""},""]
[{"$f":"IF('CoC Renewal Ranking Report'!D63<>\"\",'CoC Renewal Ranking Report'!D63,\"\")","v":""},{"$f":"IF('CoC Renewal Ranking Report'!E63<>\"\",'CoC Renewal Ranking Report'!E63,\"\")","v":""},{"$f":"IF('CoC Renewal Ranking Report'!G63<>\"\",'CoC Renewal Ranking Report'!G63,\"\")","v":""},{"$f":"IF('CoC Renewal Ranking Report'!K63<>\"\",'CoC Renewal Ranking Report'!BT63,\"\")","v":""},""]
[{"$f":"IF('CoC Renewal Ranking Report'!D64<>\"\",'CoC Renewal Ranking Report'!D64,\"\")","v":""},{"$f":"IF('CoC Renewal Ranking Report'!E64<>\"\",'CoC Renewal Ranking Report'!E64,\"\")","v":""},{"$f":"IF('CoC Renewal Ranking Report'!G64<>\"\",'CoC Renewal Ranking Report'!G64,\"\")","v":""},{"$f":"IF('CoC Renewal Ranking Report'!K64<>\"\",'CoC Renewal Ranking Report'!BT64,\"\")","v":""},""]
[{"$f":"IF('CoC Renewal Ranking Report'!D65<>\"\",'CoC Renewal Ranking Report'!D65,\"\")","v":""},{"$f":"IF('CoC Renewal Ranking Report'!E65<>\"\",'CoC Renewal Ranking Report'!E65,\"\")","v":""},{"$f":"IF('CoC Renewal Ranking Report'!G65<>\"\",'CoC Renewal Ranking Report'!G65,\"\")","v":""},{"$f":"IF('CoC Renewal Ranking Report'!K65<>\"\",'CoC Renewal Ranking Report'!BT65,\"\")","v":""},""]
[{"$f":"IF('CoC Renewal Ranking Report'!D66<>\"\",'CoC Renewal Ranking Report'!D66,\"\")","v":""},{"$f":"IF('CoC Renewal Ranking Report'!E66<>\"\",'CoC Renewal Ranking Report'!E66,\"\")","v":""},{"$f":"IF('CoC Renewal Ranking Report'!G66<>\"\",'CoC Renewal Ranking Report'!G66,\"\")","v":""},{"$f":"IF('CoC Renewal Ranking Report'!K66<>\"\",'CoC Renewal Ranking Report'!BT66,\"\")","v":""},""]
[{"$f":"IF('CoC Renewal Ranking Report'!D67<>\"\",'CoC Renewal Ranking Report'!D67,\"\")","v":""},{"$f":"IF('CoC Renewal Ranking Report'!E67<>\"\",'CoC Renewal Ranking Report'!E67,\"\")","v":""},{"$f":"IF('CoC Renewal Ranking Report'!G67<>\"\",'CoC Renewal Ranking Report'!G67,\"\")","v":""},{"$f":"IF('CoC Renewal Ranking Report'!K67<>\"\",'CoC Renewal Ranking Report'!BT67,\"\")","v":""},""]
[{"$f":"IF('CoC Renewal Ranking Report'!D68<>\"\",'CoC Renewal Ranking Report'!D68,\"\")","v":""},{"$f":"IF('CoC Renewal Ranking Report'!E68<>\"\",'CoC Renewal Ranking Report'!E68,\"\")","v":""},{"$f":"IF('CoC Renewal Ranking Report'!G68<>\"\",'CoC Renewal Ranking Report'!G68,\"\")","v":""},{"$f":"IF('CoC Renewal Ranking Report'!K68<>\"\",'CoC Renewal Ranking Report'!BT68,\"\")","v":""},""]
[{"$f":"IF('CoC Renewal Ranking Report'!D69<>\"\",'CoC Renewal Ranking Report'!D69,\"\")","v":""},{"$f":"IF('CoC Renewal Ranking Report'!E69<>\"\",'CoC Renewal Ranking Report'!E69,\"\")","v":""},{"$f":"IF('CoC Renewal Ranking Report'!G69<>\"\",'CoC Renewal Ranking Report'!G69,\"\")","v":""},{"$f":"IF('CoC Renewal Ranking Report'!K69<>\"\",'CoC Renewal Ranking Report'!BT69,\"\")","v":""},""]
[{"$f":"IF('CoC Renewal Ranking Report'!D70<>\"\",'CoC Renewal Ranking Report'!D70,\"\")","v":""},{"$f":"IF('CoC Renewal Ranking Report'!E70<>\"\",'CoC Renewal Ranking Report'!E70,\"\")","v":""},{"$f":"IF('CoC Renewal Ranking Report'!G70<>\"\",'CoC Renewal Ranking Report'!G70,\"\")","v":""},{"$f":"IF('CoC Renewal Ranking Report'!K70<>\"\",'CoC Renewal Ranking Report'!BT70,\"\")","v":""},""]
[{"$f":"IF('CoC Renewal Ranking Report'!D71<>\"\",'CoC Renewal Ranking Report'!D71,\"\")","v":""},{"$f":"IF('CoC Renewal Ranking Report'!E71<>\"\",'CoC Renewal Ranking Report'!E71,\"\")","v":""},{"$f":"IF('CoC Renewal Ranking Report'!G71<>\"\",'CoC Renewal Ranking Report'!G71,\"\")","v":""},{"$f":"IF('CoC Renewal Ranking Report'!K71<>\"\",'CoC Renewal Ranking Report'!BT71,\"\")","v":""},""]
[{"$f":"IF('CoC Renewal Ranking Report'!D72<>\"\",'CoC Renewal Ranking Report'!D72,\"\")","v":""},{"$f":"IF('CoC Renewal Ranking Report'!E72<>\"\",'CoC Renewal Ranking Report'!E72,\"\")","v":""},{"$f":"IF('CoC Renewal Ranking Report'!G72<>\"\",'CoC Renewal Ranking Report'!G72,\"\")","v":""},{"$f":"IF('CoC Renewal Ranking Report'!K72<>\"\",'CoC Renewal Ranking Report'!BT72,\"\")","v":""},""]
[{"$f":"IF('CoC Renewal Ranking Report'!D73<>\"\",'CoC Renewal Ranking Report'!D73,\"\")","v":""},{"$f":"IF('CoC Renewal Ranking Report'!E73<>\"\",'CoC Renewal Ranking Report'!E73,\"\")","v":""},{"$f":"IF('CoC Renewal Ranking Report'!G73<>\"\",'CoC Renewal Ranking Report'!G73,\"\")","v":""},{"$f":"IF('CoC Renewal Ranking Report'!K73<>\"\",'CoC Renewal Ranking Report'!BT73,\"\")","v":""},""]
[{"$f":"IF('CoC Renewal Ranking Report'!D74<>\"\",'CoC Renewal Ranking Report'!D74,\"\")","v":""},{"$f":"IF('CoC Renewal Ranking Report'!E74<>\"\",'CoC Renewal Ranking Report'!E74,\"\")","v":""},{"$f":"IF('CoC Renewal Ranking Report'!G74<>\"\",'CoC Renewal Ranking Report'!G74,\"\")","v":""},{"$f":"IF('CoC Renewal Ranking Report'!K74<>\"\",'CoC Renewal Ranking Report'!BT74,\"\")","v":""},{"$f":"IF(AND(A72<>\"\", D72<>\"\"), IF(D72 = \"Y\", 2.5, 0), \"\")","v":""}]
[{"$f":"IF('CoC Renewal Ranking Report'!D75<>\"\",'CoC Renewal Ranking Report'!D75,\"\")","v":""},{"$f":"IF('CoC Renewal Ranking Report'!E75<>\"\",'CoC Renewal Ranking Report'!E75,\"\")","v":""},{"$f":"IF('CoC Renewal Ranking Report'!G75<>\"\",'CoC Renewal Ranking Report'!G75,\"\")","v":""},{"$f":"IF('CoC Renewal Ranking Report'!K75<>\"\",'CoC Renewal Ranking Report'!BT75,\"\")","v":""},""]
[{"$f":"IF('CoC Renewal Ranking Report'!D76<>\"\",'CoC Renewal Ranking Report'!D76,\"\")","v":""},{"$f":"IF('CoC Renewal Ranking Report'!E76<>\"\",'CoC Renewal Ranking Report'!E76,\"\")","v":""},{"$f":"IF('CoC Renewal Ranking Report'!G76<>\"\",'CoC Renewal Ranking Report'!G76,\"\")","v":""},{"$f":"IF('CoC Renewal Ranking Report'!K76<>\"\",'CoC Renewal Ranking Report'!BT76,\"\")","v":""},""]
[{"$f":"IF('CoC Renewal Ranking Report'!D77<>\"\",'CoC Renewal Ranking Report'!D77,\"\")","v":""},{"$f":"IF('CoC Renewal Ranking Report'!E77<>\"\",'CoC Renewal Ranking Report'!E77,\"\")","v":""},{"$f":"IF('CoC Renewal Ranking Report'!G77<>\"\",'CoC Renewal Ranking Report'!G77,\"\")","v":""},{"$f":"IF('CoC Renewal Ranking Report'!K77<>\"\",'CoC Renewal Ranking Report'!BT77,\"\")","v":""},""]
[{"$f":"IF('CoC Renewal Ranking Report'!D78<>\"\",'CoC Renewal Ranking Report'!D78,\"\")","v":""},{"$f":"IF('CoC Renewal Ranking Report'!E78<>\"\",'CoC Renewal Ranking Report'!E78,\"\")","v":""},{"$f":"IF('CoC Renewal Ranking Report'!G78<>\"\",'CoC Renewal Ranking Report'!G78,\"\")","v":""},{"$f":"IF('CoC Renewal Ranking Report'!K78<>\"\",'CoC Renewal Ranking Report'!BT78,\"\")","v":""},""]
[{"$f":"IF('CoC Renewal Ranking Report'!D79<>\"\",'CoC Renewal Ranking Report'!D79,\"\")","v":""},{"$f":"IF('CoC Renewal Ranking Report'!E79<>\"\",'CoC Renewal Ranking Report'!E79,\"\")","v":""},{"$f":"IF('CoC Renewal Ranking Report'!G79<>\"\",'CoC Renewal Ranking Report'!G79,\"\")","v":""},{"$f":"IF('CoC Renewal Ranking Report'!K79<>\"\",'CoC Renewal Ranking Report'!BT79,\"\")","v":""},""]
[{"$f":"IF('CoC Renewal Ranking Report'!D80<>\"\",'CoC Renewal Ranking Report'!D80,\"\")","v":""},{"$f":"IF('CoC Renewal Ranking Report'!E80<>\"\",'CoC Renewal Ranking Report'!E80,\"\")","v":""},{"$f":"IF('CoC Renewal Ranking Report'!G80<>\"\",'CoC Renewal Ranking Report'!G80,\"\")","v":""},{"$f":"IF('CoC Renewal Ranking Report'!K80<>\"\",'CoC Renewal Ranking Report'!BT80,\"\")","v":""},""]
[{"$f":"IF('CoC Renewal Ranking Report'!D81<>\"\",'CoC Renewal Ranking Report'!D81,\"\")","v":""},{"$f":"IF('CoC Renewal Ranking Report'!E81<>\"\",'CoC Renewal Ranking Report'!E81,\"\")","v":""},{"$f":"IF('CoC Renewal Ranking Report'!G81<>\"\",'CoC Renewal Ranking Report'!G81,\"\")","v":""},{"$f":"IF('CoC Renewal Ranking Report'!K81<>\"\",'CoC Renewal Ranking Report'!BT81,\"\")","v":""},""]
[{"$f":"IF('CoC Renewal Ranking Report'!D82<>\"\",'CoC Renewal Ranking Report'!D82,\"\")","v":""},{"$f":"IF('CoC Renewal Ranking Report'!E82<>\"\",'CoC Renewal Ranking Report'!E82,\"\")","v":""},{"$f":"IF('CoC Renewal Ranking Report'!G82<>\"\",'CoC Renewal Ranking Report'!G82,\"\")","v":""},{"$f":"IF('CoC Renewal Ranking Report'!K82<>\"\",'CoC Renewal Ranking Report'!BT82,\"\")","v":""},""]
[{"$f":"IF('CoC Renewal Ranking Report'!D83<>\"\",'CoC Renewal Ranking Report'!D83,\"\")","v":""},{"$f":"IF('CoC Renewal Ranking Report'!E83<>\"\",'CoC Renewal Ranking Report'!E83,\"\")","v":""},{"$f":"IF('CoC Renewal Ranking Report'!G83<>\"\",'CoC Renewal Ranking Report'!G83,\"\")","v":""},{"$f":"IF('CoC Renewal Ranking Report'!K83<>\"\",'CoC Renewal Ranking Report'!BT83,\"\")","v":""},""]
[{"$f":"IF('CoC Renewal Ranking Report'!D84<>\"\",'CoC Renewal Ranking Report'!D84,\"\")","v":""},{"$f":"IF('CoC Renewal Ranking Report'!E84<>\"\",'CoC Renewal Ranking Report'!E84,\"\")","v":""},{"$f":"IF('CoC Renewal Ranking Report'!G84<>\"\",'CoC Renewal Ranking Report'!G84,\"\")","v":""},{"$f":"IF('CoC Renewal Ranking Report'!K84<>\"\",'CoC Renewal Ranking Report'!BT84,\"\")","v":""},""]
[{"$f":"IF('CoC Renewal Ranking Report'!D85<>\"\",'CoC Renewal Ranking Report'!D85,\"\")","v":""},{"$f":"IF('CoC Renewal Ranking Report'!E85<>\"\",'CoC Renewal Ranking Report'!E85,\"\")","v":""},{"$f":"IF('CoC Renewal Ranking Report'!G85<>\"\",'CoC Renewal Ranking Report'!G85,\"\")","v":""},{"$f":"IF('CoC Renewal Ranking Report'!K85<>\"\",'CoC Renewal Ranking Report'!BT85,\"\")","v":""},""]
[{"$f":"IF('CoC Renewal Ranking Report'!D86<>\"\",'CoC Renewal Ranking Report'!D86,\"\")","v":""},{"$f":"IF('CoC Renewal Ranking Report'!E86<>\"\",'CoC Renewal Ranking Report'!E86,\"\")","v":""},{"$f":"IF('CoC Renewal Ranking Report'!G86<>\"\",'CoC Renewal Ranking Report'!G86,\"\")","v":""},{"$f":"IF('CoC Renewal Ranking Report'!K86<>\"\",'CoC Renewal Ranking Report'!BT86,\"\")","v":""},""]
[{"$f":"IF('CoC Renewal Ranking Report'!D87<>\"\",'CoC Renewal Ranking Report'!D87,\"\")","v":""},{"$f":"IF('CoC Renewal Ranking Report'!E87<>\"\",'CoC Renewal Ranking Report'!E87,\"\")","v":""},{"$f":"IF('CoC Renewal Ranking Report'!G87<>\"\",'CoC Renewal Ranking Report'!G87,\"\")","v":""},{"$f":"IF('CoC Renewal Ranking Report'!K87<>\"\",'CoC Renewal Ranking Report'!BT87,\"\")","v":""},""]
[{"$f":"IF('CoC Renewal Ranking Report'!D88<>\"\",'CoC Renewal Ranking Report'!D88,\"\")","v":""},{"$f":"IF('CoC Renewal Ranking Report'!E88<>\"\",'CoC Renewal Ranking Report'!E88,\"\")","v":""},{"$f":"IF('CoC Renewal Ranking Report'!G88<>\"\",'CoC Renewal Ranking Report'!G88,\"\")","v":""},{"$f":"IF('CoC Renewal Ranking Report'!K88<>\"\",'CoC Renewal Ranking Report'!BT88,\"\")","v":""},""]
[{"$f":"IF('CoC Renewal Ranking Report'!D89<>\"\",'CoC Renewal Ranking Report'!D89,\"\")","v":""},{"$f":"IF('CoC Renewal Ranking Report'!E89<>\"\",'CoC Renewal Ranking Report'!E89,\"\")","v":""},{"$f":"IF('CoC Renewal Ranking Report'!G89<>\"\",'CoC Renewal Ranking Report'!G89,\"\")","v":""},{"$f":"IF('CoC Renewal Ranking Report'!K89<>\"\",'CoC Renewal Ranking Report'!BT89,\"\")","v":""},""]
[{"$f":"IF('CoC Renewal Ranking Report'!D90<>\"\",'CoC Renewal Ranking Report'!D90,\"\")","v":""},{"$f":"IF('CoC Renewal Ranking Report'!E90<>\"\",'CoC Renewal Ranking Report'!E90,\"\")","v":""},{"$f":"IF('CoC Renewal Ranking Report'!G90<>\"\",'CoC Renewal Ranking Report'!G90,\"\")","v":""},{"$f":"IF('CoC Renewal Ranking Report'!K90<>\"\",'CoC Renewal Ranking Report'!BT90,\"\")","v":""},""]
[{"$f":"IF('CoC Renewal Ranking Report'!D91<>\"\",'CoC Renewal Ranking Report'!D91,\"\")","v":""},{"$f":"IF('CoC Renewal Ranking Report'!E91<>\"\",'CoC Renewal Ranking Report'!E91,\"\")","v":""},{"$f":"IF('CoC Renewal Ranking Report'!G91<>\"\",'CoC Renewal Ranking Report'!G91,\"\")","v":""},{"$f":"IF('CoC Renewal Ranking Report'!K91<>\"\",'CoC Renewal Ranking Report'!BT91,\"\")","v":""},""]
[{"$f":"IF('CoC Renewal Ranking Report'!D92<>\"\",'CoC Renewal Ranking Report'!D92,\"\")","v":""},{"$f":"IF('CoC Renewal Ranking Report'!E92<>\"\",'CoC Renewal Ranking Report'!E92,\"\")","v":""},{"$f":"IF('CoC Renewal Ranking Report'!G92<>\"\",'CoC Renewal Ranking Report'!G92,\"\")","v":""},{"$f":"IF('CoC Renewal Ranking Report'!K92<>\"\",'CoC Renewal Ranking Report'!BT92,\"\")","v":""},""]
[{"$f":"IF('CoC Renewal Ranking Report'!D93<>\"\",'CoC Renewal Ranking Report'!D93,\"\")","v":""},{"$f":"IF('CoC Renewal Ranking Report'!E93<>\"\",'CoC Renewal Ranking Report'!E93,\"\")","v":""},{"$f":"IF('CoC Renewal Ranking Report'!G93<>\"\",'CoC Renewal Ranking Report'!G93,\"\")","v":""},{"$f":"IF('CoC Renewal Ranking Report'!K93<>\"\",'CoC Renewal Ranking Report'!BT93,\"\")","v":""},""]
[{"$f":"IF('CoC Renewal Ranking Report'!D94<>\"\",'CoC Renewal Ranking Report'!D94,\"\")","v":""},{"$f":"IF('CoC Renewal Ranking Report'!E94<>\"\",'CoC Renewal Ranking Report'!E94,\"\")","v":""},{"$f":"IF('CoC Renewal Ranking Report'!G94<>\"\",'CoC Renewal Ranking Report'!G94,\"\")","v":""},{"$f":"IF('CoC Renewal Ranking Report'!K94<>\"\",'CoC Renewal Ranking Report'!BT94,\"\")","v":""},""]
[{"$f":"IF('CoC Renewal Ranking Report'!D95<>\"\",'CoC Renewal Ranking Report'!D95,\"\")","v":""},{"$f":"IF('CoC Renewal Ranking Report'!E95<>\"\",'CoC Renewal Ranking Report'!E95,\"\")","v":""},{"$f":"IF('CoC Renewal Ranking Report'!G95<>\"\",'CoC Renewal Ranking Report'!G95,\"\")","v":""},{"$f":"IF('CoC Renewal Ranking Report'!K95<>\"\",'CoC Renewal Ranking Report'!BT95,\"\")","v":""},""]
[{"$f":"IF('CoC Renewal Ranking Report'!D96<>\"\",'CoC Renewal Ranking Report'!D96,\"\")","v":""},{"$f":"IF('CoC Renewal Ranking Report'!E96<>\"\",'CoC Renewal Ranking Report'!E96,\"\")","v":""},{"$f":"IF('CoC Renewal Ranking Report'!G96<>\"\",'CoC Renewal Ranking Report'!G96,\"\")","v":""},{"$f":"IF('CoC Renewal Ranking Report'!K96<>\"\",'CoC Renewal Ranking Report'!BT96,\"\")","v":""},""]
[{"$f":"IF('CoC Renewal Ranking Report'!D97<>\"\",'CoC Renewal Ranking Report'!D97,\"\")","v":""},{"$f":"IF('CoC Renewal Ranking Report'!E97<>\"\",'CoC Renewal Ranking Report'!E97,\"\")","v":""},{"$f":"IF('CoC Renewal Ranking Report'!G97<>\"\",'CoC Renewal Ranking Report'!G97,\"\")","v":""},{"$f":"IF('CoC Renewal Ranking Report'!K97<>\"\",'CoC Renewal Ranking Report'!BT97,\"\")","v":""},""]
[{"$f":"IF('CoC Renewal Ranking Report'!D98<>\"\",'CoC Renewal Ranking Report'!D98,\"\")","v":""},{"$f":"IF('CoC Renewal Ranking Report'!E98<>\"\",'CoC Renewal Ranking Report'!E98,\"\")","v":""},{"$f":"IF('CoC Renewal Ranking Report'!G98<>\"\",'CoC Renewal Ranking Report'!G98,\"\")","v":""},{"$f":"IF('CoC Renewal Ranking Report'!K98<>\"\",'CoC Renewal Ranking Report'!BT98,\"\")","v":""},""]
[{"$f":"IF('CoC Renewal Ranking Report'!D99<>\"\",'CoC Renewal Ranking Report'!D99,\"\")","v":""},{"$f":"IF('CoC Renewal Ranking Report'!E99<>\"\",'CoC Renewal Ranking Report'!E99,\"\")","v":""},{"$f":"IF('CoC Renewal Ranking Report'!G99<>\"\",'CoC Renewal Ranking Report'!G99,\"\")","v":""},{"$f":"IF('CoC Renewal Ranking Report'!K99<>\"\",'CoC Renewal Ranking Report'!BT99,\"\")","v":""},""]
[{"$f":"IF('CoC Renewal Ranking Report'!D100<>\"\",'CoC Renewal Ranking Report'!D100,\"\")","v":""},{"$f":"IF('CoC Renewal Ranking Report'!E100<>\"\",'CoC Renewal Ranking Report'!E100,\"\")","v":""},{"$f":"IF('CoC Renewal Ranking Report'!G100<>\"\",'CoC Renewal Ranking Report'!G100,\"\")","v":""},{"$f":"IF('CoC Renewal Ranking Report'!K100<>\"\",'CoC Renewal Ranking Report'!BT100,\"\")","v":""},""]
[{"$f":"IF('CoC Renewal Ranking Report'!D101<>\"\",'CoC Renewal Ranking Report'!D101,\"\")","v":""},{"$f":"IF('CoC Renewal Ranking Report'!E101<>\"\",'CoC Renewal Ranking Report'!E101,\"\")","v":""},{"$f":"IF('CoC Renewal Ranking Report'!G101<>\"\",'CoC Renewal Ranking Report'!G101,\"\")","v":""},{"$f":"IF('CoC Renewal Ranking Report'!K101<>\"\",'CoC Renewal Ranking Report'!BT101,\"\")","v":""},""]
[{"$f":"IF('CoC Renewal Ranking Report'!D102<>\"\",'CoC Renewal Ranking Report'!D102,\"\")","v":""},{"$f":"IF('CoC Renewal Ranking Report'!E102<>\"\",'CoC Renewal Ranking Report'!E102,\"\")","v":""},{"$f":"IF('CoC Renewal Ranking Report'!G102<>\"\",'CoC Renewal Ranking Report'!G102,\"\")","v":""},{"$f":"IF('CoC Renewal Ranking Report'!K102<>\"\",'CoC Renewal Ranking Report'!BT102,\"\")","v":""},""]
[{"$f":"IF('CoC Renewal Ranking Report'!D103<>\"\",'CoC Renewal Ranking Report'!D103,\"\")","v":""},{"$f":"IF('CoC Renewal Ranking Report'!E103<>\"\",'CoC Renewal Ranking Report'!E103,\"\")","v":""},{"$f":"IF('CoC Renewal Ranking Report'!G103<>\"\",'CoC Renewal Ranking Report'!G103,\"\")","v":""},{"$f":"IF('CoC Renewal Ranking Report'!K103<>\"\",'CoC Renewal Ranking Report'!BT103,\"\")","v":""},""]
[{"$f":"IF('CoC Renewal Ranking Report'!D104<>\"\",'CoC Renewal Ranking Report'!D104,\"\")","v":""},{"$f":"IF('CoC Renewal Ranking Report'!E104<>\"\",'CoC Renewal Ranking Report'!E104,\"\")","v":""},{"$f":"IF('CoC Renewal Ranking Report'!G104<>\"\",'CoC Renewal Ranking Report'!G104,\"\")","v":""},{"$f":"IF('CoC Renewal Ranking Report'!K104<>\"\",'CoC Renewal Ranking Report'!BT104,\"\")","v":""},""]

{"sheet":"Housing First Approach","index":21,"n_rows":102,"n_cols":5,"rows_kept":102,"cut":false,"hidden":false,"merged":[[0,1,0,2]]}
[null,"Housing First Approach"]
[null,"Criteria","Points"]
[null,"Projects using Housing 1st approach",5]
[]
["Agency Name","Project Name","Project Type","Approach","Score"]
[{"$f":"IF('CoC Renewal Ranking Report'!D9<>\"\",'CoC Renewal Ranking Report'!D9,\"\")","v":""},{"$f":"IF('CoC Renewal Ranking Report'!E9<>\"\",'CoC Renewal Ranking Report'!E9,\"\")","v":""},{"$f":"IF('CoC Renewal Ranking Report'!G9<>\"\",'CoC Renewal Ranking Report'!G9,\"\")","v":""},{"$f":"IF('CoC Renewal Ranking Report'!G9<>\"\",'CoC Renewal Ranking Report'!BU9,\"\")","v":""},{"$f":"IF(A6<>\"\", IF(D6 = \"Yes\", 5, 0), \"\")","v":""}]
[{"$f":"IF('CoC Renewal Ranking Report'!D10<>\"\",'CoC Renewal Ranking Report'!D10,\"\")","v":"Blair County Community Action Program"},{"$f":"IF('CoC Renewal Ranking Report'!E10<>\"\",'CoC Renewal Ranking Report'!E10,\"\")","v":"Rapid Re-Housing"},{"$f":"IF('CoC Renewal Ranking Report'!G10<>\"\",'CoC Renewal Ranking Report'!G10,\"\")","v":"PH-RRH"},{"$f":"IF('CoC Renewal Ranking Report'!G10<>\"\",'CoC Renewal Ranking Report'!BU10,\"\")","v":"Yes"},5]
[{"$f":"IF('CoC Renewal Ranking Report'!D11<>\"\",'CoC Renewal Ranking Report'!D11,\"\")","v":"Cambria County"},{"$f":"IF('CoC Renewal Ranking Report'!E11<>\"\",'CoC Renewal Ranking Report'!E11,\"\")","v":"Cambria County Comprehensive Housing Program"},{"$f":"IF('CoC Renewal Ranking Report'!G11<>\"\",'CoC Renewal Ranking Report'!G11,\"\")","v":"PH"},{"$f":"IF('CoC Renewal Ranking Report'!G11<>\"\",'CoC Renewal Ranking Report'!BU11,\"\")","v":"Yes"},5]
[{"$f":"IF('CoC Renewal Ranking Report'!D12<>\"\",'CoC Renewal Ranking Report'!D12,\"\")","v":"Catholic Charities of the Diocese of Allentown"},{"$f":"IF('CoC Renewal Ranking Report'!E12<>\"\",'CoC Renewal Ranking Report'!E12,\"\")","v":"Catholic Charities Allentown Permanent Housing Program"},{"$f":"IF('CoC Renewal Ranking Report'!G12<>\"\",'CoC Renewal Ranking Report'!G12,\"\")","v":"PH"},{"$f":"IF('CoC Renewal Ranking Report'!G12<>\"\",'CoC Renewal Ranking Report'!BU12,\"\")","v":"Yes"},5]
[{"$f":"IF('CoC Renewal Ranking Report'!D13<>\"\",'CoC Renewal Ranking Report'!D13,\"\")","v":"Catholic Social Services of the Diocese of Scranton, Inc."},{"$f":"IF('CoC Renewal Ranking Report'!E13<>\"\",'CoC Renewal Ranking Report'!E13,\"\")","v":"PSHP Pike County"},{"$f":"IF('CoC Renewal Ranking Report'!G13<>\"\",'CoC Renewal Ranking Report'!G13,\"\")","v":"PH"},{"$f":"IF('CoC Renewal Ranking Report'!G13<>\"\",'CoC Renewal Ranking Report'!BU13,\"\")","v":"Yes"},5]
[{"$f":"IF('CoC Renewal Ranking Report'!D14<>\"\",'CoC Renewal Ranking Report'!D14,\"\")","v":"Catholic Social Services of the Diocese of Scranton, Inc."},{"$f":"IF('CoC Renewal Ranking Report'!E14<>\"\",'CoC Renewal Ranking Report'!E14,\"\")","v":"Rural Permanent Supportive Housing Program"},{"$f":"IF('CoC Renewal Ranking Report'!G14<>\"\",'CoC Renewal Ranking Report'!G14,\"\")","v":"PH"},{"$f":"IF('CoC Renewal Ranking Report'!G14<>\"\",'CoC Renewal Ranking Report'!BU14,\"\")","v":"Yes"},5]
[{"$f":"IF('CoC Renewal Ranking Report'!D15<>\"\",'CoC Renewal Ranking Report'!D15,\"\")","v":"Catholic Social Services of the Diocese of Scranton, Inc."},{"$f":"IF('CoC Renewal Ranking Report'!E15<>\"\",'CoC Renewal Ranking Report'!E15,\"\")","v":"Susquehanna/Wayne PSHP"},{"$f":"IF('CoC Renewal Ranking Report'!G15<>\"\",'CoC Renewal Ranking Report'!G15,\"\")","v":"PH"},{"$f":"IF('CoC Renewal Ranking Report'!G15<>\"\",'CoC Renewal Ranking Report'!BU15,\"\")","v":"Yes"},5]
[{"$f":"IF('CoC Renewal Ranking Report'!D16<>\"\",'CoC Renewal Ranking Report'!D16,\"\")","v":"Center for Community Action"},{"$f":"IF('CoC Renewal Ranking Report'!E16<>\"\",'CoC Renewal Ranking Report'!E16,\"\")","v":"Bedford,Fulton, Huntingdon RRH"},{"$f":"IF('CoC Renewal Ranking Report'!G16<>\"\",'CoC Renewal Ranking Report'!G16,\"\")","v":"PH-RRH"},{"$f":"IF('CoC Renewal Ranking Report'!G16<>\"\",'CoC Renewal Ranking Report'!BU16,\"\")","v":"Yes"},5]
[{"$f":"IF('CoC Renewal Ranking Report'!D17<>\"\",'CoC Renewal Ranking Report'!D17,\"\")","v":"County of Franklin"},{"$f":"IF('CoC Renewal Ranking Report'!E17<>\"\",'CoC Renewal Ranking Report'!E17,\"\")","v":"Franklin/ Fulton S+C Project 2017"},{"$f":"IF('CoC Renewal Ranking Report'!G17<>\"\",'CoC Renewal Ranking Report'!G17,\"\")","v":"PH"},{"$f":"IF('CoC Renewal Ranking Report'!G17<>\"\",'CoC Renewal Ranking Report'!BU17,\"\")","v":"Yes"},5]
[{"$f":"IF('CoC Renewal Ranking Report'!D18<>\"\",'CoC Renewal Ranking Report'!D18,\"\")","v":"County of Franklin"},{"$f":"IF('CoC Renewal Ranking Report'!E18<>\"\",'CoC Renewal Ranking Report'!E18,\"\")","v":"Franklin/Fulton Homeless Assistance Project 2017"},{"$f":"IF('CoC Renewal Ranking Report'!G18<>\"\",'CoC Renewal Ranking Report'!G18,\"\")","v":"PH"},{"$f":"IF('CoC Renewal Ranking Report'!G18<>\"\",'CoC Renewal Ranking Report'!BU18,\"\")","v":"Yes"},5]
[{"$f":"IF('CoC Renewal Ranking Report'!D19<>\"\",'CoC Renewal Ranking Report'!D19,\"\")","v":"County of Lycoming DBA Lycoming- Clinton Joinder Board"},{"$f":"IF('CoC Renewal Ranking Report'!E19<>\"\",'CoC Renewal Ranking Report'!E19,\"\")","v":"Lycoming/Clinton Renewal #5"},{"$f":"IF('CoC Renewal Ranking Report'!G19<>\"\",'CoC Renewal Ranking Report'!G19,\"\")","v":"PH"},{"$f":"IF('CoC Renewal Ranking Report'!G19<>\"\",'CoC Renewal Ranking Report'!BU19,\"\")","v":"Yes"},5]
[{"$f":"IF('CoC Renewal Ranking Report'!D20<>\"\",'CoC Renewal Ranking Report'!D20,\"\")","v":"Fitzmaurice Community Services, Inc"},{"$f":"IF('CoC Renewal Ranking Report'!E20<>\"\",'CoC Renewal Ranking Report'!E20,\"\")","v":"Pathfinders"},{"$f":"IF('CoC Renewal Ranking Report'!G20<>\"\",'CoC Renewal Ranking Report'!G20,\"\")","v":"PH"},{"$f":"IF('CoC Renewal Ranking Report'!G20<>\"\",'CoC Renewal Ranking Report'!BU20,\"\")","v":"Yes"},5]
[{"$f":"IF('CoC Renewal Ranking Report'!D21<>\"\",'CoC Renewal Ranking Report'!D21,\"\")","v":"Home Nursing AgencyCommunity Services"},{"$f":"IF('CoC Renewal Ranking Report'!E21<>\"\",'CoC Renewal Ranking Report'!E21,\"\")","v":"Housing Assistance and Rental Program"},{"$f":"IF('CoC Renewal Ranking Report'!G21<>\"\",'CoC Renewal Ranking Report'!G21,\"\")","v":"PH"},{"$f":"IF('CoC Renewal Ranking Report'!G21<>\"\",'CoC Renewal Ranking Report'!BU21,\"\")","v":"Yes"},5]
[{"$f":"IF('CoC Renewal Ranking Report'!D22<>\"\",'CoC Renewal Ranking Report'!D22,\"\")","v":"Housing Authority of Monroe County"},{"$f":"IF('CoC Renewal Ranking Report'!E22<>\"\",'CoC Renewal Ranking Report'!E22,\"\")","v":"Renewal Application Shelter Plus Care MC 2016"},{"$f":"IF('CoC Renewal Ranking Report'!G22<>\"\",'CoC Renewal Ranking Report'!G22,\"\")","v":"PH"},{"$f":"IF('CoC Renewal Ranking Report'!G22<>\"\",'CoC Renewal Ranking Report'!BU22,\"\")","v":"Yes"},5]
[{"$f":"IF('CoC Renewal Ranking Report'!D23<>\"\",'CoC Renewal Ranking Report'!D23,\"\")","v":"Housing Authority of the County of Cumberland"},{"$f":"IF('CoC Renewal Ranking Report'!E23<>\"\",'CoC Renewal Ranking Report'!E23,\"\")","v":"Carlisle Supportive Housing Program"},{"$f":"IF('CoC Renewal Ranking Report'!G23<>\"\",'CoC Renewal Ranking Report'!G23,\"\")","v":"PH"},{"$f":"IF('CoC Renewal Ranking Report'!G23<>\"\",'CoC Renewal Ranking Report'!BU23,\"\")","v":"Yes"},5]
[{"$f":"IF('CoC Renewal Ranking Report'!D24<>\"\",'CoC Renewal Ranking Report'!D24,\"\")","v":"Housing Authority of the County of Cumberland"},{"$f":"IF('CoC Renewal Ranking Report'!E24<>\"\",'CoC Renewal Ranking Report'!E24,\"\")","v":"Perry County Permanent SHP"},{"$f":"IF('CoC Renewal Ranking Report'!G24<>\"\",'CoC Renewal Ranking Report'!G24,\"\")","v":"PH"},{"$f":"IF('CoC Renewal Ranking Report'!G24<>\"\",'CoC Renewal Ranking Report'!BU24,\"\")","v":"Yes"},5]
[{"$f":"IF('CoC Renewal Ranking Report'!D25<>\"\",'CoC Renewal Ranking Report'!D25,\"\")","v":"Housing Authority of the County of Cumberland"},{"$f":"IF('CoC Renewal Ranking Report'!E25<>\"\",'CoC Renewal Ranking Report'!E25,\"\")","v":"Perry County Transitional II"},{"$f":"IF('CoC Renewal Ranking Report'!G25<>\"\",'CoC Renewal Ranking Report'!G25,\"\")","v":"PH-RRH"},{"$f":"IF('CoC Renewal Ranking Report'!G25<>\"\",'CoC Renewal Ranking Report'!BU25,\"\")","v":"Yes"},5]
[{"$f":"IF('CoC Renewal Ranking Report'!D26<>\"\",'CoC Renewal Ranking Report'!D26,\"\")","v":"Housing Authority of the County of Cumberland"},{"$f":"IF('CoC Renewal Ranking Report'!E26<>\"\",'CoC Renewal Ranking Report'!E26,\"\")","v":"Perry County Veterans Program"},{"$f":"IF('CoC Renewal Ranking Report'!G26<>\"\",'CoC Renewal Ranking Report'!G26,\"\")","v":"PH"},{"$f":"IF('CoC Renewal Ranking Report'!G26<>\"\",'CoC Renewal Ranking Report'!BU26,\"\")","v":"Yes"},5]
[{"$f":"IF('CoC Renewal Ranking Report'!D27<>\"\",'CoC Renewal Ranking Report'!D27,\"\")","v":"Housing Authority of the County of Cumberland"},{"$f":"IF('CoC Renewal Ranking Report'!E27<>\"\",'CoC Renewal Ranking Report'!E27,\"\")","v":"Rapid Rehousing II"},{"$f":"IF('CoC Renewal Ranking Report'!G27<>\"\",'CoC Renewal Ranking Report'!G27,\"\")","v":"PH-RRH"},{"$f":"IF('CoC Renewal Ranking Report'!G27<>\"\",'CoC Renewal Ranking Report'!BU27,\"\")","v":"Yes"},5]
[{"$f":"IF('CoC Renewal Ranking Report'!D28<>\"\",'CoC Renewal Ranking Report'!D28,\"\")","v":"Housing Authority of the County of Cumberland"},{"$f":"IF('CoC Renewal Ranking Report'!E28<>\"\",'CoC Renewal Ranking Report'!E28,\"\")","v":"Safe Harbour SHP"},{"$f":"IF('CoC Renewal Ranking Report'!G28<>\"\",'CoC Renewal Ranking Report'!G28,\"\")","v":"PH"},{"$f":"IF('CoC Renewal Ranking Report'!G28<>\"\",'CoC Renewal Ranking Report'!BU28,\"\")","v":"Yes"},5]
[{"$f":"IF('CoC Renewal Ranking Report'!D29<>\"\",'CoC Renewal Ranking Report'!D29,\"\")","v":"Housing Authority of the County of Cumberland"},{"$f":"IF('CoC Renewal Ranking Report'!E29<>\"\",'CoC Renewal Ranking Report'!E29,\"\")","v":"Shelter + Care Chronic"},{"$f":"IF('CoC Renewal Ranking Report'!G29<>\"\",'CoC Renewal Ranking Report'!G29,\"\")","v":"PH"},{"$f":"IF('CoC Renewal Ranking Report'!G29<>\"\",'CoC Renewal Ranking Report'!BU29,\"\")","v":"Yes"},5]
[{"$f":"IF('CoC Renewal Ranking Report'!D30<>\"\",'CoC Renewal Ranking Report'!D30,\"\")","v":"Housing Authority of the County of Cumberland"},{"$f":"IF('CoC Renewal Ranking Report'!E30<>\"\",'CoC Renewal Ranking Report'!E30,\"\")","v":"Shelter + Care Non-Chronic"},{"$f":"IF('CoC Renewal Ranking Report'!G30<>\"\",'CoC Renewal Ranking Report'!G30,\"\")","v":"PH"},{"$f":"IF('CoC Renewal Ranking Report'!G30<>\"\",'CoC Renewal Ranking Report'!BU30,\"\")","v":"Yes"},5]
[{"$f":"IF('CoC Renewal Ranking Report'!D31<>\"\",'CoC Renewal Ranking Report'!D31,\"\")","v":"Housing Authority of the County of Cumberland"},{"$f":"IF('CoC Renewal Ranking Report'!E31<>\"\",'CoC Renewal Ranking Report'!E31,\"\")","v":"West Shore SHP I"},{"$f":"IF('CoC Renewal Ranking Report'!G31<>\"\",'CoC Renewal Ranking Report'!G31,\"\")","v":"PH"},{"$f":"IF('CoC Renewal Ranking Report'!G31<>\"\",'CoC Renewal Ranking Report'!BU31,\"\")","v":"Yes"},5]
[{"$f":"IF('CoC Renewal Ranking Report'!D32<>\"\",'CoC Renewal Ranking Report'!D32,\"\")","v":"Housing Authority of the County of Cumberland"},{"$f":"IF('CoC Renewal Ranking Report'!E32<>\"\",'CoC Renewal Ranking Report'!E32,\"\")","v":"West Shore SHP II"},{"$f":"IF('CoC Renewal Ranking Report'!G32<>\"\",'CoC Renewal Ranking Report'!G32,\"\")","v":"PH"},{"$f":"IF('CoC Renewal Ranking Report'!G32<>\"\",'CoC Renewal Ranking Report'!BU32,\"\")","v":"Yes"},5]
[{"$f":"IF('CoC Renewal Ranking Report'!D33<>\"\",'CoC Renewal Ranking Report'!D33,\"\")","v":"Housing Development Corporation of NEPA"},{"$f":"IF('CoC Renewal Ranking Report'!E33<>\"\",'CoC Renewal Ranking Report'!E33,\"\")","v":"HDC SHP 3 2016"},{"$f":"IF('CoC Renewal Ranking Report'!G33<>\"\",'CoC Renewal Ranking Report'!G33,\"\")","v":"PH"},{"$f":"IF('CoC Renewal Ranking Report'!G33<>\"\",'CoC Renewal Ranking Report'!BU33,\"\")","v":"Yes"},5]
[{"$f":"IF('CoC Renewal Ranking Report'!D34<>\"\",'CoC Renewal Ranking Report'!D34,\"\")","v":"Housing Development Corporation of NEPA"},{"$f":"IF('CoC Renewal Ranking Report'!E34<>\"\",'CoC Renewal Ranking Report'!E34,\"\")","v":"HDC SHP 6 2016"},{"$f":"IF('CoC Renewal Ranking Report'!G34<>\"\",'CoC Renewal Ranking Report'!G34,\"\")","v":"PH"},{"$f":"IF('CoC Renewal Ranking Report'!G34<>\"\",'CoC Renewal Ranking Report'!BU34,\"\")","v":"Yes"},5]
[{"$f":"IF('CoC Renewal Ranking Report'!D35<>\"\",'CoC Renewal Ranking Report'!D35,\"\")","v":"Housing Transitions, Inc."},{"$f":"IF('CoC Renewal Ranking Report'!E35<>\"\",'CoC Renewal Ranking Report'!E35,\"\")","v":"Nittany House Apartments"},{"$f":"IF('CoC Renewal Ranking Report'!G35<>\"\",'CoC Renewal Ranking Report'!G35,\"\")","v":"PH"},{"$f":"IF('CoC Renewal Ranking Report'!G35<>\"\",'CoC Renewal Ranking Report'!BU35,\"\")","v":"Yes"},5]
[{"$f":"IF('CoC Renewal Ranking Report'!D36<>\"\",'CoC Renewal Ranking Report'!D36,\"\")","v":"Lehigh County Conference of Churches"},{"$f":"IF('CoC Renewal Ranking Report'!E36<>\"\",'CoC Renewal Ranking Report'!E36,\"\")","v":"Outreach and Case Management for the Disabled, Chronically Homeless"},{"$f":"IF('CoC Renewal Ranking Report'!G36<>\"\",'CoC Renewal Ranking Report'!G36,\"\")","v":"SSO"},{"$f":"IF('CoC Renewal Ranking Report'!G36<>\"\",'CoC Renewal Ranking Report'!BU36,\"\")","v":"Yes"},5]
[{"$f":"IF('CoC Renewal Ranking Report'!D37<>\"\",'CoC Renewal Ranking Report'!D37,\"\")","v":"Lehigh County Conference of Churches"},{"$f":"IF('CoC Renewal Ranking Report'!E37<>\"\",'CoC Renewal Ranking Report'!E37,\"\")","v":"Pathways Housing"},{"$f":"IF('CoC Renewal Ranking Report'!G37<>\"\",'CoC Renewal Ranking Report'!G37,\"\")","v":"PH"},{"$f":"IF('CoC Renewal Ranking Report'!G37<>\"\",'CoC Renewal Ranking Report'!BU37,\"\")","v":"Yes"},5]
[{"$f":"IF('CoC Renewal Ranking Report'!D38<>\"\",'CoC Renewal Ranking Report'!D38,\"\")","v":"Lehigh County Conference of Churches"},{"$f":"IF('CoC Renewal Ranking Report'!E38<>\"\",'CoC Renewal Ranking Report'!E38,\"\")","v":"Pathways Housing 2"},{"$f":"IF('CoC Renewal Ranking Report'!G38<>\"\",'CoC Renewal Ranking Report'!G38,\"\")","v":"PH"},{"$f":"IF('CoC Renewal Ranking Report'!G38<>\"\",'CoC Renewal Ranking Report'!BU38,\"\")","v":"Yes"},5]
[{"$f":"IF('CoC Renewal Ranking Report'!D39<>\"\",'CoC Renewal Ranking Report'!D39,\"\")","v":"Lehigh County Conference of Churches"},{"$f":"IF('CoC Renewal Ranking Report'!E39<>\"\",'CoC Renewal Ranking Report'!E39,\"\")","v":"Pathways TBRA for Families, Youth and Veterans"},{"$f":"IF('CoC Renewal Ranking Report'!G39<>\"\",'CoC Renewal Ranking Report'!G39,\"\")","v":"PH"},{"$f":"IF('CoC Renewal Ranking Report'!G39<>\"\",'CoC Renewal Ranking Report'!BU39,\"\")","v":"Yes"},5]
[{"$f":"IF('CoC Renewal Ranking Report'!D40<>\"\",'CoC Renewal Ranking Report'!D40,\"\")","v":"Lehigh County Conference of Churches"},{"$f":"IF('CoC Renewal Ranking Report'!E40<>\"\",'CoC Renewal Ranking Report'!E40,\"\")","v":"Tenant-Based Rental Assistance for the Disabled,Chronically Homeless"},{"$f":"IF('CoC Renewal Ranking Report'!G40<>\"\",'CoC Renewal Ranking Report'!G40,\"\")","v":"PH"},{"$f":"IF('CoC Renewal Ranking Report'!G40<>\"\",'CoC Renewal Ranking Report'!BU40,\"\")","v":"Yes"},5]
[{"$f":"IF('CoC Renewal Ranking Report'!D41<>\"\",'CoC Renewal Ranking Report'!D41,\"\")","v":"Lehigh County Housing Authority"},{"$f":"IF('CoC Renewal Ranking Report'!E41<>\"\",'CoC Renewal Ranking Report'!E41,\"\")","v":"LCHA S+C 2016"},{"$f":"IF('CoC Renewal Ranking Report'!G41<>\"\",'CoC Renewal Ranking Report'!G41,\"\")","v":"PH"},{"$f":"IF('CoC Renewal Ranking Report'!G41<>\"\",'CoC Renewal Ranking Report'!BU41,\"\")","v":"Yes"},5]
[{"$f":"IF('CoC Renewal Ranking Report'!D42<>\"\",'CoC Renewal Ranking Report'!D42,\"\")","v":"Maranatha"},{"$f":"IF('CoC Renewal Ranking Report'!E42<>\"\",'CoC Renewal Ranking Report'!E42,\"\")","v":"TOTAL PERSON TRANSITIONAL PROGRAM 1 & 2"},{"$f":"IF('CoC Renewal Ranking Report'!G42<>\"\",'CoC Renewal Ranking Report'!G42,\"\")","v":"PH-RRH"},{"$f":"IF('CoC Renewal Ranking Report'!G42<>\"\",'CoC Renewal Ranking Report'!BU42,\"\")","v":"Yes"},5]
[{"$f":"IF('CoC Renewal Ranking Report'!D43<>\"\",'CoC Renewal Ranking Report'!D43,\"\")","v":"Mifflin County"},{"$f":"IF('CoC Renewal Ranking Report'!E43<>\"\",'CoC Renewal Ranking Report'!E43,\"\")","v":"Mifflin County Permanent Housing Renewal"},{"$f":"IF('CoC Renewal Ranking Report'!G43<>\"\",'CoC Renewal Ranking Report'!G43,\"\")","v":"PH"},{"$f":"IF('CoC Renewal Ranking Report'!G43<>\"\",'CoC Renewal Ranking Report'!BU43,\"\")","v":"Yes"},5]
[{"$f":"IF('CoC Renewal Ranking Report'!D44<>\"\",'CoC Renewal Ranking Report'!D44,\"\")","v":"Northampton County Housing Authority"},{"$f":"IF('CoC Renewal Ranking Report'!E44<>\"\",'CoC Renewal Ranking Report'!E44,\"\")","v":"NCHA S+C 2016"},{"$f":"IF('CoC Renewal Ranking Report'!G44<>\"\",'CoC Renewal Ranking Report'!G44,\"\")","v":"PH"},{"$f":"IF('CoC Renewal Ranking Report'!G44<>\"\",'CoC Renewal Ranking Report'!BU44,\"\")","v":"Yes"},5]
[{"$f":"IF('CoC Renewal Ranking Report'!D45<>\"\",'CoC Renewal Ranking Report'!D45,\"\")","v":"Northern Cambria Community Development Corporation"},{"$f":"IF('CoC Renewal Ranking Report'!E45<>\"\",'CoC Renewal Ranking Report'!E45,\"\")","v":"Independence Gardens"},{"$f":"IF('CoC Renewal Ranking Report'!G45<>\"\",'CoC Renewal Ranking Report'!G45,\"\")","v":"PH"},{"$f":"IF('CoC Renewal Ranking Report'!G45<>\"\",'CoC Renewal Ranking Report'!BU45,\"\")","v":"Yes"},5]
[{"$f":"IF('CoC Renewal Ranking Report'!D46<>\"\",'CoC Renewal Ranking Report'!D46,\"\")","v":"Northern Cambria Community Development Corporation"},{"$f":"IF('CoC Renewal Ranking Report'!E46<>\"\",'CoC Renewal Ranking Report'!E46,\"\")","v":"Schoolhouse Gardens"},{"$f":"IF('CoC Renewal Ranking Report'!G46<>\"\",'CoC Renewal Ranking Report'!G46,\"\")","v":"PH"},{"$f":"IF('CoC Renewal Ranking Report'!G46<>\"\",'CoC Renewal Ranking Report'!BU46,\"\")","v":"Yes"},5]
[{"$f":"IF('CoC Renewal Ranking Report'!D47<>\"\",'CoC Renewal Ranking Report'!D47,\"\")","v":"Northumberland County MH/MR"},{"$f":"IF('CoC Renewal Ranking Report'!E47<>\"\",'CoC Renewal Ranking Report'!E47,\"\")","v":"Sharing Support"},{"$f":"IF('CoC Renewal Ranking Report'!G47<>\"\",'CoC Renewal Ranking Report'!G47,\"\")","v":"PH"},{"$f":"IF('CoC Renewal Ranking Report'!G47<>\"\",'CoC Renewal Ranking Report'!BU47,\"\")","v":"Yes"},5]
[{"$f":"IF('CoC Renewal Ranking Report'!D48<>\"\",'CoC Renewal Ranking Report'!D48,\"\")","v":"Resources for Human Development, Inc."},{"$f":"IF('CoC Renewal Ranking Report'!E48<>\"\",'CoC Renewal Ranking Report'!E48,\"\")","v":"Crossroads Family"},{"$f":"IF('CoC Renewal Ranking Report'!G48<>\"\",'CoC Renewal Ranking Report'!G48,\"\")","v":"PH"},{"$f":"IF('CoC Renewal Ranking Report'!G48<>\"\",'CoC Renewal Ranking Report'!BU48,\"\")","v":"Yes"},5]
[{"$f":"IF('CoC Renewal Ranking Report'!D49<>\"\",'CoC Renewal Ranking Report'!D49,\"\")","v":"Resources for Human Development, Inc."},{"$f":"IF('CoC Renewal Ranking Report'!E49<>\"\",'CoC Renewal Ranking Report'!E49,\"\")","v":"Crossroads Housing Bonus"},{"$f":"IF('CoC Renewal Ranking Report'!G49<>\"\",'CoC Renewal Ranking Report'!G49,\"\")","v":"PH"},{"$f":"IF('CoC Renewal Ranking Report'!G49<>\"\",'CoC Renewal Ranking Report'!BU49,\"\")","v":"Yes"},5]
[{"$f":"IF('CoC Renewal Ranking Report'!D50<>\"\",'CoC Renewal Ranking Report'!D50,\"\")","v":"Resources for Human Development, Inc."},{"$f":"IF('CoC Renewal Ranking Report'!E50<>\"\",'CoC Renewal Ranking Report'!E50,\"\")","v":"Crossroads Individual"},{"$f":"IF('CoC Renewal Ranking Report'!G50<>\"\",'CoC Renewal Ranking Report'!G50,\"\")","v":"PH"},{"$f":"IF('CoC Renewal Ranking Report'!G50<>\"\",'CoC Renewal Ranking Report'!BU50,\"\")","v":"Yes"},5]
[{"$f":"IF('CoC Renewal Ranking Report'!D51<>\"\",'CoC Renewal Ranking Report'!D51,\"\")","v":"Resources for Human Development, Inc."},{"$f":"IF('CoC Renewal Ranking Report'!E51<>\"\",'CoC Renewal Ranking Report'!E51,\"\")","v":"Crossroads Schuylkill Co. Permanent Supportive Housing"},{"$f":"IF('CoC Renewal Ranking Report'!G51<>\"\",'CoC Renewal Ranking Report'!G51,\"\")","v":"PH"},{"$f":"IF('CoC Renewal Ranking Report'!G51<>\"\",'CoC Renewal Ranking Report'!BU51,\"\")","v":"Yes"},5]
[{"$f":"IF('CoC Renewal Ranking Report'!D52<>\"\",'CoC Renewal Ranking Report'!D52,\"\")","v":"Resources for Human Development, Inc."},{"$f":"IF('CoC Renewal Ranking Report'!E52<>\"\",'CoC Renewal Ranking Report'!E52,\"\")","v":"LV ACT Housing Supports"},{"$f":"IF('CoC Renewal Ranking Report'!G52<>\"\",'CoC Renewal Ranking Report'!G52,\"\")","v":"PH"},{"$f":"IF('CoC Renewal Ranking Report'!G52<>\"\",'CoC Renewal Ranking Report'!BU52,\"\")","v":"Yes"},5]
[{"$f":"IF('CoC Renewal Ranking Report'!D53<>\"\",'CoC Renewal Ranking Report'!D53,\"\")","v":"Tableland Services, Inc."},{"$f":"IF('CoC Renewal Ranking Report'!E53<>\"\",'CoC Renewal Ranking Report'!E53,\"\")","v":"Permanent Housing with Disabilities (SHP)"},{"$f":"IF('CoC Renewal Ranking Report'!G53<>\"\",'CoC Renewal Ranking Report'!G53,\"\")","v":"PH"},{"$f":"IF('CoC Renewal Ranking Report'!G53<>\"\",'CoC Renewal Ranking Report'!BU53,\"\")","v":"Yes"},5]
[{"$f":"IF('CoC Renewal Ranking Report'!D54<>\"\",'CoC Renewal Ranking Report'!D54,\"\")","v":"Tableland Services, Inc."},{"$f":"IF('CoC Renewal Ranking Report'!E54<>\"\",'CoC Renewal Ranking Report'!E54,\"\")","v":"Permanent Supportive Housing CH Project"},{"$f":"IF('CoC Renewal Ranking Report'!G54<>\"\",'CoC Renewal Ranking Report'!G54,\"\")","v":"PH"},{"$f":"IF('CoC Renewal Ranking Report'!G54<>\"\",'CoC Renewal Ranking Report'!BU54,\"\")","v":"Yes"},5]
[{"$f":"IF('CoC Renewal Ranking Report'!D55<>\"\",'CoC Renewal Ranking Report'!D55,\"\")","v":"The Salvation Army, a New York Corporation"},{"$f":"IF('CoC Renewal Ranking Report'!E55<>\"\",'CoC Renewal Ranking Report'!E55,\"\")","v":"Allentown Hospitality House Permanent Housing Program"},{"$f":"IF('CoC Renewal Ranking Report'!G55<>\"\",'CoC Renewal Ranking Report'!G55,\"\")","v":"PH"},{"$f":"IF('CoC Renewal Ranking Report'!G55<>\"\",'CoC Renewal Ranking Report'!BU55,\"\")","v":"Yes"},5]
[{"$f":"IF('CoC Renewal Ranking Report'!D56<>\"\",'CoC Renewal Ranking Report'!D56,\"\")","v":"The Salvation Army, a New York Corporation"},{"$f":"IF('CoC Renewal Ranking Report'!E56<>\"\",'CoC Renewal Ranking Report'!E56,\"\")","v":"Salvation Army Carlisle PH Project"},{"$f":"IF('CoC Renewal Ranking Report'!G56<>\"\",'CoC Renewal Ranking Report'!G56,\"\")","v":"PH"},{"$f":"IF('CoC Renewal Ranking Report'!G56<>\"\",'CoC Renewal Ranking Report'!BU56,\"\")","v":"Yes"},5]
[{"$f":"IF('CoC Renewal Ranking Report'!D57<>\"\",'CoC Renewal Ranking Report'!D57,\"\")","v":"Union-Snyder Community Action Agency"},{"$f":"IF('CoC Renewal Ranking Report'!E57<>\"\",'CoC Renewal Ranking Report'!E57,\"\")","v":"Union-Snyder Rapid ReHousing Program"},{"$f":"IF('CoC Renewal Ranking Report'!G57<>\"\",'CoC Renewal Ranking Report'!G57,\"\")","v":"PH-RRH"},{"$f":"IF('CoC Renewal Ranking Report'!G57<>\"\",'CoC Renewal Ranking Report'!BU57,\"\")","v":"Yes"},5]
[{"$f":"IF('CoC Renewal Ranking Report'!D58<>\"\",'CoC Renewal Ranking Report'!D58,\"\")","v":"United Christian Ministries"},{"$f":"IF('CoC Renewal Ranking Report'!E58<>\"\",'CoC Renewal Ranking Report'!E58,\"\")","v":"Kenner Garnet Renewal 2016"},{"$f":"IF('CoC Renewal Ranking Report'!G58<>\"\",'CoC Renewal Ranking Report'!G58,\"\")","v":"PH"},{"$f":"IF('CoC Renewal Ranking Report'!G58<>\"\",'CoC Renewal Ranking Report'!BU58,\"\")","v":"Yes"},5]
[{"$f":"IF('CoC Renewal Ranking Report'!D59<>\"\",'CoC Renewal Ranking Report'!D59,\"\")","v":"Valley Housing Development Corporation "},{"$f":"IF('CoC Renewal Ranking Report'!E59<>\"\",'CoC Renewal Ranking Report'!E59,\"\")","v":"VHDC SHP #2 2016"},{"$f":"IF('CoC Renewal Ranking Report'!G59<>\"\",'CoC Renewal Ranking Report'!G59,\"\")","v":"PH"},{"$f":"IF('CoC Renewal Ranking Report'!G59<>\"\",'CoC Renewal Ranking Report'!BU59,\"\")","v":"Yes"},5]
[{"$f":"IF('CoC Renewal Ranking Report'!D60<>\"\",'CoC Renewal Ranking Report'!D60,\"\")","v":"Valley Housing Development Corporation "},{"$f":"IF('CoC Renewal Ranking Report'!E60<>\"\",'CoC Renewal Ranking Report'!E60,\"\")","v":"VHDC SHP #3 2016"},{"$f":"IF('CoC Renewal Ranking Report'!G60<>\"\",'CoC Renewal Ranking Report'!G60,\"\")","v":"PH"},{"$f":"IF('CoC Renewal Ranking Report'!G60<>\"\",'CoC Renewal Ranking Report'!BU60,\"\")","v":"Yes"},5]
[{"$f":"IF('CoC Renewal Ranking Report'!D61<>\"\",'CoC Renewal Ranking Report'!D61,\"\")","v":"Valley Housing Development Corporation "},{"$f":"IF('CoC Renewal Ranking Report'!E61<>\"\",'CoC Renewal Ranking Report'!E61,\"\")","v":"VHDC SHP #4 2016"},{"$f":"IF('CoC Renewal Ranking Report'!G61<>\"\",'CoC Renewal Ranking Report'!G61,\"\")","v":"PH"},{"$f":"IF('CoC Renewal Ranking Report'!G61<>\"\",'CoC Renewal Ranking Report'!BU61,\"\")","v":"Yes"},5]
[{"$f":"IF('CoC Renewal Ranking Report'!D62<>\"\",'CoC Renewal Ranking Report'!D62,\"\")","v":""},{"$f":"IF('CoC Renewal Ranking Report'!E62<>\"\",'CoC Renewal Ranking Report'!E62,\"\")","v":""},{"$f":"IF('CoC Renewal Ranking Report'!G62<>\"\",'CoC Renewal Ranking Report'!G62,\"\")","v":""},{"$f":"IF('CoC Renewal Ranking Report'!G62<>\"\",'CoC Renewal Ranking Report'!BU62,\"\")","v":""},""]
[{"$f":"IF('CoC Renewal Ranking Report'!D63<>\"\",'CoC Renewal Ranking Report'!D63,\"\")","v":""},{"$f":"IF('CoC Renewal Ranking Report'!E63<>\"\",'CoC Renewal Ranking Report'!E63,\"\")","v":""},{"$f":"IF('CoC Renewal Ranking Report'!G63<>\"\",'CoC Renewal Ranking Report'!G63,\"\")","v":""},{"$f":"IF('CoC Renewal Ranking Report'!G63<>\"\",'CoC Renewal Ranking Report'!BU63,\"\")","v":""},""]
[{"$f":"IF('CoC Renewal Ranking Report'!D64<>\"\",'CoC Renewal Ranking Report'!D64,\"\")","v":""},{"$f":"IF('CoC Renewal Ranking Report'!E64<>\"\",'CoC Renewal Ranking Report'!E64,\"\")","v":""},{"$f":"IF('CoC Renewal Ranking Report'!G64<>\"\",'CoC Renewal Ranking Report'!G64,\"\")","v":""},{"$f":"IF('CoC Renewal Ranking Report'!G64<>\"\",'CoC Renewal Ranking Report'!BU64,\"\")","v":""},""]
[{"$f":"IF('CoC Renewal Ranking Report'!D65<>\"\",'CoC Renewal Ranking Report'!D65,\"\")","v":""},{"$f":"IF('CoC Renewal Ranking Report'!E65<>\"\",'CoC Renewal Ranking Report'!E65,\"\")","v":""},{"$f":"IF('CoC Renewal Ranking Report'!G65<>\"\",'CoC Renewal Ranking Report'!G65,\"\")","v":""},{"$f":"IF('CoC Renewal Ranking Report'!G65<>\"\",'CoC Renewal Ranking Report'!BU65,\"\")","v":""},""]
[{"$f":"IF('CoC Renewal Ranking Report'!D66<>\"\",'CoC Renewal Ranking Report'!D66,\"\")","v":""},{"$f":"IF('CoC Renewal Ranking Report'!E66<>\"\",'CoC Renewal Ranking Report'!E66,\"\")","v":""},{"$f":"IF('CoC Renewal Ranking Report'!G66<>\"\",'CoC Renewal Ranking Report'!G66,\"\")","v":""},{"$f":"IF('CoC Renewal Ranking Report'!G66<>\"\",'CoC Renewal Ranking Report'!BU66,\"\")","v":""},""]
[{"$f":"IF('CoC Renewal Ranking Report'!D67<>\"\",'CoC Renewal Ranking Report'!D67,\"\")","v":""},{"$f":"IF('CoC Renewal Ranking Report'!E67<>\"\",'CoC Renewal Ranking Report'!E67,\"\")","v":""},{"$f":"IF('CoC Renewal Ranking Report'!G67<>\"\",'CoC Renewal Ranking Report'!G67,\"\")","v":""},{"$f":"IF('CoC Renewal Ranking Report'!G67<>\"\",'CoC Renewal Ranking Report'!BU67,\"\")","v":""},""]
[{"$f":"IF('CoC Renewal Ranking Report'!D68<>\"\",'CoC Renewal Ranking Report'!D68,\"\")","v":""},{"$f":"IF('CoC Renewal Ranking Report'!E68<>\"\",'CoC Renewal Ranking Report'!E68,\"\")","v":""},{"$f":"IF('CoC Renewal Ranking Report'!G68<>\"\",'CoC Renewal Ranking Report'!G68,\"\")","v":""},{"$f":"IF('CoC Renewal Ranking Report'!G68<>\"\",'CoC Renewal Ranking Report'!BU68,\"\")","v":""},""]
[{"$f":"IF('CoC Renewal Ranking Report'!D69<>\"\",'CoC Renewal Ranking Report'!D69,\"\")","v":""},{"$f":"IF('CoC Renewal Ranking Report'!E69<>\"\",'CoC Renewal Ranking Report'!E69,\"\")","v":""},{"$f":"IF('CoC Renewal Ranking Report'!G69<>\"\",'CoC Renewal Ranking Report'!G69,\"\")","v":""},{"$f":"IF('CoC Renewal Ranking Report'!G69<>\"\",'CoC Renewal Ranking Report'!BU69,\"\")","v":""},""]
[{"$f":"IF('CoC Renewal Ranking Report'!D70<>\"\",'CoC Renewal Ranking Report'!D70,\"\")","v":""},{"$f":"IF('CoC Renewal Ranking Report'!E70<>\"\",'CoC Renewal Ranking Report'!E70,\"\")","v":""},{"$f":"IF('CoC Renewal Ranking Report'!G70<>\"\",'CoC Renewal Ranking Report'!G70,\"\")","v":""},{"$f":"IF('CoC Renewal Ranking Report'!G70<>\"\",'CoC Renewal Ranking Report'!BU70,\"\")","v":""},""]
[{"$f":"IF('CoC Renewal Ranking Report'!D71<>\"\",'CoC Renewal Ranking Report'!D71,\"\")","v":""},{"$f":"IF('CoC Renewal Ranking Report'!E71<>\"\",'CoC Renewal Ranking Report'!E71,\"\")","v":""},{"$f":"IF('CoC Renewal Ranking Report'!G71<>\"\",'CoC Renewal Ranking Report'!G71,\"\")","v":""},{"$f":"IF('CoC Renewal Ranking Report'!G71<>\"\",'CoC Renewal Ranking Report'!BU71,\"\")","v":""},""]
[{"$f":"IF('CoC Renewal Ranking Report'!D72<>\"\",'CoC Renewal Ranking Report'!D72,\"\")","v":""},{"$f":"IF('CoC Renewal Ranking Report'!E72<>\"\",'CoC Renewal Ranking Report'!E72,\"\")","v":""},{"$f":"IF('CoC Renewal Ranking Report'!G72<>\"\",'CoC Renewal Ranking Report'!G72,\"\")","v":""},{"$f":"IF('CoC Renewal Ranking Report'!G72<>\"\",'CoC Renewal Ranking Report'!BU72,\"\")","v":""},""]
[{"$f":"IF('CoC Renewal Ranking Report'!D73<>\"\",'CoC Renewal Ranking Report'!D73,\"\")","v":""},{"$f":"IF('CoC Renewal Ranking Report'!E73<>\"\",'CoC Renewal Ranking Report'!E73,\"\")","v":""},{"$f":"IF('CoC Renewal Ranking Report'!G73<>\"\",'CoC Renewal Ranking Report'!G73,\"\")","v":""},{"$f":"IF('CoC Renewal Ranking Report'!G73<>\"\",'CoC Renewal Ranking Report'!BU73,\"\")","v":""},{"$f":"IF(A70<>\"\", IF(D70 = \"Yes\", 5, 0), \"\")","v":""}]
[{"$f":"IF('CoC Renewal Ranking Report'!D74<>\"\",'CoC Renewal Ranking Report'!D74,\"\")","v":""},{"$f":"IF('CoC Renewal Ranking Report'!E74<>\"\",'CoC Renewal Ranking Report'!E74,\"\")","v":""},{"$f":"IF('CoC Renewal Ranking Report'!G74<>\"\",'CoC Renewal Ranking Report'!G74,\"\")","v":""},{"$f":"IF('CoC Renewal Ranking Report'!G74<>\"\",'CoC Renewal Ranking Report'!BU74,\"\")","v":""},""]
[{"$f":"IF('CoC Renewal Ranking Report'!D75<>\"\",'CoC Renewal Ranking Report'!D75,\"\")","v":""},{"$f":"IF('CoC Renewal Ranking Report'!E75<>\"\",'CoC Renewal Ranking Report'!E75,\"\")","v":""},{"$f":"IF('CoC Renewal Ranking Report'!G75<>\"\",'CoC Renewal Ranking Report'!G75,\"\")","v":""},{"$f":"IF('CoC Renewal Ranking Report'!G75<>\"\",'CoC Renewal Ranking Report'!BU75,\"\")","v":""},""]
[{"$f":"IF('CoC Renewal Ranking Report'!D76<>\"\",'CoC Renewal Ranking Report'!D76,\"\")","v":""},{"$f":"IF('CoC Renewal Ranking Report'!E76<>\"\",'CoC Renewal Ranking Report'!E76,\"\")","v":""},{"$f":"IF('CoC Renewal Ranking Report'!G76<>\"\",'CoC Renewal Ranking Report'!G76,\"\")","v":""},{"$f":"IF('CoC Renewal Ranking Report'!G76<>\"\",'CoC Renewal Ranking Report'!BU76,\"\")","v":""},""]
[{"$f":"IF('CoC Renewal Ranking Report'!D77<>\"\",'CoC Renewal Ranking Report'!D77,\"\")","v":""},{"$f":"IF('CoC Renewal Ranking Report'!E77<>\"\",'CoC Renewal Ranking Report'!E77,\"\")","v":""},{"$f":"IF('CoC Renewal Ranking Report'!G77<>\"\",'CoC Renewal Ranking Report'!G77,\"\")","v":""},{"$f":"IF('CoC Renewal Ranking Report'!G77<>\"\",'CoC Renewal Ranking Report'!BU77,\"\")","v":""},""]
[{"$f":"IF('CoC Renewal Ranking Report'!D78<>\"\",'CoC Renewal Ranking Report'!D78,\"\")","v":""},{"$f":"IF('CoC Renewal Ranking Report'!E78<>\"\",'CoC Renewal Ranking Report'!E78,\"\")","v":""},{"$f":"IF('CoC Renewal Ranking Report'!G78<>\"\",'CoC Renewal Ranking Report'!G78,\"\")","v":""},{"$f":"IF('CoC Renewal Ranking Report'!G78<>\"\",'CoC Renewal Ranking Report'!BU78,\"\")","v":""},""]
[{"$f":"IF('CoC Renewal Ranking Report'!D79<>\"\",'CoC Renewal Ranking Report'!D79,\"\")","v":""},{"$f":"IF('CoC Renewal Ranking Report'!E79<>\"\",'CoC Renewal Ranking Report'!E79,\"\")","v":""},{"$f":"IF('CoC Renewal Ranking Report'!G79<>\"\",'CoC Renewal Ranking Report'!G79,\"\")","v":""},{"$f":"IF('CoC Renewal Ranking Report'!G79<>\"\",'CoC Renewal Ranking Report'!BU79,\"\")","v":""},""]
[{"$f":"IF('CoC Renewal Ranking Report'!D80<>\"\",'CoC Renewal Ranking Report'!D80,\"\")","v":""},{"$f":"IF('CoC Renewal Ranking Report'!E80<>\"\",'CoC Renewal Ranking Report'!E80,\"\")","v":""},{"$f":"IF('CoC Renewal Ranking Report'!G80<>\"\",'CoC Renewal Ranking Report'!G80,\"\")","v":""},{"$f":"IF('CoC Renewal Ranking Report'!G80<>\"\",'CoC Renewal Ranking Report'!BU80,\"\")","v":""},""]
[{"$f":"IF('CoC Renewal Ranking Report'!D81<>\"\",'CoC Renewal Ranking Report'!D81,\"\")","v":""},{"$f":"IF('CoC Renewal Ranking Report'!E81<>\"\",'CoC Renewal Ranking Report'!E81,\"\")","v":""},{"$f":"IF('CoC Renewal Ranking Report'!G81<>\"\",'CoC Renewal Ranking Report'!G81,\"\")","v":""},{"$f":"IF('CoC Renewal Ranking Report'!G81<>\"\",'CoC Renewal Ranking Report'!BU81,\"\")","v":""},""]
[{"$f":"IF('CoC Renewal Ranking Report'!D82<>\"\",'CoC Renewal Ranking Report'!D82,\"\")","v":""},{"$f":"IF('CoC Renewal Ranking Report'!E82<>\"\",'CoC Renewal Ranking Report'!E82,\"\")","v":""},{"$f":"IF('CoC Renewal Ranking Report'!G82<>\"\",'CoC Renewal Ranking Report'!G82,\"\")","v":""},{"$f":"IF('CoC Renewal Ranking Report'!G82<>\"\",'CoC Renewal Ranking Report'!BU82,\"\")","v":""},""]
[{"$f":"IF('CoC Renewal Ranking Report'!D83<>\"\",'CoC Renewal Ranking Report'!D83,\"\")","v":""},{"$f":"IF('CoC Renewal Ranking Report'!E83<>\"\",'CoC Renewal Ranking Report'!E83,\"\")","v":""},{"$f":"IF('CoC Renewal Ranking Report'!G83<>\"\",'CoC Renewal Ranking Report'!G83,\"\")","v":""},{"$f":"IF('CoC Renewal Ranking Report'!G83<>\"\",'CoC Renewal Ranking Report'!BU83,\"\")","v":""},""]
[{"$f":"IF('CoC Renewal Ranking Report'!D84<>\"\",'CoC Renewal Ranking Report'!D84,\"\")","v":""},{"$f":"IF('CoC Renewal Ranking Report'!E84<>\"\",'CoC Renewal Ranking Report'!E84,\"\")","v":""},{"$f":"IF('CoC Renewal Ranking Report'!G84<>\"\",'CoC Renewal Ranking Report'!G84,\"\")","v":""},{"$f":"IF('CoC Renewal Ranking Report'!G84<>\"\",'CoC Renewal Ranking Report'!BU84,\"\")","v":""},""]
[{"$f":"IF('CoC Renewal Ranking Report'!D85<>\"\",'CoC Renewal Ranking Report'!D85,\"\")","v":""},{"$f":"IF('CoC Renewal Ranking Report'!E85<>\"\",'CoC Renewal Ranking Report'!E85,\"\")","v":""},{"$f":"IF('CoC Renewal Ranking Report'!G85<>\"\",'CoC Renewal Ranking Report'!G85,\"\")","v":""},{"$f":"IF('CoC Renewal Ranking Report'!G85<>\"\",'CoC Renewal Ranking Report'!BU85,\"\")","v":""},""]
[{"$f":"IF('CoC Renewal Ranking Report'!D86<>\"\",'CoC Renewal Ranking Report'!D86,\"\")","v":""},{"$f":"IF('CoC Renewal Ranking Report'!E86<>\"\",'CoC Renewal Ranking Report'!E86,\"\")","v":""},{"$f":"IF('CoC Renewal Ranking Report'!G86<>\"\",'CoC Renewal Ranking Report'!G86,\"\")","v":""},{"$f":"IF('CoC Renewal Ranking Report'!G86<>\"\",'CoC Renewal Ranking Report'!BU86,\"\")","v":""},""]
[{"$f":"IF('CoC Renewal Ranking Report'!D87<>\"\",'CoC Renewal Ranking Report'!D87,\"\")","v":""},{"$f":"IF('CoC Renewal Ranking Report'!E87<>\"\",'CoC Renewal Ranking Report'!E87,\"\")","v":""},{"$f":"IF('CoC Renewal Ranking Report'!G87<>\"\",'CoC Renewal Ranking Report'!G87,\"\")","v":""},{"$f":"IF('CoC Renewal Ranking Report'!G87<>\"\",'CoC Renewal Ranking Report'!BU87,\"\")","v":""},""]
[{"$f":"IF('CoC Renewal Ranking Report'!D88<>\"\",'CoC Renewal Ranking Report'!D88,\"\")","v":""},{"$f":"IF('CoC Renewal Ranking Report'!E88<>\"\",'CoC Renewal Ranking Report'!E88,\"\")","v":""},{"$f":"IF('CoC Renewal Ranking Report'!G88<>\"\",'CoC Renewal Ranking Report'!G88,\"\")","v":""},{"$f":"IF('CoC Renewal Ranking Report'!G88<>\"\",'CoC Renewal Ranking Report'!BU88,\"\")","v":""},""]
[{"$f":"IF('CoC Renewal Ranking Report'!D89<>\"\",'CoC Renewal Ranking Report'!D89,\"\")","v":""},{"$f":"IF('CoC Renewal Ranking Report'!E89<>\"\",'CoC Renewal Ranking Report'!E89,\"\")","v":""},{"$f":"IF('CoC Renewal Ranking Report'!G89<>\"\",'CoC Renewal Ranking Report'!G89,\"\")","v":""},{"$f":"IF('CoC Renewal Ranking Report'!G89<>\"\",'CoC Renewal Ranking Report'!BU89,\"\")","v":""},""]
[{"$f":"IF('CoC Renewal Ranking Report'!D90<>\"\",'CoC Renewal Ranking Report'!D90,\"\")","v":""},{"$f":"IF('CoC Renewal Ranking Report'!E90<>\"\",'CoC Renewal Ranking Report'!E90,\"\")","v":""},{"$f":"IF('CoC Renewal Ranking Report'!G90<>\"\",'CoC Renewal Ranking Report'!G90,\"\")","v":""},{"$f":"IF('CoC Renewal Ranking Report'!G90<>\"\",'CoC Renewal Ranking Report'!BU90,\"\")","v":""},""]
[{"$f":"IF('CoC Renewal Ranking Report'!D91<>\"\",'CoC Renewal Ranking Report'!D91,\"\")","v":""},{"$f":"IF('CoC Renewal Ranking Report'!E91<>\"\",'CoC Renewal Ranking Report'!E91,\"\")","v":""},{"$f":"IF('CoC Renewal Ranking Report'!G91<>\"\",'CoC Renewal Ranking Report'!G91,\"\")","v":""},{"$f":"IF('CoC Renewal Ranking Report'!G91<>\"\",'CoC Renewal Ranking Report'!BU91,\"\")","v":""},""]
[{"$f":"IF('CoC Renewal Ranking Report'!D92<>\"\",'CoC Renewal Ranking Report'!D92,\"\")","v":""},{"$f":"IF('CoC Renewal Ranking Report'!E92<>\"\",'CoC Renewal Ranking Report'!E92,\"\")","v":""},{"$f":"IF('CoC Renewal Ranking Report'!G92<>\"\",'CoC Renewal Ranking Report'!G92,\"\")","v":""},{"$f":"IF('CoC Renewal Ranking Report'!G92<>\"\",'CoC Renewal Ranking Report'!BU92,\"\")","v":""},""]
[{"$f":"IF('CoC Renewal Ranking Report'!D93<>\"\",'CoC Renewal Ranking Report'!D93,\"\")","v":""},{"$f":"IF('CoC Renewal Ranking Report'!E93<>\"\",'CoC Renewal Ranking Report'!E93,\"\")","v":""},{"$f":"IF('CoC Renewal Ranking Report'!G93<>\"\",'CoC Renewal Ranking Report'!G93,\"\")","v":""},{"$f":"IF('CoC Renewal Ranking Report'!G93<>\"\",'CoC Renewal Ranking Report'!BU93,\"\")","v":""},""]
[{"$f":"IF('CoC Renewal Ranking Report'!D94<>\"\",'CoC Renewal Ranking Report'!D94,\"\")","v":""},{"$f":"IF('CoC Renewal Ranking Report'!E94<>\"\",'CoC Renewal Ranking Report'!E94,\"\")","v":""},{"$f":"IF('CoC Renewal Ranking Report'!G94<>\"\",'CoC Renewal Ranking Report'!G94,\"\")","v":""},{"$f":"IF('CoC Renewal Ranking Report'!G94<>\"\",'CoC Renewal Ranking Report'!BU94,\"\")","v":""},""]
[{"$f":"IF('CoC Renewal Ranking Report'!D95<>\"\",'CoC Renewal Ranking Report'!D95,\"\")","v":""},{"$f":"IF('CoC Renewal Ranking Report'!E95<>\"\",'CoC Renewal Ranking Report'!E95,\"\")","v":""},{"$f":"IF('CoC Renewal Ranking Report'!G95<>\"\",'CoC Renewal Ranking Report'!G95,\"\")","v":""},{"$f":"IF('CoC Renewal Ranking Report'!G95<>\"\",'CoC Renewal Ranking Report'!BU95,\"\")","v":""},""]
[{"$f":"IF('CoC Renewal Ranking Report'!D96<>\"\",'CoC Renewal Ranking Report'!D96,\"\")","v":""},{"$f":"IF('CoC Renewal Ranking Report'!E96<>\"\",'CoC Renewal Ranking Report'!E96,\"\")","v":""},{"$f":"IF('CoC Renewal Ranking Report'!G96<>\"\",'CoC Renewal Ranking Report'!G96,\"\")","v":""},{"$f":"IF('CoC Renewal Ranking Report'!G96<>\"\",'CoC Renewal Ranking Report'!BU96,\"\")","v":""},""]
[{"$f":"IF('CoC Renewal Ranking Report'!D97<>\"\",'CoC Renewal Ranking Report'!D97,\"\")","v":""},{"$f":"IF('CoC Renewal Ranking Report'!E97<>\"\",'CoC Renewal Ranking Report'!E97,\"\")","v":""},{"$f":"IF('CoC Renewal Ranking Report'!G97<>\"\",'CoC Renewal Ranking Report'!G97,\"\")","v":""},{"$f":"IF('CoC Renewal Ranking Report'!G97<>\"\",'CoC Renewal Ranking Report'!BU97,\"\")","v":""},""]
[{"$f":"IF('CoC Renewal Ranking Report'!D98<>\"\",'CoC Renewal Ranking Report'!D98,\"\")","v":""},{"$f":"IF('CoC Renewal Ranking Report'!E98<>\"\",'CoC Renewal Ranking Report'!E98,\"\")","v":""},{"$f":"IF('CoC Renewal Ranking Report'!G98<>\"\",'CoC Renewal Ranking Report'!G98,\"\")","v":""},{"$f":"IF('CoC Renewal Ranking Report'!G98<>\"\",'CoC Renewal Ranking Report'!BU98,\"\")","v":""},""]
[{"$f":"IF('CoC Renewal Ranking Report'!D99<>\"\",'CoC Renewal Ranking Report'!D99,\"\")","v":""},{"$f":"IF('CoC Renewal Ranking Report'!E99<>\"\",'CoC Renewal Ranking Report'!E99,\"\")","v":""},{"$f":"IF('CoC Renewal Ranking Report'!G99<>\"\",'CoC Renewal Ranking Report'!G99,\"\")","v":""},{"$f":"IF('CoC Renewal Ranking Report'!G99<>\"\",'CoC Renewal Ranking Report'!BU99,\"\")","v":""},""]
[{"$f":"IF('CoC Renewal Ranking Report'!D100<>\"\",'CoC Renewal Ranking Report'!D100,\"\")","v":""},{"$f":"IF('CoC Renewal Ranking Report'!E100<>\"\",'CoC Renewal Ranking Report'!E100,\"\")","v":""},{"$f":"IF('CoC Renewal Ranking Report'!G100<>\"\",'CoC Renewal Ranking Report'!G100,\"\")","v":""},{"$f":"IF('CoC Renewal Ranking Report'!G100<>\"\",'CoC Renewal Ranking Report'!BU100,\"\")","v":""},""]
[{"$f":"IF('CoC Renewal Ranking Report'!D101<>\"\",'CoC Renewal Ranking Report'!D101,\"\")","v":""},{"$f":"IF('CoC Renewal Ranking Report'!E101<>\"\",'CoC Renewal Ranking Report'!E101,\"\")","v":""},{"$f":"IF('CoC Renewal Ranking Report'!G101<>\"\",'CoC Renewal Ranking Report'!G101,\"\")","v":""},{"$f":"IF('CoC Renewal Ranking Report'!G101<>\"\",'CoC Renewal Ranking Report'!BU101,\"\")","v":""},""]
[{"$f":"IF('CoC Renewal Ranking Report'!D102<>\"\",'CoC Renewal Ranking Report'!D102,\"\")","v":""},{"$f":"IF('CoC Renewal Ranking Report'!E102<>\"\",'CoC Renewal Ranking Report'!E102,\"\")","v":""},{"$f":"IF('CoC Renewal Ranking Report'!G102<>\"\",'CoC Renewal Ranking Report'!G102,\"\")","v":""},{"$f":"IF('CoC Renewal Ranking Report'!G102<>\"\",'CoC Renewal Ranking Report'!BU102,\"\")","v":""},""]
[{"$f":"IF('CoC Renewal Ranking Report'!D103<>\"\",'CoC Renewal Ranking Report'!D103,\"\")","v":""},{"$f":"IF('CoC Renewal Ranking Report'!E103<>\"\",'CoC Renewal Ranking Report'!E103,\"\")","v":""},{"$f":"IF('CoC Renewal Ranking Report'!G103<>\"\",'CoC Renewal Ranking Report'!G103,\"\")","v":""},{"$f":"IF('CoC Renewal Ranking Report'!G103<>\"\",'CoC Renewal Ranking Report'!BU103,\"\")","v":""},""]
[{"$f":"IF('CoC Renewal Ranking Report'!D104<>\"\",'CoC Renewal Ranking Report'!D104,\"\")","v":""},{"$f":"IF('CoC Renewal Ranking Report'!E104<>\"\",'CoC Renewal Ranking Report'!E104,\"\")","v":""},{"$f":"IF('CoC Renewal Ranking Report'!G104<>\"\",'CoC Renewal Ranking Report'!G104,\"\")","v":""},{"$f":"IF('CoC Renewal Ranking Report'!G104<>\"\",'CoC Renewal Ranking Report'!BU104,\"\")","v":""},""]
[{"$f":"IF('CoC Renewal Ranking Report'!D105<>\"\",'CoC Renewal Ranking Report'!D105,\"\")","v":""},{"$f":"IF('CoC Renewal Ranking Report'!E105<>\"\",'CoC Renewal Ranking Report'!E105,\"\")","v":""},{"$f":"IF('CoC Renewal Ranking Report'!G105<>\"\",'CoC Renewal Ranking Report'!G105,\"\")","v":""},{"$f":"IF('CoC Renewal Ranking Report'!G105<>\"\",'CoC Renewal Ranking Report'!BU105,\"\")","v":""},""]

{"sheet":"CoC Participation","index":22,"n_rows":102,"n_cols":4,"rows_kept":102,"cut":false,"hidden":false,"merged":[[2,1,3,1]]}
[null,"CoC Participation"]
[null,"Criteria"]
[null,"Points manually calculated based on RHAB Attendence, CoC Meetings and Committees (includes Bonus)"]
[]
[]
[]
["Agency Name","Project Name","Project Type","Score"]
[{"$f":"IF('CoC Renewal Ranking Report'!$D9<>\"\",'CoC Renewal Ranking Report'!$D9,\"\")","v":""},{"$f":"IF('CoC Renewal Ranking Report'!E9<>\"\",'CoC Renewal Ranking Report'!E9,\"\")","v":""},{"$f":"IF('CoC Renewal Ranking Report'!G9<>\"\",'CoC Renewal Ranking Report'!G9,\"\")","v":""},{"$f":"IF('CoC Renewal Ranking Report'!BV9<>\"\",'CoC Renewal Ranking Report'!BV9,\"\")","v":""}]
[{"$f":"IF('CoC Renewal Ranking Report'!$D10<>\"\",'CoC Renewal Ranking Report'!$D10,\"\")","v":"Blair County Community Action Program"},{"$f":"IF('CoC Renewal Ranking Report'!E10<>\"\",'CoC Renewal Ranking Report'!E10,\"\")","v":"Rapid Re-Housing"},{"$f":"IF('CoC Renewal Ranking Report'!G10<>\"\",'CoC Renewal Ranking Report'!G10,\"\")","v":"PH-RRH"},{"$f":"IF('CoC Renewal Ranking Report'!BV10<>\"\",'CoC Renewal Ranking Report'!BV10,\"\")","v":10}]
[{"$f":"IF('CoC Renewal Ranking Report'!$D11<>\"\",'CoC Renewal Ranking Report'!$D11,\"\")","v":"Cambria County"},{"$f":"IF('CoC Renewal Ranking Report'!E11<>\"\",'CoC Renewal Ranking Report'!E11,\"\")","v":"Cambria County Comprehensive Housing Program"},{"$f":"IF('CoC Renewal Ranking Report'!G11<>\"\",'CoC Renewal Ranking Report'!G11,\"\")","v":"PH"},{"$f":"IF('CoC Renewal Ranking Report'!BV11<>\"\",'CoC Renewal Ranking Report'!BV11,\"\")","v":3.3}]
[{"$f":"IF('CoC Renewal Ranking Report'!$D12<>\"\",'CoC Renewal Ranking Report'!$D12,\"\")","v":"Catholic Charities of the Diocese of Allentown"},{"$f":"IF('CoC Renewal Ranking Report'!E12<>\"\",'CoC Renewal Ranking Report'!E12,\"\")","v":"Catholic Charities Allentown Permanent Housing Program"},{"$f":"IF('CoC Renewal Ranking Report'!G12<>\"\",'CoC Renewal Ranking Report'!G12,\"\")","v":"PH"},{"$f":"IF('CoC Renewal Ranking Report'!BV12<>\"\",'CoC Renewal Ranking Report'!BV12,\"\")","v":10}]
[{"$f":"IF('CoC Renewal Ranking Report'!$D13<>\"\",'CoC Renewal Ranking Report'!$D13,\"\")","v":"Catholic Social Services of the Diocese of Scranton, Inc."},{"$f":"IF('CoC Renewal Ranking Report'!E13<>\"\",'CoC Renewal Ranking Report'!E13,\"\")","v":"PSHP Pike County"},{"$f":"IF('CoC Renewal Ranking Report'!G13<>\"\",'CoC Renewal Ranking Report'!G13,\"\")","v":"PH"},{"$f":"IF('CoC Renewal Ranking Report'!BV13<>\"\",'CoC Renewal Ranking Report'!BV13,\"\")","v":8.9}]
[{"$f":"IF('CoC Renewal Ranking Report'!$D14<>\"\",'CoC Renewal Ranking Report'!$D14,\"\")","v":"Catholic Social Services of the Diocese of Scranton, Inc."},{"$f":"IF('CoC Renewal Ranking Report'!E14<>\"\",'CoC Renewal Ranking Report'!E14,\"\")","v":"Rural Permanent Supportive Housing Program"},{"$f":"IF('CoC Renewal Ranking Report'!G14<>\"\",'CoC Renewal Ranking Report'!G14,\"\")","v":"PH"},{"$f":"IF('CoC Renewal Ranking Report'!BV14<>\"\",'CoC Renewal Ranking Report'!BV14,\"\")","v":8.9}]
[{"$f":"IF('CoC Renewal Ranking Report'!$D15<>\"\",'CoC Renewal Ranking Report'!$D15,\"\")","v":"Catholic Social Services of the Diocese of Scranton, Inc."},{"$f":"IF('CoC Renewal Ranking Report'!E15<>\"\",'CoC Renewal Ranking Report'!E15,\"\")","v":"Susquehanna/Wayne PSHP"},{"$f":"IF('CoC Renewal Ranking Report'!G15<>\"\",'CoC Renewal Ranking Report'!G15,\"\")","v":"PH"},{"$f":"IF('CoC Renewal Ranking Report'!BV15<>\"\",'CoC Renewal Ranking Report'!BV15,\"\")","v":8.9}]
[{"$f":"IF('CoC Renewal Ranking Report'!$D16<>\"\",'CoC Renewal Ranking Report'!$D16,\"\")","v":"Center for Community Action"},{"$f":"IF('CoC Renewal Ranking Report'!E16<>\"\",'CoC Renewal Ranking Report'!E16,\"\")","v":"Bedford,Fulton, Huntingdon RRH"},{"$f":"IF('CoC Renewal Ranking Report'!G16<>\"\",'CoC Renewal Ranking Report'!G16,\"\")","v":"PH-RRH"},{"$f":"IF('CoC Renewal Ranking Report'!BV16<>\"\",'CoC Renewal Ranking Report'!BV16,\"\")","v":10}]
[{"$f":"IF('CoC Renewal Ranking Report'!$D17<>\"\",'CoC Renewal Ranking Report'!$D17,\"\")","v":"County of Franklin"},{"$f":"IF('CoC Renewal Ranking Report'!E17<>\"\",'CoC Renewal Ranking Report'!E17,\"\")","v":"Franklin/ Fulton S+C Project 2017"},{"$f":"IF('CoC Renewal Ranking Report'!G17<>\"\",'CoC Renewal Ranking Report'!G17,\"\")","v":"PH"},{"$f":"IF('CoC Renewal Ranking Report'!BV17<>\"\",'CoC Renewal Ranking Report'!BV17,\"\")","v":10}]
[{"$f":"IF('CoC Renewal Ranking Report'!$D18<>\"\",'CoC Renewal Ranking Report'!$D18,\"\")","v":"County of Franklin"},{"$f":"IF('CoC Renewal Ranking Report'!E18<>\"\",'CoC Renewal Ranking Report'!E18,\"\")","v":"Franklin/Fulton Homeless Assistance Project 2017"},{"$f":"IF('CoC Renewal Ranking Report'!G18<>\"\",'CoC Renewal Ranking Report'!G18,\"\")","v":"PH"},{"$f":"IF('CoC Renewal Ranking Report'!BV18<>\"\",'CoC Renewal Ranking Report'!BV18,\"\")","v":10}]
[{"$f":"IF('CoC Renewal Ranking Report'!$D19<>\"\",'CoC Renewal Ranking Report'!$D19,\"\")","v":"County of Lycoming DBA Lycoming- Clinton Joinder Board"},{"$f":"IF('CoC Renewal Ranking Report'!E19<>\"\",'CoC Renewal Ranking Report'!E19,\"\")","v":"Lycoming/Clinton Renewal #5"},{"$f":"IF('CoC Renewal Ranking Report'!G19<>\"\",'CoC Renewal Ranking Report'!G19,\"\")","v":"PH"},{"$f":"IF('CoC Renewal Ranking Report'!BV19<>\"\",'CoC Renewal Ranking Report'!BV19,\"\")","v":10}]
[{"$f":"IF('CoC Renewal Ranking Report'!$D20<>\"\",'CoC Renewal Ranking Report'!$D20,\"\")","v":"Fitzmaurice Community Services, Inc"},{"$f":"IF('CoC Renewal Ranking Report'!E20<>\"\",'CoC Renewal Ranking Report'!E20,\"\")","v":"Pathfinders"},{"$f":"IF('CoC Renewal Ranking Report'!G20<>\"\",'CoC Renewal Ranking Report'!G20,\"\")","v":"PH"},{"$f":"IF('CoC Renewal Ranking Report'!BV20<>\"\",'CoC Renewal Ranking Report'!BV20,\"\")","v":11}]
[{"$f":"IF('CoC Renewal Ranking Report'!$D21<>\"\",'CoC Renewal Ranking Report'!$D21,\"\")","v":"Home Nursing AgencyCommunity Services"},{"$f":"IF('CoC Renewal Ranking Report'!E21<>\"\",'CoC Renewal Ranking Report'!E21,\"\")","v":"Housing Assistance and Rental Program"},{"$f":"IF('CoC Renewal Ranking Report'!G21<>\"\",'CoC Renewal Ranking Report'!G21,\"\")","v":"PH"},{"$f":"IF('CoC Renewal Ranking Report'!BV21<>\"\",'CoC Renewal Ranking Report'!BV21,\"\")","v":10}]
[{"$f":"IF('CoC Renewal Ranking Report'!$D22<>\"\",'CoC Renewal Ranking Report'!$D22,\"\")","v":"Housing Authority of Monroe County"},{"$f":"IF('CoC Renewal Ranking Report'!E22<>\"\",'CoC Renewal Ranking Report'!E22,\"\")","v":"Renewal Application Shelter Plus Care MC 2016"},{"$f":"IF('CoC Renewal Ranking Report'!G22<>\"\",'CoC Renewal Ranking Report'!G22,\"\")","v":"PH"},{"$f":"IF('CoC Renewal Ranking Report'!BV22<>\"\",'CoC Renewal Ranking Report'!BV22,\"\")","v":4.4000000000000004}]
[{"$f":"IF('CoC Renewal Ranking Report'!$D23<>\"\",'CoC Renewal Ranking Report'!$D23,\"\")","v":"Housing Authority of the County of Cumberland"},{"$f":"IF('CoC Renewal Ranking Report'!E23<>\"\",'CoC Renewal Ranking Report'!E23,\"\")","v":"Carlisle Supportive Housing Program"},{"$f":"IF('CoC Renewal Ranking Report'!G23<>\"\",'CoC Renewal Ranking Report'!G23,\"\")","v":"PH"},{"$f":"IF('CoC Renewal Ranking Report'!BV23<>\"\",'CoC Renewal Ranking Report'!BV23,\"\")","v":11}]
[{"$f":"IF('CoC Renewal Ranking Report'!$D24<>\"\",'CoC Renewal Ranking Report'!$D24,\"\")","v":"Housing Authority of the County of Cumberland"},{"$f":"IF('CoC Renewal Ranking Report'!E24<>\"\",'CoC Renewal Ranking Report'!E24,\"\")","v":"Perry County Permanent SHP"},{"$f":"IF('CoC Renewal Ranking Report'!G24<>\"\",'CoC Renewal Ranking Report'!G24,\"\")","v":"PH"},{"$f":"IF('CoC Renewal Ranking Report'!BV24<>\"\",'CoC Renewal Ranking Report'!BV24,\"\")","v":11}]
[{"$f":"IF('CoC Renewal Ranking Report'!$D25<>\"\",'CoC Renewal Ranking Report'!$D25,\"\")","v":"Housing Authority of the County of Cumberland"},{"$f":"IF('CoC Renewal Ranking Report'!E25<>\"\",'CoC Renewal Ranking Report'!E25,\"\")","v":"Perry County Transitional II"},{"$f":"IF('CoC Renewal Ranking Report'!G25<>\"\",'CoC Renewal Ranking Report'!G25,\"\")","v":"PH-RRH"},{"$f":"IF('CoC Renewal Ranking Report'!BV25<>\"\",'CoC Renewal Ranking Report'!BV25,\"\")","v":11}]
[{"$f":"IF('CoC Renewal Ranking Report'!$D26<>\"\",'CoC Renewal Ranking Report'!$D26,\"\")","v":"Housing Authority of the County of Cumberland"},{"$f":"IF('CoC Renewal Ranking Report'!E26<>\"\",'CoC Renewal Ranking Report'!E26,\"\")","v":"Perry County Veterans Program"},{"$f":"IF('CoC Renewal Ranking Report'!G26<>\"\",'CoC Renewal Ranking Report'!G26,\"\")","v":"PH"},{"$f":"IF('CoC Renewal Ranking Report'!BV26<>\"\",'CoC Renewal Ranking Report'!BV26,\"\")","v":11}]
[{"$f":"IF('CoC Renewal Ranking Report'!$D27<>\"\",'CoC Renewal Ranking Report'!$D27,\"\")","v":"Housing Authority of the County of Cumberland"},{"$f":"IF('CoC Renewal Ranking Report'!E27<>\"\",'CoC Renewal Ranking Report'!E27,\"\")","v":"Rapid Rehousing II"},{"$f":"IF('CoC Renewal Ranking Report'!G27<>\"\",'CoC Renewal Ranking Report'!G27,\"\")","v":"PH-RRH"},{"$f":"IF('CoC Renewal Ranking Report'!BV27<>\"\",'CoC Renewal Ranking Report'!BV27,\"\")","v":11}]
[{"$f":"IF('CoC Renewal Ranking Report'!$D28<>\"\",'CoC Renewal Ranking Report'!$D28,\"\")","v":"Housing Authority of the County of Cumberland"},{"$f":"IF('CoC Renewal Ranking Report'!E28<>\"\",'CoC Renewal Ranking Report'!E28,\"\")","v":"Safe Harbour SHP"},{"$f":"IF('CoC Renewal Ranking Report'!G28<>\"\",'CoC Renewal Ranking Report'!G28,\"\")","v":"PH"},{"$f":"IF('CoC Renewal Ranking Report'!BV28<>\"\",'CoC Renewal Ranking Report'!BV28,\"\")","v":11}]
[{"$f":"IF('CoC Renewal Ranking Report'!$D29<>\"\",'CoC Renewal Ranking Report'!$D29,\"\")","v":"Housing Authority of the County of Cumberland"},{"$f":"IF('CoC Renewal Ranking Report'!E29<>\"\",'CoC Renewal Ranking Report'!E29,\"\")","v":"Shelter + Care Chronic"},{"$f":"IF('CoC Renewal Ranking Report'!G29<>\"\",'CoC Renewal Ranking Report'!G29,\"\")","v":"PH"},{"$f":"IF('CoC Renewal Ranking Report'!BV29<>\"\",'CoC Renewal Ranking Report'!BV29,\"\")","v":11}]
[{"$f":"IF('CoC Renewal Ranking Report'!$D30<>\"\",'CoC Renewal Ranking Report'!$D30,\"\")","v":"Housing Authority of the County of Cumberland"},{"$f":"IF('CoC Renewal Ranking Report'!E30<>\"\",'CoC Renewal Ranking Report'!E30,\"\")","v":"Shelter + Care Non-Chronic"},{"$f":"IF('CoC Renewal Ranking Report'!G30<>\"\",'CoC Renewal Ranking Report'!G30,\"\")","v":"PH"},{"$f":"IF('CoC Renewal Ranking Report'!BV30<>\"\",'CoC Renewal Ranking Report'!BV30,\"\")","v":11}]
[{"$f":"IF('CoC Renewal Ranking Report'!$D31<>\"\",'CoC Renewal Ranking Report'!$D31,\"\")","v":"Housing Authority of the County of Cumberland"},{"$f":"IF('CoC Renewal Ranking Report'!E31<>\"\",'CoC Renewal Ranking Report'!E31,\"\")","v":"West Shore SHP I"},{"$f":"IF('CoC Renewal Ranking Report'!G31<>\"\",'CoC Renewal Ranking Report'!G31,\"\")","v":"PH"},{"$f":"IF('CoC Renewal Ranking Report'!BV31<>\"\",'CoC Renewal Ranking Report'!BV31,\"\")","v":11}]
[{"$f":"IF('CoC Renewal Ranking Report'!$D32<>\"\",'CoC Renewal Ranking Report'!$D32,\"\")","v":"Housing Authority of the County of Cumberland"},{"$f":"IF('CoC Renewal Ranking Report'!E32<>\"\",'CoC Renewal Ranking Report'!E32,\"\")","v":"West Shore SHP II"},{"$f":"IF('CoC Renewal Ranking Report'!G32<>\"\",'CoC Renewal Ranking Report'!G32,\"\")","v":"PH"},{"$f":"IF('CoC Renewal Ranking Report'!BV32<>\"\",'CoC Renewal Ranking Report'!BV32,\"\")","v":11}]
[{"$f":"IF('CoC Renewal Ranking Report'!$D33<>\"\",'CoC Renewal Ranking Report'!$D33,\"\")","v":"Housing Development Corporation of NEPA"},{"$f":"IF('CoC Renewal Ranking Report'!E33<>\"\",'CoC Renewal Ranking Report'!E33,\"\")","v":"HDC SHP 3 2016"},{"$f":"IF('CoC Renewal Ranking Report'!G33<>\"\",'CoC Renewal Ranking Report'!G33,\"\")","v":"PH"},{"$f":"IF('CoC Renewal Ranking Report'!BV33<>\"\",'CoC Renewal Ranking Report'!BV33,\"\")","v":10}]
[{"$f":"IF('CoC Renewal Ranking Report'!$D34<>\"\",'CoC Renewal Ranking Report'!$D34,\"\")","v":"Housing Development Corporation of NEPA"},{"$f":"IF('CoC Renewal Ranking Report'!E34<>\"\",'CoC Renewal Ranking Report'!E34,\"\")","v":"HDC SHP 6 2016"},{"$f":"IF('CoC Renewal Ranking Report'!G34<>\"\",'CoC Renewal Ranking Report'!G34,\"\")","v":"PH"},{"$f":"IF('CoC Renewal Ranking Report'!BV34<>\"\",'CoC Renewal Ranking Report'!BV34,\"\")","v":10}]
[{"$f":"IF('CoC Renewal Ranking Report'!$D35<>\"\",'CoC Renewal Ranking Report'!$D35,\"\")","v":"Housing Transitions, Inc."},{"$f":"IF('CoC Renewal Ranking Report'!E35<>\"\",'CoC Renewal Ranking Report'!E35,\"\")","v":"Nittany House Apartments"},{"$f":"IF('CoC Renewal Ranking Report'!G35<>\"\",'CoC Renewal Ranking Report'!G35,\"\")","v":"PH"},{"$f":"IF('CoC Renewal Ranking Report'!BV35<>\"\",'CoC Renewal Ranking Report'!BV35,\"\")","v":10}]
[{"$f":"IF('CoC Renewal Ranking Report'!$D36<>\"\",'CoC Renewal Ranking Report'!$D36,\"\")","v":"Lehigh County Conference of Churches"},{"$f":"IF('CoC Renewal Ranking Report'!E36<>\"\",'CoC Renewal Ranking Report'!E36,\"\")","v":"Outreach and Case Management for the Disabled, Chronically Homeless"},{"$f":"IF('CoC Renewal Ranking Report'!G36<>\"\",'CoC Renewal Ranking Report'!G36,\"\")","v":"SSO"},{"$f":"IF('CoC Renewal Ranking Report'!BV36<>\"\",'CoC Renewal Ranking Report'!BV36,\"\")","v":11}]
[{"$f":"IF('CoC Renewal Ranking Report'!$D37<>\"\",'CoC Renewal Ranking Report'!$D37,\"\")","v":"Lehigh County Conference of Churches"},{"$f":"IF('CoC Renewal Ranking Report'!E37<>\"\",'CoC Renewal Ranking Report'!E37,\"\")","v":"Pathways Housing"},{"$f":"IF('CoC Renewal Ranking Report'!G37<>\"\",'CoC Renewal Ranking Report'!G37,\"\")","v":"PH"},{"$f":"IF('CoC Renewal Ranking Report'!BV37<>\"\",'CoC Renewal Ranking Report'!BV37,\"\")","v":11}]
[{"$f":"IF('CoC Renewal Ranking Report'!$D38<>\"\",'CoC Renewal Ranking Report'!$D38,\"\")","v":"Lehigh County Conference of Churches"},{"$f":"IF('CoC Renewal Ranking Report'!E38<>\"\",'CoC Renewal Ranking Report'!E38,\"\")","v":"Pathways Housing 2"},{"$f":"IF('CoC Renewal Ranking Report'!G38<>\"\",'CoC Renewal Ranking Report'!G38,\"\")","v":"PH"},{"$f":"IF('CoC Renewal Ranking Report'!BV38<>\"\",'CoC Renewal Ranking Report'!BV38,\"\")","v":11}]
[{"$f":"IF('CoC Renewal Ranking Report'!$D39<>\"\",'CoC Renewal Ranking Report'!$D39,\"\")","v":"Lehigh County Conference of Churches"},{"$f":"IF('CoC Renewal Ranking Report'!E39<>\"\",'CoC Renewal Ranking Report'!E39,\"\")","v":"Pathways TBRA for Families, Youth and Veterans"},{"$f":"IF('CoC Renewal Ranking Report'!G39<>\"\",'CoC Renewal Ranking Report'!G39,\"\")","v":"PH"},{"$f":"IF('CoC Renewal Ranking Report'!BV39<>\"\",'CoC Renewal Ranking Report'!BV39,\"\")","v":11}]
[{"$f":"IF('CoC Renewal Ranking Report'!$D40<>\"\",'CoC Renewal Ranking Report'!$D40,\"\")","v":"Lehigh County Conference of Churches"},{"$f":"IF('CoC Renewal Ranking Report'!E40<>\"\",'CoC Renewal Ranking Report'!E40,\"\")","v":"Tenant-Based Rental Assistance for the Disabled,Chronically Homeless"},{"$f":"IF('CoC Renewal Ranking Report'!G40<>\"\",'CoC Renewal Ranking Report'!G40,\"\")","v":"PH"},{"$f":"IF('CoC Renewal Ranking Report'!BV40<>\"\",'CoC Renewal Ranking Report'!BV40,\"\")","v":11}]
[{"$f":"IF('CoC Renewal Ranking Report'!$D41<>\"\",'CoC Renewal Ranking Report'!$D41,\"\")","v":"Lehigh County Housing Authority"},{"$f":"IF('CoC Renewal Ranking Report'!E41<>\"\",'CoC Renewal Ranking Report'!E41,\"\")","v":"LCHA S+C 2016"},{"$f":"IF('CoC Renewal Ranking Report'!G41<>\"\",'CoC Renewal Ranking Report'!G41,\"\")","v":"PH"},{"$f":"IF('CoC Renewal Ranking Report'!BV41<>\"\",'CoC Renewal Ranking Report'!BV41,\"\")","v":6.3}]
[{"$f":"IF('CoC Renewal Ranking Report'!$D42<>\"\",'CoC Renewal Ranking Report'!$D42,\"\")","v":"Maranatha"},{"$f":"IF('CoC Renewal Ranking Report'!E42<>\"\",'CoC Renewal Ranking Report'!E42,\"\")","v":"TOTAL PERSON TRANSITIONAL PROGRAM 1 & 2"},{"$f":"IF('CoC Renewal Ranking Report'!G42<>\"\",'CoC Renewal Ranking Report'!G42,\"\")","v":"PH-RRH"},{"$f":"IF('CoC Renewal Ranking Report'!BV42<>\"\",'CoC Renewal Ranking Report'!BV42,\"\")","v":11}]
[{"$f":"IF('CoC Renewal Ranking Report'!$D43<>\"\",'CoC Renewal Ranking Report'!$D43,\"\")","v":"Mifflin County"},{"$f":"IF('CoC Renewal Ranking Report'!E43<>\"\",'CoC Renewal Ranking Report'!E43,\"\")","v":"Mifflin County Permanent Housing Renewal"},{"$f":"IF('CoC Renewal Ranking Report'!G43<>\"\",'CoC Renewal Ranking Report'!G43,\"\")","v":"PH"},{"$f":"IF('CoC Renewal Ranking Report'!BV43<>\"\",'CoC Renewal Ranking Report'!BV43,\"\")","v":8.8000000000000007}]
[{"$f":"IF('CoC Renewal Ranking Report'!$D44<>\"\",'CoC Renewal Ranking Report'!$D44,\"\")","v":"Northampton County Housing Authority"},{"$f":"IF('CoC Renewal Ranking Report'!E44<>\"\",'CoC Renewal Ranking Report'!E44,\"\")","v":"NCHA S+C 2016"},{"$f":"IF('CoC Renewal Ranking Report'!G44<>\"\",'CoC Renewal Ranking Report'!G44,\"\")","v":"PH"},{"$f":"IF('CoC Renewal Ranking Report'!BV44<>\"\",'CoC Renewal Ranking Report'!BV44,\"\")","v":6.3}]
[{"$f":"IF('CoC Renewal Ranking Report'!$D45<>\"\",'CoC Renewal Ranking Report'!$D45,\"\")","v":"Northern Cambria Community Development Corporation"},{"$f":"IF('CoC Renewal Ranking Report'!E45<>\"\",'CoC Renewal Ranking Report'!E45,\"\")","v":"Independence Gardens"},{"$f":"IF('CoC Renewal Ranking Report'!G45<>\"\",'CoC Renewal Ranking Report'!G45,\"\")","v":"PH"},{"$f":"IF('CoC Renewal Ranking Report'!BV45<>\"\",'CoC Renewal Ranking Report'!BV45,\"\")","v":10}]
[{"$f":"IF('CoC Renewal Ranking Report'!$D46<>\"\",'CoC Renewal Ranking Report'!$D46,\"\")","v":"Northern Cambria Community Development Corporation"},{"$f":"IF('CoC Renewal Ranking Report'!E46<>\"\",'CoC Renewal Ranking Report'!E46,\"\")","v":"Schoolhouse Gardens"},{"$f":"IF('CoC Renewal Ranking Report'!G46<>\"\",'CoC Renewal Ranking Report'!G46,\"\")","v":"PH"},{"$f":"IF('CoC Renewal Ranking Report'!BV46<>\"\",'CoC Renewal Ranking Report'!BV46,\"\")","v":10}]
[{"$f":"IF('CoC Renewal Ranking Report'!$D47<>\"\",'CoC Renewal Ranking Report'!$D47,\"\")","v":"Northumberland County MH/MR"},{"$f":"IF('CoC Renewal Ranking Report'!E47<>\"\",'CoC Renewal Ranking Report'!E47,\"\")","v":"Sharing Support"},{"$f":"IF('CoC Renewal Ranking Report'!G47<>\"\",'CoC Renewal Ranking Report'!G47,\"\")","v":"PH"},{"$f":"IF('CoC Renewal Ranking Report'!BV47<>\"\",'CoC Renewal Ranking Report'!BV47,\"\")","v":8.8000000000000007}]
[{"$f":"IF('CoC Renewal Ranking Report'!$D48<>\"\",'CoC Renewal Ranking Report'!$D48,\"\")","v":"Resources for Human Development, Inc."},{"$f":"IF('CoC Renewal Ranking Report'!E48<>\"\",'CoC Renewal Ranking Report'!E48,\"\")","v":"Crossroads Family"},{"$f":"IF('CoC Renewal Ranking Report'!G48<>\"\",'CoC Renewal Ranking Report'!G48,\"\")","v":"PH"},{"$f":"IF('CoC Renewal Ranking Report'!BV48<>\"\",'CoC Renewal Ranking Report'!BV48,\"\")","v":10}]
[{"$f":"IF('CoC Renewal Ranking Report'!$D49<>\"\",'CoC Renewal Ranking Report'!$D49,\"\")","v":"Resources for Human Development, Inc."},{"$f":"IF('CoC Renewal Ranking Report'!E49<>\"\",'CoC Renewal Ranking Report'!E49,\"\")","v":"Crossroads Housing Bonus"},{"$f":"IF('CoC Renewal Ranking Report'!G49<>\"\",'CoC Renewal Ranking Report'!G49,\"\")","v":"PH"},{"$f":"IF('CoC Renewal Ranking Report'!BV49<>\"\",'CoC Renewal Ranking Report'!BV49,\"\")","v":10}]
[{"$f":"IF('CoC Renewal Ranking Report'!$D50<>\"\",'CoC Renewal Ranking Report'!$D50,\"\")","v":"Resources for Human Development, Inc."},{"$f":"IF('CoC Renewal Ranking Report'!E50<>\"\",'CoC Renewal Ranking Report'!E50,\"\")","v":"Crossroads Individual"},{"$f":"IF('CoC Renewal Ranking Report'!G50<>\"\",'CoC Renewal Ranking Report'!G50,\"\")","v":"PH"},{"$f":"IF('CoC Renewal Ranking Report'!BV50<>\"\",'CoC Renewal Ranking Report'!BV50,\"\")","v":10}]
[{"$f":"IF('CoC Renewal Ranking Report'!$D51<>\"\",'CoC Renewal Ranking Report'!$D51,\"\")","v":"Resources for Human Development, Inc."},{"$f":"IF('CoC Renewal Ranking Report'!E51<>\"\",'CoC Renewal Ranking Report'!E51,\"\")","v":"Crossroads Schuylkill Co. Permanent Supportive Housing"},{"$f":"IF('CoC Renewal Ranking Report'!G51<>\"\",'CoC Renewal Ranking Report'!G51,\"\")","v":"PH"},{"$f":"IF('CoC Renewal Ranking Report'!BV51<>\"\",'CoC Renewal Ranking Report'!BV51,\"\")","v":10}]
[{"$f":"IF('CoC Renewal Ranking Report'!$D52<>\"\",'CoC Renewal Ranking Report'!$D52,\"\")","v":"Resources for Human Development, Inc."},{"$f":"IF('CoC Renewal Ranking Report'!E52<>\"\",'CoC Renewal Ranking Report'!E52,\"\")","v":"LV ACT Housing Supports"},{"$f":"IF('CoC Renewal Ranking Report'!G52<>\"\",'CoC Renewal Ranking Report'!G52,\"\")","v":"PH"},{"$f":"IF('CoC Renewal Ranking Report'!BV52<>\"\",'CoC Renewal Ranking Report'!BV52,\"\")","v":11}]
[{"$f":"IF('CoC Renewal Ranking Report'!$D53<>\"\",'CoC Renewal Ranking Report'!$D53,\"\")","v":"Tableland Services, Inc."},{"$f":"IF('CoC Renewal Ranking Report'!E53<>\"\",'CoC Renewal Ranking Report'!E53,\"\")","v":"Permanent Housing with Disabilities (SHP)"},{"$f":"IF('CoC Renewal Ranking Report'!G53<>\"\",'CoC Renewal Ranking Report'!G53,\"\")","v":"PH"},{"$f":"IF('CoC Renewal Ranking Report'!BV53<>\"\",'CoC Renewal Ranking Report'!BV53,\"\")","v":10}]
[{"$f":"IF('CoC Renewal Ranking Report'!$D54<>\"\",'CoC Renewal Ranking Report'!$D54,\"\")","v":"Tableland Services, Inc."},{"$f":"IF('CoC Renewal Ranking Report'!E54<>\"\",'CoC Renewal Ranking Report'!E54,\"\")","v":"Permanent Supportive Housing CH Project"},{"$f":"IF('CoC Renewal Ranking Report'!G54<>\"\",'CoC Renewal Ranking Report'!G54,\"\")","v":"PH"},{"$f":"IF('CoC Renewal Ranking Report'!BV54<>\"\",'CoC Renewal Ranking Report'!BV54,\"\")","v":10}]
[{"$f":"IF('CoC Renewal Ranking Report'!$D55<>\"\",'CoC Renewal Ranking Report'!$D55,\"\")","v":"The Salvation Army, a New York Corporation"},{"$f":"IF('CoC Renewal Ranking Report'!E55<>\"\",'CoC Renewal Ranking Report'!E55,\"\")","v":"Allentown Hospitality House Permanent Housing Program"},{"$f":"IF('CoC Renewal Ranking Report'!G55<>\"\",'CoC Renewal Ranking Report'!G55,\"\")","v":"PH"},{"$f":"IF('CoC Renewal Ranking Report'!BV55<>\"\",'CoC Renewal Ranking Report'!BV55,\"\")","v":9.6999999999999993}]
[{"$f":"IF('CoC Renewal Ranking Report'!$D56<>\"\",'CoC Renewal Ranking Report'!$D56,\"\")","v":"The Salvation Army, a New York Corporation"},{"$f":"IF('CoC Renewal Ranking Report'!E56<>\"\",'CoC Renewal Ranking Report'!E56,\"\")","v":"Salvation Army Carlisle PH Project"},{"$f":"IF('CoC Renewal Ranking Report'!G56<>\"\",'CoC Renewal Ranking Report'!G56,\"\")","v":"PH"},{"$f":"IF('CoC Renewal Ranking Report'!BV56<>\"\",'CoC Renewal Ranking Report'!BV56,\"\")","v":10}]
[{"$f":"IF('CoC Renewal Ranking Report'!$D57<>\"\",'CoC Renewal Ranking Report'!$D57,\"\")","v":"Union-Snyder Community Action Agency"},{"$f":"IF('CoC Renewal Ranking Report'!E57<>\"\",'CoC Renewal Ranking Report'!E57,\"\")","v":"Union-Snyder Rapid ReHousing Program"},{"$f":"IF('CoC Renewal Ranking Report'!G57<>\"\",'CoC Renewal Ranking Report'!G57,\"\")","v":"PH-RRH"},{"$f":"IF('CoC Renewal Ranking Report'!BV57<>\"\",'CoC Renewal Ranking Report'!BV57,\"\")","v":10}]
[{"$f":"IF('CoC Renewal Ranking Report'!$D58<>\"\",'CoC Renewal Ranking Report'!$D58,\"\")","v":"United Christian Ministries"},{"$f":"IF('CoC Renewal Ranking Report'!E58<>\"\",'CoC Renewal Ranking Report'!E58,\"\")","v":"Kenner Garnet Renewal 2016"},{"$f":"IF('CoC Renewal Ranking Report'!G58<>\"\",'CoC Renewal Ranking Report'!G58,\"\")","v":"PH"},{"$f":"IF('CoC Renewal Ranking Report'!BV58<>\"\",'CoC Renewal Ranking Report'!BV58,\"\")","v":10}]
[{"$f":"IF('CoC Renewal Ranking Report'!$D59<>\"\",'CoC Renewal Ranking Report'!$D59,\"\")","v":"Valley Housing Development Corporation "},{"$f":"IF('CoC Renewal Ranking Report'!E59<>\"\",'CoC Renewal Ranking Report'!E59,\"\")","v":"VHDC SHP #2 2016"},{"$f":"IF('CoC Renewal Ranking Report'!G59<>\"\",'CoC Renewal Ranking Report'!G59,\"\")","v":"PH"},{"$f":"IF('CoC Renewal Ranking Report'!BV59<>\"\",'CoC Renewal Ranking Report'!BV59,\"\")","v":6.3}]
[{"$f":"IF('CoC Renewal Ranking Report'!$D60<>\"\",'CoC Renewal Ranking Report'!$D60,\"\")","v":"Valley Housing Development Corporation "},{"$f":"IF('CoC Renewal Ranking Report'!E60<>\"\",'CoC Renewal Ranking Report'!E60,\"\")","v":"VHDC SHP #3 2016"},{"$f":"IF('CoC Renewal Ranking Report'!G60<>\"\",'CoC Renewal Ranking Report'!G60,\"\")","v":"PH"},{"$f":"IF('CoC Renewal Ranking Report'!BV60<>\"\",'CoC Renewal Ranking Report'!BV60,\"\")","v":6.3}]
[{"$f":"IF('CoC Renewal Ranking Report'!$D61<>\"\",'CoC Renewal Ranking Report'!$D61,\"\")","v":"Valley Housing Development Corporation "},{"$f":"IF('CoC Renewal Ranking Report'!E61<>\"\",'CoC Renewal Ranking Report'!E61,\"\")","v":"VHDC SHP #4 2016"},{"$f":"IF('CoC Renewal Ranking Report'!G61<>\"\",'CoC Renewal Ranking Report'!G61,\"\")","v":"PH"},{"$f":"IF('CoC Renewal Ranking Report'!BV61<>\"\",'CoC Renewal Ranking Report'!BV61,\"\")","v":6.3}]
[{"$f":"IF('CoC Renewal Ranking Report'!$D62<>\"\",'CoC Renewal Ranking Report'!$D62,\"\")","v":""},{"$f":"IF('CoC Renewal Ranking Report'!E62<>\"\",'CoC Renewal Ranking Report'!E62,\"\")","v":""},{"$f":"IF('CoC Renewal Ranking Report'!G62<>\"\",'CoC Renewal Ranking Report'!G62,\"\")","v":""},{"$f":"IF('CoC Renewal Ranking Report'!BV62<>\"\",'CoC Renewal Ranking Report'!BV62,\"\")","v":""}]
[{"$f":"IF('CoC Renewal Ranking Report'!$D63<>\"\",'CoC Renewal Ranking Report'!$D63,\"\")","v":""},{"$f":"IF('CoC Renewal Ranking Report'!E63<>\"\",'CoC Renewal Ranking Report'!E63,\"\")","v":""},{"$f":"IF('CoC Renewal Ranking Report'!G63<>\"\",'CoC Renewal Ranking Report'!G63,\"\")","v":""},{"$f":"IF('CoC Renewal Ranking Report'!BV63<>\"\",'CoC Renewal Ranking Report'!BV63,\"\")","v":""}]
[{"$f":"IF('CoC Renewal Ranking Report'!$D64<>\"\",'CoC Renewal Ranking Report'!$D64,\"\")","v":""},{"$f":"IF('CoC Renewal Ranking Report'!E64<>\"\",'CoC Renewal Ranking Report'!E64,\"\")","v":""},{"$f":"IF('CoC Renewal Ranking Report'!G64<>\"\",'CoC Renewal Ranking Report'!G64,\"\")","v":""},{"$f":"IF('CoC Renewal Ranking Report'!BV64<>\"\",'CoC Renewal Ranking Report'!BV64,\"\")","v":""}]
[{"$f":"IF('CoC Renewal Ranking Report'!$D65<>\"\",'CoC Renewal Ranking Report'!$D65,\"\")","v":""},{"$f":"IF('CoC Renewal Ranking Report'!E65<>\"\",'CoC Renewal Ranking Report'!E65,\"\")","v":""},{"$f":"IF('CoC Renewal Ranking Report'!G65<>\"\",'CoC Renewal Ranking Report'!G65,\"\")","v":""},{"$f":"IF('CoC Renewal Ranking Report'!BV65<>\"\",'CoC Renewal Ranking Report'!BV65,\"\")","v":""}]
[{"$f":"IF('CoC Renewal Ranking Report'!$D66<>\"\",'CoC Renewal Ranking Report'!$D66,\"\")","v":""},{"$f":"IF('CoC Renewal Ranking Report'!E66<>\"\",'CoC Renewal Ranking Report'!E66,\"\")","v":""},{"$f":"IF('CoC Renewal Ranking Report'!G66<>\"\",'CoC Renewal Ranking Report'!G66,\"\")","v":""},{"$f":"IF('CoC Renewal Ranking Report'!BV66<>\"\",'CoC Renewal Ranking Report'!BV66,\"\")","v":""}]
[{"$f":"IF('CoC Renewal Ranking Report'!$D67<>\"\",'CoC Renewal Ranking Report'!$D67,\"\")","v":""},{"$f":"IF('CoC Renewal Ranking Report'!E67<>\"\",'CoC Renewal Ranking Report'!E67,\"\")","v":""},{"$f":"IF('CoC Renewal Ranking Report'!G67<>\"\",'CoC Renewal Ranking Report'!G67,\"\")","v":""},{"$f":"IF('CoC Renewal Ranking Report'!BV67<>\"\",'CoC Renewal Ranking Report'!BV67,\"\")","v":""}]
[{"$f":"IF('CoC Renewal Ranking Report'!$D68<>\"\",'CoC Renewal Ranking Report'!$D68,\"\")","v":""},{"$f":"IF('CoC Renewal Ranking Report'!E68<>\"\",'CoC Renewal Ranking Report'!E68,\"\")","v":""},{"$f":"IF('CoC Renewal Ranking Report'!G68<>\"\",'CoC Renewal Ranking Report'!G68,\"\")","v":""},{"$f":"IF('CoC Renewal Ranking Report'!BV68<>\"\",'CoC Renewal Ranking Report'!BV68,\"\")","v":""}]
[{"$f":"IF('CoC Renewal Ranking Report'!$D69<>\"\",'CoC Renewal Ranking Report'!$D69,\"\")","v":""},{"$f":"IF('CoC Renewal Ranking Report'!E69<>\"\",'CoC Renewal Ranking Report'!E69,\"\")","v":""},{"$f":"IF('CoC Renewal Ranking Report'!G69<>\"\",'CoC Renewal Ranking Report'!G69,\"\")","v":""},{"$f":"IF('CoC Renewal Ranking Report'!BV69<>\"\",'CoC Renewal Ranking Report'!BV69,\"\")","v":""}]
[{"$f":"IF('CoC Renewal Ranking Report'!$D70<>\"\",'CoC Renewal Ranking Report'!$D70,\"\")","v":""},{"$f":"IF('CoC Renewal Ranking Report'!E70<>\"\",'CoC Renewal Ranking Report'!E70,\"\")","v":""},{"$f":"IF('CoC Renewal Ranking Report'!G70<>\"\",'CoC Renewal Ranking Report'!G70,\"\")","v":""},{"$f":"IF('CoC Renewal Ranking Report'!BV70<>\"\",'CoC Renewal Ranking Report'!BV70,\"\")","v":""}]
[{"$f":"IF('CoC Renewal Ranking Report'!$D71<>\"\",'CoC Renewal Ranking Report'!$D71,\"\")","v":""},{"$f":"IF('CoC Renewal Ranking Report'!E71<>\"\",'CoC Renewal Ranking Report'!E71,\"\")","v":""},{"$f":"IF('CoC Renewal Ranking Report'!G71<>\"\",'CoC Renewal Ranking Report'!G71,\"\")","v":""},{"$f":"IF('CoC Renewal Ranking Report'!BV71<>\"\",'CoC Renewal Ranking Report'!BV71,\"\")","v":""}]
[{"$f":"IF('CoC Renewal Ranking Report'!$D72<>\"\",'CoC Renewal Ranking Report'!$D72,\"\")","v":""},{"$f":"IF('CoC Renewal Ranking Report'!E72<>\"\",'CoC Renewal Ranking Report'!E72,\"\")","v":""},{"$f":"IF('CoC Renewal Ranking Report'!G72<>\"\",'CoC Renewal Ranking Report'!G72,\"\")","v":""},{"$f":"IF('CoC Renewal Ranking Report'!BV72<>\"\",'CoC Renewal Ranking Report'!BV72,\"\")","v":""}]
[{"$f":"IF('CoC Renewal Ranking Report'!$D73<>\"\",'CoC Renewal Ranking Report'!$D73,\"\")","v":""},{"$f":"IF('CoC Renewal Ranking Report'!E73<>\"\",'CoC Renewal Ranking Report'!E73,\"\")","v":""},{"$f":"IF('CoC Renewal Ranking Report'!G73<>\"\",'CoC Renewal Ranking Report'!G73,\"\")","v":""},{"$f":"IF('CoC Renewal Ranking Report'!BV73<>\"\",'CoC Renewal Ranking Report'!BV73,\"\")","v":""}]
[{"$f":"IF('CoC Renewal Ranking Report'!$D74<>\"\",'CoC Renewal Ranking Report'!$D74,\"\")","v":""},{"$f":"IF('CoC Renewal Ranking Report'!E74<>\"\",'CoC Renewal Ranking Report'!E74,\"\")","v":""},{"$f":"IF('CoC Renewal Ranking Report'!G74<>\"\",'CoC Renewal Ranking Report'!G74,\"\")","v":""},{"$f":"IF('CoC Renewal Ranking Report'!BV74<>\"\",'CoC Renewal Ranking Report'!BV74,\"\")","v":""}]
[{"$f":"IF('CoC Renewal Ranking Report'!$D75<>\"\",'CoC Renewal Ranking Report'!$D75,\"\")","v":""},{"$f":"IF('CoC Renewal Ranking Report'!E75<>\"\",'CoC Renewal Ranking Report'!E75,\"\")","v":""},{"$f":"IF('CoC Renewal Ranking Report'!G75<>\"\",'CoC Renewal Ranking Report'!G75,\"\")","v":""},{"$f":"IF('CoC Renewal Ranking Report'!BV75<>\"\",'CoC Renewal Ranking Report'!BV75,\"\")","v":""}]
[{"$f":"IF('CoC Renewal Ranking Report'!$D76<>\"\",'CoC Renewal Ranking Report'!$D76,\"\")","v":""},{"$f":"IF('CoC Renewal Ranking Report'!E76<>\"\",'CoC Renewal Ranking Report'!E76,\"\")","v":""},{"$f":"IF('CoC Renewal Ranking Report'!G76<>\"\",'CoC Renewal Ranking Report'!G76,\"\")","v":""},{"$f":"IF('CoC Renewal Ranking Report'!BV76<>\"\",'CoC Renewal Ranking Report'!BV76,\"\")","v":""}]
[{"$f":"IF('CoC Renewal Ranking Report'!$D77<>\"\",'CoC Renewal Ranking Report'!$D77,\"\")","v":""},{"$f":"IF('CoC Renewal Ranking Report'!E77<>\"\",'CoC Renewal Ranking Report'!E77,\"\")","v":""},{"$f":"IF('CoC Renewal Ranking Report'!G77<>\"\",'CoC Renewal Ranking Report'!G77,\"\")","v":""},{"$f":"IF('CoC Renewal Ranking Report'!BV77<>\"\",'CoC Renewal Ranking Report'!BV77,\"\")","v":""}]
[{"$f":"IF('CoC Renewal Ranking Report'!$D78<>\"\",'CoC Renewal Ranking Report'!$D78,\"\")","v":""},{"$f":"IF('CoC Renewal Ranking Report'!E78<>\"\",'CoC Renewal Ranking Report'!E78,\"\")","v":""},{"$f":"IF('CoC Renewal Ranking Report'!G78<>\"\",'CoC Renewal Ranking Report'!G78,\"\")","v":""},{"$f":"IF('CoC Renewal Ranking Report'!BV78<>\"\",'CoC Renewal Ranking Report'!BV78,\"\")","v":""}]
[{"$f":"IF('CoC Renewal Ranking Report'!$D79<>\"\",'CoC Renewal Ranking Report'!$D79,\"\")","v":""},{"$f":"IF('CoC Renewal Ranking Report'!E79<>\"\",'CoC Renewal Ranking Report'!E79,\"\")","v":""},{"$f":"IF('CoC Renewal Ranking Report'!G79<>\"\",'CoC Renewal Ranking Report'!G79,\"\")","v":""},{"$f":"IF('CoC Renewal Ranking Report'!BV79<>\"\",'CoC Renewal Ranking Report'!BV79,\"\")","v":""}]
[{"$f":"IF('CoC Renewal Ranking Report'!$D80<>\"\",'CoC Renewal Ranking Report'!$D80,\"\")","v":""},{"$f":"IF('CoC Renewal Ranking Report'!E80<>\"\",'CoC Renewal Ranking Report'!E80,\"\")","v":""},{"$f":"IF('CoC Renewal Ranking Report'!G80<>\"\",'CoC Renewal Ranking Report'!G80,\"\")","v":""},{"$f":"IF('CoC Renewal Ranking Report'!BV80<>\"\",'CoC Renewal Ranking Report'!BV80,\"\")","v":""}]
[{"$f":"IF('CoC Renewal Ranking Report'!$D81<>\"\",'CoC Renewal Ranking Report'!$D81,\"\")","v":""},{"$f":"IF('CoC Renewal Ranking Report'!E81<>\"\",'CoC Renewal Ranking Report'!E81,\"\")","v":""},{"$f":"IF('CoC Renewal Ranking Report'!G81<>\"\",'CoC Renewal Ranking Report'!G81,\"\")","v":""},{"$f":"IF('CoC Renewal Ranking Report'!BV81<>\"\",'CoC Renewal Ranking Report'!BV81,\"\")","v":""}]
[{"$f":"IF('CoC Renewal Ranking Report'!$D82<>\"\",'CoC Renewal Ranking Report'!$D82,\"\")","v":""},{"$f":"IF('CoC Renewal Ranking Report'!E82<>\"\",'CoC Renewal Ranking Report'!E82,\"\")","v":""},{"$f":"IF('CoC Renewal Ranking Report'!G82<>\"\",'CoC Renewal Ranking Report'!G82,\"\")","v":""},{"$f":"IF('CoC Renewal Ranking Report'!BV82<>\"\",'CoC Renewal Ranking Report'!BV82,\"\")","v":""}]
[{"$f":"IF('CoC Renewal Ranking Report'!$D83<>\"\",'CoC Renewal Ranking Report'!$D83,\"\")","v":""},{"$f":"IF('CoC Renewal Ranking Report'!E83<>\"\",'CoC Renewal Ranking Report'!E83,\"\")","v":""},{"$f":"IF('CoC Renewal Ranking Report'!G83<>\"\",'CoC Renewal Ranking Report'!G83,\"\")","v":""},{"$f":"IF('CoC Renewal Ranking Report'!BV83<>\"\",'CoC Renewal Ranking Report'!BV83,\"\")","v":""}]
[{"$f":"IF('CoC Renewal Ranking Report'!$D84<>\"\",'CoC Renewal Ranking Report'!$D84,\"\")","v":""},{"$f":"IF('CoC Renewal Ranking Report'!E84<>\"\",'CoC Renewal Ranking Report'!E84,\"\")","v":""},{"$f":"IF('CoC Renewal Ranking Report'!G84<>\"\",'CoC Renewal Ranking Report'!G84,\"\")","v":""},{"$f":"IF('CoC Renewal Ranking Report'!BV84<>\"\",'CoC Renewal Ranking Report'!BV84,\"\")","v":""}]
[{"$f":"IF('CoC Renewal Ranking Report'!$D85<>\"\",'CoC Renewal Ranking Report'!$D85,\"\")","v":""},{"$f":"IF('CoC Renewal Ranking Report'!E85<>\"\",'CoC Renewal Ranking Report'!E85,\"\")","v":""},{"$f":"IF('CoC Renewal Ranking Report'!G85<>\"\",'CoC Renewal Ranking Report'!G85,\"\")","v":""},{"$f":"IF('CoC Renewal Ranking Report'!BV85<>\"\",'CoC Renewal Ranking Report'!BV85,\"\")","v":""}]
[{"$f":"IF('CoC Renewal Ranking Report'!$D86<>\"\",'CoC Renewal Ranking Report'!$D86,\"\")","v":""},{"$f":"IF('CoC Renewal Ranking Report'!E86<>\"\",'CoC Renewal Ranking Report'!E86,\"\")","v":""},{"$f":"IF('CoC Renewal Ranking Report'!G86<>\"\",'CoC Renewal Ranking Report'!G86,\"\")","v":""},{"$f":"IF('CoC Renewal Ranking Report'!BV86<>\"\",'CoC Renewal Ranking Report'!BV86,\"\")","v":""}]
[{"$f":"IF('CoC Renewal Ranking Report'!$D87<>\"\",'CoC Renewal Ranking Report'!$D87,\"\")","v":""},{"$f":"IF('CoC Renewal Ranking Report'!E87<>\"\",'CoC Renewal Ranking Report'!E87,\"\")","v":""},{"$f":"IF('CoC Renewal Ranking Report'!G87<>\"\",'CoC Renewal Ranking Report'!G87,\"\")","v":""},{"$f":"IF('CoC Renewal Ranking Report'!BV87<>\"\",'CoC Renewal Ranking Report'!BV87,\"\")","v":""}]
[{"$f":"IF('CoC Renewal Ranking Report'!$D88<>\"\",'CoC Renewal Ranking Report'!$D88,\"\")","v":""},{"$f":"IF('CoC Renewal Ranking Report'!E88<>\"\",'CoC Renewal Ranking Report'!E88,\"\")","v":""},{"$f":"IF('CoC Renewal Ranking Report'!G88<>\"\",'CoC Renewal Ranking Report'!G88,\"\")","v":""},{"$f":"IF('CoC Renewal Ranking Report'!BV88<>\"\",'CoC Renewal Ranking Report'!BV88,\"\")","v":""}]
[{"$f":"IF('CoC Renewal Ranking Report'!$D89<>\"\",'CoC Renewal Ranking Report'!$D89,\"\")","v":""},{"$f":"IF('CoC Renewal Ranking Report'!E89<>\"\",'CoC Renewal Ranking Report'!E89,\"\")","v":""},{"$f":"IF('CoC Renewal Ranking Report'!G89<>\"\",'CoC Renewal Ranking Report'!G89,\"\")","v":""},{"$f":"IF('CoC Renewal Ranking Report'!BV89<>\"\",'CoC Renewal Ranking Report'!BV89,\"\")","v":""}]
[{"$f":"IF('CoC Renewal Ranking Report'!$D90<>\"\",'CoC Renewal Ranking Report'!$D90,\"\")","v":""},{"$f":"IF('CoC Renewal Ranking Report'!E90<>\"\",'CoC Renewal Ranking Report'!E90,\"\")","v":""},{"$f":"IF('CoC Renewal Ranking Report'!G90<>\"\",'CoC Renewal Ranking Report'!G90,\"\")","v":""},{"$f":"IF('CoC Renewal Ranking Report'!BV90<>\"\",'CoC Renewal Ranking Report'!BV90,\"\")","v":""}]
[{"$f":"IF('CoC Renewal Ranking Report'!$D91<>\"\",'CoC Renewal Ranking Report'!$D91,\"\")","v":""},{"$f":"IF('CoC Renewal Ranking Report'!E91<>\"\",'CoC Renewal Ranking Report'!E91,\"\")","v":""},{"$f":"IF('CoC Renewal Ranking Report'!G91<>\"\",'CoC Renewal Ranking Report'!G91,\"\")","v":""},{"$f":"IF('CoC Renewal Ranking Report'!BV91<>\"\",'CoC Renewal Ranking Report'!BV91,\"\")","v":""}]
[{"$f":"IF('CoC Renewal Ranking Report'!$D92<>\"\",'CoC Renewal Ranking Report'!$D92,\"\")","v":""},{"$f":"IF('CoC Renewal Ranking Report'!E92<>\"\",'CoC Renewal Ranking Report'!E92,\"\")","v":""},{"$f":"IF('CoC Renewal Ranking Report'!G92<>\"\",'CoC Renewal Ranking Report'!G92,\"\")","v":""},{"$f":"IF('CoC Renewal Ranking Report'!BV92<>\"\",'CoC Renewal Ranking Report'!BV92,\"\")","v":""}]
[{"$f":"IF('CoC Renewal Ranking Report'!$D93<>\"\",'CoC Renewal Ranking Report'!$D93,\"\")","v":""},{"$f":"IF('CoC Renewal Ranking Report'!E93<>\"\",'CoC Renewal Ranking Report'!E93,\"\")","v":""},{"$f":"IF('CoC Renewal Ranking Report'!G93<>\"\",'CoC Renewal Ranking Report'!G93,\"\")","v":""},{"$f":"IF('CoC Renewal Ranking Report'!BV93<>\"\",'CoC Renewal Ranking Report'!BV93,\"\")","v":""}]
[{"$f":"IF('CoC Renewal Ranking Report'!$D94<>\"\",'CoC Renewal Ranking Report'!$D94,\"\")","v":""},{"$f":"IF('CoC Renewal Ranking Report'!E94<>\"\",'CoC Renewal Ranking Report'!E94,\"\")","v":""},{"$f":"IF('CoC Renewal Ranking Report'!G94<>\"\",'CoC Renewal Ranking Report'!G94,\"\")","v":""},{"$f":"IF('CoC Renewal Ranking Report'!BV94<>\"\",'CoC Renewal Ranking Report'!BV94,\"\")","v":""}]
[{"$f":"IF('CoC Renewal Ranking Report'!$D95<>\"\",'CoC Renewal Ranking Report'!$D95,\"\")","v":""},{"$f":"IF('CoC Renewal Ranking Report'!E95<>\"\",'CoC Renewal Ranking Report'!E95,\"\")","v":""},{"$f":"IF('CoC Renewal Ranking Report'!G95<>\"\",'CoC Renewal Ranking Report'!G95,\"\")","v":""},{"$f":"IF('CoC Renewal Ranking Report'!BV95<>\"\",'CoC Renewal Ranking Report'!BV95,\"\")","v":""}]
[{"$f":"IF('CoC Renewal Ranking Report'!$D96<>\"\",'CoC Renewal Ranking Report'!$D96,\"\")","v":""},{"$f":"IF('CoC Renewal Ranking Report'!E96<>\"\",'CoC Renewal Ranking Report'!E96,\"\")","v":""},{"$f":"IF('CoC Renewal Ranking Report'!G96<>\"\",'CoC Renewal Ranking Report'!G96,\"\")","v":""},{"$f":"IF('CoC Renewal Ranking Report'!BV96<>\"\",'CoC Renewal Ranking Report'!BV96,\"\")","v":""}]
[{"$f":"IF('CoC Renewal Ranking Report'!$D97<>\"\",'CoC Renewal Ranking Report'!$D97,\"\")","v":""},{"$f":"IF('CoC Renewal Ranking Report'!E97<>\"\",'CoC Renewal Ranking Report'!E97,\"\")","v":""},{"$f":"IF('CoC Renewal Ranking Report'!G97<>\"\",'CoC Renewal Ranking Report'!G97,\"\")","v":""},{"$f":"IF('CoC Renewal Ranking Report'!BV97<>\"\",'CoC Renewal Ranking Report'!BV97,\"\")","v":""}]
[{"$f":"IF('CoC Renewal Ranking Report'!$D98<>\"\",'CoC Renewal Ranking Report'!$D98,\"\")","v":""},{"$f":"IF('CoC Renewal Ranking Report'!E98<>\"\",'CoC Renewal Ranking Report'!E98,\"\")","v":""},{"$f":"IF('CoC Renewal Ranking Report'!G98<>\"\",'CoC Renewal Ranking Report'!G98,\"\")","v":""},{"$f":"IF('CoC Renewal Ranking Report'!BV98<>\"\",'CoC Renewal Ranking Report'!BV98,\"\")","v":""}]
[{"$f":"IF('CoC Renewal Ranking Report'!$D99<>\"\",'CoC Renewal Ranking Report'!$D99,\"\")","v":""},{"$f":"IF('CoC Renewal Ranking Report'!E99<>\"\",'CoC Renewal Ranking Report'!E99,\"\")","v":""},{"$f":"IF('CoC Renewal Ranking Report'!G99<>\"\",'CoC Renewal Ranking Report'!G99,\"\")","v":""},{"$f":"IF('CoC Renewal Ranking Report'!BV99<>\"\",'CoC Renewal Ranking Report'!BV99,\"\")","v":""}]
[{"$f":"IF('CoC Renewal Ranking Report'!$D100<>\"\",'CoC Renewal Ranking Report'!$D100,\"\")","v":""},{"$f":"IF('CoC Renewal Ranking Report'!E100<>\"\",'CoC Renewal Ranking Report'!E100,\"\")","v":""},{"$f":"IF('CoC Renewal Ranking Report'!G100<>\"\",'CoC Renewal Ranking Report'!G100,\"\")","v":""},{"$f":"IF('CoC Renewal Ranking Report'!BV100<>\"\",'CoC Renewal Ranking Report'!BV100,\"\")","v":""}]
[{"$f":"IF('CoC Renewal Ranking Report'!$D101<>\"\",'CoC Renewal Ranking Report'!$D101,\"\")","v":""},{"$f":"IF('CoC Renewal Ranking Report'!E101<>\"\",'CoC Renewal Ranking Report'!E101,\"\")","v":""},{"$f":"IF('CoC Renewal Ranking Report'!G101<>\"\",'CoC Renewal Ranking Report'!G101,\"\")","v":""},{"$f":"IF('CoC Renewal Ranking Report'!BV101<>\"\",'CoC Renewal Ranking Report'!BV101,\"\")","v":""}]
[{"$f":"IF('CoC Renewal Ranking Report'!$D102<>\"\",'CoC Renewal Ranking Report'!$D102,\"\")","v":""},{"$f":"IF('CoC Renewal Ranking Report'!E102<>\"\",'CoC Renewal Ranking Report'!E102,\"\")","v":""},{"$f":"IF('CoC Renewal Ranking Report'!G102<>\"\",'CoC Renewal Ranking Report'!G102,\"\")","v":""},{"$f":"IF('CoC Renewal Ranking Report'!BV102<>\"\",'CoC Renewal Ranking Report'!BV102,\"\")","v":""}]
[{"$f":"IF('CoC Renewal Ranking Report'!$D103<>\"\",'CoC Renewal Ranking Report'!$D103,\"\")","v":""},{"$f":"IF('CoC Renewal Ranking Report'!E103<>\"\",'CoC Renewal Ranking Report'!E103,\"\")","v":""},{"$f":"IF('CoC Renewal Ranking Report'!G103<>\"\",'CoC Renewal Ranking Report'!G103,\"\")","v":""},{"$f":"IF('CoC Renewal Ranking Report'!BV103<>\"\",'CoC Renewal Ranking Report'!BV103,\"\")","v":""}]

{"sheet":"CoC Meetings","index":23,"n_rows":102,"n_cols":4,"rows_kept":102,"cut":false,"hidden":false,"merged":[[2,1,3,1]]}
[null,"CoC Meetings"]
[null,"Criteria"]
[null,"Points manually provided based on attendence to CoC general meetings; 2 points for each meeting attended (out of 2)"]
[]
[]
[]
["Agency Name","Project Name","Project Type","Score"]
[{"$f":"IF('CoC Renewal Ranking Report'!$D9<>\"\",'CoC Renewal Ranking Report'!$D9,\"\")","v":""},{"$f":"IF('CoC Renewal Ranking Report'!E9<>\"\",'CoC Renewal Ranking Report'!E9,\"\")","v":""},{"$f":"IF('CoC Renewal Ranking Report'!G9<>\"\",'CoC Renewal Ranking Report'!G9,\"\")","v":""},{"$f":"IF('CoC Renewal Ranking Report'!BW9<>\"\",'CoC Renewal Ranking Report'!BW9,\"\")","v":""}]
[{"$f":"IF('CoC Renewal Ranking Report'!$D10<>\"\",'CoC Renewal Ranking Report'!$D10,\"\")","v":"Blair County Community Action Program"},{"$f":"IF('CoC Renewal Ranking Report'!E10<>\"\",'CoC Renewal Ranking Report'!E10,\"\")","v":"Rapid Re-Housing"},{"$f":"IF('CoC Renewal Ranking Report'!G10<>\"\",'CoC Renewal Ranking Report'!G10,\"\")","v":"PH-RRH"},{"$f":"IF('CoC Renewal Ranking Report'!BW10<>\"\",'CoC Renewal Ranking Report'!BW10,\"\")","v":4}]
[{"$f":"IF('CoC Renewal Ranking Report'!$D11<>\"\",'CoC Renewal Ranking Report'!$D11,\"\")","v":"Cambria County"},{"$f":"IF('CoC Renewal Ranking Report'!E11<>\"\",'CoC Renewal Ranking Report'!E11,\"\")","v":"Cambria County Comprehensive Housing Program"},{"$f":"IF('CoC Renewal Ranking Report'!G11<>\"\",'CoC Renewal Ranking Report'!G11,\"\")","v":"PH"},{"$f":"IF('CoC Renewal Ranking Report'!BW11<>\"\",'CoC Renewal Ranking Report'!BW11,\"\")","v":1}]
[{"$f":"IF('CoC Renewal Ranking Report'!$D12<>\"\",'CoC Renewal Ranking Report'!$D12,\"\")","v":"Catholic Charities of the Diocese of Allentown"},{"$f":"IF('CoC Renewal Ranking Report'!E12<>\"\",'CoC Renewal Ranking Report'!E12,\"\")","v":"Catholic Charities Allentown Permanent Housing Program"},{"$f":"IF('CoC Renewal Ranking Report'!G12<>\"\",'CoC Renewal Ranking Report'!G12,\"\")","v":"PH"},{"$f":"IF('CoC Renewal Ranking Report'!BW12<>\"\",'CoC Renewal Ranking Report'!BW12,\"\")","v":3}]
[{"$f":"IF('CoC Renewal Ranking Report'!$D13<>\"\",'CoC Renewal Ranking Report'!$D13,\"\")","v":"Catholic Social Services of the Diocese of Scranton, Inc."},{"$f":"IF('CoC Renewal Ranking Report'!E13<>\"\",'CoC Renewal Ranking Report'!E13,\"\")","v":"PSHP Pike County"},{"$f":"IF('CoC Renewal Ranking Report'!G13<>\"\",'CoC Renewal Ranking Report'!G13,\"\")","v":"PH"},{"$f":"IF('CoC Renewal Ranking Report'!BW13<>\"\",'CoC Renewal Ranking Report'!BW13,\"\")","v":3}]
[{"$f":"IF('CoC Renewal Ranking Report'!$D14<>\"\",'CoC Renewal Ranking Report'!$D14,\"\")","v":"Catholic Social Services of the Diocese of Scranton, Inc."},{"$f":"IF('CoC Renewal Ranking Report'!E14<>\"\",'CoC Renewal Ranking Report'!E14,\"\")","v":"Rural Permanent Supportive Housing Program"},{"$f":"IF('CoC Renewal Ranking Report'!G14<>\"\",'CoC Renewal Ranking Report'!G14,\"\")","v":"PH"},{"$f":"IF('CoC Renewal Ranking Report'!BW14<>\"\",'CoC Renewal Ranking Report'!BW14,\"\")","v":3}]
[{"$f":"IF('CoC Renewal Ranking Report'!$D15<>\"\",'CoC Renewal Ranking Report'!$D15,\"\")","v":"Catholic Social Services of the Diocese of Scranton, Inc."},{"$f":"IF('CoC Renewal Ranking Report'!E15<>\"\",'CoC Renewal Ranking Report'!E15,\"\")","v":"Susquehanna/Wayne PSHP"},{"$f":"IF('CoC Renewal Ranking Report'!G15<>\"\",'CoC Renewal Ranking Report'!G15,\"\")","v":"PH"},{"$f":"IF('CoC Renewal Ranking Report'!BW15<>\"\",'CoC Renewal Ranking Report'!BW15,\"\")","v":3}]
[{"$f":"IF('CoC Renewal Ranking Report'!$D16<>\"\",'CoC Renewal Ranking Report'!$D16,\"\")","v":"Center for Community Action"},{"$f":"IF('CoC Renewal Ranking Report'!E16<>\"\",'CoC Renewal Ranking Report'!E16,\"\")","v":"Bedford,Fulton, Huntingdon RRH"},{"$f":"IF('CoC Renewal Ranking Report'!G16<>\"\",'CoC Renewal Ranking Report'!G16,\"\")","v":"PH-RRH"},{"$f":"IF('CoC Renewal Ranking Report'!BW16<>\"\",'CoC Renewal Ranking Report'!BW16,\"\")","v":4}]
[{"$f":"IF('CoC Renewal Ranking Report'!$D17<>\"\",'CoC Renewal Ranking Report'!$D17,\"\")","v":"County of Franklin"},{"$f":"IF('CoC Renewal Ranking Report'!E17<>\"\",'CoC Renewal Ranking Report'!E17,\"\")","v":"Franklin/ Fulton S+C Project 2017"},{"$f":"IF('CoC Renewal Ranking Report'!G17<>\"\",'CoC Renewal Ranking Report'!G17,\"\")","v":"PH"},{"$f":"IF('CoC Renewal Ranking Report'!BW17<>\"\",'CoC Renewal Ranking Report'!BW17,\"\")","v":3}]
[{"$f":"IF('CoC Renewal Ranking Report'!$D18<>\"\",'CoC Renewal Ranking Report'!$D18,\"\")","v":"County of Franklin"},{"$f":"IF('CoC Renewal Ranking Report'!E18<>\"\",'CoC Renewal Ranking Report'!E18,\"\")","v":"Franklin/Fulton Homeless Assistance Project 2017"},{"$f":"IF('CoC Renewal Ranking Report'!G18<>\"\",'CoC Renewal Ranking Report'!G18,\"\")","v":"PH"},{"$f":"IF('CoC Renewal Ranking Report'!BW18<>\"\",'CoC Renewal Ranking Report'!BW18,\"\")","v":3}]
[{"$f":"IF('CoC Renewal Ranking Report'!$D19<>\"\",'CoC Renewal Ranking Report'!$D19,\"\")","v":"County of Lycoming DBA Lycoming- Clinton Joinder Board"},{"$f":"IF('CoC Renewal Ranking Report'!E19<>\"\",'CoC Renewal Ranking Report'!E19,\"\")","v":"Lycoming/Clinton Renewal #5"},{"$f":"IF('CoC Renewal Ranking Report'!G19<>\"\",'CoC Renewal Ranking Report'!G19,\"\")","v":"PH"},{"$f":"IF('CoC Renewal Ranking Report'!BW19<>\"\",'CoC Renewal Ranking Report'!BW19,\"\")","v":3}]
[{"$f":"IF('CoC Renewal Ranking Report'!$D20<>\"\",'CoC Renewal Ranking Report'!$D20,\"\")","v":"Fitzmaurice Community Services, Inc"},{"$f":"IF('CoC Renewal Ranking Report'!E20<>\"\",'CoC Renewal Ranking Report'!E20,\"\")","v":"Pathfinders"},{"$f":"IF('CoC Renewal Ranking Report'!G20<>\"\",'CoC Renewal Ranking Report'!G20,\"\")","v":"PH"},{"$f":"IF('CoC Renewal Ranking Report'!BW20<>\"\",'CoC Renewal Ranking Report'!BW20,\"\")","v":4}]
[{"$f":"IF('CoC Renewal Ranking Report'!$D21<>\"\",'CoC Renewal Ranking Report'!$D21,\"\")","v":"Home Nursing AgencyCommunity Services"},{"$f":"IF('CoC Renewal Ranking Report'!E21<>\"\",'CoC Renewal Ranking Report'!E21,\"\")","v":"Housing Assistance and Rental Program"},{"$f":"IF('CoC Renewal Ranking Report'!G21<>\"\",'CoC Renewal Ranking Report'!G21,\"\")","v":"PH"},{"$f":"IF('CoC Renewal Ranking Report'!BW21<>\"\",'CoC Renewal Ranking Report'!BW21,\"\")","v":4}]
[{"$f":"IF('CoC Renewal Ranking Report'!$D22<>\"\",'CoC Renewal Ranking Report'!$D22,\"\")","v":"Housing Authority of Monroe County"},{"$f":"IF('CoC Renewal Ranking Report'!E22<>\"\",'CoC Renewal Ranking Report'!E22,\"\")","v":"Renewal Application Shelter Plus Care MC 2016"},{"$f":"IF('CoC Renewal Ranking Report'!G22<>\"\",'CoC Renewal Ranking Report'!G22,\"\")","v":"PH"},{"$f":"IF('CoC Renewal Ranking Report'!BW22<>\"\",'CoC Renewal Ranking Report'!BW22,\"\")","v":1}]
[{"$f":"IF('CoC Renewal Ranking Report'!$D23<>\"\",'CoC Renewal Ranking Report'!$D23,\"\")","v":"Housing Authority of the County of Cumberland"},{"$f":"IF('CoC Renewal Ranking Report'!E23<>\"\",'CoC Renewal Ranking Report'!E23,\"\")","v":"Carlisle Supportive Housing Program"},{"$f":"IF('CoC Renewal Ranking Report'!G23<>\"\",'CoC Renewal Ranking Report'!G23,\"\")","v":"PH"},{"$f":"IF('CoC Renewal Ranking Report'!BW23<>\"\",'CoC Renewal Ranking Report'!BW23,\"\")","v":4}]
[{"$f":"IF('CoC Renewal Ranking Report'!$D24<>\"\",'CoC Renewal Ranking Report'!$D24,\"\")","v":"Housing Authority of the County of Cumberland"},{"$f":"IF('CoC Renewal Ranking Report'!E24<>\"\",'CoC Renewal Ranking Report'!E24,\"\")","v":"Perry County Permanent SHP"},{"$f":"IF('CoC Renewal Ranking Report'!G24<>\"\",'CoC Renewal Ranking Report'!G24,\"\")","v":"PH"},{"$f":"IF('CoC Renewal Ranking Report'!BW24<>\"\",'CoC Renewal Ranking Report'!BW24,\"\")","v":4}]
[{"$f":"IF('CoC Renewal Ranking Report'!$D25<>\"\",'CoC Renewal Ranking Report'!$D25,\"\")","v":"Housing Authority of the County of Cumberland"},{"$f":"IF('CoC Renewal Ranking Report'!E25<>\"\",'CoC Renewal Ranking Report'!E25,\"\")","v":"Perry County Transitional II"},{"$f":"IF('CoC Renewal Ranking Report'!G25<>\"\",'CoC Renewal Ranking Report'!G25,\"\")","v":"PH-RRH"},{"$f":"IF('CoC Renewal Ranking Report'!BW25<>\"\",'CoC Renewal Ranking Report'!BW25,\"\")","v":4}]
[{"$f":"IF('CoC Renewal Ranking Report'!$D26<>\"\",'CoC Renewal Ranking Report'!$D26,\"\")","v":"Housing Authority of the County of Cumberland"},{"$f":"IF('CoC Renewal Ranking Report'!E26<>\"\",'CoC Renewal Ranking Report'!E26,\"\")","v":"Perry County Veterans Program"},{"$f":"IF('CoC Renewal Ranking Report'!G26<>\"\",'CoC Renewal Ranking Report'!G26,\"\")","v":"PH"},{"$f":"IF('CoC Renewal Ranking Report'!BW26<>\"\",'CoC Renewal Ranking Report'!BW26,\"\")","v":4}]
[{"$f":"IF('CoC Renewal Ranking Report'!$D27<>\"\",'CoC Renewal Ranking Report'!$D27,\"\")","v":"Housing Authority of the County of Cumberland"},{"$f":"IF('CoC Renewal Ranking Report'!E27<>\"\",'CoC Renewal Ranking Report'!E27,\"\")","v":"Rapid Rehousing II"},{"$f":"IF('CoC Renewal Ranking Report'!G27<>\"\",'CoC Renewal Ranking Report'!G27,\"\")","v":"PH-RRH"},{"$f":"IF('CoC Renewal Ranking Report'!BW27<>\"\",'CoC Renewal Ranking Report'!BW27,\"\")","v":4}]
[{"$f":"IF('CoC Renewal Ranking Report'!$D28<>\"\",'CoC Renewal Ranking Report'!$D28,\"\")","v":"Housing Authority of the County of Cumberland"},{"$f":"IF('CoC Renewal Ranking Report'!E28<>\"\",'CoC Renewal Ranking Report'!E28,\"\")","v":"Safe Harbour SHP"},{"$f":"IF('CoC Renewal Ranking Report'!G28<>\"\",'CoC Renewal Ranking Report'!G28,\"\")","v":"PH"},{"$f":"IF('CoC Renewal Ranking Report'!BW28<>\"\",'CoC Renewal Ranking Report'!BW28,\"\")","v":4}]
[{"$f":"IF('CoC Renewal Ranking Report'!$D29<>\"\",'CoC Renewal Ranking Report'!$D29,\"\")","v":"Housing Authority of the County of Cumberland"},{"$f":"IF('CoC Renewal Ranking Report'!E29<>\"\",'CoC Renewal Ranking Report'!E29,\"\")","v":"Shelter + Care Chronic"},{"$f":"IF('CoC Renewal Ranking Report'!G29<>\"\",'CoC Renewal Ranking Report'!G29,\"\")","v":"PH"},{"$f":"IF('CoC Renewal Ranking Report'!BW29<>\"\",'CoC Renewal Ranking Report'!BW29,\"\")","v":4}]
[{"$f":"IF('CoC Renewal Ranking Report'!$D30<>\"\",'CoC Renewal Ranking Report'!$D30,\"\")","v":"Housing Authority of the County of Cumberland"},{"$f":"IF('CoC Renewal Ranking Report'!E30<>\"\",'CoC Renewal Ranking Report'!E30,\"\")","v":"Shelter + Care Non-Chronic"},{"$f":"IF('CoC Renewal Ranking Report'!G30<>\"\",'CoC Renewal Ranking Report'!G30,\"\")","v":"PH"},{"$f":"IF('CoC Renewal Ranking Report'!BW30<>\"\",'CoC Renewal Ranking Report'!BW30,\"\")","v":4}]
[{"$f":"IF('CoC Renewal Ranking Report'!$D31<>\"\",'CoC Renewal Ranking Report'!$D31,\"\")","v":"Housing Authority of the County of Cumberland"},{"$f":"IF('CoC Renewal Ranking Report'!E31<>\"\",'CoC Renewal Ranking Report'!E31,\"\")","v":"West Shore SHP I"},{"$f":"IF('CoC Renewal Ranking Report'!G31<>\"\",'CoC Renewal Ranking Report'!G31,\"\")","v":"PH"},{"$f":"IF('CoC Renewal Ranking Report'!BW31<>\"\",'CoC Renewal Ranking Report'!BW31,\"\")","v":4}]
[{"$f":"IF('CoC Renewal Ranking Report'!$D32<>\"\",'CoC Renewal Ranking Report'!$D32,\"\")","v":"Housing Authority of the County of Cumberland"},{"$f":"IF('CoC Renewal Ranking Report'!E32<>\"\",'CoC Renewal Ranking Report'!E32,\"\")","v":"West Shore SHP II"},{"$f":"IF('CoC Renewal Ranking Report'!G32<>\"\",'CoC Renewal Ranking Report'!G32,\"\")","v":"PH"},{"$f":"IF('CoC Renewal Ranking Report'!BW32<>\"\",'CoC Renewal Ranking Report'!BW32,\"\")","v":4}]
[{"$f":"IF('CoC Renewal Ranking Report'!$D33<>\"\",'CoC Renewal Ranking Report'!$D33,\"\")","v":"Housing Development Corporation of NEPA"},{"$f":"IF('CoC Renewal Ranking Report'!E33<>\"\",'CoC Renewal Ranking Report'!E33,\"\")","v":"HDC SHP 3 2016"},{"$f":"IF('CoC Renewal Ranking Report'!G33<>\"\",'CoC Renewal Ranking Report'!G33,\"\")","v":"PH"},{"$f":"IF('CoC Renewal Ranking Report'!BW33<>\"\",'CoC Renewal Ranking Report'!BW33,\"\")","v":4}]
[{"$f":"IF('CoC Renewal Ranking Report'!$D34<>\"\",'CoC Renewal Ranking Report'!$D34,\"\")","v":"Housing Development Corporation of NEPA"},{"$f":"IF('CoC Renewal Ranking Report'!E34<>\"\",'CoC Renewal Ranking Report'!E34,\"\")","v":"HDC SHP 6 2016"},{"$f":"IF('CoC Renewal Ranking Report'!G34<>\"\",'CoC Renewal Ranking Report'!G34,\"\")","v":"PH"},{"$f":"IF('CoC Renewal Ranking Report'!BW34<>\"\",'CoC Renewal Ranking Report'!BW34,\"\")","v":4}]
[{"$f":"IF('CoC Renewal Ranking Report'!$D35<>\"\",'CoC Renewal Ranking Report'!$D35,\"\")","v":"Housing Transitions, Inc."},{"$f":"IF('CoC Renewal Ranking Report'!E35<>\"\",'CoC Renewal Ranking Report'!E35,\"\")","v":"Nittany House Apartments"},{"$f":"IF('CoC Renewal Ranking Report'!G35<>\"\",'CoC Renewal Ranking Report'!G35,\"\")","v":"PH"},{"$f":"IF('CoC Renewal Ranking Report'!BW35<>\"\",'CoC Renewal Ranking Report'!BW35,\"\")","v":4}]
[{"$f":"IF('CoC Renewal Ranking Report'!$D36<>\"\",'CoC Renewal Ranking Report'!$D36,\"\")","v":"Lehigh County Conference of Churches"},{"$f":"IF('CoC Renewal Ranking Report'!E36<>\"\",'CoC Renewal Ranking Report'!E36,\"\")","v":"Outreach and Case Management for the Disabled, Chronically Homeless"},{"$f":"IF('CoC Renewal Ranking Report'!G36<>\"\",'CoC Renewal Ranking Report'!G36,\"\")","v":"SSO"},{"$f":"IF('CoC Renewal Ranking Report'!BW36<>\"\",'CoC Renewal Ranking Report'!BW36,\"\")","v":1}]
[{"$f":"IF('CoC Renewal Ranking Report'!$D37<>\"\",'CoC Renewal Ranking Report'!$D37,\"\")","v":"Lehigh County Conference of Churches"},{"$f":"IF('CoC Renewal Ranking Report'!E37<>\"\",'CoC Renewal Ranking Report'!E37,\"\")","v":"Pathways Housing"},{"$f":"IF('CoC Renewal Ranking Report'!G37<>\"\",'CoC Renewal Ranking Report'!G37,\"\")","v":"PH"},{"$f":"IF('CoC Renewal Ranking Report'!BW37<>\"\",'CoC Renewal Ranking Report'!BW37,\"\")","v":1}]
[{"$f":"IF('CoC Renewal Ranking Report'!$D38<>\"\",'CoC Renewal Ranking Report'!$D38,\"\")","v":"Lehigh County Conference of Churches"},{"$f":"IF('CoC Renewal Ranking Report'!E38<>\"\",'CoC Renewal Ranking Report'!E38,\"\")","v":"Pathways Housing 2"},{"$f":"IF('CoC Renewal Ranking Report'!G38<>\"\",'CoC Renewal Ranking Report'!G38,\"\")","v":"PH"},{"$f":"IF('CoC Renewal Ranking Report'!BW38<>\"\",'CoC Renewal Ranking Report'!BW38,\"\")","v":1}]
[{"$f":"IF('CoC Renewal Ranking Report'!$D39<>\"\",'CoC Renewal Ranking Report'!$D39,\"\")","v":"Lehigh County Conference of Churches"},{"$f":"IF('CoC Renewal Ranking Report'!E39<>\"\",'CoC Renewal Ranking Report'!E39,\"\")","v":"Pathways TBRA for Families, Youth and Veterans"},{"$f":"IF('CoC Renewal Ranking Report'!G39<>\"\",'CoC Renewal Ranking Report'!G39,\"\")","v":"PH"},{"$f":"IF('CoC Renewal Ranking Report'!BW39<>\"\",'CoC Renewal Ranking Report'!BW39,\"\")","v":1}]
[{"$f":"IF('CoC Renewal Ranking Report'!$D40<>\"\",'CoC Renewal Ranking Report'!$D40,\"\")","v":"Lehigh County Conference of Churches"},{"$f":"IF('CoC Renewal Ranking Report'!E40<>\"\",'CoC Renewal Ranking Report'!E40,\"\")","v":"Tenant-Based Rental Assistance for the Disabled,Chronically Homeless"},{"$f":"IF('CoC Renewal Ranking Report'!G40<>\"\",'CoC Renewal Ranking Report'!G40,\"\")","v":"PH"},{"$f":"IF('CoC Renewal Ranking Report'!BW40<>\"\",'CoC Renewal Ranking Report'!BW40,\"\")","v":1}]
[{"$f":"IF('CoC Renewal Ranking Report'!$D41<>\"\",'CoC Renewal Ranking Report'!$D41,\"\")","v":"Lehigh County Housing Authority"},{"$f":"IF('CoC Renewal Ranking Report'!E41<>\"\",'CoC Renewal Ranking Report'!E41,\"\")","v":"LCHA S+C 2016"},{"$f":"IF('CoC Renewal Ranking Report'!G41<>\"\",'CoC Renewal Ranking Report'!G41,\"\")","v":"PH"},{"$f":"IF('CoC Renewal Ranking Report'!BW41<>\"\",'CoC Renewal Ranking Report'!BW41,\"\")","v":1}]
[{"$f":"IF('CoC Renewal Ranking Report'!$D42<>\"\",'CoC Renewal Ranking Report'!$D42,\"\")","v":"Maranatha"},{"$f":"IF('CoC Renewal Ranking Report'!E42<>\"\",'CoC Renewal Ranking Report'!E42,\"\")","v":"TOTAL PERSON TRANSITIONAL PROGRAM 1 & 2"},{"$f":"IF('CoC Renewal Ranking Report'!G42<>\"\",'CoC Renewal Ranking Report'!G42,\"\")","v":"PH-RRH"},{"$f":"IF('CoC Renewal Ranking Report'!BW42<>\"\",'CoC Renewal Ranking Report'!BW42,\"\")","v":4}]
[{"$f":"IF('CoC Renewal Ranking Report'!$D43<>\"\",'CoC Renewal Ranking Report'!$D43,\"\")","v":"Mifflin County"},{"$f":"IF('CoC Renewal Ranking Report'!E43<>\"\",'CoC Renewal Ranking Report'!E43,\"\")","v":"Mifflin County Permanent Housing Renewal"},{"$f":"IF('CoC Renewal Ranking Report'!G43<>\"\",'CoC Renewal Ranking Report'!G43,\"\")","v":"PH"},{"$f":"IF('CoC Renewal Ranking Report'!BW43<>\"\",'CoC Renewal Ranking Report'!BW43,\"\")","v":2}]
[{"$f":"IF('CoC Renewal Ranking Report'!$D44<>\"\",'CoC Renewal Ranking Report'!$D44,\"\")","v":"Northampton County Housing Authority"},{"$f":"IF('CoC Renewal Ranking Report'!E44<>\"\",'CoC Renewal Ranking Report'!E44,\"\")","v":"NCHA S+C 2016"},{"$f":"IF('CoC Renewal Ranking Report'!G44<>\"\",'CoC Renewal Ranking Report'!G44,\"\")","v":"PH"},{"$f":"IF('CoC Renewal Ranking Report'!BW44<>\"\",'CoC Renewal Ranking Report'!BW44,\"\")","v":1}]
[{"$f":"IF('CoC Renewal Ranking Report'!$D45<>\"\",'CoC Renewal Ranking Report'!$D45,\"\")","v":"Northern Cambria Community Development Corporation"},{"$f":"IF('CoC Renewal Ranking Report'!E45<>\"\",'CoC Renewal Ranking Report'!E45,\"\")","v":"Independence Gardens"},{"$f":"IF('CoC Renewal Ranking Report'!G45<>\"\",'CoC Renewal Ranking Report'!G45,\"\")","v":"PH"},{"$f":"IF('CoC Renewal Ranking Report'!BW45<>\"\",'CoC Renewal Ranking Report'!BW45,\"\")","v":3}]
[{"$f":"IF('CoC Renewal Ranking Report'!$D46<>\"\",'CoC Renewal Ranking Report'!$D46,\"\")","v":"Northern Cambria Community Development Corporation"},{"$f":"IF('CoC Renewal Ranking Report'!E46<>\"\",'CoC Renewal Ranking Report'!E46,\"\")","v":"Schoolhouse Gardens"},{"$f":"IF('CoC Renewal Ranking Report'!G46<>\"\",'CoC Renewal Ranking Report'!G46,\"\")","v":"PH"},{"$f":"IF('CoC Renewal Ranking Report'!BW46<>\"\",'CoC Renewal Ranking Report'!BW46,\"\")","v":3}]
[{"$f":"IF('CoC Renewal Ranking Report'!$D47<>\"\",'CoC Renewal Ranking Report'!$D47,\"\")","v":"Northumberland County MH/MR"},{"$f":"IF('CoC Renewal Ranking Report'!E47<>\"\",'CoC Renewal Ranking Report'!E47,\"\")","v":"Sharing Support"},{"$f":"IF('CoC Renewal Ranking Report'!G47<>\"\",'CoC Renewal Ranking Report'!G47,\"\")","v":"PH"},{"$f":"IF('CoC Renewal Ranking Report'!BW47<>\"\",'CoC Renewal Ranking Report'!BW47,\"\")","v":1}]
[{"$f":"IF('CoC Renewal Ranking Report'!$D48<>\"\",'CoC Renewal Ranking Report'!$D48,\"\")","v":"Resources for Human Development, Inc."},{"$f":"IF('CoC Renewal Ranking Report'!E48<>\"\",'CoC Renewal Ranking Report'!E48,\"\")","v":"Crossroads Family"},{"$f":"IF('CoC Renewal Ranking Report'!G48<>\"\",'CoC Renewal Ranking Report'!G48,\"\")","v":"PH"},{"$f":"IF('CoC Renewal Ranking Report'!BW48<>\"\",'CoC Renewal Ranking Report'!BW48,\"\")","v":4}]
[{"$f":"IF('CoC Renewal Ranking Report'!$D49<>\"\",'CoC Renewal Ranking Report'!$D49,\"\")","v":"Resources for Human Development, Inc."},{"$f":"IF('CoC Renewal Ranking Report'!E49<>\"\",'CoC Renewal Ranking Report'!E49,\"\")","v":"Crossroads Housing Bonus"},{"$f":"IF('CoC Renewal Ranking Report'!G49<>\"\",'CoC Renewal Ranking Report'!G49,\"\")","v":"PH"},{"$f":"IF('CoC Renewal Ranking Report'!BW49<>\"\",'CoC Renewal Ranking Report'!BW49,\"\")","v":4}]
[{"$f":"IF('CoC Renewal Ranking Report'!$D50<>\"\",'CoC Renewal Ranking Report'!$D50,\"\")","v":"Resources for Human Development, Inc."},{"$f":"IF('CoC Renewal Ranking Report'!E50<>\"\",'CoC Renewal Ranking Report'!E50,\"\")","v":"Crossroads Individual"},{"$f":"IF('CoC Renewal Ranking Report'!G50<>\"\",'CoC Renewal Ranking Report'!G50,\"\")","v":"PH"},{"$f":"IF('CoC Renewal Ranking Report'!BW50<>\"\",'CoC Renewal Ranking Report'!BW50,\"\")","v":4}]
[{"$f":"IF('CoC Renewal Ranking Report'!$D51<>\"\",'CoC Renewal Ranking Report'!$D51,\"\")","v":"Resources for Human Development, Inc."},{"$f":"IF('CoC Renewal Ranking Report'!E51<>\"\",'CoC Renewal Ranking Report'!E51,\"\")","v":"Crossroads Schuylkill Co. Permanent Supportive Housing"},{"$f":"IF('CoC Renewal Ranking Report'!G51<>\"\",'CoC Renewal Ranking Report'!G51,\"\")","v":"PH"},{"$f":"IF('CoC Renewal Ranking Report'!BW51<>\"\",'CoC Renewal Ranking Report'!BW51,\"\")","v":4}]
[{"$f":"IF('CoC Renewal Ranking Report'!$D52<>\"\",'CoC Renewal Ranking Report'!$D52,\"\")","v":"Resources for Human Development, Inc."},{"$f":"IF('CoC Renewal Ranking Report'!E52<>\"\",'CoC Renewal Ranking Report'!E52,\"\")","v":"LV ACT Housing Supports"},{"$f":"IF('CoC Renewal Ranking Report'!G52<>\"\",'CoC Renewal Ranking Report'!G52,\"\")","v":"PH"},{"$f":"IF('CoC Renewal Ranking Report'!BW52<>\"\",'CoC Renewal Ranking Report'!BW52,\"\")","v":4}]
[{"$f":"IF('CoC Renewal Ranking Report'!$D53<>\"\",'CoC Renewal Ranking Report'!$D53,\"\")","v":"Tableland Services, Inc."},{"$f":"IF('CoC Renewal Ranking Report'!E53<>\"\",'CoC Renewal Ranking Report'!E53,\"\")","v":"Permanent Housing with Disabilities (SHP)"},{"$f":"IF('CoC Renewal Ranking Report'!G53<>\"\",'CoC Renewal Ranking Report'!G53,\"\")","v":"PH"},{"$f":"IF('CoC Renewal Ranking Report'!BW53<>\"\",'CoC Renewal Ranking Report'!BW53,\"\")","v":1}]
[{"$f":"IF('CoC Renewal Ranking Report'!$D54<>\"\",'CoC Renewal Ranking Report'!$D54,\"\")","v":"Tableland Services, Inc."},{"$f":"IF('CoC Renewal Ranking Report'!E54<>\"\",'CoC Renewal Ranking Report'!E54,\"\")","v":"Permanent Supportive Housing CH Project"},{"$f":"IF('CoC Renewal Ranking Report'!G54<>\"\",'CoC Renewal Ranking Report'!G54,\"\")","v":"PH"},{"$f":"IF('CoC Renewal Ranking Report'!BW54<>\"\",'CoC Renewal Ranking Report'!BW54,\"\")","v":1}]
[{"$f":"IF('CoC Renewal Ranking Report'!$D55<>\"\",'CoC Renewal Ranking Report'!$D55,\"\")","v":"The Salvation Army, a New York Corporation"},{"$f":"IF('CoC Renewal Ranking Report'!E55<>\"\",'CoC Renewal Ranking Report'!E55,\"\")","v":"Allentown Hospitality House Permanent Housing Program"},{"$f":"IF('CoC Renewal Ranking Report'!G55<>\"\",'CoC Renewal Ranking Report'!G55,\"\")","v":"PH"},{"$f":"IF('CoC Renewal Ranking Report'!BW55<>\"\",'CoC Renewal Ranking Report'!BW55,\"\")","v":1}]
[{"$f":"IF('CoC Renewal Ranking Report'!$D56<>\"\",'CoC Renewal Ranking Report'!$D56,\"\")","v":"The Salvation Army, a New York Corporation"},{"$f":"IF('CoC Renewal Ranking Report'!E56<>\"\",'CoC Renewal Ranking Report'!E56,\"\")","v":"Salvation Army Carlisle PH Project"},{"$f":"IF('CoC Renewal Ranking Report'!G56<>\"\",'CoC Renewal Ranking Report'!G56,\"\")","v":"PH"},{"$f":"IF('CoC Renewal Ranking Report'!BW56<>\"\",'CoC Renewal Ranking Report'!BW56,\"\")","v":4}]
[{"$f":"IF('CoC Renewal Ranking Report'!$D57<>\"\",'CoC Renewal Ranking Report'!$D57,\"\")","v":"Union-Snyder Community Action Agency"},{"$f":"IF('CoC Renewal Ranking Report'!E57<>\"\",'CoC Renewal Ranking Report'!E57,\"\")","v":"Union-Snyder Rapid ReHousing Program"},{"$f":"IF('CoC Renewal Ranking Report'!G57<>\"\",'CoC Renewal Ranking Report'!G57,\"\")","v":"PH-RRH"},{"$f":"IF('CoC Renewal Ranking Report'!BW57<>\"\",'CoC Renewal Ranking Report'!BW57,\"\")","v":4}]
[{"$f":"IF('CoC Renewal Ranking Report'!$D58<>\"\",'CoC Renewal Ranking Report'!$D58,\"\")","v":"United Christian Ministries"},{"$f":"IF('CoC Renewal Ranking Report'!E58<>\"\",'CoC Renewal Ranking Report'!E58,\"\")","v":"Kenner Garnet Renewal 2016"},{"$f":"IF('CoC Renewal Ranking Report'!G58<>\"\",'CoC Renewal Ranking Report'!G58,\"\")","v":"PH"},{"$f":"IF('CoC Renewal Ranking Report'!BW58<>\"\",'CoC Renewal Ranking Report'!BW58,\"\")","v":4}]
[{"$f":"IF('CoC Renewal Ranking Report'!$D59<>\"\",'CoC Renewal Ranking Report'!$D59,\"\")","v":"Valley Housing Development Corporation "},{"$f":"IF('CoC Renewal Ranking Report'!E59<>\"\",'CoC Renewal Ranking Report'!E59,\"\")","v":"VHDC SHP #2 2016"},{"$f":"IF('CoC Renewal Ranking Report'!G59<>\"\",'CoC Renewal Ranking Report'!G59,\"\")","v":"PH"},{"$f":"IF('CoC Renewal Ranking Report'!BW59<>\"\",'CoC Renewal Ranking Report'!BW59,\"\")","v":1}]
[{"$f":"IF('CoC Renewal Ranking Report'!$D60<>\"\",'CoC Renewal Ranking Report'!$D60,\"\")","v":"Valley Housing Development Corporation "},{"$f":"IF('CoC Renewal Ranking Report'!E60<>\"\",'CoC Renewal Ranking Report'!E60,\"\")","v":"VHDC SHP #3 2016"},{"$f":"IF('CoC Renewal Ranking Report'!G60<>\"\",'CoC Renewal Ranking Report'!G60,\"\")","v":"PH"},{"$f":"IF('CoC Renewal Ranking Report'!BW60<>\"\",'CoC Renewal Ranking Report'!BW60,\"\")","v":1}]
[{"$f":"IF('CoC Renewal Ranking Report'!$D61<>\"\",'CoC Renewal Ranking Report'!$D61,\"\")","v":"Valley Housing Development Corporation "},{"$f":"IF('CoC Renewal Ranking Report'!E61<>\"\",'CoC Renewal Ranking Report'!E61,\"\")","v":"VHDC SHP #4 2016"},{"$f":"IF('CoC Renewal Ranking Report'!G61<>\"\",'CoC Renewal Ranking Report'!G61,\"\")","v":"PH"},{"$f":"IF('CoC Renewal Ranking Report'!BW61<>\"\",'CoC Renewal Ranking Report'!BW61,\"\")","v":1}]
[{"$f":"IF('CoC Renewal Ranking Report'!$D62<>\"\",'CoC Renewal Ranking Report'!$D62,\"\")","v":""},{"$f":"IF('CoC Renewal Ranking Report'!E62<>\"\",'CoC Renewal Ranking Report'!E62,\"\")","v":""},{"$f":"IF('CoC Renewal Ranking Report'!G62<>\"\",'CoC Renewal Ranking Report'!G62,\"\")","v":""},{"$f":"IF('CoC Renewal Ranking Report'!BW62<>\"\",'CoC Renewal Ranking Report'!BW62,\"\")","v":""}]
[{"$f":"IF('CoC Renewal Ranking Report'!$D63<>\"\",'CoC Renewal Ranking Report'!$D63,\"\")","v":""},{"$f":"IF('CoC Renewal Ranking Report'!E63<>\"\",'CoC Renewal Ranking Report'!E63,\"\")","v":""},{"$f":"IF('CoC Renewal Ranking Report'!G63<>\"\",'CoC Renewal Ranking Report'!G63,\"\")","v":""},{"$f":"IF('CoC Renewal Ranking Report'!BW63<>\"\",'CoC Renewal Ranking Report'!BW63,\"\")","v":""}]
[{"$f":"IF('CoC Renewal Ranking Report'!$D64<>\"\",'CoC Renewal Ranking Report'!$D64,\"\")","v":""},{"$f":"IF('CoC Renewal Ranking Report'!E64<>\"\",'CoC Renewal Ranking Report'!E64,\"\")","v":""},{"$f":"IF('CoC Renewal Ranking Report'!G64<>\"\",'CoC Renewal Ranking Report'!G64,\"\")","v":""},{"$f":"IF('CoC Renewal Ranking Report'!BW64<>\"\",'CoC Renewal Ranking Report'!BW64,\"\")","v":""}]
[{"$f":"IF('CoC Renewal Ranking Report'!$D65<>\"\",'CoC Renewal Ranking Report'!$D65,\"\")","v":""},{"$f":"IF('CoC Renewal Ranking Report'!E65<>\"\",'CoC Renewal Ranking Report'!E65,\"\")","v":""},{"$f":"IF('CoC Renewal Ranking Report'!G65<>\"\",'CoC Renewal Ranking Report'!G65,\"\")","v":""},{"$f":"IF('CoC Renewal Ranking Report'!BW65<>\"\",'CoC Renewal Ranking Report'!BW65,\"\")","v":""}]
[{"$f":"IF('CoC Renewal Ranking Report'!$D66<>\"\",'CoC Renewal Ranking Report'!$D66,\"\")","v":""},{"$f":"IF('CoC Renewal Ranking Report'!E66<>\"\",'CoC Renewal Ranking Report'!E66,\"\")","v":""},{"$f":"IF('CoC Renewal Ranking Report'!G66<>\"\",'CoC Renewal Ranking Report'!G66,\"\")","v":""},{"$f":"IF('CoC Renewal Ranking Report'!BW66<>\"\",'CoC Renewal Ranking Report'!BW66,\"\")","v":""}]
[{"$f":"IF('CoC Renewal Ranking Report'!$D67<>\"\",'CoC Renewal Ranking Report'!$D67,\"\")","v":""},{"$f":"IF('CoC Renewal Ranking Report'!E67<>\"\",'CoC Renewal Ranking Report'!E67,\"\")","v":""},{"$f":"IF('CoC Renewal Ranking Report'!G67<>\"\",'CoC Renewal Ranking Report'!G67,\"\")","v":""},{"$f":"IF('CoC Renewal Ranking Report'!BW67<>\"\",'CoC Renewal Ranking Report'!BW67,\"\")","v":""}]
[{"$f":"IF('CoC Renewal Ranking Report'!$D68<>\"\",'CoC Renewal Ranking Report'!$D68,\"\")","v":""},{"$f":"IF('CoC Renewal Ranking Report'!E68<>\"\",'CoC Renewal Ranking Report'!E68,\"\")","v":""},{"$f":"IF('CoC Renewal Ranking Report'!G68<>\"\",'CoC Renewal Ranking Report'!G68,\"\")","v":""},{"$f":"IF('CoC Renewal Ranking Report'!BW68<>\"\",'CoC Renewal Ranking Report'!BW68,\"\")","v":""}]
[{"$f":"IF('CoC Renewal Ranking Report'!$D69<>\"\",'CoC Renewal Ranking Report'!$D69,\"\")","v":""},{"$f":"IF('CoC Renewal Ranking Report'!E69<>\"\",'CoC Renewal Ranking Report'!E69,\"\")","v":""},{"$f":"IF('CoC Renewal Ranking Report'!G69<>\"\",'CoC Renewal Ranking Report'!G69,\"\")","v":""},{"$f":"IF('CoC Renewal Ranking Report'!BW69<>\"\",'CoC Renewal Ranking Report'!BW69,\"\")","v":""}]
[{"$f":"IF('CoC Renewal Ranking Report'!$D70<>\"\",'CoC Renewal Ranking Report'!$D70,\"\")","v":""},{"$f":"IF('CoC Renewal Ranking Report'!E70<>\"\",'CoC Renewal Ranking Report'!E70,\"\")","v":""},{"$f":"IF('CoC Renewal Ranking Report'!G70<>\"\",'CoC Renewal Ranking Report'!G70,\"\")","v":""},{"$f":"IF('CoC Renewal Ranking Report'!BW70<>\"\",'CoC Renewal Ranking Report'!BW70,\"\")","v":""}]
[{"$f":"IF('CoC Renewal Ranking Report'!$D71<>\"\",'CoC Renewal Ranking Report'!$D71,\"\")","v":""},{"$f":"IF('CoC Renewal Ranking Report'!E71<>\"\",'CoC Renewal Ranking Report'!E71,\"\")","v":""},{"$f":"IF('CoC Renewal Ranking Report'!G71<>\"\",'CoC Renewal Ranking Report'!G71,\"\")","v":""},{"$f":"IF('CoC Renewal Ranking Report'!BW71<>\"\",'CoC Renewal Ranking Report'!BW71,\"\")","v":""}]
[{"$f":"IF('CoC Renewal Ranking Report'!$D72<>\"\",'CoC Renewal Ranking Report'!$D72,\"\")","v":""},{"$f":"IF('CoC Renewal Ranking Report'!E72<>\"\",'CoC Renewal Ranking Report'!E72,\"\")","v":""},{"$f":"IF('CoC Renewal Ranking Report'!G72<>\"\",'CoC Renewal Ranking Report'!G72,\"\")","v":""},{"$f":"IF('CoC Renewal Ranking Report'!BW72<>\"\",'CoC Renewal Ranking Report'!BW72,\"\")","v":""}]
[{"$f":"IF('CoC Renewal Ranking Report'!$D73<>\"\",'CoC Renewal Ranking Report'!$D73,\"\")","v":""},{"$f":"IF('CoC Renewal Ranking Report'!E73<>\"\",'CoC Renewal Ranking Report'!E73,\"\")","v":""},{"$f":"IF('CoC Renewal Ranking Report'!G73<>\"\",'CoC Renewal Ranking Report'!G73,\"\")","v":""},{"$f":"IF('CoC Renewal Ranking Report'!BW73<>\"\",'CoC Renewal Ranking Report'!BW73,\"\")","v":""}]
[{"$f":"IF('CoC Renewal Ranking Report'!$D74<>\"\",'CoC Renewal Ranking Report'!$D74,\"\")","v":""},{"$f":"IF('CoC Renewal Ranking Report'!E74<>\"\",'CoC Renewal Ranking Report'!E74,\"\")","v":""},{"$f":"IF('CoC Renewal Ranking Report'!G74<>\"\",'CoC Renewal Ranking Report'!G74,\"\")","v":""},{"$f":"IF('CoC Renewal Ranking Report'!BW74<>\"\",'CoC Renewal Ranking Report'!BW74,\"\")","v":""}]
[{"$f":"IF('CoC Renewal Ranking Report'!$D75<>\"\",'CoC Renewal Ranking Report'!$D75,\"\")","v":""},{"$f":"IF('CoC Renewal Ranking Report'!E75<>\"\",'CoC Renewal Ranking Report'!E75,\"\")","v":""},{"$f":"IF('CoC Renewal Ranking Report'!G75<>\"\",'CoC Renewal Ranking Report'!G75,\"\")","v":""},{"$f":"IF('CoC Renewal Ranking Report'!BW75<>\"\",'CoC Renewal Ranking Report'!BW75,\"\")","v":""}]
[{"$f":"IF('CoC Renewal Ranking Report'!$D76<>\"\",'CoC Renewal Ranking Report'!$D76,\"\")","v":""},{"$f":"IF('CoC Renewal Ranking Report'!E76<>\"\",'CoC Renewal Ranking Report'!E76,\"\")","v":""},{"$f":"IF('CoC Renewal Ranking Report'!G76<>\"\",'CoC Renewal Ranking Report'!G76,\"\")","v":""},{"$f":"IF('CoC Renewal Ranking Report'!BW76<>\"\",'CoC Renewal Ranking Report'!BW76,\"\")","v":""}]
[{"$f":"IF('CoC Renewal Ranking Report'!$D77<>\"\",'CoC Renewal Ranking Report'!$D77,\"\")","v":""},{"$f":"IF('CoC Renewal Ranking Report'!E77<>\"\",'CoC Renewal Ranking Report'!E77,\"\")","v":""},{"$f":"IF('CoC Renewal Ranking Report'!G77<>\"\",'CoC Renewal Ranking Report'!G77,\"\")","v":""},{"$f":"IF('CoC Renewal Ranking Report'!BW77<>\"\",'CoC Renewal Ranking Report'!BW77,\"\")","v":""}]
[{"$f":"IF('CoC Renewal Ranking Report'!$D78<>\"\",'CoC Renewal Ranking Report'!$D78,\"\")","v":""},{"$f":"IF('CoC Renewal Ranking Report'!E78<>\"\",'CoC Renewal Ranking Report'!E78,\"\")","v":""},{"$f":"IF('CoC Renewal Ranking Report'!G78<>\"\",'CoC Renewal Ranking Report'!G78,\"\")","v":""},{"$f":"IF('CoC Renewal Ranking Report'!BW78<>\"\",'CoC Renewal Ranking Report'!BW78,\"\")","v":""}]
[{"$f":"IF('CoC Renewal Ranking Report'!$D79<>\"\",'CoC Renewal Ranking Report'!$D79,\"\")","v":""},{"$f":"IF('CoC Renewal Ranking Report'!E79<>\"\",'CoC Renewal Ranking Report'!E79,\"\")","v":""},{"$f":"IF('CoC Renewal Ranking Report'!G79<>\"\",'CoC Renewal Ranking Report'!G79,\"\")","v":""},{"$f":"IF('CoC Renewal Ranking Report'!BW79<>\"\",'CoC Renewal Ranking Report'!BW79,\"\")","v":""}]
[{"$f":"IF('CoC Renewal Ranking Report'!$D80<>\"\",'CoC Renewal Ranking Report'!$D80,\"\")","v":""},{"$f":"IF('CoC Renewal Ranking Report'!E80<>\"\",'CoC Renewal Ranking Report'!E80,\"\")","v":""},{"$f":"IF('CoC Renewal Ranking Report'!G80<>\"\",'CoC Renewal Ranking Report'!G80,\"\")","v":""},{"$f":"IF('CoC Renewal Ranking Report'!BW80<>\"\",'CoC Renewal Ranking Report'!BW80,\"\")","v":""}]
[{"$f":"IF('CoC Renewal Ranking Report'!$D81<>\"\",'CoC Renewal Ranking Report'!$D81,\"\")","v":""},{"$f":"IF('CoC Renewal Ranking Report'!E81<>\"\",'CoC Renewal Ranking Report'!E81,\"\")","v":""},{"$f":"IF('CoC Renewal Ranking Report'!G81<>\"\",'CoC Renewal Ranking Report'!G81,\"\")","v":""},{"$f":"IF('CoC Renewal Ranking Report'!BW81<>\"\",'CoC Renewal Ranking Report'!BW81,\"\")","v":""}]
[{"$f":"IF('CoC Renewal Ranking Report'!$D82<>\"\",'CoC Renewal Ranking Report'!$D82,\"\")","v":""},{"$f":"IF('CoC Renewal Ranking Report'!E82<>\"\",'CoC Renewal Ranking Report'!E82,\"\")","v":""},{"$f":"IF('CoC Renewal Ranking Report'!G82<>\"\",'CoC Renewal Ranking Report'!G82,\"\")","v":""},{"$f":"IF('CoC Renewal Ranking Report'!BW82<>\"\",'CoC Renewal Ranking Report'!BW82,\"\")","v":""}]
[{"$f":"IF('CoC Renewal Ranking Report'!$D83<>\"\",'CoC Renewal Ranking Report'!$D83,\"\")","v":""},{"$f":"IF('CoC Renewal Ranking Report'!E83<>\"\",'CoC Renewal Ranking Report'!E83,\"\")","v":""},{"$f":"IF('CoC Renewal Ranking Report'!G83<>\"\",'CoC Renewal Ranking Report'!G83,\"\")","v":""},{"$f":"IF('CoC Renewal Ranking Report'!BW83<>\"\",'CoC Renewal Ranking Report'!BW83,\"\")","v":""}]
[{"$f":"IF('CoC Renewal Ranking Report'!$D84<>\"\",'CoC Renewal Ranking Report'!$D84,\"\")","v":""},{"$f":"IF('CoC Renewal Ranking Report'!E84<>\"\",'CoC Renewal Ranking Report'!E84,\"\")","v":""},{"$f":"IF('CoC Renewal Ranking Report'!G84<>\"\",'CoC Renewal Ranking Report'!G84,\"\")","v":""},{"$f":"IF('CoC Renewal Ranking Report'!BW84<>\"\",'CoC Renewal Ranking Report'!BW84,\"\")","v":""}]
[{"$f":"IF('CoC Renewal Ranking Report'!$D85<>\"\",'CoC Renewal Ranking Report'!$D85,\"\")","v":""},{"$f":"IF('CoC Renewal Ranking Report'!E85<>\"\",'CoC Renewal Ranking Report'!E85,\"\")","v":""},{"$f":"IF('CoC Renewal Ranking Report'!G85<>\"\",'CoC Renewal Ranking Report'!G85,\"\")","v":""},{"$f":"IF('CoC Renewal Ranking Report'!BW85<>\"\",'CoC Renewal Ranking Report'!BW85,\"\")","v":""}]
[{"$f":"IF('CoC Renewal Ranking Report'!$D86<>\"\",'CoC Renewal Ranking Report'!$D86,\"\")","v":""},{"$f":"IF('CoC Renewal Ranking Report'!E86<>\"\",'CoC Renewal Ranking Report'!E86,\"\")","v":""},{"$f":"IF('CoC Renewal Ranking Report'!G86<>\"\",'CoC Renewal Ranking Report'!G86,\"\")","v":""},{"$f":"IF('CoC Renewal Ranking Report'!BW86<>\"\",'CoC Renewal Ranking Report'!BW86,\"\")","v":""}]
[{"$f":"IF('CoC Renewal Ranking Report'!$D87<>\"\",'CoC Renewal Ranking Report'!$D87,\"\")","v":""},{"$f":"IF('CoC Renewal Ranking Report'!E87<>\"\",'CoC Renewal Ranking Report'!E87,\"\")","v":""},{"$f":"IF('CoC Renewal Ranking Report'!G87<>\"\",'CoC Renewal Ranking Report'!G87,\"\")","v":""},{"$f":"IF('CoC Renewal Ranking Report'!BW87<>\"\",'CoC Renewal Ranking Report'!BW87,\"\")","v":""}]
[{"$f":"IF('CoC Renewal Ranking Report'!$D88<>\"\",'CoC Renewal Ranking Report'!$D88,\"\")","v":""},{"$f":"IF('CoC Renewal Ranking Report'!E88<>\"\",'CoC Renewal Ranking Report'!E88,\"\")","v":""},{"$f":"IF('CoC Renewal Ranking Report'!G88<>\"\",'CoC Renewal Ranking Report'!G88,\"\")","v":""},{"$f":"IF('CoC Renewal Ranking Report'!BW88<>\"\",'CoC Renewal Ranking Report'!BW88,\"\")","v":""}]
[{"$f":"IF('CoC Renewal Ranking Report'!$D89<>\"\",'CoC Renewal Ranking Report'!$D89,\"\")","v":""},{"$f":"IF('CoC Renewal Ranking Report'!E89<>\"\",'CoC Renewal Ranking Report'!E89,\"\")","v":""},{"$f":"IF('CoC Renewal Ranking Report'!G89<>\"\",'CoC Renewal Ranking Report'!G89,\"\")","v":""},{"$f":"IF('CoC Renewal Ranking Report'!BW89<>\"\",'CoC Renewal Ranking Report'!BW89,\"\")","v":""}]
[{"$f":"IF('CoC Renewal Ranking Report'!$D90<>\"\",'CoC Renewal Ranking Report'!$D90,\"\")","v":""},{"$f":"IF('CoC Renewal Ranking Report'!E90<>\"\",'CoC Renewal Ranking Report'!E90,\"\")","v":""},{"$f":"IF('CoC Renewal Ranking Report'!G90<>\"\",'CoC Renewal Ranking Report'!G90,\"\")","v":""},{"$f":"IF('CoC Renewal Ranking Report'!BW90<>\"\",'CoC Renewal Ranking Report'!BW90,\"\")","v":""}]
[{"$f":"IF('CoC Renewal Ranking Report'!$D91<>\"\",'CoC Renewal Ranking Report'!$D91,\"\")","v":""},{"$f":"IF('CoC Renewal Ranking Report'!E91<>\"\",'CoC Renewal Ranking Report'!E91,\"\")","v":""},{"$f":"IF('CoC Renewal Ranking Report'!G91<>\"\",'CoC Renewal Ranking Report'!G91,\"\")","v":""},{"$f":"IF('CoC Renewal Ranking Report'!BW91<>\"\",'CoC Renewal Ranking Report'!BW91,\"\")","v":""}]
[{"$f":"IF('CoC Renewal Ranking Report'!$D92<>\"\",'CoC Renewal Ranking Report'!$D92,\"\")","v":""},{"$f":"IF('CoC Renewal Ranking Report'!E92<>\"\",'CoC Renewal Ranking Report'!E92,\"\")","v":""},{"$f":"IF('CoC Renewal Ranking Report'!G92<>\"\",'CoC Renewal Ranking Report'!G92,\"\")","v":""},{"$f":"IF('CoC Renewal Ranking Report'!BW92<>\"\",'CoC Renewal Ranking Report'!BW92,\"\")","v":""}]
[{"$f":"IF('CoC Renewal Ranking Report'!$D93<>\"\",'CoC Renewal Ranking Report'!$D93,\"\")","v":""},{"$f":"IF('CoC Renewal Ranking Report'!E93<>\"\",'CoC Renewal Ranking Report'!E93,\"\")","v":""},{"$f":"IF('CoC Renewal Ranking Report'!G93<>\"\",'CoC Renewal Ranking Report'!G93,\"\")","v":""},{"$f":"IF('CoC Renewal Ranking Report'!BW93<>\"\",'CoC Renewal Ranking Report'!BW93,\"\")","v":""}]
[{"$f":"IF('CoC Renewal Ranking Report'!$D94<>\"\",'CoC Renewal Ranking Report'!$D94,\"\")","v":""},{"$f":"IF('CoC Renewal Ranking Report'!E94<>\"\",'CoC Renewal Ranking Report'!E94,\"\")","v":""},{"$f":"IF('CoC Renewal Ranking Report'!G94<>\"\",'CoC Renewal Ranking Report'!G94,\"\")","v":""},{"$f":"IF('CoC Renewal Ranking Report'!BW94<>\"\",'CoC Renewal Ranking Report'!BW94,\"\")","v":""}]
[{"$f":"IF('CoC Renewal Ranking Report'!$D95<>\"\",'CoC Renewal Ranking Report'!$D95,\"\")","v":""},{"$f":"IF('CoC Renewal Ranking Report'!E95<>\"\",'CoC Renewal Ranking Report'!E95,\"\")","v":""},{"$f":"IF('CoC Renewal Ranking Report'!G95<>\"\",'CoC Renewal Ranking Report'!G95,\"\")","v":""},{"$f":"IF('CoC Renewal Ranking Report'!BW95<>\"\",'CoC Renewal Ranking Report'!BW95,\"\")","v":""}]
[{"$f":"IF('CoC Renewal Ranking Report'!$D96<>\"\",'CoC Renewal Ranking Report'!$D96,\"\")","v":""},{"$f":"IF('CoC Renewal Ranking Report'!E96<>\"\",'CoC Renewal Ranking Report'!E96,\"\")","v":""},{"$f":"IF('CoC Renewal Ranking Report'!G96<>\"\",'CoC Renewal Ranking Report'!G96,\"\")","v":""},{"$f":"IF('CoC Renewal Ranking Report'!BW96<>\"\",'CoC Renewal Ranking Report'!BW96,\"\")","v":""}]
[{"$f":"IF('CoC Renewal Ranking Report'!$D97<>\"\",'CoC Renewal Ranking Report'!$D97,\"\")","v":""},{"$f":"IF('CoC Renewal Ranking Report'!E97<>\"\",'CoC Renewal Ranking Report'!E97,\"\")","v":""},{"$f":"IF('CoC Renewal Ranking Report'!G97<>\"\",'CoC Renewal Ranking Report'!G97,\"\")","v":""},{"$f":"IF('CoC Renewal Ranking Report'!BW97<>\"\",'CoC Renewal Ranking Report'!BW97,\"\")","v":""}]
[{"$f":"IF('CoC Renewal Ranking Report'!$D98<>\"\",'CoC Renewal Ranking Report'!$D98,\"\")","v":""},{"$f":"IF('CoC Renewal Ranking Report'!E98<>\"\",'CoC Renewal Ranking Report'!E98,\"\")","v":""},{"$f":"IF('CoC Renewal Ranking Report'!G98<>\"\",'CoC Renewal Ranking Report'!G98,\"\")","v":""},{"$f":"IF('CoC Renewal Ranking Report'!BW98<>\"\",'CoC Renewal Ranking Report'!BW98,\"\")","v":""}]
[{"$f":"IF('CoC Renewal Ranking Report'!$D99<>\"\",'CoC Renewal Ranking Report'!$D99,\"\")","v":""},{"$f":"IF('CoC Renewal Ranking Report'!E99<>\"\",'CoC Renewal Ranking Report'!E99,\"\")","v":""},{"$f":"IF('CoC Renewal Ranking Report'!G99<>\"\",'CoC Renewal Ranking Report'!G99,\"\")","v":""},{"$f":"IF('CoC Renewal Ranking Report'!BW99<>\"\",'CoC Renewal Ranking Report'!BW99,\"\")","v":""}]
[{"$f":"IF('CoC Renewal Ranking Report'!$D100<>\"\",'CoC Renewal Ranking Report'!$D100,\"\")","v":""},{"$f":"IF('CoC Renewal Ranking Report'!E100<>\"\",'CoC Renewal Ranking Report'!E100,\"\")","v":""},{"$f":"IF('CoC Renewal Ranking Report'!G100<>\"\",'CoC Renewal Ranking Report'!G100,\"\")","v":""},{"$f":"IF('CoC Renewal Ranking Report'!BW100<>\"\",'CoC Renewal Ranking Report'!BW100,\"\")","v":""}]
[{"$f":"IF('CoC Renewal Ranking Report'!$D101<>\"\",'CoC Renewal Ranking Report'!$D101,\"\")","v":""},{"$f":"IF('CoC Renewal Ranking Report'!E101<>\"\",'CoC Renewal Ranking Report'!E101,\"\")","v":""},{"$f":"IF('CoC Renewal Ranking Report'!G101<>\"\",'CoC Renewal Ranking Report'!G101,\"\")","v":""},{"$f":"IF('CoC Renewal Ranking Report'!BW101<>\"\",'CoC Renewal Ranking Report'!BW101,\"\")","v":""}]
[{"$f":"IF('CoC Renewal Ranking Report'!$D102<>\"\",'CoC Renewal Ranking Report'!$D102,\"\")","v":""},{"$f":"IF('CoC Renewal Ranking Report'!E102<>\"\",'CoC Renewal Ranking Report'!E102,\"\")","v":""},{"$f":"IF('CoC Renewal Ranking Report'!G102<>\"\",'CoC Renewal Ranking Report'!G102,\"\")","v":""},{"$f":"IF('CoC Renewal Ranking Report'!BW102<>\"\",'CoC Renewal Ranking Report'!BW102,\"\")","v":""}]
[{"$f":"IF('CoC Renewal Ranking Report'!$D103<>\"\",'CoC Renewal Ranking Report'!$D103,\"\")","v":""},{"$f":"IF('CoC Renewal Ranking Report'!E103<>\"\",'CoC Renewal Ranking Report'!E103,\"\")","v":""},{"$f":"IF('CoC Renewal Ranking Report'!G103<>\"\",'CoC Renewal Ranking Report'!G103,\"\")","v":""},{"$f":"IF('CoC Renewal Ranking Report'!BW103<>\"\",'CoC Renewal Ranking Report'!BW103,\"\")","v":""}]

{"sheet":"HMIS Data Quality","index":24,"n_rows":102,"n_cols":5,"rows_kept":102,"cut":false,"hidden":false,"merged":[]}
[null,"HMIS Universal Data Quality"]
[null,"Criteria"]
[null,"Less than 5% Missing = 5 points"]
[]
["Agency Name","Project Name","Project Type","% Missing","Score"]
[{"$f":"IF('CoC Renewal Ranking Report'!D9<>\"\",'CoC Renewal Ranking Report'!D9,\"\")","v":""},{"$f":"IF('CoC Renewal Ranking Report'!E9<>\"\",'CoC Renewal Ranking Report'!E9,\"\")","v":""},{"$f":"IF('CoC Renewal Ranking Report'!G9<>\"\",'CoC Renewal Ranking Report'!G9,\"\")","v":""},{"$f":"IF('CoC Renewal Ranking Report'!AR9<>\"\",'CoC Renewal Ranking Report'!AR9,\"\")","v":""},{"$f":"IF(AND(A6<>\"\", D6<>\"\"), IF(D6 < 0.05, 5, 0), \"\")","v":""}]
[{"$f":"IF('CoC Renewal Ranking Report'!D10<>\"\",'CoC Renewal Ranking Report'!D10,\"\")","v":"Blair County Community Action Program"},{"$f":"IF('CoC Renewal Ranking Report'!E10<>\"\",'CoC Renewal Ranking Report'!E10,\"\")","v":"Rapid Re-Housing"},{"$f":"IF('CoC Renewal Ranking Report'!G10<>\"\",'CoC Renewal Ranking Report'!G10,\"\")","v":"PH-RRH"},{"$f":"IF('CoC Renewal Ranking Report'!AR10<>\"\",'CoC Renewal Ranking Report'!AR10,\"\")","v":0},{"$f":"IF(AND(A7<>\"\", D7<>\"\"), IF(D7 < 0.05, 5, 0), \"\")","v":5}]
[{"$f":"IF('CoC Renewal Ranking Report'!D11<>\"\",'CoC Renewal Ranking Report'!D11,\"\")","v":"Cambria County"},{"$f":"IF('CoC Renewal Ranking Report'!E11<>\"\",'CoC Renewal Ranking Report'!E11,\"\")","v":"Cambria County Comprehensive Housing Program"},{"$f":"IF('CoC Renewal Ranking Report'!G11<>\"\",'CoC Renewal Ranking Report'!G11,\"\")","v":"PH"},{"$f":"IF('CoC Renewal Ranking Report'!AR11<>\"\",'CoC Renewal Ranking Report'!AR11,\"\")","v":2.64E-2},5]
[{"$f":"IF('CoC Renewal Ranking Report'!D12<>\"\",'CoC Renewal Ranking Report'!D12,\"\")","v":"Catholic Charities of the Diocese of Allentown"},{"$f":"IF('CoC Renewal Ranking Report'!E12<>\"\",'CoC Renewal Ranking Report'!E12,\"\")","v":"Catholic Charities Allentown Permanent Housing Program"},{"$f":"IF('CoC Renewal Ranking Report'!G12<>\"\",'CoC Renewal Ranking Report'!G12,\"\")","v":"PH"},{"$f":"IF('CoC Renewal Ranking Report'!AR12<>\"\",'CoC Renewal Ranking Report'!AR12,\"\")","v":3.4599999999999999E-2},5]
[{"$f":"IF('CoC Renewal Ranking Report'!D13<>\"\",'CoC Renewal Ranking Report'!D13,\"\")","v":"Catholic Social Services of the Diocese of Scranton, Inc."},{"$f":"IF('CoC Renewal Ranking Report'!E13<>\"\",'CoC Renewal Ranking Report'!E13,\"\")","v":"PSHP Pike County"},{"$f":"IF('CoC Renewal Ranking Report'!G13<>\"\",'CoC Renewal Ranking Report'!G13,\"\")","v":"PH"},{"$f":"IF('CoC Renewal Ranking Report'!AR13<>\"\",'CoC Renewal Ranking Report'!AR13,\"\")","v":1.2800000000000001E-2},5]
[{"$f":"IF('CoC Renewal Ranking Report'!D14<>\"\",'CoC Renewal Ranking Report'!D14,\"\")","v":"Catholic Social Services of the Diocese of Scranton, Inc."},{"$f":"IF('CoC Renewal Ranking Report'!E14<>\"\",'CoC Renewal Ranking Report'!E14,\"\")","v":"Rural Permanent Supportive Housing Program"},{"$f":"IF('CoC Renewal Ranking Report'!G14<>\"\",'CoC Renewal Ranking Report'!G14,\"\")","v":"PH"},{"$f":"IF('CoC Renewal Ranking Report'!AR14<>\"\",'CoC Renewal Ranking Report'!AR14,\"\")","v":4.2700000000000002E-2},5]
[{"$f":"IF('CoC Renewal Ranking Report'!D15<>\"\",'CoC Renewal Ranking Report'!D15,\"\")","v":"Catholic Social Services of the Diocese of Scranton, Inc."},{"$f":"IF('CoC Renewal Ranking Report'!E15<>\"\",'CoC Renewal Ranking Report'!E15,\"\")","v":"Susquehanna/Wayne PSHP"},{"$f":"IF('CoC Renewal Ranking Report'!G15<>\"\",'CoC Renewal Ranking Report'!G15,\"\")","v":"PH"},{"$f":"IF('CoC Renewal Ranking Report'!AR15<>\"\",'CoC Renewal Ranking Report'!AR15,\"\")","v":4.2000000000000003E-2},5]
[{"$f":"IF('CoC Renewal Ranking Report'!D16<>\"\",'CoC Renewal Ranking Report'!D16,\"\")","v":"Center for Community Action"},{"$f":"IF('CoC Renewal Ranking Report'!E16<>\"\",'CoC Renewal Ranking Report'!E16,\"\")","v":"Bedford,Fulton, Huntingdon RRH"},{"$f":"IF('CoC Renewal Ranking Report'!G16<>\"\",'CoC Renewal Ranking Report'!G16,\"\")","v":"PH-RRH"},{"$f":"IF('CoC Renewal Ranking Report'!AR16<>\"\",'CoC Renewal Ranking Report'!AR16,\"\")","v":1.5E-3},5]
[{"$f":"IF('CoC Renewal Ranking Report'!D17<>\"\",'CoC Renewal Ranking Report'!D17,\"\")","v":"County of Franklin"},{"$f":"IF('CoC Renewal Ranking Report'!E17<>\"\",'CoC Renewal Ranking Report'!E17,\"\")","v":"Franklin/ Fulton S+C Project 2017"},{"$f":"IF('CoC Renewal Ranking Report'!G17<>\"\",'CoC Renewal Ranking Report'!G17,\"\")","v":"PH"},{"$f":"IF('CoC Renewal Ranking Report'!AR17<>\"\",'CoC Renewal Ranking Report'!AR17,\"\")","v":3.1699999999999999E-2},5]
[{"$f":"IF('CoC Renewal Ranking Report'!D18<>\"\",'CoC Renewal Ranking Report'!D18,\"\")","v":"County of Franklin"},{"$f":"IF('CoC Renewal Ranking Report'!E18<>\"\",'CoC Renewal Ranking Report'!E18,\"\")","v":"Franklin/Fulton Homeless Assistance Project 2017"},{"$f":"IF('CoC Renewal Ranking Report'!G18<>\"\",'CoC Renewal Ranking Report'!G18,\"\")","v":"PH"},{"$f":"IF('CoC Renewal Ranking Report'!AR18<>\"\",'CoC Renewal Ranking Report'!AR18,\"\")","v":5.5199999999999999E-2},0]
[{"$f":"IF('CoC Renewal Ranking Report'!D19<>\"\",'CoC Renewal Ranking Report'!D19,\"\")","v":"County of Lycoming DBA Lycoming- Clinton Joinder Board"},{"$f":"IF('CoC Renewal Ranking Report'!E19<>\"\",'CoC Renewal Ranking Report'!E19,\"\")","v":"Lycoming/Clinton Renewal #5"},{"$f":"IF('CoC Renewal Ranking Report'!G19<>\"\",'CoC Renewal Ranking Report'!G19,\"\")","v":"PH"},{"$f":"IF('CoC Renewal Ranking Report'!AR19<>\"\",'CoC Renewal Ranking Report'!AR19,\"\")","v":0},5]
[{"$f":"IF('CoC Renewal Ranking Report'!D20<>\"\",'CoC Renewal Ranking Report'!D20,\"\")","v":"Fitzmaurice Community Services, Inc"},{"$f":"IF('CoC Renewal Ranking Report'!E20<>\"\",'CoC Renewal Ranking Report'!E20,\"\")","v":"Pathfinders"},{"$f":"IF('CoC Renewal Ranking Report'!G20<>\"\",'CoC Renewal Ranking Report'!G20,\"\")","v":"PH"},{"$f":"IF('CoC Renewal Ranking Report'!AR20<>\"\",'CoC Renewal Ranking Report'!AR20,\"\")","v":2.2800000000000001E-2},5]
[{"$f":"IF('CoC Renewal Ranking Report'!D21<>\"\",'CoC Renewal Ranking Report'!D21,\"\")","v":"Home Nursing AgencyCommunity Services"},{"$f":"IF('CoC Renewal Ranking Report'!E21<>\"\",'CoC Renewal Ranking Report'!E21,\"\")","v":"Housing Assistance and Rental Program"},{"$f":"IF('CoC Renewal Ranking Report'!G21<>\"\",'CoC Renewal Ranking Report'!G21,\"\")","v":"PH"},{"$f":"IF('CoC Renewal Ranking Report'!AR21<>\"\",'CoC Renewal Ranking Report'!AR21,\"\")","v":5.1999999999999998E-3},5]
[{"$f":"IF('CoC Renewal Ranking Report'!D22<>\"\",'CoC Renewal Ranking Report'!D22,\"\")","v":"Housing Authority of Monroe County"},{"$f":"IF('CoC Renewal Ranking Report'!E22<>\"\",'CoC Renewal Ranking Report'!E22,\"\")","v":"Renewal Application Shelter Plus Care MC 2016"},{"$f":"IF('CoC Renewal Ranking Report'!G22<>\"\",'CoC Renewal Ranking Report'!G22,\"\")","v":"PH"},{"$f":"IF('CoC Renewal Ranking Report'!AR22<>\"\",'CoC Renewal Ranking Report'!AR22,\"\")","v":4.4000000000000003E-3},5]
[{"$f":"IF('CoC Renewal Ranking Report'!D23<>\"\",'CoC Renewal Ranking Report'!D23,\"\")","v":"Housing Authority of the County of Cumberland"},{"$f":"IF('CoC Renewal Ranking Report'!E23<>\"\",'CoC Renewal Ranking Report'!E23,\"\")","v":"Carlisle Supportive Housing Program"},{"$f":"IF('CoC Renewal Ranking Report'!G23<>\"\",'CoC Renewal Ranking Report'!G23,\"\")","v":"PH"},{"$f":"IF('CoC Renewal Ranking Report'!AR23<>\"\",'CoC Renewal Ranking Report'!AR23,\"\")","v":1.9199999999999998E-2},5]
[{"$f":"IF('CoC Renewal Ranking Report'!D24<>\"\",'CoC Renewal Ranking Report'!D24,\"\")","v":"Housing Authority of the County of Cumberland"},{"$f":"IF('CoC Renewal Ranking Report'!E24<>\"\",'CoC Renewal Ranking Report'!E24,\"\")","v":"Perry County Permanent SHP"},{"$f":"IF('CoC Renewal Ranking Report'!G24<>\"\",'CoC Renewal Ranking Report'!G24,\"\")","v":"PH"},{"$f":"IF('CoC Renewal Ranking Report'!AR24<>\"\",'CoC Renewal Ranking Report'!AR24,\"\")","v":2.5600000000000001E-2},5]
[{"$f":"IF('CoC Renewal Ranking Report'!D25<>\"\",'CoC Renewal Ranking Report'!D25,\"\")","v":"Housing Authority of the County of Cumberland"},{"$f":"IF('CoC Renewal Ranking Report'!E25<>\"\",'CoC Renewal Ranking Report'!E25,\"\")","v":"Perry County Transitional II"},{"$f":"IF('CoC Renewal Ranking Report'!G25<>\"\",'CoC Renewal Ranking Report'!G25,\"\")","v":"PH-RRH"},{"$f":"IF('CoC Renewal Ranking Report'!AR25<>\"\",'CoC Renewal Ranking Report'!AR25,\"\")","v":2.5999999999999999E-3},5]
[{"$f":"IF('CoC Renewal Ranking Report'!D26<>\"\",'CoC Renewal Ranking Report'!D26,\"\")","v":"Housing Authority of the County of Cumberland"},{"$f":"IF('CoC Renewal Ranking Report'!E26<>\"\",'CoC Renewal Ranking Report'!E26,\"\")","v":"Perry County Veterans Program"},{"$f":"IF('CoC Renewal Ranking Report'!G26<>\"\",'CoC Renewal Ranking Report'!G26,\"\")","v":"PH"},{"$f":"IF('CoC Renewal Ranking Report'!AR26<>\"\",'CoC Renewal Ranking Report'!AR26,\"\")","v":0},5]
[{"$f":"IF('CoC Renewal Ranking Report'!D27<>\"\",'CoC Renewal Ranking Report'!D27,\"\")","v":"Housing Authority of the County of Cumberland"},{"$f":"IF('CoC Renewal Ranking Report'!E27<>\"\",'CoC Renewal Ranking Report'!E27,\"\")","v":"Rapid Rehousing II"},{"$f":"IF('CoC Renewal Ranking Report'!G27<>\"\",'CoC Renewal Ranking Report'!G27,\"\")","v":"PH-RRH"},{"$f":"IF('CoC Renewal Ranking Report'!AR27<>\"\",'CoC Renewal Ranking Report'!AR27,\"\")","v":0},5]
[{"$f":"IF('CoC Renewal Ranking Report'!D28<>\"\",'CoC Renewal Ranking Report'!D28,\"\")","v":"Housing Authority of the County of Cumberland"},{"$f":"IF('CoC Renewal Ranking Report'!E28<>\"\",'CoC Renewal Ranking Report'!E28,\"\")","v":"Safe Harbour SHP"},{"$f":"IF('CoC Renewal Ranking Report'!G28<>\"\",'CoC Renewal Ranking Report'!G28,\"\")","v":"PH"},{"$f":"IF('CoC Renewal Ranking Report'!AR28<>\"\",'CoC Renewal Ranking Report'!AR28,\"\")","v":1.6500000000000001E-2},5]
[{"$f":"IF('CoC Renewal Ranking Report'!D29<>\"\",'CoC Renewal Ranking Report'!D29,\"\")","v":"Housing Authority of the County of Cumberland"},{"$f":"IF('CoC Renewal Ranking Report'!E29<>\"\",'CoC Renewal Ranking Report'!E29,\"\")","v":"Shelter + Care Chronic"},{"$f":"IF('CoC Renewal Ranking Report'!G29<>\"\",'CoC Renewal Ranking Report'!G29,\"\")","v":"PH"},{"$f":"IF('CoC Renewal Ranking Report'!AR29<>\"\",'CoC Renewal Ranking Report'!AR29,\"\")","v":1.78E-2},5]
[{"$f":"IF('CoC Renewal Ranking Report'!D30<>\"\",'CoC Renewal Ranking Report'!D30,\"\")","v":"Housing Authority of the County of Cumberland"},{"$f":"IF('CoC Renewal Ranking Report'!E30<>\"\",'CoC Renewal Ranking Report'!E30,\"\")","v":"Shelter + Care Non-Chronic"},{"$f":"IF('CoC Renewal Ranking Report'!G30<>\"\",'CoC Renewal Ranking Report'!G30,\"\")","v":"PH"},{"$f":"IF('CoC Renewal Ranking Report'!AR30<>\"\",'CoC Renewal Ranking Report'!AR30,\"\")","v":1.9900000000000001E-2},5]
[{"$f":"IF('CoC Renewal Ranking Report'!D31<>\"\",'CoC Renewal Ranking Report'!D31,\"\")","v":"Housing Authority of the County of Cumberland"},{"$f":"IF('CoC Renewal Ranking Report'!E31<>\"\",'CoC Renewal Ranking Report'!E31,\"\")","v":"West Shore SHP I"},{"$f":"IF('CoC Renewal Ranking Report'!G31<>\"\",'CoC Renewal Ranking Report'!G31,\"\")","v":"PH"},{"$f":"IF('CoC Renewal Ranking Report'!AR31<>\"\",'CoC Renewal Ranking Report'!AR31,\"\")","v":8.0999999999999996E-3},5]
[{"$f":"IF('CoC Renewal Ranking Report'!D32<>\"\",'CoC Renewal Ranking Report'!D32,\"\")","v":"Housing Authority of the County of Cumberland"},{"$f":"IF('CoC Renewal Ranking Report'!E32<>\"\",'CoC Renewal Ranking Report'!E32,\"\")","v":"West Shore SHP II"},{"$f":"IF('CoC Renewal Ranking Report'!G32<>\"\",'CoC Renewal Ranking Report'!G32,\"\")","v":"PH"},{"$f":"IF('CoC Renewal Ranking Report'!AR32<>\"\",'CoC Renewal Ranking Report'!AR32,\"\")","v":1.4E-2},5]
[{"$f":"IF('CoC Renewal Ranking Report'!D33<>\"\",'CoC Renewal Ranking Report'!D33,\"\")","v":"Housing Development Corporation of NEPA"},{"$f":"IF('CoC Renewal Ranking Report'!E33<>\"\",'CoC Renewal Ranking Report'!E33,\"\")","v":"HDC SHP 3 2016"},{"$f":"IF('CoC Renewal Ranking Report'!G33<>\"\",'CoC Renewal Ranking Report'!G33,\"\")","v":"PH"},{"$f":"IF('CoC Renewal Ranking Report'!AR33<>\"\",'CoC Renewal Ranking Report'!AR33,\"\")","v":5.7999999999999996E-3},5]
[{"$f":"IF('CoC Renewal Ranking Report'!D34<>\"\",'CoC Renewal Ranking Report'!D34,\"\")","v":"Housing Development Corporation of NEPA"},{"$f":"IF('CoC Renewal Ranking Report'!E34<>\"\",'CoC Renewal Ranking Report'!E34,\"\")","v":"HDC SHP 6 2016"},{"$f":"IF('CoC Renewal Ranking Report'!G34<>\"\",'CoC Renewal Ranking Report'!G34,\"\")","v":"PH"},{"$f":"IF('CoC Renewal Ranking Report'!AR34<>\"\",'CoC Renewal Ranking Report'!AR34,\"\")","v":0},5]
[{"$f":"IF('CoC Renewal Ranking Report'!D35<>\"\",'CoC Renewal Ranking Report'!D35,\"\")","v":"Housing Transitions, Inc."},{"$f":"IF('CoC Renewal Ranking Report'!E35<>\"\",'CoC Renewal Ranking Report'!E35,\"\")","v":"Nittany House Apartments"},{"$f":"IF('CoC Renewal Ranking Report'!G35<>\"\",'CoC Renewal Ranking Report'!G35,\"\")","v":"PH"},{"$f":"IF('CoC Renewal Ranking Report'!AR35<>\"\",'CoC Renewal Ranking Report'!AR35,\"\")","v":0},5]
[{"$f":"IF('CoC Renewal Ranking Report'!D36<>\"\",'CoC Renewal Ranking Report'!D36,\"\")","v":"Lehigh County Conference of Churches"},{"$f":"IF('CoC Renewal Ranking Report'!E36<>\"\",'CoC Renewal Ranking Report'!E36,\"\")","v":"Outreach and Case Management for the Disabled, Chronically Homeless"},{"$f":"IF('CoC Renewal Ranking Report'!G36<>\"\",'CoC Renewal Ranking Report'!G36,\"\")","v":"SSO"},{"$f":"IF('CoC Renewal Ranking Report'!AR36<>\"\",'CoC Renewal Ranking Report'!AR36,\"\")","v":0},5]
[{"$f":"IF('CoC Renewal Ranking Report'!D37<>\"\",'CoC Renewal Ranking Report'!D37,\"\")","v":"Lehigh County Conference of Churches"},{"$f":"IF('CoC Renewal Ranking Report'!E37<>\"\",'CoC Renewal Ranking Report'!E37,\"\")","v":"Pathways Housing"},{"$f":"IF('CoC Renewal Ranking Report'!G37<>\"\",'CoC Renewal Ranking Report'!G37,\"\")","v":"PH"},{"$f":"IF('CoC Renewal Ranking Report'!AR37<>\"\",'CoC Renewal Ranking Report'!AR37,\"\")","v":9.2999999999999992E-3},5]
[{"$f":"IF('CoC Renewal Ranking Report'!D38<>\"\",'CoC Renewal Ranking Report'!D38,\"\")","v":"Lehigh County Conference of Churches"},{"$f":"IF('CoC Renewal Ranking Report'!E38<>\"\",'CoC Renewal Ranking Report'!E38,\"\")","v":"Pathways Housing 2"},{"$f":"IF('CoC Renewal Ranking Report'!G38<>\"\",'CoC Renewal Ranking Report'!G38,\"\")","v":"PH"},{"$f":"IF('CoC Renewal Ranking Report'!AR38<>\"\",'CoC Renewal Ranking Report'!AR38,\"\")","v":0},5]
[{"$f":"IF('CoC Renewal Ranking Report'!D39<>\"\",'CoC Renewal Ranking Report'!D39,\"\")","v":"Lehigh County Conference of Churches"},{"$f":"IF('CoC Renewal Ranking Report'!E39<>\"\",'CoC Renewal Ranking Report'!E39,\"\")","v":"Pathways TBRA for Families, Youth and Veterans"},{"$f":"IF('CoC Renewal Ranking Report'!G39<>\"\",'CoC Renewal Ranking Report'!G39,\"\")","v":"PH"},{"$f":"IF('CoC Renewal Ranking Report'!AR39<>\"\",'CoC Renewal Ranking Report'!AR39,\"\")","v":0},5]
[{"$f":"IF('CoC Renewal Ranking Report'!D40<>\"\",'CoC Renewal Ranking Report'!D40,\"\")","v":"Lehigh County Conference of Churches"},{"$f":"IF('CoC Renewal Ranking Report'!E40<>\"\",'CoC Renewal Ranking Report'!E40,\"\")","v":"Tenant-Based Rental Assistance for the Disabled,Chronically Homeless"},{"$f":"IF('CoC Renewal Ranking Report'!G40<>\"\",'CoC Renewal Ranking Report'!G40,\"\")","v":"PH"},{"$f":"IF('CoC Renewal Ranking Report'!AR40<>\"\",'CoC Renewal Ranking Report'!AR40,\"\")","v":0},5]
[{"$f":"IF('CoC Renewal Ranking Report'!D41<>\"\",'CoC Renewal Ranking Report'!D41,\"\")","v":"Lehigh County Housing Authority"},{"$f":"IF('CoC Renewal Ranking Report'!E41<>\"\",'CoC Renewal Ranking Report'!E41,\"\")","v":"LCHA S+C 2016"},{"$f":"IF('CoC Renewal Ranking Report'!G41<>\"\",'CoC Renewal Ranking Report'!G41,\"\")","v":"PH"},{"$f":"IF('CoC Renewal Ranking Report'!AR41<>\"\",'CoC Renewal Ranking Report'!AR41,\"\")","v":3.5200000000000002E-2},5]
[{"$f":"IF('CoC Renewal Ranking Report'!D42<>\"\",'CoC Renewal Ranking Report'!D42,\"\")","v":"Maranatha"},{"$f":"IF('CoC Renewal Ranking Report'!E42<>\"\",'CoC Renewal Ranking Report'!E42,\"\")","v":"TOTAL PERSON TRANSITIONAL PROGRAM 1 & 2"},{"$f":"IF('CoC Renewal Ranking Report'!G42<>\"\",'CoC Renewal Ranking Report'!G42,\"\")","v":"PH-RRH"},{"$f":"IF('CoC Renewal Ranking Report'!AR42<>\"\",'CoC Renewal Ranking Report'!AR42,\"\")","v":0},5]
[{"$f":"IF('CoC Renewal Ranking Report'!D43<>\"\",'CoC Renewal Ranking Report'!D43,\"\")","v":"Mifflin County"},{"$f":"IF('CoC Renewal Ranking Report'!E43<>\"\",'CoC Renewal Ranking Report'!E43,\"\")","v":"Mifflin County Permanent Housing Renewal"},{"$f":"IF('CoC Renewal Ranking Report'!G43<>\"\",'CoC Renewal Ranking Report'!G43,\"\")","v":"PH"},{"$f":"IF('CoC Renewal Ranking Report'!AR43<>\"\",'CoC Renewal Ranking Report'!AR43,\"\")","v":0},5]
[{"$f":"IF('CoC Renewal Ranking Report'!D44<>\"\",'CoC Renewal Ranking Report'!D44,\"\")","v":"Northampton County Housing Authority"},{"$f":"IF('CoC Renewal Ranking Report'!E44<>\"\",'CoC Renewal Ranking Report'!E44,\"\")","v":"NCHA S+C 2016"},{"$f":"IF('CoC Renewal Ranking Report'!G44<>\"\",'CoC Renewal Ranking Report'!G44,\"\")","v":"PH"},{"$f":"IF('CoC Renewal Ranking Report'!AR44<>\"\",'CoC Renewal Ranking Report'!AR44,\"\")","v":5.7700000000000001E-2},0]
[{"$f":"IF('CoC Renewal Ranking Report'!D45<>\"\",'CoC Renewal Ranking Report'!D45,\"\")","v":"Northern Cambria Community Development Corporation"},{"$f":"IF('CoC Renewal Ranking Report'!E45<>\"\",'CoC Renewal Ranking Report'!E45,\"\")","v":"Independence Gardens"},{"$f":"IF('CoC Renewal Ranking Report'!G45<>\"\",'CoC Renewal Ranking Report'!G45,\"\")","v":"PH"},{"$f":"IF('CoC Renewal Ranking Report'!AR45<>\"\",'CoC Renewal Ranking Report'!AR45,\"\")","v":0},5]
[{"$f":"IF('CoC Renewal Ranking Report'!D46<>\"\",'CoC Renewal Ranking Report'!D46,\"\")","v":"Northern Cambria Community Development Corporation"},{"$f":"IF('CoC Renewal Ranking Report'!E46<>\"\",'CoC Renewal Ranking Report'!E46,\"\")","v":"Schoolhouse Gardens"},{"$f":"IF('CoC Renewal Ranking Report'!G46<>\"\",'CoC Renewal Ranking Report'!G46,\"\")","v":"PH"},{"$f":"IF('CoC Renewal Ranking Report'!AR46<>\"\",'CoC Renewal Ranking Report'!AR46,\"\")","v":0},5]
[{"$f":"IF('CoC Renewal Ranking Report'!D47<>\"\",'CoC Renewal Ranking Report'!D47,\"\")","v":"Northumberland County MH/MR"},{"$f":"IF('CoC Renewal Ranking Report'!E47<>\"\",'CoC Renewal Ranking Report'!E47,\"\")","v":"Sharing Support"},{"$f":"IF('CoC Renewal Ranking Report'!G47<>\"\",'CoC Renewal Ranking Report'!G47,\"\")","v":"PH"},{"$f":"IF('CoC Renewal Ranking Report'!AR47<>\"\",'CoC Renewal Ranking Report'!AR47,\"\")","v":4.1000000000000002E-2},5]
[{"$f":"IF('CoC Renewal Ranking Report'!D48<>\"\",'CoC Renewal Ranking Report'!D48,\"\")","v":"Resources for Human Development, Inc."},{"$f":"IF('CoC Renewal Ranking Report'!E48<>\"\",'CoC Renewal Ranking Report'!E48,\"\")","v":"Crossroads Family"},{"$f":"IF('CoC Renewal Ranking Report'!G48<>\"\",'CoC Renewal Ranking Report'!G48,\"\")","v":"PH"},{"$f":"IF('CoC Renewal Ranking Report'!AR48<>\"\",'CoC Renewal Ranking Report'!AR48,\"\")","v":1.9E-3},5]
[{"$f":"IF('CoC Renewal Ranking Report'!D49<>\"\",'CoC Renewal Ranking Report'!D49,\"\")","v":"Resources for Human Development, Inc."},{"$f":"IF('CoC Renewal Ranking Report'!E49<>\"\",'CoC Renewal Ranking Report'!E49,\"\")","v":"Crossroads Housing Bonus"},{"$f":"IF('CoC Renewal Ranking Report'!G49<>\"\",'CoC Renewal Ranking Report'!G49,\"\")","v":"PH"},{"$f":"IF('CoC Renewal Ranking Report'!AR49<>\"\",'CoC Renewal Ranking Report'!AR49,\"\")","v":0},5]
[{"$f":"IF('CoC Renewal Ranking Report'!D50<>\"\",'CoC Renewal Ranking Report'!D50,\"\")","v":"Resources for Human Development, Inc."},{"$f":"IF('CoC Renewal Ranking Report'!E50<>\"\",'CoC Renewal Ranking Report'!E50,\"\")","v":"Crossroads Individual"},{"$f":"IF('CoC Renewal Ranking Report'!G50<>\"\",'CoC Renewal Ranking Report'!G50,\"\")","v":"PH"},{"$f":"IF('CoC Renewal Ranking Report'!AR50<>\"\",'CoC Renewal Ranking Report'!AR50,\"\")","v":0},5]
[{"$f":"IF('CoC Renewal Ranking Report'!D51<>\"\",'CoC Renewal Ranking Report'!D51,\"\")","v":"Resources for Human Development, Inc."},{"$f":"IF('CoC Renewal Ranking Report'!E51<>\"\",'CoC Renewal Ranking Report'!E51,\"\")","v":"Crossroads Schuylkill Co. Permanent Supportive Housing"},{"$f":"IF('CoC Renewal Ranking Report'!G51<>\"\",'CoC Renewal Ranking Report'!G51,\"\")","v":"PH"},{"$f":"IF('CoC Renewal Ranking Report'!AR51<>\"\",'CoC Renewal Ranking Report'!AR51,\"\")","v":0},5]
[{"$f":"IF('CoC Renewal Ranking Report'!D52<>\"\",'CoC Renewal Ranking Report'!D52,\"\")","v":"Resources for Human Development, Inc."},{"$f":"IF('CoC Renewal Ranking Report'!E52<>\"\",'CoC Renewal Ranking Report'!E52,\"\")","v":"LV ACT Housing Supports"},{"$f":"IF('CoC Renewal Ranking Report'!G52<>\"\",'CoC Renewal Ranking Report'!G52,\"\")","v":"PH"},{"$f":"IF('CoC Renewal Ranking Report'!AR52<>\"\",'CoC Renewal Ranking Report'!AR52,\"\")","v":0},5]
[{"$f":"IF('CoC Renewal Ranking Report'!D53<>\"\",'CoC Renewal Ranking Report'!D53,\"\")","v":"Tableland Services, Inc."},{"$f":"IF('CoC Renewal Ranking Report'!E53<>\"\",'CoC Renewal Ranking Report'!E53,\"\")","v":"Permanent Housing with Disabilities (SHP)"},{"$f":"IF('CoC Renewal Ranking Report'!G53<>\"\",'CoC Renewal Ranking Report'!G53,\"\")","v":"PH"},{"$f":"IF('CoC Renewal Ranking Report'!AR53<>\"\",'CoC Renewal Ranking Report'!AR53,\"\")","v":1.04E-2},5]
[{"$f":"IF('CoC Renewal Ranking Report'!D54<>\"\",'CoC Renewal Ranking Report'!D54,\"\")","v":"Tableland Services, Inc."},{"$f":"IF('CoC Renewal Ranking Report'!E54<>\"\",'CoC Renewal Ranking Report'!E54,\"\")","v":"Permanent Supportive Housing CH Project"},{"$f":"IF('CoC Renewal Ranking Report'!G54<>\"\",'CoC Renewal Ranking Report'!G54,\"\")","v":"PH"},{"$f":"IF('CoC Renewal Ranking Report'!AR54<>\"\",'CoC Renewal Ranking Report'!AR54,\"\")","v":0},5]
[{"$f":"IF('CoC Renewal Ranking Report'!D55<>\"\",'CoC Renewal Ranking Report'!D55,\"\")","v":"The Salvation Army, a New York Corporation"},{"$f":"IF('CoC Renewal Ranking Report'!E55<>\"\",'CoC Renewal Ranking Report'!E55,\"\")","v":"Allentown Hospitality House Permanent Housing Program"},{"$f":"IF('CoC Renewal Ranking Report'!G55<>\"\",'CoC Renewal Ranking Report'!G55,\"\")","v":"PH"},{"$f":"IF('CoC Renewal Ranking Report'!AR55<>\"\",'CoC Renewal Ranking Report'!AR55,\"\")","v":0},5]
[{"$f":"IF('CoC Renewal Ranking Report'!D56<>\"\",'CoC Renewal Ranking Report'!D56,\"\")","v":"The Salvation Army, a New York Corporation"},{"$f":"IF('CoC Renewal Ranking Report'!E56<>\"\",'CoC Renewal Ranking Report'!E56,\"\")","v":"Salvation Army Carlisle PH Project"},{"$f":"IF('CoC Renewal Ranking Report'!G56<>\"\",'CoC Renewal Ranking Report'!G56,\"\")","v":"PH"},{"$f":"IF('CoC Renewal Ranking Report'!AR56<>\"\",'CoC Renewal Ranking Report'!AR56,\"\")","v":1.0999999999999999E-2},5]
[{"$f":"IF('CoC Renewal Ranking Report'!D57<>\"\",'CoC Renewal Ranking Report'!D57,\"\")","v":"Union-Snyder Community Action Agency"},{"$f":"IF('CoC Renewal Ranking Report'!E57<>\"\",'CoC Renewal Ranking Report'!E57,\"\")","v":"Union-Snyder Rapid ReHousing Program"},{"$f":"IF('CoC Renewal Ranking Report'!G57<>\"\",'CoC Renewal Ranking Report'!G57,\"\")","v":"PH-RRH"},{"$f":"IF('CoC Renewal Ranking Report'!AR57<>\"\",'CoC Renewal Ranking Report'!AR57,\"\")","v":2.3699999999999999E-2},5]
[{"$f":"IF('CoC Renewal Ranking Report'!D58<>\"\",'CoC Renewal Ranking Report'!D58,\"\")","v":"United Christian Ministries"},{"$f":"IF('CoC Renewal Ranking Report'!E58<>\"\",'CoC Renewal Ranking Report'!E58,\"\")","v":"Kenner Garnet Renewal 2016"},{"$f":"IF('CoC Renewal Ranking Report'!G58<>\"\",'CoC Renewal Ranking Report'!G58,\"\")","v":"PH"},{"$f":"IF('CoC Renewal Ranking Report'!AR58<>\"\",'CoC Renewal Ranking Report'!AR58,\"\")","v":1.4200000000000001E-2},5]
[{"$f":"IF('CoC Renewal Ranking Report'!D59<>\"\",'CoC Renewal Ranking Report'!D59,\"\")","v":"Valley Housing Development Corporation "},{"$f":"IF('CoC Renewal Ranking Report'!E59<>\"\",'CoC Renewal Ranking Report'!E59,\"\")","v":"VHDC SHP #2 2016"},{"$f":"IF('CoC Renewal Ranking Report'!G59<>\"\",'CoC Renewal Ranking Report'!G59,\"\")","v":"PH"},{"$f":"IF('CoC Renewal Ranking Report'!AR59<>\"\",'CoC Renewal Ranking Report'!AR59,\"\")","v":4.6199999999999998E-2},5]
[{"$f":"IF('CoC Renewal Ranking Report'!D60<>\"\",'CoC Renewal Ranking Report'!D60,\"\")","v":"Valley Housing Development Corporation "},{"$f":"IF('CoC Renewal Ranking Report'!E60<>\"\",'CoC Renewal Ranking Report'!E60,\"\")","v":"VHDC SHP #3 2016"},{"$f":"IF('CoC Renewal Ranking Report'!G60<>\"\",'CoC Renewal Ranking Report'!G60,\"\")","v":"PH"},{"$f":"IF('CoC Renewal Ranking Report'!AR60<>\"\",'CoC Renewal Ranking Report'!AR60,\"\")","v":3.6400000000000002E-2},5]
[{"$f":"IF('CoC Renewal Ranking Report'!D61<>\"\",'CoC Renewal Ranking Report'!D61,\"\")","v":"Valley Housing Development Corporation "},{"$f":"IF('CoC Renewal Ranking Report'!E61<>\"\",'CoC Renewal Ranking Report'!E61,\"\")","v":"VHDC SHP #4 2016"},{"$f":"IF('CoC Renewal Ranking Report'!G61<>\"\",'CoC Renewal Ranking Report'!G61,\"\")","v":"PH"},{"$f":"IF('CoC Renewal Ranking Report'!AR61<>\"\",'CoC Renewal Ranking Report'!AR61,\"\")","v":4.8099999999999997E-2},5]
[{"$f":"IF('CoC Renewal Ranking Report'!D62<>\"\",'CoC Renewal Ranking Report'!D62,\"\")","v":""},{"$f":"IF('CoC Renewal Ranking Report'!E62<>\"\",'CoC Renewal Ranking Report'!E62,\"\")","v":""},{"$f":"IF('CoC Renewal Ranking Report'!G62<>\"\",'CoC Renewal Ranking Report'!G62,\"\")","v":""},{"$f":"IF('CoC Renewal Ranking Report'!AR62<>\"\",'CoC Renewal Ranking Report'!AR62,\"\")","v":""},""]
[{"$f":"IF('CoC Renewal Ranking Report'!D63<>\"\",'CoC Renewal Ranking Report'!D63,\"\")","v":""},{"$f":"IF('CoC Renewal Ranking Report'!E63<>\"\",'CoC Renewal Ranking Report'!E63,\"\")","v":""},{"$f":"IF('CoC Renewal Ranking Report'!G63<>\"\",'CoC Renewal Ranking Report'!G63,\"\")","v":""},{"$f":"IF('CoC Renewal Ranking Report'!AR63<>\"\",'CoC Renewal Ranking Report'!AR63,\"\")","v":""},""]
[{"$f":"IF('CoC Renewal Ranking Report'!D64<>\"\",'CoC Renewal Ranking Report'!D64,\"\")","v":""},{"$f":"IF('CoC Renewal Ranking Report'!E64<>\"\",'CoC Renewal Ranking Report'!E64,\"\")","v":""},{"$f":"IF('CoC Renewal Ranking Report'!G64<>\"\",'CoC Renewal Ranking Report'!G64,\"\")","v":""},{"$f":"IF('CoC Renewal Ranking Report'!AR64<>\"\",'CoC Renewal Ranking Report'!AR64,\"\")","v":""},""]
[{"$f":"IF('CoC Renewal Ranking Report'!D65<>\"\",'CoC Renewal Ranking Report'!D65,\"\")","v":""},{"$f":"IF('CoC Renewal Ranking Report'!E65<>\"\",'CoC Renewal Ranking Report'!E65,\"\")","v":""},{"$f":"IF('CoC Renewal Ranking Report'!G65<>\"\",'CoC Renewal Ranking Report'!G65,\"\")","v":""},{"$f":"IF('CoC Renewal Ranking Report'!AR65<>\"\",'CoC Renewal Ranking Report'!AR65,\"\")","v":""},""]
[{"$f":"IF('CoC Renewal Ranking Report'!D66<>\"\",'CoC Renewal Ranking Report'!D66,\"\")","v":""},{"$f":"IF('CoC Renewal Ranking Report'!E66<>\"\",'CoC Renewal Ranking Report'!E66,\"\")","v":""},{"$f":"IF('CoC Renewal Ranking Report'!G66<>\"\",'CoC Renewal Ranking Report'!G66,\"\")","v":""},{"$f":"IF('CoC Renewal Ranking Report'!AR66<>\"\",'CoC Renewal Ranking Report'!AR66,\"\")","v":""},""]
[{"$f":"IF('CoC Renewal Ranking Report'!D67<>\"\",'CoC Renewal Ranking Report'!D67,\"\")","v":""},{"$f":"IF('CoC Renewal Ranking Report'!E67<>\"\",'CoC Renewal Ranking Report'!E67,\"\")","v":""},{"$f":"IF('CoC Renewal Ranking Report'!G67<>\"\",'CoC Renewal Ranking Report'!G67,\"\")","v":""},{"$f":"IF('CoC Renewal Ranking Report'!AR67<>\"\",'CoC Renewal Ranking Report'!AR67,\"\")","v":""},""]
[{"$f":"IF('CoC Renewal Ranking Report'!D68<>\"\",'CoC Renewal Ranking Report'!D68,\"\")","v":""},{"$f":"IF('CoC Renewal Ranking Report'!E68<>\"\",'CoC Renewal Ranking Report'!E68,\"\")","v":""},{"$f":"IF('CoC Renewal Ranking Report'!G68<>\"\",'CoC Renewal Ranking Report'!G68,\"\")","v":""},{"$f":"IF('CoC Renewal Ranking Report'!AR68<>\"\",'CoC Renewal Ranking Report'!AR68,\"\")","v":""},""]
[{"$f":"IF('CoC Renewal Ranking Report'!D69<>\"\",'CoC Renewal Ranking Report'!D69,\"\")","v":""},{"$f":"IF('CoC Renewal Ranking Report'!E69<>\"\",'CoC Renewal Ranking Report'!E69,\"\")","v":""},{"$f":"IF('CoC Renewal Ranking Report'!G69<>\"\",'CoC Renewal Ranking Report'!G69,\"\")","v":""},{"$f":"IF('CoC Renewal Ranking Report'!AR69<>\"\",'CoC Renewal Ranking Report'!AR69,\"\")","v":""},""]
[{"$f":"IF('CoC Renewal Ranking Report'!D70<>\"\",'CoC Renewal Ranking Report'!D70,\"\")","v":""},{"$f":"IF('CoC Renewal Ranking Report'!E70<>\"\",'CoC Renewal Ranking Report'!E70,\"\")","v":""},{"$f":"IF('CoC Renewal Ranking Report'!G70<>\"\",'CoC Renewal Ranking Report'!G70,\"\")","v":""},{"$f":"IF('CoC Renewal Ranking Report'!AR70<>\"\",'CoC Renewal Ranking Report'!AR70,\"\")","v":""},""]
[{"$f":"IF('CoC Renewal Ranking Report'!D71<>\"\",'CoC Renewal Ranking Report'!D71,\"\")","v":""},{"$f":"IF('CoC Renewal Ranking Report'!E71<>\"\",'CoC Renewal Ranking Report'!E71,\"\")","v":""},{"$f":"IF('CoC Renewal Ranking Report'!G71<>\"\",'CoC Renewal Ranking Report'!G71,\"\")","v":""},{"$f":"IF('CoC Renewal Ranking Report'!AR71<>\"\",'CoC Renewal Ranking Report'!AR71,\"\")","v":""},""]
[{"$f":"IF('CoC Renewal Ranking Report'!D72<>\"\",'CoC Renewal Ranking Report'!D72,\"\")","v":""},{"$f":"IF('CoC Renewal Ranking Report'!E72<>\"\",'CoC Renewal Ranking Report'!E72,\"\")","v":""},{"$f":"IF('CoC Renewal Ranking Report'!G72<>\"\",'CoC Renewal Ranking Report'!G72,\"\")","v":""},{"$f":"IF('CoC Renewal Ranking Report'!AR72<>\"\",'CoC Renewal Ranking Report'!AR72,\"\")","v":""},""]
[{"$f":"IF('CoC Renewal Ranking Report'!D73<>\"\",'CoC Renewal Ranking Report'!D73,\"\")","v":""},{"$f":"IF('CoC Renewal Ranking Report'!E73<>\"\",'CoC Renewal Ranking Report'!E73,\"\")","v":""},{"$f":"IF('CoC Renewal Ranking Report'!G73<>\"\",'CoC Renewal Ranking Report'!G73,\"\")","v":""},{"$f":"IF('CoC Renewal Ranking Report'!AR73<>\"\",'CoC Renewal Ranking Report'!AR73,\"\")","v":""},""]
[{"$f":"IF('CoC Renewal Ranking Report'!D74<>\"\",'CoC Renewal Ranking Report'!D74,\"\")","v":""},{"$f":"IF('CoC Renewal Ranking Report'!E74<>\"\",'CoC Renewal Ranking Report'!E74,\"\")","v":""},{"$f":"IF('CoC Renewal Ranking Report'!G74<>\"\",'CoC Renewal Ranking Report'!G74,\"\")","v":""},{"$f":"IF('CoC Renewal Ranking Report'!AR74<>\"\",'CoC Renewal Ranking Report'!AR74,\"\")","v":""},{"$f":"IF(AND(A71<>\"\", D71<>\"\"), IF(D71 < 0.05, 5, 0), \"\")","v":""}]
[{"$f":"IF('CoC Renewal Ranking Report'!D75<>\"\",'CoC Renewal Ranking Report'!D75,\"\")","v":""},{"$f":"IF('CoC Renewal Ranking Report'!E75<>\"\",'CoC Renewal Ranking Report'!E75,\"\")","v":""},{"$f":"IF('CoC Renewal Ranking Report'!G75<>\"\",'CoC Renewal Ranking Report'!G75,\"\")","v":""},{"$f":"IF('CoC Renewal Ranking Report'!AR75<>\"\",'CoC Renewal Ranking Report'!AR75,\"\")","v":""},""]
[{"$f":"IF('CoC Renewal Ranking Report'!D76<>\"\",'CoC Renewal Ranking Report'!D76,\"\")","v":""},{"$f":"IF('CoC Renewal Ranking Report'!E76<>\"\",'CoC Renewal Ranking Report'!E76,\"\")","v":""},{"$f":"IF('CoC Renewal Ranking Report'!G76<>\"\",'CoC Renewal Ranking Report'!G76,\"\")","v":""},{"$f":"IF('CoC Renewal Ranking Report'!AR76<>\"\",'CoC Renewal Ranking Report'!AR76,\"\")","v":""},""]
[{"$f":"IF('CoC Renewal Ranking Report'!D77<>\"\",'CoC Renewal Ranking Report'!D77,\"\")","v":""},{"$f":"IF('CoC Renewal Ranking Report'!E77<>\"\",'CoC Renewal Ranking Report'!E77,\"\")","v":""},{"$f":"IF('CoC Renewal Ranking Report'!G77<>\"\",'CoC Renewal Ranking Report'!G77,\"\")","v":""},{"$f":"IF('CoC Renewal Ranking Report'!AR77<>\"\",'CoC Renewal Ranking Report'!AR77,\"\")","v":""},""]
[{"$f":"IF('CoC Renewal Ranking Report'!D78<>\"\",'CoC Renewal Ranking Report'!D78,\"\")","v":""},{"$f":"IF('CoC Renewal Ranking Report'!E78<>\"\",'CoC Renewal Ranking Report'!E78,\"\")","v":""},{"$f":"IF('CoC Renewal Ranking Report'!G78<>\"\",'CoC Renewal Ranking Report'!G78,\"\")","v":""},{"$f":"IF('CoC Renewal Ranking Report'!AR78<>\"\",'CoC Renewal Ranking Report'!AR78,\"\")","v":""},""]
[{"$f":"IF('CoC Renewal Ranking Report'!D79<>\"\",'CoC Renewal Ranking Report'!D79,\"\")","v":""},{"$f":"IF('CoC Renewal Ranking Report'!E79<>\"\",'CoC Renewal Ranking Report'!E79,\"\")","v":""},{"$f":"IF('CoC Renewal Ranking Report'!G79<>\"\",'CoC Renewal Ranking Report'!G79,\"\")","v":""},{"$f":"IF('CoC Renewal Ranking Report'!AR79<>\"\",'CoC Renewal Ranking Report'!AR79,\"\")","v":""},""]
[{"$f":"IF('CoC Renewal Ranking Report'!D80<>\"\",'CoC Renewal Ranking Report'!D80,\"\")","v":""},{"$f":"IF('CoC Renewal Ranking Report'!E80<>\"\",'CoC Renewal Ranking Report'!E80,\"\")","v":""},{"$f":"IF('CoC Renewal Ranking Report'!G80<>\"\",'CoC Renewal Ranking Report'!G80,\"\")","v":""},{"$f":"IF('CoC Renewal Ranking Report'!AR80<>\"\",'CoC Renewal Ranking Report'!AR80,\"\")","v":""},""]
[{"$f":"IF('CoC Renewal Ranking Report'!D81<>\"\",'CoC Renewal Ranking Report'!D81,\"\")","v":""},{"$f":"IF('CoC Renewal Ranking Report'!E81<>\"\",'CoC Renewal Ranking Report'!E81,\"\")","v":""},{"$f":"IF('CoC Renewal Ranking Report'!G81<>\"\",'CoC Renewal Ranking Report'!G81,\"\")","v":""},{"$f":"IF('CoC Renewal Ranking Report'!AR81<>\"\",'CoC Renewal Ranking Report'!AR81,\"\")","v":""},""]
[{"$f":"IF('CoC Renewal Ranking Report'!D82<>\"\",'CoC Renewal Ranking Report'!D82,\"\")","v":""},{"$f":"IF('CoC Renewal Ranking Report'!E82<>\"\",'CoC Renewal Ranking Report'!E82,\"\")","v":""},{"$f":"IF('CoC Renewal Ranking Report'!G82<>\"\",'CoC Renewal Ranking Report'!G82,\"\")","v":""},{"$f":"IF('CoC Renewal Ranking Report'!AR82<>\"\",'CoC Renewal Ranking Report'!AR82,\"\")","v":""},""]
[{"$f":"IF('CoC Renewal Ranking Report'!D83<>\"\",'CoC Renewal Ranking Report'!D83,\"\")","v":""},{"$f":"IF('CoC Renewal Ranking Report'!E83<>\"\",'CoC Renewal Ranking Report'!E83,\"\")","v":""},{"$f":"IF('CoC Renewal Ranking Report'!G83<>\"\",'CoC Renewal Ranking Report'!G83,\"\")","v":""},{"$f":"IF('CoC Renewal Ranking Report'!AR83<>\"\",'CoC Renewal Ranking Report'!AR83,\"\")","v":""},""]
[{"$f":"IF('CoC Renewal Ranking Report'!D84<>\"\",'CoC Renewal Ranking Report'!D84,\"\")","v":""},{"$f":"IF('CoC Renewal Ranking Report'!E84<>\"\",'CoC Renewal Ranking Report'!E84,\"\")","v":""},{"$f":"IF('CoC Renewal Ranking Report'!G84<>\"\",'CoC Renewal Ranking Report'!G84,\"\")","v":""},{"$f":"IF('CoC Renewal Ranking Report'!AR84<>\"\",'CoC Renewal Ranking Report'!AR84,\"\")","v":""},""]
[{"$f":"IF('CoC Renewal Ranking Report'!D85<>\"\",'CoC Renewal Ranking Report'!D85,\"\")","v":""},{"$f":"IF('CoC Renewal Ranking Report'!E85<>\"\",'CoC Renewal Ranking Report'!E85,\"\")","v":""},{"$f":"IF('CoC Renewal Ranking Report'!G85<>\"\",'CoC Renewal Ranking Report'!G85,\"\")","v":""},{"$f":"IF('CoC Renewal Ranking Report'!AR85<>\"\",'CoC Renewal Ranking Report'!AR85,\"\")","v":""},""]
[{"$f":"IF('CoC Renewal Ranking Report'!D86<>\"\",'CoC Renewal Ranking Report'!D86,\"\")","v":""},{"$f":"IF('CoC Renewal Ranking Report'!E86<>\"\",'CoC Renewal Ranking Report'!E86,\"\")","v":""},{"$f":"IF('CoC Renewal Ranking Report'!G86<>\"\",'CoC Renewal Ranking Report'!G86,\"\")","v":""},{"$f":"IF('CoC Renewal Ranking Report'!AR86<>\"\",'CoC Renewal Ranking Report'!AR86,\"\")","v":""},""]
[{"$f":"IF('CoC Renewal Ranking Report'!D87<>\"\",'CoC Renewal Ranking Report'!D87,\"\")","v":""},{"$f":"IF('CoC Renewal Ranking Report'!E87<>\"\",'CoC Renewal Ranking Report'!E87,\"\")","v":""},{"$f":"IF('CoC Renewal Ranking Report'!G87<>\"\",'CoC Renewal Ranking Report'!G87,\"\")","v":""},{"$f":"IF('CoC Renewal Ranking Report'!AR87<>\"\",'CoC Renewal Ranking Report'!AR87,\"\")","v":""},""]
[{"$f":"IF('CoC Renewal Ranking Report'!D88<>\"\",'CoC Renewal Ranking Report'!D88,\"\")","v":""},{"$f":"IF('CoC Renewal Ranking Report'!E88<>\"\",'CoC Renewal Ranking Report'!E88,\"\")","v":""},{"$f":"IF('CoC Renewal Ranking Report'!G88<>\"\",'CoC Renewal Ranking Report'!G88,\"\")","v":""},{"$f":"IF('CoC Renewal Ranking Report'!AR88<>\"\",'CoC Renewal Ranking Report'!AR88,\"\")","v":""},""]
[{"$f":"IF('CoC Renewal Ranking Report'!D89<>\"\",'CoC Renewal Ranking Report'!D89,\"\")","v":""},{"$f":"IF('CoC Renewal Ranking Report'!E89<>\"\",'CoC Renewal Ranking Report'!E89,\"\")","v":""},{"$f":"IF('CoC Renewal Ranking Report'!G89<>\"\",'CoC Renewal Ranking Report'!G89,\"\")","v":""},{"$f":"IF('CoC Renewal Ranking Report'!AR89<>\"\",'CoC Renewal Ranking Report'!AR89,\"\")","v":""},""]
[{"$f":"IF('CoC Renewal Ranking Report'!D90<>\"\",'CoC Renewal Ranking Report'!D90,\"\")","v":""},{"$f":"IF('CoC Renewal Ranking Report'!E90<>\"\",'CoC Renewal Ranking Report'!E90,\"\")","v":""},{"$f":"IF('CoC Renewal Ranking Report'!G90<>\"\",'CoC Renewal Ranking Report'!G90,\"\")","v":""},{"$f":"IF('CoC Renewal Ranking Report'!AR90<>\"\",'CoC Renewal Ranking Report'!AR90,\"\")","v":""},""]
[{"$f":"IF('CoC Renewal Ranking Report'!D91<>\"\",'CoC Renewal Ranking Report'!D91,\"\")","v":""},{"$f":"IF('CoC Renewal Ranking Report'!E91<>\"\",'CoC Renewal Ranking Report'!E91,\"\")","v":""},{"$f":"IF('CoC Renewal Ranking Report'!G91<>\"\",'CoC Renewal Ranking Report'!G91,\"\")","v":""},{"$f":"IF('CoC Renewal Ranking Report'!AR91<>\"\",'CoC Renewal Ranking Report'!AR91,\"\")","v":""},""]
[{"$f":"IF('CoC Renewal Ranking Report'!D92<>\"\",'CoC Renewal Ranking Report'!D92,\"\")","v":""},{"$f":"IF('CoC Renewal Ranking Report'!E92<>\"\",'CoC Renewal Ranking Report'!E92,\"\")","v":""},{"$f":"IF('CoC Renewal Ranking Report'!G92<>\"\",'CoC Renewal Ranking Report'!G92,\"\")","v":""},{"$f":"IF('CoC Renewal Ranking Report'!AR92<>\"\",'CoC Renewal Ranking Report'!AR92,\"\")","v":""},""]
[{"$f":"IF('CoC Renewal Ranking Report'!D93<>\"\",'CoC Renewal Ranking Report'!D93,\"\")","v":""},{"$f":"IF('CoC Renewal Ranking Report'!E93<>\"\",'CoC Renewal Ranking Report'!E93,\"\")","v":""},{"$f":"IF('CoC Renewal Ranking Report'!G93<>\"\",'CoC Renewal Ranking Report'!G93,\"\")","v":""},{"$f":"IF('CoC Renewal Ranking Report'!AR93<>\"\",'CoC Renewal Ranking Report'!AR93,\"\")","v":""},""]
[{"$f":"IF('CoC Renewal Ranking Report'!D94<>\"\",'CoC Renewal Ranking Report'!D94,\"\")","v":""},{"$f":"IF('CoC Renewal Ranking Report'!E94<>\"\",'CoC Renewal Ranking Report'!E94,\"\")","v":""},{"$f":"IF('CoC Renewal Ranking Report'!G94<>\"\",'CoC Renewal Ranking Report'!G94,\"\")","v":""},{"$f":"IF('CoC Renewal Ranking Report'!AR94<>\"\",'CoC Renewal Ranking Report'!AR94,\"\")","v":""},""]
[{"$f":"IF('CoC Renewal Ranking Report'!D95<>\"\",'CoC Renewal Ranking Report'!D95,\"\")","v":""},{"$f":"IF('CoC Renewal Ranking Report'!E95<>\"\",'CoC Renewal Ranking Report'!E95,\"\")","v":""},{"$f":"IF('CoC Renewal Ranking Report'!G95<>\"\",'CoC Renewal Ranking Report'!G95,\"\")","v":""},{"$f":"IF('CoC Renewal Ranking Report'!AR95<>\"\",'CoC Renewal Ranking Report'!AR95,\"\")","v":""},""]
[{"$f":"IF('CoC Renewal Ranking Report'!D96<>\"\",'CoC Renewal Ranking Report'!D96,\"\")","v":""},{"$f":"IF('CoC Renewal Ranking Report'!E96<>\"\",'CoC Renewal Ranking Report'!E96,\"\")","v":""},{"$f":"IF('CoC Renewal Ranking Report'!G96<>\"\",'CoC Renewal Ranking Report'!G96,\"\")","v":""},{"$f":"IF('CoC Renewal Ranking Report'!AR96<>\"\",'CoC Renewal Ranking Report'!AR96,\"\")","v":""},""]
[{"$f":"IF('CoC Renewal Ranking Report'!D97<>\"\",'CoC Renewal Ranking Report'!D97,\"\")","v":""},{"$f":"IF('CoC Renewal Ranking Report'!E97<>\"\",'CoC Renewal Ranking Report'!E97,\"\")","v":""},{"$f":"IF('CoC Renewal Ranking Report'!G97<>\"\",'CoC Renewal Ranking Report'!G97,\"\")","v":""},{"$f":"IF('CoC Renewal Ranking Report'!AR97<>\"\",'CoC Renewal Ranking Report'!AR97,\"\")","v":""},""]
[{"$f":"IF('CoC Renewal Ranking Report'!D98<>\"\",'CoC Renewal Ranking Report'!D98,\"\")","v":""},{"$f":"IF('CoC Renewal Ranking Report'!E98<>\"\",'CoC Renewal Ranking Report'!E98,\"\")","v":""},{"$f":"IF('CoC Renewal Ranking Report'!G98<>\"\",'CoC Renewal Ranking Report'!G98,\"\")","v":""},{"$f":"IF('CoC Renewal Ranking Report'!AR98<>\"\",'CoC Renewal Ranking Report'!AR98,\"\")","v":""},""]
[{"$f":"IF('CoC Renewal Ranking Report'!D99<>\"\",'CoC Renewal Ranking Report'!D99,\"\")","v":""},{"$f":"IF('CoC Renewal Ranking Report'!E99<>\"\",'CoC Renewal Ranking Report'!E99,\"\")","v":""},{"$f":"IF('CoC Renewal Ranking Report'!G99<>\"\",'CoC Renewal Ranking Report'!G99,\"\")","v":""},{"$f":"IF('CoC Renewal Ranking Report'!AR99<>\"\",'CoC Renewal Ranking Report'!AR99,\"\")","v":""},""]
[{"$f":"IF('CoC Renewal Ranking Report'!D100<>\"\",'CoC Renewal Ranking Report'!D100,\"\")","v":""},{"$f":"IF('CoC Renewal Ranking Report'!E100<>\"\",'CoC Renewal Ranking Report'!E100,\"\")","v":""},{"$f":"IF('CoC Renewal Ranking Report'!G100<>\"\",'CoC Renewal Ranking Report'!G100,\"\")","v":""},{"$f":"IF('CoC Renewal Ranking Report'!AR100<>\"\",'CoC Renewal Ranking Report'!AR100,\"\")","v":""},""]
[{"$f":"IF('CoC Renewal Ranking Report'!D101<>\"\",'CoC Renewal Ranking Report'!D101,\"\")","v":""},{"$f":"IF('CoC Renewal Ranking Report'!E101<>\"\",'CoC Renewal Ranking Report'!E101,\"\")","v":""},{"$f":"IF('CoC Renewal Ranking Report'!G101<>\"\",'CoC Renewal Ranking Report'!G101,\"\")","v":""},{"$f":"IF('CoC Renewal Ranking Report'!AR101<>\"\",'CoC Renewal Ranking Report'!AR101,\"\")","v":""},""]
[{"$f":"IF('CoC Renewal Ranking Report'!D102<>\"\",'CoC Renewal Ranking Report'!D102,\"\")","v":""},{"$f":"IF('CoC Renewal Ranking Report'!E102<>\"\",'CoC Renewal Ranking Report'!E102,\"\")","v":""},{"$f":"IF('CoC Renewal Ranking Report'!G102<>\"\",'CoC Renewal Ranking Report'!G102,\"\")","v":""},{"$f":"IF('CoC Renewal Ranking Report'!AR102<>\"\",'CoC Renewal Ranking Report'!AR102,\"\")","v":""},""]
[{"$f":"IF('CoC Renewal Ranking Report'!D103<>\"\",'CoC Renewal Ranking Report'!D103,\"\")","v":""},{"$f":"IF('CoC Renewal Ranking Report'!E103<>\"\",'CoC Renewal Ranking Report'!E103,\"\")","v":""},{"$f":"IF('CoC Renewal Ranking Report'!G103<>\"\",'CoC Renewal Ranking Report'!G103,\"\")","v":""},{"$f":"IF('CoC Renewal Ranking Report'!AR103<>\"\",'CoC Renewal Ranking Report'!AR103,\"\")","v":""},""]
[{"$f":"IF('CoC Renewal Ranking Report'!D104<>\"\",'CoC Renewal Ranking Report'!D104,\"\")","v":""},{"$f":"IF('CoC Renewal Ranking Report'!E104<>\"\",'CoC Renewal Ranking Report'!E104,\"\")","v":""},{"$f":"IF('CoC Renewal Ranking Report'!G104<>\"\",'CoC Renewal Ranking Report'!G104,\"\")","v":""},{"$f":"IF('CoC Renewal Ranking Report'!AR104<>\"\",'CoC Renewal Ranking Report'!AR104,\"\")","v":""},""]
[{"$f":"IF('CoC Renewal Ranking Report'!D105<>\"\",'CoC Renewal Ranking Report'!D105,\"\")","v":""},{"$f":"IF('CoC Renewal Ranking Report'!E105<>\"\",'CoC Renewal Ranking Report'!E105,\"\")","v":""},{"$f":"IF('CoC Renewal Ranking Report'!G105<>\"\",'CoC Renewal Ranking Report'!G105,\"\")","v":""},{"$f":"IF('CoC Renewal Ranking Report'!AR105<>\"\",'CoC Renewal Ranking Report'!AR105,\"\")","v":""},""]

{"sheet":"HMIS Data Timeliness","index":25,"n_rows":102,"n_cols":5,"rows_kept":102,"cut":false,"hidden":false,"merged":[]}
[null,"HMIS Data Timeliness"]
[null,"Criteria (*not scoring)"]
[null,"Average of 7 days or less"]
[]
["Agency Name","Project Name","Project Type","Timeliness (Days)","Score"]
[{"$f":"IF('CoC Renewal Ranking Report'!D9<>\"\",'CoC Renewal Ranking Report'!D9,\"\")","v":""},{"$f":"IF('CoC Renewal Ranking Report'!E9<>\"\",'CoC Renewal Ranking Report'!E9,\"\")","v":""},{"$f":"IF('CoC Renewal Ranking Report'!G9<>\"\",'CoC Renewal Ranking Report'!G9,\"\")","v":""},{"$f":"IF('CoC Renewal Ranking Report'!AU9<>\"\",'CoC Renewal Ranking Report'!AU9,\"\")","v":""}]
[{"$f":"IF('CoC Renewal Ranking Report'!D10<>\"\",'CoC Renewal Ranking Report'!D10,\"\")","v":"Blair County Community Action Program"},{"$f":"IF('CoC Renewal Ranking Report'!E10<>\"\",'CoC Renewal Ranking Report'!E10,\"\")","v":"Rapid Re-Housing"},{"$f":"IF('CoC Renewal Ranking Report'!G10<>\"\",'CoC Renewal Ranking Report'!G10,\"\")","v":"PH-RRH"},{"$f":"IF('CoC Renewal Ranking Report'!AU10<>\"\",'CoC Renewal Ranking Report'!AU10,\"\")","v":92.13}]
[{"$f":"IF('CoC Renewal Ranking Report'!D11<>\"\",'CoC Renewal Ranking Report'!D11,\"\")","v":"Cambria County"},{"$f":"IF('CoC Renewal Ranking Report'!E11<>\"\",'CoC Renewal Ranking Report'!E11,\"\")","v":"Cambria County Comprehensive Housing Program"},{"$f":"IF('CoC Renewal Ranking Report'!G11<>\"\",'CoC Renewal Ranking Report'!G11,\"\")","v":"PH"},{"$f":"IF('CoC Renewal Ranking Report'!AU11<>\"\",'CoC Renewal Ranking Report'!AU11,\"\")","v":429.8}]
[{"$f":"IF('CoC Renewal Ranking Report'!D12<>\"\",'CoC Renewal Ranking Report'!D12,\"\")","v":"Catholic Charities of the Diocese of Allentown"},{"$f":"IF('CoC Renewal Ranking Report'!E12<>\"\",'CoC Renewal Ranking Report'!E12,\"\")","v":"Catholic Charities Allentown Permanent Housing Program"},{"$f":"IF('CoC Renewal Ranking Report'!G12<>\"\",'CoC Renewal Ranking Report'!G12,\"\")","v":"PH"},{"$f":"IF('CoC Renewal Ranking Report'!AU12<>\"\",'CoC Renewal Ranking Report'!AU12,\"\")","v":25.85}]
[{"$f":"IF('CoC Renewal Ranking Report'!D13<>\"\",'CoC Renewal Ranking Report'!D13,\"\")","v":"Catholic Social Services of the Diocese of Scranton, Inc."},{"$f":"IF('CoC Renewal Ranking Report'!E13<>\"\",'CoC Renewal Ranking Report'!E13,\"\")","v":"PSHP Pike County"},{"$f":"IF('CoC Renewal Ranking Report'!G13<>\"\",'CoC Renewal Ranking Report'!G13,\"\")","v":"PH"},{"$f":"IF('CoC Renewal Ranking Report'!AU13<>\"\",'CoC Renewal Ranking Report'!AU13,\"\")","v":201}]
[{"$f":"IF('CoC Renewal Ranking Report'!D14<>\"\",'CoC Renewal Ranking Report'!D14,\"\")","v":"Catholic Social Services of the Diocese of Scranton, Inc."},{"$f":"IF('CoC Renewal Ranking Report'!E14<>\"\",'CoC Renewal Ranking Report'!E14,\"\")","v":"Rural Permanent Supportive Housing Program"},{"$f":"IF('CoC Renewal Ranking Report'!G14<>\"\",'CoC Renewal Ranking Report'!G14,\"\")","v":"PH"},{"$f":"IF('CoC Renewal Ranking Report'!AU14<>\"\",'CoC Renewal Ranking Report'!AU14,\"\")","v":443.22}]
[{"$f":"IF('CoC Renewal Ranking Report'!D15<>\"\",'CoC Renewal Ranking Report'!D15,\"\")","v":"Catholic Social Services of the Diocese of Scranton, Inc."},{"$f":"IF('CoC Renewal Ranking Report'!E15<>\"\",'CoC Renewal Ranking Report'!E15,\"\")","v":"Susquehanna/Wayne PSHP"},{"$f":"IF('CoC Renewal Ranking Report'!G15<>\"\",'CoC Renewal Ranking Report'!G15,\"\")","v":"PH"},{"$f":"IF('CoC Renewal Ranking Report'!AU15<>\"\",'CoC Renewal Ranking Report'!AU15,\"\")","v":46.27}]
[{"$f":"IF('CoC Renewal Ranking Report'!D16<>\"\",'CoC Renewal Ranking Report'!D16,\"\")","v":"Center for Community Action"},{"$f":"IF('CoC Renewal Ranking Report'!E16<>\"\",'CoC Renewal Ranking Report'!E16,\"\")","v":"Bedford,Fulton, Huntingdon RRH"},{"$f":"IF('CoC Renewal Ranking Report'!G16<>\"\",'CoC Renewal Ranking Report'!G16,\"\")","v":"PH-RRH"},{"$f":"IF('CoC Renewal Ranking Report'!AU16<>\"\",'CoC Renewal Ranking Report'!AU16,\"\")","v":120.79}]
[{"$f":"IF('CoC Renewal Ranking Report'!D17<>\"\",'CoC Renewal Ranking Report'!D17,\"\")","v":"County of Franklin"},{"$f":"IF('CoC Renewal Ranking Report'!E17<>\"\",'CoC Renewal Ranking Report'!E17,\"\")","v":"Franklin/ Fulton S+C Project 2017"},{"$f":"IF('CoC Renewal Ranking Report'!G17<>\"\",'CoC Renewal Ranking Report'!G17,\"\")","v":"PH"},{"$f":"IF('CoC Renewal Ranking Report'!AU17<>\"\",'CoC Renewal Ranking Report'!AU17,\"\")","v":88.06}]
[{"$f":"IF('CoC Renewal Ranking Report'!D18<>\"\",'CoC Renewal Ranking Report'!D18,\"\")","v":"County of Franklin"},{"$f":"IF('CoC Renewal Ranking Report'!E18<>\"\",'CoC Renewal Ranking Report'!E18,\"\")","v":"Franklin/Fulton Homeless Assistance Project 2017"},{"$f":"IF('CoC Renewal Ranking Report'!G18<>\"\",'CoC Renewal Ranking Report'!G18,\"\")","v":"PH"},{"$f":"IF('CoC Renewal Ranking Report'!AU18<>\"\",'CoC Renewal Ranking Report'!AU18,\"\")","v":260.58999999999997}]
[{"$f":"IF('CoC Renewal Ranking Report'!D19<>\"\",'CoC Renewal Ranking Report'!D19,\"\")","v":"County of Lycoming DBA Lycoming- Clinton Joinder Board"},{"$f":"IF('CoC Renewal Ranking Report'!E19<>\"\",'CoC Renewal Ranking Report'!E19,\"\")","v":"Lycoming/Clinton Renewal #5"},{"$f":"IF('CoC Renewal Ranking Report'!G19<>\"\",'CoC Renewal Ranking Report'!G19,\"\")","v":"PH"},{"$f":"IF('CoC Renewal Ranking Report'!AU19<>\"\",'CoC Renewal Ranking Report'!AU19,\"\")","v":5}]
[{"$f":"IF('CoC Renewal Ranking Report'!D20<>\"\",'CoC Renewal Ranking Report'!D20,\"\")","v":"Fitzmaurice Community Services, Inc"},{"$f":"IF('CoC Renewal Ranking Report'!E20<>\"\",'CoC Renewal Ranking Report'!E20,\"\")","v":"Pathfinders"},{"$f":"IF('CoC Renewal Ranking Report'!G20<>\"\",'CoC Renewal Ranking Report'!G20,\"\")","v":"PH"},{"$f":"IF('CoC Renewal Ranking Report'!AU20<>\"\",'CoC Renewal Ranking Report'!AU20,\"\")","v":497.22}]
[{"$f":"IF('CoC Renewal Ranking Report'!D21<>\"\",'CoC Renewal Ranking Report'!D21,\"\")","v":"Home Nursing AgencyCommunity Services"},{"$f":"IF('CoC Renewal Ranking Report'!E21<>\"\",'CoC Renewal Ranking Report'!E21,\"\")","v":"Housing Assistance and Rental Program"},{"$f":"IF('CoC Renewal Ranking Report'!G21<>\"\",'CoC Renewal Ranking Report'!G21,\"\")","v":"PH"},{"$f":"IF('CoC Renewal Ranking Report'!AU21<>\"\",'CoC Renewal Ranking Report'!AU21,\"\")","v":103.23}]
[{"$f":"IF('CoC Renewal Ranking Report'!D22<>\"\",'CoC Renewal Ranking Report'!D22,\"\")","v":"Housing Authority of Monroe County"},{"$f":"IF('CoC Renewal Ranking Report'!E22<>\"\",'CoC Renewal Ranking Report'!E22,\"\")","v":"Renewal Application Shelter Plus Care MC 2016"},{"$f":"IF('CoC Renewal Ranking Report'!G22<>\"\",'CoC Renewal Ranking Report'!G22,\"\")","v":"PH"},{"$f":"IF('CoC Renewal Ranking Report'!AU22<>\"\",'CoC Renewal Ranking Report'!AU22,\"\")","v":800.11}]
[{"$f":"IF('CoC Renewal Ranking Report'!D23<>\"\",'CoC Renewal Ranking Report'!D23,\"\")","v":"Housing Authority of the County of Cumberland"},{"$f":"IF('CoC Renewal Ranking Report'!E23<>\"\",'CoC Renewal Ranking Report'!E23,\"\")","v":"Carlisle Supportive Housing Program"},{"$f":"IF('CoC Renewal Ranking Report'!G23<>\"\",'CoC Renewal Ranking Report'!G23,\"\")","v":"PH"},{"$f":"IF('CoC Renewal Ranking Report'!AU23<>\"\",'CoC Renewal Ranking Report'!AU23,\"\")","v":68.5}]
[{"$f":"IF('CoC Renewal Ranking Report'!D24<>\"\",'CoC Renewal Ranking Report'!D24,\"\")","v":"Housing Authority of the County of Cumberland"},{"$f":"IF('CoC Renewal Ranking Report'!E24<>\"\",'CoC Renewal Ranking Report'!E24,\"\")","v":"Perry County Permanent SHP"},{"$f":"IF('CoC Renewal Ranking Report'!G24<>\"\",'CoC Renewal Ranking Report'!G24,\"\")","v":"PH"},{"$f":"IF('CoC Renewal Ranking Report'!AU24<>\"\",'CoC Renewal Ranking Report'!AU24,\"\")","v":111.33}]
[{"$f":"IF('CoC Renewal Ranking Report'!D25<>\"\",'CoC Renewal Ranking Report'!D25,\"\")","v":"Housing Authority of the County of Cumberland"},{"$f":"IF('CoC Renewal Ranking Report'!E25<>\"\",'CoC Renewal Ranking Report'!E25,\"\")","v":"Perry County Transitional II"},{"$f":"IF('CoC Renewal Ranking Report'!G25<>\"\",'CoC Renewal Ranking Report'!G25,\"\")","v":"PH-RRH"},{"$f":"IF('CoC Renewal Ranking Report'!AU25<>\"\",'CoC Renewal Ranking Report'!AU25,\"\")","v":13.5}]
[{"$f":"IF('CoC Renewal Ranking Report'!D26<>\"\",'CoC Renewal Ranking Report'!D26,\"\")","v":"Housing Authority of the County of Cumberland"},{"$f":"IF('CoC Renewal Ranking Report'!E26<>\"\",'CoC Renewal Ranking Report'!E26,\"\")","v":"Perry County Veterans Program"},{"$f":"IF('CoC Renewal Ranking Report'!G26<>\"\",'CoC Renewal Ranking Report'!G26,\"\")","v":"PH"},{"$f":"IF('CoC Renewal Ranking Report'!AU26<>\"\",'CoC Renewal Ranking Report'!AU26,\"\")","v":234.4}]
[{"$f":"IF('CoC Renewal Ranking Report'!D27<>\"\",'CoC Renewal Ranking Report'!D27,\"\")","v":"Housing Authority of the County of Cumberland"},{"$f":"IF('CoC Renewal Ranking Report'!E27<>\"\",'CoC Renewal Ranking Report'!E27,\"\")","v":"Rapid Rehousing II"},{"$f":"IF('CoC Renewal Ranking Report'!G27<>\"\",'CoC Renewal Ranking Report'!G27,\"\")","v":"PH-RRH"},{"$f":"IF('CoC Renewal Ranking Report'!AU27<>\"\",'CoC Renewal Ranking Report'!AU27,\"\")","v":20.82}]
[{"$f":"IF('CoC Renewal Ranking Report'!D28<>\"\",'CoC Renewal Ranking Report'!D28,\"\")","v":"Housing Authority of the County of Cumberland"},{"$f":"IF('CoC Renewal Ranking Report'!E28<>\"\",'CoC Renewal Ranking Report'!E28,\"\")","v":"Safe Harbour SHP"},{"$f":"IF('CoC Renewal Ranking Report'!G28<>\"\",'CoC Renewal Ranking Report'!G28,\"\")","v":"PH"},{"$f":"IF('CoC Renewal Ranking Report'!AU28<>\"\",'CoC Renewal Ranking Report'!AU28,\"\")","v":117.46}]
[{"$f":"IF('CoC Renewal Ranking Report'!D29<>\"\",'CoC Renewal Ranking Report'!D29,\"\")","v":"Housing Authority of the County of Cumberland"},{"$f":"IF('CoC Renewal Ranking Report'!E29<>\"\",'CoC Renewal Ranking Report'!E29,\"\")","v":"Shelter + Care Chronic"},{"$f":"IF('CoC Renewal Ranking Report'!G29<>\"\",'CoC Renewal Ranking Report'!G29,\"\")","v":"PH"},{"$f":"IF('CoC Renewal Ranking Report'!AU29<>\"\",'CoC Renewal Ranking Report'!AU29,\"\")","v":148.27000000000001}]
[{"$f":"IF('CoC Renewal Ranking Report'!D30<>\"\",'CoC Renewal Ranking Report'!D30,\"\")","v":"Housing Authority of the County of Cumberland"},{"$f":"IF('CoC Renewal Ranking Report'!E30<>\"\",'CoC Renewal Ranking Report'!E30,\"\")","v":"Shelter + Care Non-Chronic"},{"$f":"IF('CoC Renewal Ranking Report'!G30<>\"\",'CoC Renewal Ranking Report'!G30,\"\")","v":"PH"},{"$f":"IF('CoC Renewal Ranking Report'!AU30<>\"\",'CoC Renewal Ranking Report'!AU30,\"\")","v":295.48}]
[{"$f":"IF('CoC Renewal Ranking Report'!D31<>\"\",'CoC Renewal Ranking Report'!D31,\"\")","v":"Housing Authority of the County of Cumberland"},{"$f":"IF('CoC Renewal Ranking Report'!E31<>\"\",'CoC Renewal Ranking Report'!E31,\"\")","v":"West Shore SHP I"},{"$f":"IF('CoC Renewal Ranking Report'!G31<>\"\",'CoC Renewal Ranking Report'!G31,\"\")","v":"PH"},{"$f":"IF('CoC Renewal Ranking Report'!AU31<>\"\",'CoC Renewal Ranking Report'!AU31,\"\")","v":96}]
[{"$f":"IF('CoC Renewal Ranking Report'!D32<>\"\",'CoC Renewal Ranking Report'!D32,\"\")","v":"Housing Authority of the County of Cumberland"},{"$f":"IF('CoC Renewal Ranking Report'!E32<>\"\",'CoC Renewal Ranking Report'!E32,\"\")","v":"West Shore SHP II"},{"$f":"IF('CoC Renewal Ranking Report'!G32<>\"\",'CoC Renewal Ranking Report'!G32,\"\")","v":"PH"},{"$f":"IF('CoC Renewal Ranking Report'!AU32<>\"\",'CoC Renewal Ranking Report'!AU32,\"\")","v":128.63999999999999}]
[{"$f":"IF('CoC Renewal Ranking Report'!D33<>\"\",'CoC Renewal Ranking Report'!D33,\"\")","v":"Housing Development Corporation of NEPA"},{"$f":"IF('CoC Renewal Ranking Report'!E33<>\"\",'CoC Renewal Ranking Report'!E33,\"\")","v":"HDC SHP 3 2016"},{"$f":"IF('CoC Renewal Ranking Report'!G33<>\"\",'CoC Renewal Ranking Report'!G33,\"\")","v":"PH"},{"$f":"IF('CoC Renewal Ranking Report'!AU33<>\"\",'CoC Renewal Ranking Report'!AU33,\"\")","v":622.65}]
[{"$f":"IF('CoC Renewal Ranking Report'!D34<>\"\",'CoC Renewal Ranking Report'!D34,\"\")","v":"Housing Development Corporation of NEPA"},{"$f":"IF('CoC Renewal Ranking Report'!E34<>\"\",'CoC Renewal Ranking Report'!E34,\"\")","v":"HDC SHP 6 2016"},{"$f":"IF('CoC Renewal Ranking Report'!G34<>\"\",'CoC Renewal Ranking Report'!G34,\"\")","v":"PH"},{"$f":"IF('CoC Renewal Ranking Report'!AU34<>\"\",'CoC Renewal Ranking Report'!AU34,\"\")","v":12}]
[{"$f":"IF('CoC Renewal Ranking Report'!D35<>\"\",'CoC Renewal Ranking Report'!D35,\"\")","v":"Housing Transitions, Inc."},{"$f":"IF('CoC Renewal Ranking Report'!E35<>\"\",'CoC Renewal Ranking Report'!E35,\"\")","v":"Nittany House Apartments"},{"$f":"IF('CoC Renewal Ranking Report'!G35<>\"\",'CoC Renewal Ranking Report'!G35,\"\")","v":"PH"},{"$f":"IF('CoC Renewal Ranking Report'!AU35<>\"\",'CoC Renewal Ranking Report'!AU35,\"\")","v":56.38}]
[{"$f":"IF('CoC Renewal Ranking Report'!D36<>\"\",'CoC Renewal Ranking Report'!D36,\"\")","v":"Lehigh County Conference of Churches"},{"$f":"IF('CoC Renewal Ranking Report'!E36<>\"\",'CoC Renewal Ranking Report'!E36,\"\")","v":"Outreach and Case Management for the Disabled, Chronically Homeless"},{"$f":"IF('CoC Renewal Ranking Report'!G36<>\"\",'CoC Renewal Ranking Report'!G36,\"\")","v":"SSO"},{"$f":"IF('CoC Renewal Ranking Report'!AU36<>\"\",'CoC Renewal Ranking Report'!AU36,\"\")","v":147.97}]
[{"$f":"IF('CoC Renewal Ranking Report'!D37<>\"\",'CoC Renewal Ranking Report'!D37,\"\")","v":"Lehigh County Conference of Churches"},{"$f":"IF('CoC Renewal Ranking Report'!E37<>\"\",'CoC Renewal Ranking Report'!E37,\"\")","v":"Pathways Housing"},{"$f":"IF('CoC Renewal Ranking Report'!G37<>\"\",'CoC Renewal Ranking Report'!G37,\"\")","v":"PH"},{"$f":"IF('CoC Renewal Ranking Report'!AU37<>\"\",'CoC Renewal Ranking Report'!AU37,\"\")","v":109.42}]
[{"$f":"IF('CoC Renewal Ranking Report'!D38<>\"\",'CoC Renewal Ranking Report'!D38,\"\")","v":"Lehigh County Conference of Churches"},{"$f":"IF('CoC Renewal Ranking Report'!E38<>\"\",'CoC Renewal Ranking Report'!E38,\"\")","v":"Pathways Housing 2"},{"$f":"IF('CoC Renewal Ranking Report'!G38<>\"\",'CoC Renewal Ranking Report'!G38,\"\")","v":"PH"},{"$f":"IF('CoC Renewal Ranking Report'!AU38<>\"\",'CoC Renewal Ranking Report'!AU38,\"\")","v":-69.88}]
[{"$f":"IF('CoC Renewal Ranking Report'!D39<>\"\",'CoC Renewal Ranking Report'!D39,\"\")","v":"Lehigh County Conference of Churches"},{"$f":"IF('CoC Renewal Ranking Report'!E39<>\"\",'CoC Renewal Ranking Report'!E39,\"\")","v":"Pathways TBRA for Families, Youth and Veterans"},{"$f":"IF('CoC Renewal Ranking Report'!G39<>\"\",'CoC Renewal Ranking Report'!G39,\"\")","v":"PH"},{"$f":"IF('CoC Renewal Ranking Report'!AU39<>\"\",'CoC Renewal Ranking Report'!AU39,\"\")","v":97.51}]
[{"$f":"IF('CoC Renewal Ranking Report'!D40<>\"\",'CoC Renewal Ranking Report'!D40,\"\")","v":"Lehigh County Conference of Churches"},{"$f":"IF('CoC Renewal Ranking Report'!E40<>\"\",'CoC Renewal Ranking Report'!E40,\"\")","v":"Tenant-Based Rental Assistance for the Disabled,Chronically Homeless"},{"$f":"IF('CoC Renewal Ranking Report'!G40<>\"\",'CoC Renewal Ranking Report'!G40,\"\")","v":"PH"},{"$f":"IF('CoC Renewal Ranking Report'!AU40<>\"\",'CoC Renewal Ranking Report'!AU40,\"\")","v":-745.17}]
[{"$f":"IF('CoC Renewal Ranking Report'!D41<>\"\",'CoC Renewal Ranking Report'!D41,\"\")","v":"Lehigh County Housing Authority"},{"$f":"IF('CoC Renewal Ranking Report'!E41<>\"\",'CoC Renewal Ranking Report'!E41,\"\")","v":"LCHA S+C 2016"},{"$f":"IF('CoC Renewal Ranking Report'!G41<>\"\",'CoC Renewal Ranking Report'!G41,\"\")","v":"PH"},{"$f":"IF('CoC Renewal Ranking Report'!AU41<>\"\",'CoC Renewal Ranking Report'!AU41,\"\")","v":451.26}]
[{"$f":"IF('CoC Renewal Ranking Report'!D42<>\"\",'CoC Renewal Ranking Report'!D42,\"\")","v":"Maranatha"},{"$f":"IF('CoC Renewal Ranking Report'!E42<>\"\",'CoC Renewal Ranking Report'!E42,\"\")","v":"TOTAL PERSON TRANSITIONAL PROGRAM 1 & 2"},{"$f":"IF('CoC Renewal Ranking Report'!G42<>\"\",'CoC Renewal Ranking Report'!G42,\"\")","v":"PH-RRH"},{"$f":"IF('CoC Renewal Ranking Report'!AU42<>\"\",'CoC Renewal Ranking Report'!AU42,\"\")","v":52.79}]
[{"$f":"IF('CoC Renewal Ranking Report'!D43<>\"\",'CoC Renewal Ranking Report'!D43,\"\")","v":"Mifflin County"},{"$f":"IF('CoC Renewal Ranking Report'!E43<>\"\",'CoC Renewal Ranking Report'!E43,\"\")","v":"Mifflin County Permanent Housing Renewal"},{"$f":"IF('CoC Renewal Ranking Report'!G43<>\"\",'CoC Renewal Ranking Report'!G43,\"\")","v":"PH"},{"$f":"IF('CoC Renewal Ranking Report'!AU43<>\"\",'CoC Renewal Ranking Report'!AU43,\"\")","v":63.1}]
[{"$f":"IF('CoC Renewal Ranking Report'!D44<>\"\",'CoC Renewal Ranking Report'!D44,\"\")","v":"Northampton County Housing Authority"},{"$f":"IF('CoC Renewal Ranking Report'!E44<>\"\",'CoC Renewal Ranking Report'!E44,\"\")","v":"NCHA S+C 2016"},{"$f":"IF('CoC Renewal Ranking Report'!G44<>\"\",'CoC Renewal Ranking Report'!G44,\"\")","v":"PH"},{"$f":"IF('CoC Renewal Ranking Report'!AU44<>\"\",'CoC Renewal Ranking Report'!AU44,\"\")","v":996.58}]
[{"$f":"IF('CoC Renewal Ranking Report'!D45<>\"\",'CoC Renewal Ranking Report'!D45,\"\")","v":"Northern Cambria Community Development Corporation"},{"$f":"IF('CoC Renewal Ranking Report'!E45<>\"\",'CoC Renewal Ranking Report'!E45,\"\")","v":"Independence Gardens"},{"$f":"IF('CoC Renewal Ranking Report'!G45<>\"\",'CoC Renewal Ranking Report'!G45,\"\")","v":"PH"},{"$f":"IF('CoC Renewal Ranking Report'!AU45<>\"\",'CoC Renewal Ranking Report'!AU45,\"\")","v":170.39}]
[{"$f":"IF('CoC Renewal Ranking Report'!D46<>\"\",'CoC Renewal Ranking Report'!D46,\"\")","v":"Northern Cambria Community Development Corporation"},{"$f":"IF('CoC Renewal Ranking Report'!E46<>\"\",'CoC Renewal Ranking Report'!E46,\"\")","v":"Schoolhouse Gardens"},{"$f":"IF('CoC Renewal Ranking Report'!G46<>\"\",'CoC Renewal Ranking Report'!G46,\"\")","v":"PH"},{"$f":"IF('CoC Renewal Ranking Report'!AU46<>\"\",'CoC Renewal Ranking Report'!AU46,\"\")","v":60.92}]
[{"$f":"IF('CoC Renewal Ranking Report'!D47<>\"\",'CoC Renewal Ranking Report'!D47,\"\")","v":"Northumberland County MH/MR"},{"$f":"IF('CoC Renewal Ranking Report'!E47<>\"\",'CoC Renewal Ranking Report'!E47,\"\")","v":"Sharing Support"},{"$f":"IF('CoC Renewal Ranking Report'!G47<>\"\",'CoC Renewal Ranking Report'!G47,\"\")","v":"PH"},{"$f":"IF('CoC Renewal Ranking Report'!AU47<>\"\",'CoC Renewal Ranking Report'!AU47,\"\")","v":32}]
[{"$f":"IF('CoC Renewal Ranking Report'!D48<>\"\",'CoC Renewal Ranking Report'!D48,\"\")","v":"Resources for Human Development, Inc."},{"$f":"IF('CoC Renewal Ranking Report'!E48<>\"\",'CoC Renewal Ranking Report'!E48,\"\")","v":"Crossroads Family"},{"$f":"IF('CoC Renewal Ranking Report'!G48<>\"\",'CoC Renewal Ranking Report'!G48,\"\")","v":"PH"},{"$f":"IF('CoC Renewal Ranking Report'!AU48<>\"\",'CoC Renewal Ranking Report'!AU48,\"\")","v":223.18}]
[{"$f":"IF('CoC Renewal Ranking Report'!D49<>\"\",'CoC Renewal Ranking Report'!D49,\"\")","v":"Resources for Human Development, Inc."},{"$f":"IF('CoC Renewal Ranking Report'!E49<>\"\",'CoC Renewal Ranking Report'!E49,\"\")","v":"Crossroads Housing Bonus"},{"$f":"IF('CoC Renewal Ranking Report'!G49<>\"\",'CoC Renewal Ranking Report'!G49,\"\")","v":"PH"},{"$f":"IF('CoC Renewal Ranking Report'!AU49<>\"\",'CoC Renewal Ranking Report'!AU49,\"\")","v":61.47}]
[{"$f":"IF('CoC Renewal Ranking Report'!D50<>\"\",'CoC Renewal Ranking Report'!D50,\"\")","v":"Resources for Human Development, Inc."},{"$f":"IF('CoC Renewal Ranking Report'!E50<>\"\",'CoC Renewal Ranking Report'!E50,\"\")","v":"Crossroads Individual"},{"$f":"IF('CoC Renewal Ranking Report'!G50<>\"\",'CoC Renewal Ranking Report'!G50,\"\")","v":"PH"},{"$f":"IF('CoC Renewal Ranking Report'!AU50<>\"\",'CoC Renewal Ranking Report'!AU50,\"\")","v":147.34}]
[{"$f":"IF('CoC Renewal Ranking Report'!D51<>\"\",'CoC Renewal Ranking Report'!D51,\"\")","v":"Resources for Human Development, Inc."},{"$f":"IF('CoC Renewal Ranking Report'!E51<>\"\",'CoC Renewal Ranking Report'!E51,\"\")","v":"Crossroads Schuylkill Co. Permanent Supportive Housing"},{"$f":"IF('CoC Renewal Ranking Report'!G51<>\"\",'CoC Renewal Ranking Report'!G51,\"\")","v":"PH"},{"$f":"IF('CoC Renewal Ranking Report'!AU51<>\"\",'CoC Renewal Ranking Report'!AU51,\"\")","v":86.2}]
[{"$f":"IF('CoC Renewal Ranking Report'!D52<>\"\",'CoC Renewal Ranking Report'!D52,\"\")","v":"Resources for Human Development, Inc."},{"$f":"IF('CoC Renewal Ranking Report'!E52<>\"\",'CoC Renewal Ranking Report'!E52,\"\")","v":"LV ACT Housing Supports"},{"$f":"IF('CoC Renewal Ranking Report'!G52<>\"\",'CoC Renewal Ranking Report'!G52,\"\")","v":"PH"},{"$f":"IF('CoC Renewal Ranking Report'!AU52<>\"\",'CoC Renewal Ranking Report'!AU52,\"\")","v":176.75}]
[{"$f":"IF('CoC Renewal Ranking Report'!D53<>\"\",'CoC Renewal Ranking Report'!D53,\"\")","v":"Tableland Services, Inc."},{"$f":"IF('CoC Renewal Ranking Report'!E53<>\"\",'CoC Renewal Ranking Report'!E53,\"\")","v":"Permanent Housing with Disabilities (SHP)"},{"$f":"IF('CoC Renewal Ranking Report'!G53<>\"\",'CoC Renewal Ranking Report'!G53,\"\")","v":"PH"},{"$f":"IF('CoC Renewal Ranking Report'!AU53<>\"\",'CoC Renewal Ranking Report'!AU53,\"\")","v":30.68}]
[{"$f":"IF('CoC Renewal Ranking Report'!D54<>\"\",'CoC Renewal Ranking Report'!D54,\"\")","v":"Tableland Services, Inc."},{"$f":"IF('CoC Renewal Ranking Report'!E54<>\"\",'CoC Renewal Ranking Report'!E54,\"\")","v":"Permanent Supportive Housing CH Project"},{"$f":"IF('CoC Renewal Ranking Report'!G54<>\"\",'CoC Renewal Ranking Report'!G54,\"\")","v":"PH"},{"$f":"IF('CoC Renewal Ranking Report'!AU54<>\"\",'CoC Renewal Ranking Report'!AU54,\"\")","v":17.329999999999998}]
[{"$f":"IF('CoC Renewal Ranking Report'!D55<>\"\",'CoC Renewal Ranking Report'!D55,\"\")","v":"The Salvation Army, a New York Corporation"},{"$f":"IF('CoC Renewal Ranking Report'!E55<>\"\",'CoC Renewal Ranking Report'!E55,\"\")","v":"Allentown Hospitality House Permanent Housing Program"},{"$f":"IF('CoC Renewal Ranking Report'!G55<>\"\",'CoC Renewal Ranking Report'!G55,\"\")","v":"PH"},{"$f":"IF('CoC Renewal Ranking Report'!AU55<>\"\",'CoC Renewal Ranking Report'!AU55,\"\")","v":48.14}]
[{"$f":"IF('CoC Renewal Ranking Report'!D56<>\"\",'CoC Renewal Ranking Report'!D56,\"\")","v":"The Salvation Army, a New York Corporation"},{"$f":"IF('CoC Renewal Ranking Report'!E56<>\"\",'CoC Renewal Ranking Report'!E56,\"\")","v":"Salvation Army Carlisle PH Project"},{"$f":"IF('CoC Renewal Ranking Report'!G56<>\"\",'CoC Renewal Ranking Report'!G56,\"\")","v":"PH"},{"$f":"IF('CoC Renewal Ranking Report'!AU56<>\"\",'CoC Renewal Ranking Report'!AU56,\"\")","v":80.430000000000007}]
[{"$f":"IF('CoC Renewal Ranking Report'!D57<>\"\",'CoC Renewal Ranking Report'!D57,\"\")","v":"Union-Snyder Community Action Agency"},{"$f":"IF('CoC Renewal Ranking Report'!E57<>\"\",'CoC Renewal Ranking Report'!E57,\"\")","v":"Union-Snyder Rapid ReHousing Program"},{"$f":"IF('CoC Renewal Ranking Report'!G57<>\"\",'CoC Renewal Ranking Report'!G57,\"\")","v":"PH-RRH"},{"$f":"IF('CoC Renewal Ranking Report'!AU57<>\"\",'CoC Renewal Ranking Report'!AU57,\"\")","v":29.54}]
[{"$f":"IF('CoC Renewal Ranking Report'!D58<>\"\",'CoC Renewal Ranking Report'!D58,\"\")","v":"United Christian Ministries"},{"$f":"IF('CoC Renewal Ranking Report'!E58<>\"\",'CoC Renewal Ranking Report'!E58,\"\")","v":"Kenner Garnet Renewal 2016"},{"$f":"IF('CoC Renewal Ranking Report'!G58<>\"\",'CoC Renewal Ranking Report'!G58,\"\")","v":"PH"},{"$f":"IF('CoC Renewal Ranking Report'!AU58<>\"\",'CoC Renewal Ranking Report'!AU58,\"\")","v":43.37}]
[{"$f":"IF('CoC Renewal Ranking Report'!D59<>\"\",'CoC Renewal Ranking Report'!D59,\"\")","v":"Valley Housing Development Corporation "},{"$f":"IF('CoC Renewal Ranking Report'!E59<>\"\",'CoC Renewal Ranking Report'!E59,\"\")","v":"VHDC SHP #2 2016"},{"$f":"IF('CoC Renewal Ranking Report'!G59<>\"\",'CoC Renewal Ranking Report'!G59,\"\")","v":"PH"},{"$f":"IF('CoC Renewal Ranking Report'!AU59<>\"\",'CoC Renewal Ranking Report'!AU59,\"\")","v":991.4}]
[{"$f":"IF('CoC Renewal Ranking Report'!D60<>\"\",'CoC Renewal Ranking Report'!D60,\"\")","v":"Valley Housing Development Corporation "},{"$f":"IF('CoC Renewal Ranking Report'!E60<>\"\",'CoC Renewal Ranking Report'!E60,\"\")","v":"VHDC SHP #3 2016"},{"$f":"IF('CoC Renewal Ranking Report'!G60<>\"\",'CoC Renewal Ranking Report'!G60,\"\")","v":"PH"},{"$f":"IF('CoC Renewal Ranking Report'!AU60<>\"\",'CoC Renewal Ranking Report'!AU60,\"\")","v":949.95}]
[{"$f":"IF('CoC Renewal Ranking Report'!D61<>\"\",'CoC Renewal Ranking Report'!D61,\"\")","v":"Valley Housing Development Corporation "},{"$f":"IF('CoC Renewal Ranking Report'!E61<>\"\",'CoC Renewal Ranking Report'!E61,\"\")","v":"VHDC SHP #4 2016"},{"$f":"IF('CoC Renewal Ranking Report'!G61<>\"\",'CoC Renewal Ranking Report'!G61,\"\")","v":"PH"},{"$f":"IF('CoC Renewal Ranking Report'!AU61<>\"\",'CoC Renewal Ranking Report'!AU61,\"\")","v":955.13}]
[{"$f":"IF('CoC Renewal Ranking Report'!D62<>\"\",'CoC Renewal Ranking Report'!D62,\"\")","v":""},{"$f":"IF('CoC Renewal Ranking Report'!E62<>\"\",'CoC Renewal Ranking Report'!E62,\"\")","v":""},{"$f":"IF('CoC Renewal Ranking Report'!G62<>\"\",'CoC Renewal Ranking Report'!G62,\"\")","v":""},{"$f":"IF('CoC Renewal Ranking Report'!AU62<>\"\",'CoC Renewal Ranking Report'!AU62,\"\")","v":""}]
[{"$f":"IF('CoC Renewal Ranking Report'!D63<>\"\",'CoC Renewal Ranking Report'!D63,\"\")","v":""},{"$f":"IF('CoC Renewal Ranking Report'!E63<>\"\",'CoC Renewal Ranking Report'!E63,\"\")","v":""},{"$f":"IF('CoC Renewal Ranking Report'!G63<>\"\",'CoC Renewal Ranking Report'!G63,\"\")","v":""},{"$f":"IF('CoC Renewal Ranking Report'!AU63<>\"\",'CoC Renewal Ranking Report'!AU63,\"\")","v":""}]
[{"$f":"IF('CoC Renewal Ranking Report'!D64<>\"\",'CoC Renewal Ranking Report'!D64,\"\")","v":""},{"$f":"IF('CoC Renewal Ranking Report'!E64<>\"\",'CoC Renewal Ranking Report'!E64,\"\")","v":""},{"$f":"IF('CoC Renewal Ranking Report'!G64<>\"\",'CoC Renewal Ranking Report'!G64,\"\")","v":""},{"$f":"IF('CoC Renewal Ranking Report'!AU64<>\"\",'CoC Renewal Ranking Report'!AU64,\"\")","v":""}]
[{"$f":"IF('CoC Renewal Ranking Report'!D65<>\"\",'CoC Renewal Ranking Report'!D65,\"\")","v":""},{"$f":"IF('CoC Renewal Ranking Report'!E65<>\"\",'CoC Renewal Ranking Report'!E65,\"\")","v":""},{"$f":"IF('CoC Renewal Ranking Report'!G65<>\"\",'CoC Renewal Ranking Report'!G65,\"\")","v":""},{"$f":"IF('CoC Renewal Ranking Report'!AU65<>\"\",'CoC Renewal Ranking Report'!AU65,\"\")","v":""}]
[{"$f":"IF('CoC Renewal Ranking Report'!D66<>\"\",'CoC Renewal Ranking Report'!D66,\"\")","v":""},{"$f":"IF('CoC Renewal Ranking Report'!E66<>\"\",'CoC Renewal Ranking Report'!E66,\"\")","v":""},{"$f":"IF('CoC Renewal Ranking Report'!G66<>\"\",'CoC Renewal Ranking Report'!G66,\"\")","v":""},{"$f":"IF('CoC Renewal Ranking Report'!AU66<>\"\",'CoC Renewal Ranking Report'!AU66,\"\")","v":""}]
[{"$f":"IF('CoC Renewal Ranking Report'!D67<>\"\",'CoC Renewal Ranking Report'!D67,\"\")","v":""},{"$f":"IF('CoC Renewal Ranking Report'!E67<>\"\",'CoC Renewal Ranking Report'!E67,\"\")","v":""},{"$f":"IF('CoC Renewal Ranking Report'!G67<>\"\",'CoC Renewal Ranking Report'!G67,\"\")","v":""},{"$f":"IF('CoC Renewal Ranking Report'!AU67<>\"\",'CoC Renewal Ranking Report'!AU67,\"\")","v":""}]
[{"$f":"IF('CoC Renewal Ranking Report'!D68<>\"\",'CoC Renewal Ranking Report'!D68,\"\")","v":""},{"$f":"IF('CoC Renewal Ranking Report'!E68<>\"\",'CoC Renewal Ranking Report'!E68,\"\")","v":""},{"$f":"IF('CoC Renewal Ranking Report'!G68<>\"\",'CoC Renewal Ranking Report'!G68,\"\")","v":""},{"$f":"IF('CoC Renewal Ranking Report'!AU68<>\"\",'CoC Renewal Ranking Report'!AU68,\"\")","v":""}]
[{"$f":"IF('CoC Renewal Ranking Report'!D69<>\"\",'CoC Renewal Ranking Report'!D69,\"\")","v":""},{"$f":"IF('CoC Renewal Ranking Report'!E69<>\"\",'CoC Renewal Ranking Report'!E69,\"\")","v":""},{"$f":"IF('CoC Renewal Ranking Report'!G69<>\"\",'CoC Renewal Ranking Report'!G69,\"\")","v":""},{"$f":"IF('CoC Renewal Ranking Report'!AU69<>\"\",'CoC Renewal Ranking Report'!AU69,\"\")","v":""}]
[{"$f":"IF('CoC Renewal Ranking Report'!D70<>\"\",'CoC Renewal Ranking Report'!D70,\"\")","v":""},{"$f":"IF('CoC Renewal Ranking Report'!E70<>\"\",'CoC Renewal Ranking Report'!E70,\"\")","v":""},{"$f":"IF('CoC Renewal Ranking Report'!G70<>\"\",'CoC Renewal Ranking Report'!G70,\"\")","v":""},{"$f":"IF('CoC Renewal Ranking Report'!AU70<>\"\",'CoC Renewal Ranking Report'!AU70,\"\")","v":""}]
[{"$f":"IF('CoC Renewal Ranking Report'!D71<>\"\",'CoC Renewal Ranking Report'!D71,\"\")","v":""},{"$f":"IF('CoC Renewal Ranking Report'!E71<>\"\",'CoC Renewal Ranking Report'!E71,\"\")","v":""},{"$f":"IF('CoC Renewal Ranking Report'!G71<>\"\",'CoC Renewal Ranking Report'!G71,\"\")","v":""},{"$f":"IF('CoC Renewal Ranking Report'!AU71<>\"\",'CoC Renewal Ranking Report'!AU71,\"\")","v":""}]
[{"$f":"IF('CoC Renewal Ranking Report'!D72<>\"\",'CoC Renewal Ranking Report'!D72,\"\")","v":""},{"$f":"IF('CoC Renewal Ranking Report'!E72<>\"\",'CoC Renewal Ranking Report'!E72,\"\")","v":""},{"$f":"IF('CoC Renewal Ranking Report'!G72<>\"\",'CoC Renewal Ranking Report'!G72,\"\")","v":""},{"$f":"IF('CoC Renewal Ranking Report'!AU72<>\"\",'CoC Renewal Ranking Report'!AU72,\"\")","v":""}]
[{"$f":"IF('CoC Renewal Ranking Report'!D73<>\"\",'CoC Renewal Ranking Report'!D73,\"\")","v":""},{"$f":"IF('CoC Renewal Ranking Report'!E73<>\"\",'CoC Renewal Ranking Report'!E73,\"\")","v":""},{"$f":"IF('CoC Renewal Ranking Report'!G73<>\"\",'CoC Renewal Ranking Report'!G73,\"\")","v":""},{"$f":"IF('CoC Renewal Ranking Report'!AU73<>\"\",'CoC Renewal Ranking Report'!AU73,\"\")","v":""}]
[{"$f":"IF('CoC Renewal Ranking Report'!D74<>\"\",'CoC Renewal Ranking Report'!D74,\"\")","v":""},{"$f":"IF('CoC Renewal Ranking Report'!E74<>\"\",'CoC Renewal Ranking Report'!E74,\"\")","v":""},{"$f":"IF('CoC Renewal Ranking Report'!G74<>\"\",'CoC Renewal Ranking Report'!G74,\"\")","v":""},{"$f":"IF('CoC Renewal Ranking Report'!AU74<>\"\",'CoC Renewal Ranking Report'!AU74,\"\")","v":""}]
[{"$f":"IF('CoC Renewal Ranking Report'!D75<>\"\",'CoC Renewal Ranking Report'!D75,\"\")","v":""},{"$f":"IF('CoC Renewal Ranking Report'!E75<>\"\",'CoC Renewal Ranking Report'!E75,\"\")","v":""},{"$f":"IF('CoC Renewal Ranking Report'!G75<>\"\",'CoC Renewal Ranking Report'!G75,\"\")","v":""},{"$f":"IF('CoC Renewal Ranking Report'!AU75<>\"\",'CoC Renewal Ranking Report'!AU75,\"\")","v":""}]
[{"$f":"IF('CoC Renewal Ranking Report'!D76<>\"\",'CoC Renewal Ranking Report'!D76,\"\")","v":""},{"$f":"IF('CoC Renewal Ranking Report'!E76<>\"\",'CoC Renewal Ranking Report'!E76,\"\")","v":""},{"$f":"IF('CoC Renewal Ranking Report'!G76<>\"\",'CoC Renewal Ranking Report'!G76,\"\")","v":""},{"$f":"IF('CoC Renewal Ranking Report'!AU76<>\"\",'CoC Renewal Ranking Report'!AU76,\"\")","v":""}]
[{"$f":"IF('CoC Renewal Ranking Report'!D77<>\"\",'CoC Renewal Ranking Report'!D77,\"\")","v":""},{"$f":"IF('CoC Renewal Ranking Report'!E77<>\"\",'CoC Renewal Ranking Report'!E77,\"\")","v":""},{"$f":"IF('CoC Renewal Ranking Report'!G77<>\"\",'CoC Renewal Ranking Report'!G77,\"\")","v":""},{"$f":"IF('CoC Renewal Ranking Report'!AU77<>\"\",'CoC Renewal Ranking Report'!AU77,\"\")","v":""}]
[{"$f":"IF('CoC Renewal Ranking Report'!D78<>\"\",'CoC Renewal Ranking Report'!D78,\"\")","v":""},{"$f":"IF('CoC Renewal Ranking Report'!E78<>\"\",'CoC Renewal Ranking Report'!E78,\"\")","v":""},{"$f":"IF('CoC Renewal Ranking Report'!G78<>\"\",'CoC Renewal Ranking Report'!G78,\"\")","v":""},{"$f":"IF('CoC Renewal Ranking Report'!AU78<>\"\",'CoC Renewal Ranking Report'!AU78,\"\")","v":""}]
[{"$f":"IF('CoC Renewal Ranking Report'!D79<>\"\",'CoC Renewal Ranking Report'!D79,\"\")","v":""},{"$f":"IF('CoC Renewal Ranking Report'!E79<>\"\",'CoC Renewal Ranking Report'!E79,\"\")","v":""},{"$f":"IF('CoC Renewal Ranking Report'!G79<>\"\",'CoC Renewal Ranking Report'!G79,\"\")","v":""},{"$f":"IF('CoC Renewal Ranking Report'!AU79<>\"\",'CoC Renewal Ranking Report'!AU79,\"\")","v":""}]
[{"$f":"IF('CoC Renewal Ranking Report'!D80<>\"\",'CoC Renewal Ranking Report'!D80,\"\")","v":""},{"$f":"IF('CoC Renewal Ranking Report'!E80<>\"\",'CoC Renewal Ranking Report'!E80,\"\")","v":""},{"$f":"IF('CoC Renewal Ranking Report'!G80<>\"\",'CoC Renewal Ranking Report'!G80,\"\")","v":""},{"$f":"IF('CoC Renewal Ranking Report'!AU80<>\"\",'CoC Renewal Ranking Report'!AU80,\"\")","v":""}]
[{"$f":"IF('CoC Renewal Ranking Report'!D81<>\"\",'CoC Renewal Ranking Report'!D81,\"\")","v":""},{"$f":"IF('CoC Renewal Ranking Report'!E81<>\"\",'CoC Renewal Ranking Report'!E81,\"\")","v":""},{"$f":"IF('CoC Renewal Ranking Report'!G81<>\"\",'CoC Renewal Ranking Report'!G81,\"\")","v":""},{"$f":"IF('CoC Renewal Ranking Report'!AU81<>\"\",'CoC Renewal Ranking Report'!AU81,\"\")","v":""}]
[{"$f":"IF('CoC Renewal Ranking Report'!D82<>\"\",'CoC Renewal Ranking Report'!D82,\"\")","v":""},{"$f":"IF('CoC Renewal Ranking Report'!E82<>\"\",'CoC Renewal Ranking Report'!E82,\"\")","v":""},{"$f":"IF('CoC Renewal Ranking Report'!G82<>\"\",'CoC Renewal Ranking Report'!G82,\"\")","v":""},{"$f":"IF('CoC Renewal Ranking Report'!AU82<>\"\",'CoC Renewal Ranking Report'!AU82,\"\")","v":""}]
[{"$f":"IF('CoC Renewal Ranking Report'!D83<>\"\",'CoC Renewal Ranking Report'!D83,\"\")","v":""},{"$f":"IF('CoC Renewal Ranking Report'!E83<>\"\",'CoC Renewal Ranking Report'!E83,\"\")","v":""},{"$f":"IF('CoC Renewal Ranking Report'!G83<>\"\",'CoC Renewal Ranking Report'!G83,\"\")","v":""},{"$f":"IF('CoC Renewal Ranking Report'!AU83<>\"\",'CoC Renewal Ranking Report'!AU83,\"\")","v":""}]
[{"$f":"IF('CoC Renewal Ranking Report'!D84<>\"\",'CoC Renewal Ranking Report'!D84,\"\")","v":""},{"$f":"IF('CoC Renewal Ranking Report'!E84<>\"\",'CoC Renewal Ranking Report'!E84,\"\")","v":""},{"$f":"IF('CoC Renewal Ranking Report'!G84<>\"\",'CoC Renewal Ranking Report'!G84,\"\")","v":""},{"$f":"IF('CoC Renewal Ranking Report'!AU84<>\"\",'CoC Renewal Ranking Report'!AU84,\"\")","v":""}]
[{"$f":"IF('CoC Renewal Ranking Report'!D85<>\"\",'CoC Renewal Ranking Report'!D85,\"\")","v":""},{"$f":"IF('CoC Renewal Ranking Report'!E85<>\"\",'CoC Renewal Ranking Report'!E85,\"\")","v":""},{"$f":"IF('CoC Renewal Ranking Report'!G85<>\"\",'CoC Renewal Ranking Report'!G85,\"\")","v":""},{"$f":"IF('CoC Renewal Ranking Report'!AU85<>\"\",'CoC Renewal Ranking Report'!AU85,\"\")","v":""}]
[{"$f":"IF('CoC Renewal Ranking Report'!D86<>\"\",'CoC Renewal Ranking Report'!D86,\"\")","v":""},{"$f":"IF('CoC Renewal Ranking Report'!E86<>\"\",'CoC Renewal Ranking Report'!E86,\"\")","v":""},{"$f":"IF('CoC Renewal Ranking Report'!G86<>\"\",'CoC Renewal Ranking Report'!G86,\"\")","v":""},{"$f":"IF('CoC Renewal Ranking Report'!AU86<>\"\",'CoC Renewal Ranking Report'!AU86,\"\")","v":""}]
[{"$f":"IF('CoC Renewal Ranking Report'!D87<>\"\",'CoC Renewal Ranking Report'!D87,\"\")","v":""},{"$f":"IF('CoC Renewal Ranking Report'!E87<>\"\",'CoC Renewal Ranking Report'!E87,\"\")","v":""},{"$f":"IF('CoC Renewal Ranking Report'!G87<>\"\",'CoC Renewal Ranking Report'!G87,\"\")","v":""},{"$f":"IF('CoC Renewal Ranking Report'!AU87<>\"\",'CoC Renewal Ranking Report'!AU87,\"\")","v":""}]
[{"$f":"IF('CoC Renewal Ranking Report'!D88<>\"\",'CoC Renewal Ranking Report'!D88,\"\")","v":""},{"$f":"IF('CoC Renewal Ranking Report'!E88<>\"\",'CoC Renewal Ranking Report'!E88,\"\")","v":""},{"$f":"IF('CoC Renewal Ranking Report'!G88<>\"\",'CoC Renewal Ranking Report'!G88,\"\")","v":""},{"$f":"IF('CoC Renewal Ranking Report'!AU88<>\"\",'CoC Renewal Ranking Report'!AU88,\"\")","v":""}]
[{"$f":"IF('CoC Renewal Ranking Report'!D89<>\"\",'CoC Renewal Ranking Report'!D89,\"\")","v":""},{"$f":"IF('CoC Renewal Ranking Report'!E89<>\"\",'CoC Renewal Ranking Report'!E89,\"\")","v":""},{"$f":"IF('CoC Renewal Ranking Report'!G89<>\"\",'CoC Renewal Ranking Report'!G89,\"\")","v":""},{"$f":"IF('CoC Renewal Ranking Report'!AU89<>\"\",'CoC Renewal Ranking Report'!AU89,\"\")","v":""}]
[{"$f":"IF('CoC Renewal Ranking Report'!D90<>\"\",'CoC Renewal Ranking Report'!D90,\"\")","v":""},{"$f":"IF('CoC Renewal Ranking Report'!E90<>\"\",'CoC Renewal Ranking Report'!E90,\"\")","v":""},{"$f":"IF('CoC Renewal Ranking Report'!G90<>\"\",'CoC Renewal Ranking Report'!G90,\"\")","v":""},{"$f":"IF('CoC Renewal Ranking Report'!AU90<>\"\",'CoC Renewal Ranking Report'!AU90,\"\")","v":""}]
[{"$f":"IF('CoC Renewal Ranking Report'!D91<>\"\",'CoC Renewal Ranking Report'!D91,\"\")","v":""},{"$f":"IF('CoC Renewal Ranking Report'!E91<>\"\",'CoC Renewal Ranking Report'!E91,\"\")","v":""},{"$f":"IF('CoC Renewal Ranking Report'!G91<>\"\",'CoC Renewal Ranking Report'!G91,\"\")","v":""},{"$f":"IF('CoC Renewal Ranking Report'!AU91<>\"\",'CoC Renewal Ranking Report'!AU91,\"\")","v":""}]
[{"$f":"IF('CoC Renewal Ranking Report'!D92<>\"\",'CoC Renewal Ranking Report'!D92,\"\")","v":""},{"$f":"IF('CoC Renewal Ranking Report'!E92<>\"\",'CoC Renewal Ranking Report'!E92,\"\")","v":""},{"$f":"IF('CoC Renewal Ranking Report'!G92<>\"\",'CoC Renewal Ranking Report'!G92,\"\")","v":""},{"$f":"IF('CoC Renewal Ranking Report'!AU92<>\"\",'CoC Renewal Ranking Report'!AU92,\"\")","v":""}]
[{"$f":"IF('CoC Renewal Ranking Report'!D93<>\"\",'CoC Renewal Ranking Report'!D93,\"\")","v":""},{"$f":"IF('CoC Renewal Ranking Report'!E93<>\"\",'CoC Renewal Ranking Report'!E93,\"\")","v":""},{"$f":"IF('CoC Renewal Ranking Report'!G93<>\"\",'CoC Renewal Ranking Report'!G93,\"\")","v":""},{"$f":"IF('CoC Renewal Ranking Report'!AU93<>\"\",'CoC Renewal Ranking Report'!AU93,\"\")","v":""}]
[{"$f":"IF('CoC Renewal Ranking Report'!D94<>\"\",'CoC Renewal Ranking Report'!D94,\"\")","v":""},{"$f":"IF('CoC Renewal Ranking Report'!E94<>\"\",'CoC Renewal Ranking Report'!E94,\"\")","v":""},{"$f":"IF('CoC Renewal Ranking Report'!G94<>\"\",'CoC Renewal Ranking Report'!G94,\"\")","v":""},{"$f":"IF('CoC Renewal Ranking Report'!AU94<>\"\",'CoC Renewal Ranking Report'!AU94,\"\")","v":""}]
[{"$f":"IF('CoC Renewal Ranking Report'!D95<>\"\",'CoC Renewal Ranking Report'!D95,\"\")","v":""},{"$f":"IF('CoC Renewal Ranking Report'!E95<>\"\",'CoC Renewal Ranking Report'!E95,\"\")","v":""},{"$f":"IF('CoC Renewal Ranking Report'!G95<>\"\",'CoC Renewal Ranking Report'!G95,\"\")","v":""},{"$f":"IF('CoC Renewal Ranking Report'!AU95<>\"\",'CoC Renewal Ranking Report'!AU95,\"\")","v":""}]
[{"$f":"IF('CoC Renewal Ranking Report'!D96<>\"\",'CoC Renewal Ranking Report'!D96,\"\")","v":""},{"$f":"IF('CoC Renewal Ranking Report'!E96<>\"\",'CoC Renewal Ranking Report'!E96,\"\")","v":""},{"$f":"IF('CoC Renewal Ranking Report'!G96<>\"\",'CoC Renewal Ranking Report'!G96,\"\")","v":""},{"$f":"IF('CoC Renewal Ranking Report'!AU96<>\"\",'CoC Renewal Ranking Report'!AU96,\"\")","v":""}]
[{"$f":"IF('CoC Renewal Ranking Report'!D97<>\"\",'CoC Renewal Ranking Report'!D97,\"\")","v":""},{"$f":"IF('CoC Renewal Ranking Report'!E97<>\"\",'CoC Renewal Ranking Report'!E97,\"\")","v":""},{"$f":"IF('CoC Renewal Ranking Report'!G97<>\"\",'CoC Renewal Ranking Report'!G97,\"\")","v":""},{"$f":"IF('CoC Renewal Ranking Report'!AU97<>\"\",'CoC Renewal Ranking Report'!AU97,\"\")","v":""}]
[{"$f":"IF('CoC Renewal Ranking Report'!D98<>\"\",'CoC Renewal Ranking Report'!D98,\"\")","v":""},{"$f":"IF('CoC Renewal Ranking Report'!E98<>\"\",'CoC Renewal Ranking Report'!E98,\"\")","v":""},{"$f":"IF('CoC Renewal Ranking Report'!G98<>\"\",'CoC Renewal Ranking Report'!G98,\"\")","v":""},{"$f":"IF('CoC Renewal Ranking Report'!AU98<>\"\",'CoC Renewal Ranking Report'!AU98,\"\")","v":""}]
[{"$f":"IF('CoC Renewal Ranking Report'!D99<>\"\",'CoC Renewal Ranking Report'!D99,\"\")","v":""},{"$f":"IF('CoC Renewal Ranking Report'!E99<>\"\",'CoC Renewal Ranking Report'!E99,\"\")","v":""},{"$f":"IF('CoC Renewal Ranking Report'!G99<>\"\",'CoC Renewal Ranking Report'!G99,\"\")","v":""},{"$f":"IF('CoC Renewal Ranking Report'!AU99<>\"\",'CoC Renewal Ranking Report'!AU99,\"\")","v":""}]
[{"$f":"IF('CoC Renewal Ranking Report'!D100<>\"\",'CoC Renewal Ranking Report'!D100,\"\")","v":""},{"$f":"IF('CoC Renewal Ranking Report'!E100<>\"\",'CoC Renewal Ranking Report'!E100,\"\")","v":""},{"$f":"IF('CoC Renewal Ranking Report'!G100<>\"\",'CoC Renewal Ranking Report'!G100,\"\")","v":""},{"$f":"IF('CoC Renewal Ranking Report'!AU100<>\"\",'CoC Renewal Ranking Report'!AU100,\"\")","v":""}]
[{"$f":"IF('CoC Renewal Ranking Report'!D101<>\"\",'CoC Renewal Ranking Report'!D101,\"\")","v":""},{"$f":"IF('CoC Renewal Ranking Report'!E101<>\"\",'CoC Renewal Ranking Report'!E101,\"\")","v":""},{"$f":"IF('CoC Renewal Ranking Report'!G101<>\"\",'CoC Renewal Ranking Report'!G101,\"\")","v":""},{"$f":"IF('CoC Renewal Ranking Report'!AU101<>\"\",'CoC Renewal Ranking Report'!AU101,\"\")","v":""}]
[{"$f":"IF('CoC Renewal Ranking Report'!D102<>\"\",'CoC Renewal Ranking Report'!D102,\"\")","v":""},{"$f":"IF('CoC Renewal Ranking Report'!E102<>\"\",'CoC Renewal Ranking Report'!E102,\"\")","v":""},{"$f":"IF('CoC Renewal Ranking Report'!G102<>\"\",'CoC Renewal Ranking Report'!G102,\"\")","v":""},{"$f":"IF('CoC Renewal Ranking Report'!AU102<>\"\",'CoC Renewal Ranking Report'!AU102,\"\")","v":""}]
[{"$f":"IF('CoC Renewal Ranking Report'!D103<>\"\",'CoC Renewal Ranking Report'!D103,\"\")","v":""},{"$f":"IF('CoC Renewal Ranking Report'!E103<>\"\",'CoC Renewal Ranking Report'!E103,\"\")","v":""},{"$f":"IF('CoC Renewal Ranking Report'!G103<>\"\",'CoC Renewal Ranking Report'!G103,\"\")","v":""},{"$f":"IF('CoC Renewal Ranking Report'!AU103<>\"\",'CoC Renewal Ranking Report'!AU103,\"\")","v":""}]
[{"$f":"IF('CoC Renewal Ranking Report'!D104<>\"\",'CoC Renewal Ranking Report'!D104,\"\")","v":""},{"$f":"IF('CoC Renewal Ranking Report'!E104<>\"\",'CoC Renewal Ranking Report'!E104,\"\")","v":""},{"$f":"IF('CoC Renewal Ranking Report'!G104<>\"\",'CoC Renewal Ranking Report'!G104,\"\")","v":""},{"$f":"IF('CoC Renewal Ranking Report'!AU104<>\"\",'CoC Renewal Ranking Report'!AU104,\"\")","v":""}]
[{"$f":"IF('CoC Renewal Ranking Report'!D105<>\"\",'CoC Renewal Ranking Report'!D105,\"\")","v":""},{"$f":"IF('CoC Renewal Ranking Report'!E105<>\"\",'CoC Renewal Ranking Report'!E105,\"\")","v":""},{"$f":"IF('CoC Renewal Ranking Report'!G105<>\"\",'CoC Renewal Ranking Report'!G105,\"\")","v":""},{"$f":"IF('CoC Renewal Ranking Report'!AU105<>\"\",'CoC Renewal Ranking Report'!AU105,\"\")","v":""}]

{"sheet":"HMIS Bed Inventory","index":26,"n_rows":102,"n_cols":5,"rows_kept":102,"cut":false,"hidden":false,"merged":[]}
[null,"HMIS Bed Inventory"]
[null,"Criteria (*not scoring)"]
[null,"Inventory Setup for Residential Projects"]
[]
["Agency Name","Project Name","Project Type","Rooms Setup","Score"]
[{"$f":"IF('CoC Renewal Ranking Report'!D9<>\"\",'CoC Renewal Ranking Report'!D9,\"\")","v":""},{"$f":"IF('CoC Renewal Ranking Report'!E9<>\"\",'CoC Renewal Ranking Report'!E9,\"\")","v":""},{"$f":"IF('CoC Renewal Ranking Report'!G9<>\"\",'CoC Renewal Ranking Report'!G9,\"\")","v":""},{"$f":"IF('CoC Renewal Ranking Report'!AV9<>\"\",'CoC Renewal Ranking Report'!AV9,\"\")","v":""}]
[{"$f":"IF('CoC Renewal Ranking Report'!D10<>\"\",'CoC Renewal Ranking Report'!D10,\"\")","v":"Blair County Community Action Program"},{"$f":"IF('CoC Renewal Ranking Report'!E10<>\"\",'CoC Renewal Ranking Report'!E10,\"\")","v":"Rapid Re-Housing"},{"$f":"IF('CoC Renewal Ranking Report'!G10<>\"\",'CoC Renewal Ranking Report'!G10,\"\")","v":"PH-RRH"},{"$f":"IF('CoC Renewal Ranking Report'!AV10<>\"\",'CoC Renewal Ranking Report'!AV10,\"\")","v":0}]
[{"$f":"IF('CoC Renewal Ranking Report'!D11<>\"\",'CoC Renewal Ranking Report'!D11,\"\")","v":"Cambria County"},{"$f":"IF('CoC Renewal Ranking Report'!E11<>\"\",'CoC Renewal Ranking Report'!E11,\"\")","v":"Cambria County Comprehensive Housing Program"},{"$f":"IF('CoC Renewal Ranking Report'!G11<>\"\",'CoC Renewal Ranking Report'!G11,\"\")","v":"PH"},{"$f":"IF('CoC Renewal Ranking Report'!AV11<>\"\",'CoC Renewal Ranking Report'!AV11,\"\")","v":0}]
[{"$f":"IF('CoC Renewal Ranking Report'!D12<>\"\",'CoC Renewal Ranking Report'!D12,\"\")","v":"Catholic Charities of the Diocese of Allentown"},{"$f":"IF('CoC Renewal Ranking Report'!E12<>\"\",'CoC Renewal Ranking Report'!E12,\"\")","v":"Catholic Charities Allentown Permanent Housing Program"},{"$f":"IF('CoC Renewal Ranking Report'!G12<>\"\",'CoC Renewal Ranking Report'!G12,\"\")","v":"PH"},{"$f":"IF('CoC Renewal Ranking Report'!AV12<>\"\",'CoC Renewal Ranking Report'!AV12,\"\")","v":0}]
[{"$f":"IF('CoC Renewal Ranking Report'!D13<>\"\",'CoC Renewal Ranking Report'!D13,\"\")","v":"Catholic Social Services of the Diocese of Scranton, Inc."},{"$f":"IF('CoC Renewal Ranking Report'!E13<>\"\",'CoC Renewal Ranking Report'!E13,\"\")","v":"PSHP Pike County"},{"$f":"IF('CoC Renewal Ranking Report'!G13<>\"\",'CoC Renewal Ranking Report'!G13,\"\")","v":"PH"},{"$f":"IF('CoC Renewal Ranking Report'!AV13<>\"\",'CoC Renewal Ranking Report'!AV13,\"\")","v":6}]
[{"$f":"IF('CoC Renewal Ranking Report'!D14<>\"\",'CoC Renewal Ranking Report'!D14,\"\")","v":"Catholic Social Services of the Diocese of Scranton, Inc."},{"$f":"IF('CoC Renewal Ranking Report'!E14<>\"\",'CoC Renewal Ranking Report'!E14,\"\")","v":"Rural Permanent Supportive Housing Program"},{"$f":"IF('CoC Renewal Ranking Report'!G14<>\"\",'CoC Renewal Ranking Report'!G14,\"\")","v":"PH"},{"$f":"IF('CoC Renewal Ranking Report'!AV14<>\"\",'CoC Renewal Ranking Report'!AV14,\"\")","v":9}]
[{"$f":"IF('CoC Renewal Ranking Report'!D15<>\"\",'CoC Renewal Ranking Report'!D15,\"\")","v":"Catholic Social Services of the Diocese of Scranton, Inc."},{"$f":"IF('CoC Renewal Ranking Report'!E15<>\"\",'CoC Renewal Ranking Report'!E15,\"\")","v":"Susquehanna/Wayne PSHP"},{"$f":"IF('CoC Renewal Ranking Report'!G15<>\"\",'CoC Renewal Ranking Report'!G15,\"\")","v":"PH"},{"$f":"IF('CoC Renewal Ranking Report'!AV15<>\"\",'CoC Renewal Ranking Report'!AV15,\"\")","v":11}]
[{"$f":"IF('CoC Renewal Ranking Report'!D16<>\"\",'CoC Renewal Ranking Report'!D16,\"\")","v":"Center for Community Action"},{"$f":"IF('CoC Renewal Ranking Report'!E16<>\"\",'CoC Renewal Ranking Report'!E16,\"\")","v":"Bedford,Fulton, Huntingdon RRH"},{"$f":"IF('CoC Renewal Ranking Report'!G16<>\"\",'CoC Renewal Ranking Report'!G16,\"\")","v":"PH-RRH"},{"$f":"IF('CoC Renewal Ranking Report'!AV16<>\"\",'CoC Renewal Ranking Report'!AV16,\"\")","v":0}]
[{"$f":"IF('CoC Renewal Ranking Report'!D17<>\"\",'CoC Renewal Ranking Report'!D17,\"\")","v":"County of Franklin"},{"$f":"IF('CoC Renewal Ranking Report'!E17<>\"\",'CoC Renewal Ranking Report'!E17,\"\")","v":"Franklin/ Fulton S+C Project 2017"},{"$f":"IF('CoC Renewal Ranking Report'!G17<>\"\",'CoC Renewal Ranking Report'!G17,\"\")","v":"PH"},{"$f":"IF('CoC Renewal Ranking Report'!AV17<>\"\",'CoC Renewal Ranking Report'!AV17,\"\")","v":10}]
[{"$f":"IF('CoC Renewal Ranking Report'!D18<>\"\",'CoC Renewal Ranking Report'!D18,\"\")","v":"County of Franklin"},{"$f":"IF('CoC Renewal Ranking Report'!E18<>\"\",'CoC Renewal Ranking Report'!E18,\"\")","v":"Franklin/Fulton Homeless Assistance Project 2017"},{"$f":"IF('CoC Renewal Ranking Report'!G18<>\"\",'CoC Renewal Ranking Report'!G18,\"\")","v":"PH"},{"$f":"IF('CoC Renewal Ranking Report'!AV18<>\"\",'CoC Renewal Ranking Report'!AV18,\"\")","v":22}]
[{"$f":"IF('CoC Renewal Ranking Report'!D19<>\"\",'CoC Renewal Ranking Report'!D19,\"\")","v":"County of Lycoming DBA Lycoming- Clinton Joinder Board"},{"$f":"IF('CoC Renewal Ranking Report'!E19<>\"\",'CoC Renewal Ranking Report'!E19,\"\")","v":"Lycoming/Clinton Renewal #5"},{"$f":"IF('CoC Renewal Ranking Report'!G19<>\"\",'CoC Renewal Ranking Report'!G19,\"\")","v":"PH"},{"$f":"IF('CoC Renewal Ranking Report'!AV19<>\"\",'CoC Renewal Ranking Report'!AV19,\"\")","v":22}]
[{"$f":"IF('CoC Renewal Ranking Report'!D20<>\"\",'CoC Renewal Ranking Report'!D20,\"\")","v":"Fitzmaurice Community Services, Inc"},{"$f":"IF('CoC Renewal Ranking Report'!E20<>\"\",'CoC Renewal Ranking Report'!E20,\"\")","v":"Pathfinders"},{"$f":"IF('CoC Renewal Ranking Report'!G20<>\"\",'CoC Renewal Ranking Report'!G20,\"\")","v":"PH"},{"$f":"IF('CoC Renewal Ranking Report'!AV20<>\"\",'CoC Renewal Ranking Report'!AV20,\"\")","v":14}]
[{"$f":"IF('CoC Renewal Ranking Report'!D21<>\"\",'CoC Renewal Ranking Report'!D21,\"\")","v":"Home Nursing AgencyCommunity Services"},{"$f":"IF('CoC Renewal Ranking Report'!E21<>\"\",'CoC Renewal Ranking Report'!E21,\"\")","v":"Housing Assistance and Rental Program"},{"$f":"IF('CoC Renewal Ranking Report'!G21<>\"\",'CoC Renewal Ranking Report'!G21,\"\")","v":"PH"},{"$f":"IF('CoC Renewal Ranking Report'!AV21<>\"\",'CoC Renewal Ranking Report'!AV21,\"\")","v":37}]
[{"$f":"IF('CoC Renewal Ranking Report'!D22<>\"\",'CoC Renewal Ranking Report'!D22,\"\")","v":"Housing Authority of Monroe County"},{"$f":"IF('CoC Renewal Ranking Report'!E22<>\"\",'CoC Renewal Ranking Report'!E22,\"\")","v":"Renewal Application Shelter Plus Care MC 2016"},{"$f":"IF('CoC Renewal Ranking Report'!G22<>\"\",'CoC Renewal Ranking Report'!G22,\"\")","v":"PH"},{"$f":"IF('CoC Renewal Ranking Report'!AV22<>\"\",'CoC Renewal Ranking Report'!AV22,\"\")","v":0}]
[{"$f":"IF('CoC Renewal Ranking Report'!D23<>\"\",'CoC Renewal Ranking Report'!D23,\"\")","v":"Housing Authority of the County of Cumberland"},{"$f":"IF('CoC Renewal Ranking Report'!E23<>\"\",'CoC Renewal Ranking Report'!E23,\"\")","v":"Carlisle Supportive Housing Program"},{"$f":"IF('CoC Renewal Ranking Report'!G23<>\"\",'CoC Renewal Ranking Report'!G23,\"\")","v":"PH"},{"$f":"IF('CoC Renewal Ranking Report'!AV23<>\"\",'CoC Renewal Ranking Report'!AV23,\"\")","v":5}]
[{"$f":"IF('CoC Renewal Ranking Report'!D24<>\"\",'CoC Renewal Ranking Report'!D24,\"\")","v":"Housing Authority of the County of Cumberland"},{"$f":"IF('CoC Renewal Ranking Report'!E24<>\"\",'CoC Renewal Ranking Report'!E24,\"\")","v":"Perry County Permanent SHP"},{"$f":"IF('CoC Renewal Ranking Report'!G24<>\"\",'CoC Renewal Ranking Report'!G24,\"\")","v":"PH"},{"$f":"IF('CoC Renewal Ranking Report'!AV24<>\"\",'CoC Renewal Ranking Report'!AV24,\"\")","v":4}]
[{"$f":"IF('CoC Renewal Ranking Report'!D25<>\"\",'CoC Renewal Ranking Report'!D25,\"\")","v":"Housing Authority of the County of Cumberland"},{"$f":"IF('CoC Renewal Ranking Report'!E25<>\"\",'CoC Renewal Ranking Report'!E25,\"\")","v":"Perry County Transitional II"},{"$f":"IF('CoC Renewal Ranking Report'!G25<>\"\",'CoC Renewal Ranking Report'!G25,\"\")","v":"PH-RRH"},{"$f":"IF('CoC Renewal Ranking Report'!AV25<>\"\",'CoC Renewal Ranking Report'!AV25,\"\")","v":0}]
[{"$f":"IF('CoC Renewal Ranking Report'!D26<>\"\",'CoC Renewal Ranking Report'!D26,\"\")","v":"Housing Authority of the County of Cumberland"},{"$f":"IF('CoC Renewal Ranking Report'!E26<>\"\",'CoC Renewal Ranking Report'!E26,\"\")","v":"Perry County Veterans Program"},{"$f":"IF('CoC Renewal Ranking Report'!G26<>\"\",'CoC Renewal Ranking Report'!G26,\"\")","v":"PH"},{"$f":"IF('CoC Renewal Ranking Report'!AV26<>\"\",'CoC Renewal Ranking Report'!AV26,\"\")","v":4}]
[{"$f":"IF('CoC Renewal Ranking Report'!D27<>\"\",'CoC Renewal Ranking Report'!D27,\"\")","v":"Housing Authority of the County of Cumberland"},{"$f":"IF('CoC Renewal Ranking Report'!E27<>\"\",'CoC Renewal Ranking Report'!E27,\"\")","v":"Rapid Rehousing II"},{"$f":"IF('CoC Renewal Ranking Report'!G27<>\"\",'CoC Renewal Ranking Report'!G27,\"\")","v":"PH-RRH"},{"$f":"IF('CoC Renewal Ranking Report'!AV27<>\"\",'CoC Renewal Ranking Report'!AV27,\"\")","v":0}]
[{"$f":"IF('CoC Renewal Ranking Report'!D28<>\"\",'CoC Renewal Ranking Report'!D28,\"\")","v":"Housing Authority of the County of Cumberland"},{"$f":"IF('CoC Renewal Ranking Report'!E28<>\"\",'CoC Renewal Ranking Report'!E28,\"\")","v":"Safe Harbour SHP"},{"$f":"IF('CoC Renewal Ranking Report'!G28<>\"\",'CoC Renewal Ranking Report'!G28,\"\")","v":"PH"},{"$f":"IF('CoC Renewal Ranking Report'!AV28<>\"\",'CoC Renewal Ranking Report'!AV28,\"\")","v":0}]
[{"$f":"IF('CoC Renewal Ranking Report'!D29<>\"\",'CoC Renewal Ranking Report'!D29,\"\")","v":"Housing Authority of the County of Cumberland"},{"$f":"IF('CoC Renewal Ranking Report'!E29<>\"\",'CoC Renewal Ranking Report'!E29,\"\")","v":"Shelter + Care Chronic"},{"$f":"IF('CoC Renewal Ranking Report'!G29<>\"\",'CoC Renewal Ranking Report'!G29,\"\")","v":"PH"},{"$f":"IF('CoC Renewal Ranking Report'!AV29<>\"\",'CoC Renewal Ranking Report'!AV29,\"\")","v":15}]
[{"$f":"IF('CoC Renewal Ranking Report'!D30<>\"\",'CoC Renewal Ranking Report'!D30,\"\")","v":"Housing Authority of the County of Cumberland"},{"$f":"IF('CoC Renewal Ranking Report'!E30<>\"\",'CoC Renewal Ranking Report'!E30,\"\")","v":"Shelter + Care Non-Chronic"},{"$f":"IF('CoC Renewal Ranking Report'!G30<>\"\",'CoC Renewal Ranking Report'!G30,\"\")","v":"PH"},{"$f":"IF('CoC Renewal Ranking Report'!AV30<>\"\",'CoC Renewal Ranking Report'!AV30,\"\")","v":5}]
[{"$f":"IF('CoC Renewal Ranking Report'!D31<>\"\",'CoC Renewal Ranking Report'!D31,\"\")","v":"Housing Authority of the County of Cumberland"},{"$f":"IF('CoC Renewal Ranking Report'!E31<>\"\",'CoC Renewal Ranking Report'!E31,\"\")","v":"West Shore SHP I"},{"$f":"IF('CoC Renewal Ranking Report'!G31<>\"\",'CoC Renewal Ranking Report'!G31,\"\")","v":"PH"},{"$f":"IF('CoC Renewal Ranking Report'!AV31<>\"\",'CoC Renewal Ranking Report'!AV31,\"\")","v":6}]
[{"$f":"IF('CoC Renewal Ranking Report'!D32<>\"\",'CoC Renewal Ranking Report'!D32,\"\")","v":"Housing Authority of the County of Cumberland"},{"$f":"IF('CoC Renewal Ranking Report'!E32<>\"\",'CoC Renewal Ranking Report'!E32,\"\")","v":"West Shore SHP II"},{"$f":"IF('CoC Renewal Ranking Report'!G32<>\"\",'CoC Renewal Ranking Report'!G32,\"\")","v":"PH"},{"$f":"IF('CoC Renewal Ranking Report'!AV32<>\"\",'CoC Renewal Ranking Report'!AV32,\"\")","v":6}]
[{"$f":"IF('CoC Renewal Ranking Report'!D33<>\"\",'CoC Renewal Ranking Report'!D33,\"\")","v":"Housing Development Corporation of NEPA"},{"$f":"IF('CoC Renewal Ranking Report'!E33<>\"\",'CoC Renewal Ranking Report'!E33,\"\")","v":"HDC SHP 3 2016"},{"$f":"IF('CoC Renewal Ranking Report'!G33<>\"\",'CoC Renewal Ranking Report'!G33,\"\")","v":"PH"},{"$f":"IF('CoC Renewal Ranking Report'!AV33<>\"\",'CoC Renewal Ranking Report'!AV33,\"\")","v":12}]
[{"$f":"IF('CoC Renewal Ranking Report'!D34<>\"\",'CoC Renewal Ranking Report'!D34,\"\")","v":"Housing Development Corporation of NEPA"},{"$f":"IF('CoC Renewal Ranking Report'!E34<>\"\",'CoC Renewal Ranking Report'!E34,\"\")","v":"HDC SHP 6 2016"},{"$f":"IF('CoC Renewal Ranking Report'!G34<>\"\",'CoC Renewal Ranking Report'!G34,\"\")","v":"PH"},{"$f":"IF('CoC Renewal Ranking Report'!AV34<>\"\",'CoC Renewal Ranking Report'!AV34,\"\")","v":12}]
[{"$f":"IF('CoC Renewal Ranking Report'!D35<>\"\",'CoC Renewal Ranking Report'!D35,\"\")","v":"Housing Transitions, Inc."},{"$f":"IF('CoC Renewal Ranking Report'!E35<>\"\",'CoC Renewal Ranking Report'!E35,\"\")","v":"Nittany House Apartments"},{"$f":"IF('CoC Renewal Ranking Report'!G35<>\"\",'CoC Renewal Ranking Report'!G35,\"\")","v":"PH"},{"$f":"IF('CoC Renewal Ranking Report'!AV35<>\"\",'CoC Renewal Ranking Report'!AV35,\"\")","v":4}]
[{"$f":"IF('CoC Renewal Ranking Report'!D36<>\"\",'CoC Renewal Ranking Report'!D36,\"\")","v":"Lehigh County Conference of Churches"},{"$f":"IF('CoC Renewal Ranking Report'!E36<>\"\",'CoC Renewal Ranking Report'!E36,\"\")","v":"Outreach and Case Management for the Disabled, Chronically Homeless"},{"$f":"IF('CoC Renewal Ranking Report'!G36<>\"\",'CoC Renewal Ranking Report'!G36,\"\")","v":"SSO"},{"$f":"IF('CoC Renewal Ranking Report'!AV36<>\"\",'CoC Renewal Ranking Report'!AV36,\"\")","v":0}]
[{"$f":"IF('CoC Renewal Ranking Report'!D37<>\"\",'CoC Renewal Ranking Report'!D37,\"\")","v":"Lehigh County Conference of Churches"},{"$f":"IF('CoC Renewal Ranking Report'!E37<>\"\",'CoC Renewal Ranking Report'!E37,\"\")","v":"Pathways Housing"},{"$f":"IF('CoC Renewal Ranking Report'!G37<>\"\",'CoC Renewal Ranking Report'!G37,\"\")","v":"PH"},{"$f":"IF('CoC Renewal Ranking Report'!AV37<>\"\",'CoC Renewal Ranking Report'!AV37,\"\")","v":12}]
[{"$f":"IF('CoC Renewal Ranking Report'!D38<>\"\",'CoC Renewal Ranking Report'!D38,\"\")","v":"Lehigh County Conference of Churches"},{"$f":"IF('CoC Renewal Ranking Report'!E38<>\"\",'CoC Renewal Ranking Report'!E38,\"\")","v":"Pathways Housing 2"},{"$f":"IF('CoC Renewal Ranking Report'!G38<>\"\",'CoC Renewal Ranking Report'!G38,\"\")","v":"PH"},{"$f":"IF('CoC Renewal Ranking Report'!AV38<>\"\",'CoC Renewal Ranking Report'!AV38,\"\")","v":14}]
[{"$f":"IF('CoC Renewal Ranking Report'!D39<>\"\",'CoC Renewal Ranking Report'!D39,\"\")","v":"Lehigh County Conference of Churches"},{"$f":"IF('CoC Renewal Ranking Report'!E39<>\"\",'CoC Renewal Ranking Report'!E39,\"\")","v":"Pathways TBRA for Families, Youth and Veterans"},{"$f":"IF('CoC Renewal Ranking Report'!G39<>\"\",'CoC Renewal Ranking Report'!G39,\"\")","v":"PH"},{"$f":"IF('CoC Renewal Ranking Report'!AV39<>\"\",'CoC Renewal Ranking Report'!AV39,\"\")","v":27}]
[{"$f":"IF('CoC Renewal Ranking Report'!D40<>\"\",'CoC Renewal Ranking Report'!D40,\"\")","v":"Lehigh County Conference of Churches"},{"$f":"IF('CoC Renewal Ranking Report'!E40<>\"\",'CoC Renewal Ranking Report'!E40,\"\")","v":"Tenant-Based Rental Assistance for the Disabled,Chronically Homeless"},{"$f":"IF('CoC Renewal Ranking Report'!G40<>\"\",'CoC Renewal Ranking Report'!G40,\"\")","v":"PH"},{"$f":"IF('CoC Renewal Ranking Report'!AV40<>\"\",'CoC Renewal Ranking Report'!AV40,\"\")","v":23}]
[{"$f":"IF('CoC Renewal Ranking Report'!D41<>\"\",'CoC Renewal Ranking Report'!D41,\"\")","v":"Lehigh County Housing Authority"},{"$f":"IF('CoC Renewal Ranking Report'!E41<>\"\",'CoC Renewal Ranking Report'!E41,\"\")","v":"LCHA S+C 2016"},{"$f":"IF('CoC Renewal Ranking Report'!G41<>\"\",'CoC Renewal Ranking Report'!G41,\"\")","v":"PH"},{"$f":"IF('CoC Renewal Ranking Report'!AV41<>\"\",'CoC Renewal Ranking Report'!AV41,\"\")","v":0}]
[{"$f":"IF('CoC Renewal Ranking Report'!D42<>\"\",'CoC Renewal Ranking Report'!D42,\"\")","v":"Maranatha"},{"$f":"IF('CoC Renewal Ranking Report'!E42<>\"\",'CoC Renewal Ranking Report'!E42,\"\")","v":"TOTAL PERSON TRANSITIONAL PROGRAM 1 & 2"},{"$f":"IF('CoC Renewal Ranking Report'!G42<>\"\",'CoC Renewal Ranking Report'!G42,\"\")","v":"PH-RRH"},{"$f":"IF('CoC Renewal Ranking Report'!AV42<>\"\",'CoC Renewal Ranking Report'!AV42,\"\")","v":13}]
[{"$f":"IF('CoC Renewal Ranking Report'!D43<>\"\",'CoC Renewal Ranking Report'!D43,\"\")","v":"Mifflin County"},{"$f":"IF('CoC Renewal Ranking Report'!E43<>\"\",'CoC Renewal Ranking Report'!E43,\"\")","v":"Mifflin County Permanent Housing Renewal"},{"$f":"IF('CoC Renewal Ranking Report'!G43<>\"\",'CoC Renewal Ranking Report'!G43,\"\")","v":"PH"},{"$f":"IF('CoC Renewal Ranking Report'!AV43<>\"\",'CoC Renewal Ranking Report'!AV43,\"\")","v":0}]
[{"$f":"IF('CoC Renewal Ranking Report'!D44<>\"\",'CoC Renewal Ranking Report'!D44,\"\")","v":"Northampton County Housing Authority"},{"$f":"IF('CoC Renewal Ranking Report'!E44<>\"\",'CoC Renewal Ranking Report'!E44,\"\")","v":"NCHA S+C 2016"},{"$f":"IF('CoC Renewal Ranking Report'!G44<>\"\",'CoC Renewal Ranking Report'!G44,\"\")","v":"PH"},{"$f":"IF('CoC Renewal Ranking Report'!AV44<>\"\",'CoC Renewal Ranking Report'!AV44,\"\")","v":0}]
[{"$f":"IF('CoC Renewal Ranking Report'!D45<>\"\",'CoC Renewal Ranking Report'!D45,\"\")","v":"Northern Cambria Community Development Corporation"},{"$f":"IF('CoC Renewal Ranking Report'!E45<>\"\",'CoC Renewal Ranking Report'!E45,\"\")","v":"Independence Gardens"},{"$f":"IF('CoC Renewal Ranking Report'!G45<>\"\",'CoC Renewal Ranking Report'!G45,\"\")","v":"PH"},{"$f":"IF('CoC Renewal Ranking Report'!AV45<>\"\",'CoC Renewal Ranking Report'!AV45,\"\")","v":17}]
[{"$f":"IF('CoC Renewal Ranking Report'!D46<>\"\",'CoC Renewal Ranking Report'!D46,\"\")","v":"Northern Cambria Community Development Corporation"},{"$f":"IF('CoC Renewal Ranking Report'!E46<>\"\",'CoC Renewal Ranking Report'!E46,\"\")","v":"Schoolhouse Gardens"},{"$f":"IF('CoC Renewal Ranking Report'!G46<>\"\",'CoC Renewal Ranking Report'!G46,\"\")","v":"PH"},{"$f":"IF('CoC Renewal Ranking Report'!AV46<>\"\",'CoC Renewal Ranking Report'!AV46,\"\")","v":9}]
[{"$f":"IF('CoC Renewal Ranking Report'!D47<>\"\",'CoC Renewal Ranking Report'!D47,\"\")","v":"Northumberland County MH/MR"},{"$f":"IF('CoC Renewal Ranking Report'!E47<>\"\",'CoC Renewal Ranking Report'!E47,\"\")","v":"Sharing Support"},{"$f":"IF('CoC Renewal Ranking Report'!G47<>\"\",'CoC Renewal Ranking Report'!G47,\"\")","v":"PH"},{"$f":"IF('CoC Renewal Ranking Report'!AV47<>\"\",'CoC Renewal Ranking Report'!AV47,\"\")","v":10}]
[{"$f":"IF('CoC Renewal Ranking Report'!D48<>\"\",'CoC Renewal Ranking Report'!D48,\"\")","v":"Resources for Human Development, Inc."},{"$f":"IF('CoC Renewal Ranking Report'!E48<>\"\",'CoC Renewal Ranking Report'!E48,\"\")","v":"Crossroads Family"},{"$f":"IF('CoC Renewal Ranking Report'!G48<>\"\",'CoC Renewal Ranking Report'!G48,\"\")","v":"PH"},{"$f":"IF('CoC Renewal Ranking Report'!AV48<>\"\",'CoC Renewal Ranking Report'!AV48,\"\")","v":11}]
[{"$f":"IF('CoC Renewal Ranking Report'!D49<>\"\",'CoC Renewal Ranking Report'!D49,\"\")","v":"Resources for Human Development, Inc."},{"$f":"IF('CoC Renewal Ranking Report'!E49<>\"\",'CoC Renewal Ranking Report'!E49,\"\")","v":"Crossroads Housing Bonus"},{"$f":"IF('CoC Renewal Ranking Report'!G49<>\"\",'CoC Renewal Ranking Report'!G49,\"\")","v":"PH"},{"$f":"IF('CoC Renewal Ranking Report'!AV49<>\"\",'CoC Renewal Ranking Report'!AV49,\"\")","v":1}]
[{"$f":"IF('CoC Renewal Ranking Report'!D50<>\"\",'CoC Renewal Ranking Report'!D50,\"\")","v":"Resources for Human Development, Inc."},{"$f":"IF('CoC Renewal Ranking Report'!E50<>\"\",'CoC Renewal Ranking Report'!E50,\"\")","v":"Crossroads Individual"},{"$f":"IF('CoC Renewal Ranking Report'!G50<>\"\",'CoC Renewal Ranking Report'!G50,\"\")","v":"PH"},{"$f":"IF('CoC Renewal Ranking Report'!AV50<>\"\",'CoC Renewal Ranking Report'!AV50,\"\")","v":37}]
[{"$f":"IF('CoC Renewal Ranking Report'!D51<>\"\",'CoC Renewal Ranking Report'!D51,\"\")","v":"Resources for Human Development, Inc."},{"$f":"IF('CoC Renewal Ranking Report'!E51<>\"\",'CoC Renewal Ranking Report'!E51,\"\")","v":"Crossroads Schuylkill Co. Permanent Supportive Housing"},{"$f":"IF('CoC Renewal Ranking Report'!G51<>\"\",'CoC Renewal Ranking Report'!G51,\"\")","v":"PH"},{"$f":"IF('CoC Renewal Ranking Report'!AV51<>\"\",'CoC Renewal Ranking Report'!AV51,\"\")","v":0}]
[{"$f":"IF('CoC Renewal Ranking Report'!D52<>\"\",'CoC Renewal Ranking Report'!D52,\"\")","v":"Resources for Human Development, Inc."},{"$f":"IF('CoC Renewal Ranking Report'!E52<>\"\",'CoC Renewal Ranking Report'!E52,\"\")","v":"LV ACT Housing Supports"},{"$f":"IF('CoC Renewal Ranking Report'!G52<>\"\",'CoC Renewal Ranking Report'!G52,\"\")","v":"PH"},{"$f":"IF('CoC Renewal Ranking Report'!AV52<>\"\",'CoC Renewal Ranking Report'!AV52,\"\")","v":0}]
[{"$f":"IF('CoC Renewal Ranking Report'!D53<>\"\",'CoC Renewal Ranking Report'!D53,\"\")","v":"Tableland Services, Inc."},{"$f":"IF('CoC Renewal Ranking Report'!E53<>\"\",'CoC Renewal Ranking Report'!E53,\"\")","v":"Permanent Housing with Disabilities (SHP)"},{"$f":"IF('CoC Renewal Ranking Report'!G53<>\"\",'CoC Renewal Ranking Report'!G53,\"\")","v":"PH"},{"$f":"IF('CoC Renewal Ranking Report'!AV53<>\"\",'CoC Renewal Ranking Report'!AV53,\"\")","v":18}]
[{"$f":"IF('CoC Renewal Ranking Report'!D54<>\"\",'CoC Renewal Ranking Report'!D54,\"\")","v":"Tableland Services, Inc."},{"$f":"IF('CoC Renewal Ranking Report'!E54<>\"\",'CoC Renewal Ranking Report'!E54,\"\")","v":"Permanent Supportive Housing CH Project"},{"$f":"IF('CoC Renewal Ranking Report'!G54<>\"\",'CoC Renewal Ranking Report'!G54,\"\")","v":"PH"},{"$f":"IF('CoC Renewal Ranking Report'!AV54<>\"\",'CoC Renewal Ranking Report'!AV54,\"\")","v":0}]
[{"$f":"IF('CoC Renewal Ranking Report'!D55<>\"\",'CoC Renewal Ranking Report'!D55,\"\")","v":"The Salvation Army, a New York Corporation"},{"$f":"IF('CoC Renewal Ranking Report'!E55<>\"\",'CoC Renewal Ranking Report'!E55,\"\")","v":"Allentown Hospitality House Permanent Housing Program"},{"$f":"IF('CoC Renewal Ranking Report'!G55<>\"\",'CoC Renewal Ranking Report'!G55,\"\")","v":"PH"},{"$f":"IF('CoC Renewal Ranking Report'!AV55<>\"\",'CoC Renewal Ranking Report'!AV55,\"\")","v":0}]
[{"$f":"IF('CoC Renewal Ranking Report'!D56<>\"\",'CoC Renewal Ranking Report'!D56,\"\")","v":"The Salvation Army, a New York Corporation"},{"$f":"IF('CoC Renewal Ranking Report'!E56<>\"\",'CoC Renewal Ranking Report'!E56,\"\")","v":"Salvation Army Carlisle PH Project"},{"$f":"IF('CoC Renewal Ranking Report'!G56<>\"\",'CoC Renewal Ranking Report'!G56,\"\")","v":"PH"},{"$f":"IF('CoC Renewal Ranking Report'!AV56<>\"\",'CoC Renewal Ranking Report'!AV56,\"\")","v":6}]
[{"$f":"IF('CoC Renewal Ranking Report'!D57<>\"\",'CoC Renewal Ranking Report'!D57,\"\")","v":"Union-Snyder Community Action Agency"},{"$f":"IF('CoC Renewal Ranking Report'!E57<>\"\",'CoC Renewal Ranking Report'!E57,\"\")","v":"Union-Snyder Rapid ReHousing Program"},{"$f":"IF('CoC Renewal Ranking Report'!G57<>\"\",'CoC Renewal Ranking Report'!G57,\"\")","v":"PH-RRH"},{"$f":"IF('CoC Renewal Ranking Report'!AV57<>\"\",'CoC Renewal Ranking Report'!AV57,\"\")","v":0}]
[{"$f":"IF('CoC Renewal Ranking Report'!D58<>\"\",'CoC Renewal Ranking Report'!D58,\"\")","v":"United Christian Ministries"},{"$f":"IF('CoC Renewal Ranking Report'!E58<>\"\",'CoC Renewal Ranking Report'!E58,\"\")","v":"Kenner Garnet Renewal 2016"},{"$f":"IF('CoC Renewal Ranking Report'!G58<>\"\",'CoC Renewal Ranking Report'!G58,\"\")","v":"PH"},{"$f":"IF('CoC Renewal Ranking Report'!AV58<>\"\",'CoC Renewal Ranking Report'!AV58,\"\")","v":15}]
[{"$f":"IF('CoC Renewal Ranking Report'!D59<>\"\",'CoC Renewal Ranking Report'!D59,\"\")","v":"Valley Housing Development Corporation "},{"$f":"IF('CoC Renewal Ranking Report'!E59<>\"\",'CoC Renewal Ranking Report'!E59,\"\")","v":"VHDC SHP #2 2016"},{"$f":"IF('CoC Renewal Ranking Report'!G59<>\"\",'CoC Renewal Ranking Report'!G59,\"\")","v":"PH"},{"$f":"IF('CoC Renewal Ranking Report'!AV59<>\"\",'CoC Renewal Ranking Report'!AV59,\"\")","v":0}]
[{"$f":"IF('CoC Renewal Ranking Report'!D60<>\"\",'CoC Renewal Ranking Report'!D60,\"\")","v":"Valley Housing Development Corporation "},{"$f":"IF('CoC Renewal Ranking Report'!E60<>\"\",'CoC Renewal Ranking Report'!E60,\"\")","v":"VHDC SHP #3 2016"},{"$f":"IF('CoC Renewal Ranking Report'!G60<>\"\",'CoC Renewal Ranking Report'!G60,\"\")","v":"PH"},{"$f":"IF('CoC Renewal Ranking Report'!AV60<>\"\",'CoC Renewal Ranking Report'!AV60,\"\")","v":0}]
[{"$f":"IF('CoC Renewal Ranking Report'!D61<>\"\",'CoC Renewal Ranking Report'!D61,\"\")","v":"Valley Housing Development Corporation "},{"$f":"IF('CoC Renewal Ranking Report'!E61<>\"\",'CoC Renewal Ranking Report'!E61,\"\")","v":"VHDC SHP #4 2016"},{"$f":"IF('CoC Renewal Ranking Report'!G61<>\"\",'CoC Renewal Ranking Report'!G61,\"\")","v":"PH"},{"$f":"IF('CoC Renewal Ranking Report'!AV61<>\"\",'CoC Renewal Ranking Report'!AV61,\"\")","v":0}]
[{"$f":"IF('CoC Renewal Ranking Report'!D62<>\"\",'CoC Renewal Ranking Report'!D62,\"\")","v":""},{"$f":"IF('CoC Renewal Ranking Report'!E62<>\"\",'CoC Renewal Ranking Report'!E62,\"\")","v":""},{"$f":"IF('CoC Renewal Ranking Report'!G62<>\"\",'CoC Renewal Ranking Report'!G62,\"\")","v":""},{"$f":"IF('CoC Renewal Ranking Report'!AV62<>\"\",'CoC Renewal Ranking Report'!AV62,\"\")","v":""}]
[{"$f":"IF('CoC Renewal Ranking Report'!D63<>\"\",'CoC Renewal Ranking Report'!D63,\"\")","v":""},{"$f":"IF('CoC Renewal Ranking Report'!E63<>\"\",'CoC Renewal Ranking Report'!E63,\"\")","v":""},{"$f":"IF('CoC Renewal Ranking Report'!G63<>\"\",'CoC Renewal Ranking Report'!G63,\"\")","v":""},{"$f":"IF('CoC Renewal Ranking Report'!AV63<>\"\",'CoC Renewal Ranking Report'!AV63,\"\")","v":""}]
[{"$f":"IF('CoC Renewal Ranking Report'!D64<>\"\",'CoC Renewal Ranking Report'!D64,\"\")","v":""},{"$f":"IF('CoC Renewal Ranking Report'!E64<>\"\",'CoC Renewal Ranking Report'!E64,\"\")","v":""},{"$f":"IF('CoC Renewal Ranking Report'!G64<>\"\",'CoC Renewal Ranking Report'!G64,\"\")","v":""},{"$f":"IF('CoC Renewal Ranking Report'!AV64<>\"\",'CoC Renewal Ranking Report'!AV64,\"\")","v":""}]
[{"$f":"IF('CoC Renewal Ranking Report'!D65<>\"\",'CoC Renewal Ranking Report'!D65,\"\")","v":""},{"$f":"IF('CoC Renewal Ranking Report'!E65<>\"\",'CoC Renewal Ranking Report'!E65,\"\")","v":""},{"$f":"IF('CoC Renewal Ranking Report'!G65<>\"\",'CoC Renewal Ranking Report'!G65,\"\")","v":""},{"$f":"IF('CoC Renewal Ranking Report'!AV65<>\"\",'CoC Renewal Ranking Report'!AV65,\"\")","v":""}]
[{"$f":"IF('CoC Renewal Ranking Report'!D66<>\"\",'CoC Renewal Ranking Report'!D66,\"\")","v":""},{"$f":"IF('CoC Renewal Ranking Report'!E66<>\"\",'CoC Renewal Ranking Report'!E66,\"\")","v":""},{"$f":"IF('CoC Renewal Ranking Report'!G66<>\"\",'CoC Renewal Ranking Report'!G66,\"\")","v":""},{"$f":"IF('CoC Renewal Ranking Report'!AV66<>\"\",'CoC Renewal Ranking Report'!AV66,\"\")","v":""}]
[{"$f":"IF('CoC Renewal Ranking Report'!D67<>\"\",'CoC Renewal Ranking Report'!D67,\"\")","v":""},{"$f":"IF('CoC Renewal Ranking Report'!E67<>\"\",'CoC Renewal Ranking Report'!E67,\"\")","v":""},{"$f":"IF('CoC Renewal Ranking Report'!G67<>\"\",'CoC Renewal Ranking Report'!G67,\"\")","v":""},{"$f":"IF('CoC Renewal Ranking Report'!AV67<>\"\",'CoC Renewal Ranking Report'!AV67,\"\")","v":""}]
[{"$f":"IF('CoC Renewal Ranking Report'!D68<>\"\",'CoC Renewal Ranking Report'!D68,\"\")","v":""},{"$f":"IF('CoC Renewal Ranking Report'!E68<>\"\",'CoC Renewal Ranking Report'!E68,\"\")","v":""},{"$f":"IF('CoC Renewal Ranking Report'!G68<>\"\",'CoC Renewal Ranking Report'!G68,\"\")","v":""},{"$f":"IF('CoC Renewal Ranking Report'!AV68<>\"\",'CoC Renewal Ranking Report'!AV68,\"\")","v":""}]
[{"$f":"IF('CoC Renewal Ranking Report'!D69<>\"\",'CoC Renewal Ranking Report'!D69,\"\")","v":""},{"$f":"IF('CoC Renewal Ranking Report'!E69<>\"\",'CoC Renewal Ranking Report'!E69,\"\")","v":""},{"$f":"IF('CoC Renewal Ranking Report'!G69<>\"\",'CoC Renewal Ranking Report'!G69,\"\")","v":""},{"$f":"IF('CoC Renewal Ranking Report'!AV69<>\"\",'CoC Renewal Ranking Report'!AV69,\"\")","v":""}]
[{"$f":"IF('CoC Renewal Ranking Report'!D70<>\"\",'CoC Renewal Ranking Report'!D70,\"\")","v":""},{"$f":"IF('CoC Renewal Ranking Report'!E70<>\"\",'CoC Renewal Ranking Report'!E70,\"\")","v":""},{"$f":"IF('CoC Renewal Ranking Report'!G70<>\"\",'CoC Renewal Ranking Report'!G70,\"\")","v":""},{"$f":"IF('CoC Renewal Ranking Report'!AV70<>\"\",'CoC Renewal Ranking Report'!AV70,\"\")","v":""}]
[{"$f":"IF('CoC Renewal Ranking Report'!D71<>\"\",'CoC Renewal Ranking Report'!D71,\"\")","v":""},{"$f":"IF('CoC Renewal Ranking Report'!E71<>\"\",'CoC Renewal Ranking Report'!E71,\"\")","v":""},{"$f":"IF('CoC Renewal Ranking Report'!G71<>\"\",'CoC Renewal Ranking Report'!G71,\"\")","v":""},{"$f":"IF('CoC Renewal Ranking Report'!AV71<>\"\",'CoC Renewal Ranking Report'!AV71,\"\")","v":""}]
[{"$f":"IF('CoC Renewal Ranking Report'!D72<>\"\",'CoC Renewal Ranking Report'!D72,\"\")","v":""},{"$f":"IF('CoC Renewal Ranking Report'!E72<>\"\",'CoC Renewal Ranking Report'!E72,\"\")","v":""},{"$f":"IF('CoC Renewal Ranking Report'!G72<>\"\",'CoC Renewal Ranking Report'!G72,\"\")","v":""},{"$f":"IF('CoC Renewal Ranking Report'!AV72<>\"\",'CoC Renewal Ranking Report'!AV72,\"\")","v":""}]
[{"$f":"IF('CoC Renewal Ranking Report'!D73<>\"\",'CoC Renewal Ranking Report'!D73,\"\")","v":""},{"$f":"IF('CoC Renewal Ranking Report'!E73<>\"\",'CoC Renewal Ranking Report'!E73,\"\")","v":""},{"$f":"IF('CoC Renewal Ranking Report'!G73<>\"\",'CoC Renewal Ranking Report'!G73,\"\")","v":""},{"$f":"IF('CoC Renewal Ranking Report'!AV73<>\"\",'CoC Renewal Ranking Report'!AV73,\"\")","v":""}]
[{"$f":"IF('CoC Renewal Ranking Report'!D74<>\"\",'CoC Renewal Ranking Report'!D74,\"\")","v":""},{"$f":"IF('CoC Renewal Ranking Report'!E74<>\"\",'CoC Renewal Ranking Report'!E74,\"\")","v":""},{"$f":"IF('CoC Renewal Ranking Report'!G74<>\"\",'CoC Renewal Ranking Report'!G74,\"\")","v":""},{"$f":"IF('CoC Renewal Ranking Report'!AV74<>\"\",'CoC Renewal Ranking Report'!AV74,\"\")","v":""}]
[{"$f":"IF('CoC Renewal Ranking Report'!D75<>\"\",'CoC Renewal Ranking Report'!D75,\"\")","v":""},{"$f":"IF('CoC Renewal Ranking Report'!E75<>\"\",'CoC Renewal Ranking Report'!E75,\"\")","v":""},{"$f":"IF('CoC Renewal Ranking Report'!G75<>\"\",'CoC Renewal Ranking Report'!G75,\"\")","v":""},{"$f":"IF('CoC Renewal Ranking Report'!AV75<>\"\",'CoC Renewal Ranking Report'!AV75,\"\")","v":""}]
[{"$f":"IF('CoC Renewal Ranking Report'!D76<>\"\",'CoC Renewal Ranking Report'!D76,\"\")","v":""},{"$f":"IF('CoC Renewal Ranking Report'!E76<>\"\",'CoC Renewal Ranking Report'!E76,\"\")","v":""},{"$f":"IF('CoC Renewal Ranking Report'!G76<>\"\",'CoC Renewal Ranking Report'!G76,\"\")","v":""},{"$f":"IF('CoC Renewal Ranking Report'!AV76<>\"\",'CoC Renewal Ranking Report'!AV76,\"\")","v":""}]
[{"$f":"IF('CoC Renewal Ranking Report'!D77<>\"\",'CoC Renewal Ranking Report'!D77,\"\")","v":""},{"$f":"IF('CoC Renewal Ranking Report'!E77<>\"\",'CoC Renewal Ranking Report'!E77,\"\")","v":""},{"$f":"IF('CoC Renewal Ranking Report'!G77<>\"\",'CoC Renewal Ranking Report'!G77,\"\")","v":""},{"$f":"IF('CoC Renewal Ranking Report'!AV77<>\"\",'CoC Renewal Ranking Report'!AV77,\"\")","v":""}]
[{"$f":"IF('CoC Renewal Ranking Report'!D78<>\"\",'CoC Renewal Ranking Report'!D78,\"\")","v":""},{"$f":"IF('CoC Renewal Ranking Report'!E78<>\"\",'CoC Renewal Ranking Report'!E78,\"\")","v":""},{"$f":"IF('CoC Renewal Ranking Report'!G78<>\"\",'CoC Renewal Ranking Report'!G78,\"\")","v":""},{"$f":"IF('CoC Renewal Ranking Report'!AV78<>\"\",'CoC Renewal Ranking Report'!AV78,\"\")","v":""}]
[{"$f":"IF('CoC Renewal Ranking Report'!D79<>\"\",'CoC Renewal Ranking Report'!D79,\"\")","v":""},{"$f":"IF('CoC Renewal Ranking Report'!E79<>\"\",'CoC Renewal Ranking Report'!E79,\"\")","v":""},{"$f":"IF('CoC Renewal Ranking Report'!G79<>\"\",'CoC Renewal Ranking Report'!G79,\"\")","v":""},{"$f":"IF('CoC Renewal Ranking Report'!AV79<>\"\",'CoC Renewal Ranking Report'!AV79,\"\")","v":""}]
[{"$f":"IF('CoC Renewal Ranking Report'!D80<>\"\",'CoC Renewal Ranking Report'!D80,\"\")","v":""},{"$f":"IF('CoC Renewal Ranking Report'!E80<>\"\",'CoC Renewal Ranking Report'!E80,\"\")","v":""},{"$f":"IF('CoC Renewal Ranking Report'!G80<>\"\",'CoC Renewal Ranking Report'!G80,\"\")","v":""},{"$f":"IF('CoC Renewal Ranking Report'!AV80<>\"\",'CoC Renewal Ranking Report'!AV80,\"\")","v":""}]
[{"$f":"IF('CoC Renewal Ranking Report'!D81<>\"\",'CoC Renewal Ranking Report'!D81,\"\")","v":""},{"$f":"IF('CoC Renewal Ranking Report'!E81<>\"\",'CoC Renewal Ranking Report'!E81,\"\")","v":""},{"$f":"IF('CoC Renewal Ranking Report'!G81<>\"\",'CoC Renewal Ranking Report'!G81,\"\")","v":""},{"$f":"IF('CoC Renewal Ranking Report'!AV81<>\"\",'CoC Renewal Ranking Report'!AV81,\"\")","v":""}]
[{"$f":"IF('CoC Renewal Ranking Report'!D82<>\"\",'CoC Renewal Ranking Report'!D82,\"\")","v":""},{"$f":"IF('CoC Renewal Ranking Report'!E82<>\"\",'CoC Renewal Ranking Report'!E82,\"\")","v":""},{"$f":"IF('CoC Renewal Ranking Report'!G82<>\"\",'CoC Renewal Ranking Report'!G82,\"\")","v":""},{"$f":"IF('CoC Renewal Ranking Report'!AV82<>\"\",'CoC Renewal Ranking Report'!AV82,\"\")","v":""}]
[{"$f":"IF('CoC Renewal Ranking Report'!D83<>\"\",'CoC Renewal Ranking Report'!D83,\"\")","v":""},{"$f":"IF('CoC Renewal Ranking Report'!E83<>\"\",'CoC Renewal Ranking Report'!E83,\"\")","v":""},{"$f":"IF('CoC Renewal Ranking Report'!G83<>\"\",'CoC Renewal Ranking Report'!G83,\"\")","v":""},{"$f":"IF('CoC Renewal Ranking Report'!AV83<>\"\",'CoC Renewal Ranking Report'!AV83,\"\")","v":""}]
[{"$f":"IF('CoC Renewal Ranking Report'!D84<>\"\",'CoC Renewal Ranking Report'!D84,\"\")","v":""},{"$f":"IF('CoC Renewal Ranking Report'!E84<>\"\",'CoC Renewal Ranking Report'!E84,\"\")","v":""},{"$f":"IF('CoC Renewal Ranking Report'!G84<>\"\",'CoC Renewal Ranking Report'!G84,\"\")","v":""},{"$f":"IF('CoC Renewal Ranking Report'!AV84<>\"\",'CoC Renewal Ranking Report'!AV84,\"\")","v":""}]
[{"$f":"IF('CoC Renewal Ranking Report'!D85<>\"\",'CoC Renewal Ranking Report'!D85,\"\")","v":""},{"$f":"IF('CoC Renewal Ranking Report'!E85<>\"\",'CoC Renewal Ranking Report'!E85,\"\")","v":""},{"$f":"IF('CoC Renewal Ranking Report'!G85<>\"\",'CoC Renewal Ranking Report'!G85,\"\")","v":""},{"$f":"IF('CoC Renewal Ranking Report'!AV85<>\"\",'CoC Renewal Ranking Report'!AV85,\"\")","v":""}]
[{"$f":"IF('CoC Renewal Ranking Report'!D86<>\"\",'CoC Renewal Ranking Report'!D86,\"\")","v":""},{"$f":"IF('CoC Renewal Ranking Report'!E86<>\"\",'CoC Renewal Ranking Report'!E86,\"\")","v":""},{"$f":"IF('CoC Renewal Ranking Report'!G86<>\"\",'CoC Renewal Ranking Report'!G86,\"\")","v":""},{"$f":"IF('CoC Renewal Ranking Report'!AV86<>\"\",'CoC Renewal Ranking Report'!AV86,\"\")","v":""}]
[{"$f":"IF('CoC Renewal Ranking Report'!D87<>\"\",'CoC Renewal Ranking Report'!D87,\"\")","v":""},{"$f":"IF('CoC Renewal Ranking Report'!E87<>\"\",'CoC Renewal Ranking Report'!E87,\"\")","v":""},{"$f":"IF('CoC Renewal Ranking Report'!G87<>\"\",'CoC Renewal Ranking Report'!G87,\"\")","v":""},{"$f":"IF('CoC Renewal Ranking Report'!AV87<>\"\",'CoC Renewal Ranking Report'!AV87,\"\")","v":""}]
[{"$f":"IF('CoC Renewal Ranking Report'!D88<>\"\",'CoC Renewal Ranking Report'!D88,\"\")","v":""},{"$f":"IF('CoC Renewal Ranking Report'!E88<>\"\",'CoC Renewal Ranking Report'!E88,\"\")","v":""},{"$f":"IF('CoC Renewal Ranking Report'!G88<>\"\",'CoC Renewal Ranking Report'!G88,\"\")","v":""},{"$f":"IF('CoC Renewal Ranking Report'!AV88<>\"\",'CoC Renewal Ranking Report'!AV88,\"\")","v":""}]
[{"$f":"IF('CoC Renewal Ranking Report'!D89<>\"\",'CoC Renewal Ranking Report'!D89,\"\")","v":""},{"$f":"IF('CoC Renewal Ranking Report'!E89<>\"\",'CoC Renewal Ranking Report'!E89,\"\")","v":""},{"$f":"IF('CoC Renewal Ranking Report'!G89<>\"\",'CoC Renewal Ranking Report'!G89,\"\")","v":""},{"$f":"IF('CoC Renewal Ranking Report'!AV89<>\"\",'CoC Renewal Ranking Report'!AV89,\"\")","v":""}]
[{"$f":"IF('CoC Renewal Ranking Report'!D90<>\"\",'CoC Renewal Ranking Report'!D90,\"\")","v":""},{"$f":"IF('CoC Renewal Ranking Report'!E90<>\"\",'CoC Renewal Ranking Report'!E90,\"\")","v":""},{"$f":"IF('CoC Renewal Ranking Report'!G90<>\"\",'CoC Renewal Ranking Report'!G90,\"\")","v":""},{"$f":"IF('CoC Renewal Ranking Report'!AV90<>\"\",'CoC Renewal Ranking Report'!AV90,\"\")","v":""}]
[{"$f":"IF('CoC Renewal Ranking Report'!D91<>\"\",'CoC Renewal Ranking Report'!D91,\"\")","v":""},{"$f":"IF('CoC Renewal Ranking Report'!E91<>\"\",'CoC Renewal Ranking Report'!E91,\"\")","v":""},{"$f":"IF('CoC Renewal Ranking Report'!G91<>\"\",'CoC Renewal Ranking Report'!G91,\"\")","v":""},{"$f":"IF('CoC Renewal Ranking Report'!AV91<>\"\",'CoC Renewal Ranking Report'!AV91,\"\")","v":""}]
[{"$f":"IF('CoC Renewal Ranking Report'!D92<>\"\",'CoC Renewal Ranking Report'!D92,\"\")","v":""},{"$f":"IF('CoC Renewal Ranking Report'!E92<>\"\",'CoC Renewal Ranking Report'!E92,\"\")","v":""},{"$f":"IF('CoC Renewal Ranking Report'!G92<>\"\",'CoC Renewal Ranking Report'!G92,\"\")","v":""},{"$f":"IF('CoC Renewal Ranking Report'!AV92<>\"\",'CoC Renewal Ranking Report'!AV92,\"\")","v":""}]
[{"$f":"IF('CoC Renewal Ranking Report'!D93<>\"\",'CoC Renewal Ranking Report'!D93,\"\")","v":""},{"$f":"IF('CoC Renewal Ranking Report'!E93<>\"\",'CoC Renewal Ranking Report'!E93,\"\")","v":""},{"$f":"IF('CoC Renewal Ranking Report'!G93<>\"\",'CoC Renewal Ranking Report'!G93,\"\")","v":""},{"$f":"IF('CoC Renewal Ranking Report'!AV93<>\"\",'CoC Renewal Ranking Report'!AV93,\"\")","v":""}]
[{"$f":"IF('CoC Renewal Ranking Report'!D94<>\"\",'CoC Renewal Ranking Report'!D94,\"\")","v":""},{"$f":"IF('CoC Renewal Ranking Report'!E94<>\"\",'CoC Renewal Ranking Report'!E94,\"\")","v":""},{"$f":"IF('CoC Renewal Ranking Report'!G94<>\"\",'CoC Renewal Ranking Report'!G94,\"\")","v":""},{"$f":"IF('CoC Renewal Ranking Report'!AV94<>\"\",'CoC Renewal Ranking Report'!AV94,\"\")","v":""}]
[{"$f":"IF('CoC Renewal Ranking Report'!D95<>\"\",'CoC Renewal Ranking Report'!D95,\"\")","v":""},{"$f":"IF('CoC Renewal Ranking Report'!E95<>\"\",'CoC Renewal Ranking Report'!E95,\"\")","v":""},{"$f":"IF('CoC Renewal Ranking Report'!G95<>\"\",'CoC Renewal Ranking Report'!G95,\"\")","v":""},{"$f":"IF('CoC Renewal Ranking Report'!AV95<>\"\",'CoC Renewal Ranking Report'!AV95,\"\")","v":""}]
[{"$f":"IF('CoC Renewal Ranking Report'!D96<>\"\",'CoC Renewal Ranking Report'!D96,\"\")","v":""},{"$f":"IF('CoC Renewal Ranking Report'!E96<>\"\",'CoC Renewal Ranking Report'!E96,\"\")","v":""},{"$f":"IF('CoC Renewal Ranking Report'!G96<>\"\",'CoC Renewal Ranking Report'!G96,\"\")","v":""},{"$f":"IF('CoC Renewal Ranking Report'!AV96<>\"\",'CoC Renewal Ranking Report'!AV96,\"\")","v":""}]
[{"$f":"IF('CoC Renewal Ranking Report'!D97<>\"\",'CoC Renewal Ranking Report'!D97,\"\")","v":""},{"$f":"IF('CoC Renewal Ranking Report'!E97<>\"\",'CoC Renewal Ranking Report'!E97,\"\")","v":""},{"$f":"IF('CoC Renewal Ranking Report'!G97<>\"\",'CoC Renewal Ranking Report'!G97,\"\")","v":""},{"$f":"IF('CoC Renewal Ranking Report'!AV97<>\"\",'CoC Renewal Ranking Report'!AV97,\"\")","v":""}]
[{"$f":"IF('CoC Renewal Ranking Report'!D98<>\"\",'CoC Renewal Ranking Report'!D98,\"\")","v":""},{"$f":"IF('CoC Renewal Ranking Report'!E98<>\"\",'CoC Renewal Ranking Report'!E98,\"\")","v":""},{"$f":"IF('CoC Renewal Ranking Report'!G98<>\"\",'CoC Renewal Ranking Report'!G98,\"\")","v":""},{"$f":"IF('CoC Renewal Ranking Report'!AV98<>\"\",'CoC Renewal Ranking Report'!AV98,\"\")","v":""}]
[{"$f":"IF('CoC Renewal Ranking Report'!D99<>\"\",'CoC Renewal Ranking Report'!D99,\"\")","v":""},{"$f":"IF('CoC Renewal Ranking Report'!E99<>\"\",'CoC Renewal Ranking Report'!E99,\"\")","v":""},{"$f":"IF('CoC Renewal Ranking Report'!G99<>\"\",'CoC Renewal Ranking Report'!G99,\"\")","v":""},{"$f":"IF('CoC Renewal Ranking Report'!AV99<>\"\",'CoC Renewal Ranking Report'!AV99,\"\")","v":""}]
[{"$f":"IF('CoC Renewal Ranking Report'!D100<>\"\",'CoC Renewal Ranking Report'!D100,\"\")","v":""},{"$f":"IF('CoC Renewal Ranking Report'!E100<>\"\",'CoC Renewal Ranking Report'!E100,\"\")","v":""},{"$f":"IF('CoC Renewal Ranking Report'!G100<>\"\",'CoC Renewal Ranking Report'!G100,\"\")","v":""},{"$f":"IF('CoC Renewal Ranking Report'!AV100<>\"\",'CoC Renewal Ranking Report'!AV100,\"\")","v":""}]
[{"$f":"IF('CoC Renewal Ranking Report'!D101<>\"\",'CoC Renewal Ranking Report'!D101,\"\")","v":""},{"$f":"IF('CoC Renewal Ranking Report'!E101<>\"\",'CoC Renewal Ranking Report'!E101,\"\")","v":""},{"$f":"IF('CoC Renewal Ranking Report'!G101<>\"\",'CoC Renewal Ranking Report'!G101,\"\")","v":""},{"$f":"IF('CoC Renewal Ranking Report'!AV101<>\"\",'CoC Renewal Ranking Report'!AV101,\"\")","v":""}]
[{"$f":"IF('CoC Renewal Ranking Report'!D102<>\"\",'CoC Renewal Ranking Report'!D102,\"\")","v":""},{"$f":"IF('CoC Renewal Ranking Report'!E102<>\"\",'CoC Renewal Ranking Report'!E102,\"\")","v":""},{"$f":"IF('CoC Renewal Ranking Report'!G102<>\"\",'CoC Renewal Ranking Report'!G102,\"\")","v":""},{"$f":"IF('CoC Renewal Ranking Report'!AV102<>\"\",'CoC Renewal Ranking Report'!AV102,\"\")","v":""}]
[{"$f":"IF('CoC Renewal Ranking Report'!D103<>\"\",'CoC Renewal Ranking Report'!D103,\"\")","v":""},{"$f":"IF('CoC Renewal Ranking Report'!E103<>\"\",'CoC Renewal Ranking Report'!E103,\"\")","v":""},{"$f":"IF('CoC Renewal Ranking Report'!G103<>\"\",'CoC Renewal Ranking Report'!G103,\"\")","v":""},{"$f":"IF('CoC Renewal Ranking Report'!AV103<>\"\",'CoC Renewal Ranking Report'!AV103,\"\")","v":""}]
[{"$f":"IF('CoC Renewal Ranking Report'!D104<>\"\",'CoC Renewal Ranking Report'!D104,\"\")","v":""},{"$f":"IF('CoC Renewal Ranking Report'!E104<>\"\",'CoC Renewal Ranking Report'!E104,\"\")","v":""},{"$f":"IF('CoC Renewal Ranking Report'!G104<>\"\",'CoC Renewal Ranking Report'!G104,\"\")","v":""},{"$f":"IF('CoC Renewal Ranking Report'!AV104<>\"\",'CoC Renewal Ranking Report'!AV104,\"\")","v":""}]
[{"$f":"IF('CoC Renewal Ranking Report'!D105<>\"\",'CoC Renewal Ranking Report'!D105,\"\")","v":""},{"$f":"IF('CoC Renewal Ranking Report'!E105<>\"\",'CoC Renewal Ranking Report'!E105,\"\")","v":""},{"$f":"IF('CoC Renewal Ranking Report'!G105<>\"\",'CoC Renewal Ranking Report'!G105,\"\")","v":""},{"$f":"IF('CoC Renewal Ranking Report'!AV105<>\"\",'CoC Renewal Ranking Report'!AV105,\"\")","v":""}]

{"sheet":"Unranked","index":27,"n_rows":14,"n_cols":4,"rows_kept":14,"cut":false,"hidden":true,"merged":[]}
[]
["FY2015 PROJECTS - NOT FULL YEAR OF IMPLEMENTATION"]
["Blair County Community Action Program","Journey","PA0650L3E","PH-RRH"]
["Blair County Community Action Program","Transitional Housing Project","PA0372L3E","PH-RRH"]
["Tableland Services, Inc.","SHP Transitional Housing Project","PA0366L3E","PH-RRH"]
["FY2016 NEW - NOT RANKED"]
["Center for  Community Action","South Central PA Rapid Rehousing Project","PA0813L3T","PH-RRH"]
["Centre County Government","Centre County Rapid Re Housing Program","PA0814L3T","PH-RRH"]
["Housing Authority of the County of Cumberland","Rapid Rehousing Cumberland Perry Lebanon","PA0812L3T","PH-RRH"]
["Housing Transitions, Inc.","Nittany House Apartments II","PA0810L3T","PH"]
["Huntingdon House","Huntingdon Rapid ReHousing","PA0809L3T","PH-RRH"]
["Third Street Alliance for Women and Children","Lehigh Valley Rapid Re-Housing Program","PA0811L3T","PH-RRH"]
["Transitions of PA","SUN Counties Rapid Re-Housing for Domestic Violence Victims","PA0859L3T","PH-RRH"]
["Valley Youth House Committee, Inc.","Lehigh Valley RRH for Families","PA0808L3T","PH-RRH"]

{"sheet":"Raw Total Score","index":28,"n_rows":102,"n_cols":4,"rows_kept":102,"cut":false,"hidden":true,"merged":[]}
[null,"Raw Total Score"]
[]
["Agency Name","Project Name","Project Type","Total Score"]
[{"$f":"IF('CoC Renewal Ranking Report'!D9<>\"\",'CoC Renewal Ranking Report'!D9,\"\")","v":""},{"$f":"IF('CoC Renewal Ranking Report'!E9<>\"\",'CoC Renewal Ranking Report'!E9,\"\")","v":""},{"$f":"IF('CoC Renewal Ranking Report'!G9<>\"\",'CoC Renewal Ranking Report'!G9,\"\")","v":""},{"$f":"IF(A4<>\"\",SUM('Exit-Retention to PH Measure'!E9,'Returns to Homelessness'!E9,'Length of Stay (TH Only)'!E10,'Income Growth Measure'!F9,'Mainstream Benefits Measure'!E7,'Project Eligibility'!E9,'Unit Utilization Rate'!G8,'eLOCCS Drawdowns'!E6,'Recaptured Funds'!E9,'Timely APR Submission'!E6,'Cost Effectiveness'!G11,'HUD Monitoring'!E7,'Project Description'!D6,'Opening Doors Goals'!D8,'Severity of Needs'!E9,'Prioritization of PSH'!E7,'Housing First Approach'!E6,'CoC Participation'!#REF!,'HMIS Data Quality'!E6), \"\")","v":""}]
[{"$f":"IF('CoC Renewal Ranking Report'!#REF!<>\"\",'CoC Renewal Ranking Report'!#REF!,\"\")","v":{"$error":"#REF!"}},{"$f":"IF('CoC Renewal Ranking Report'!#REF!<>\"\",'CoC Renewal Ranking Report'!#REF!,\"\")","v":{"$error":"#REF!"}},{"$f":"IF('CoC Renewal Ranking Report'!#REF!<>\"\",'CoC Renewal Ranking Report'!#REF!,\"\")","v":{"$error":"#REF!"}},{"$f":"IF(A5<>\"\",SUM('Exit-Retention to PH Measure'!E10,'Returns to Homelessness'!E10,'Length of Stay (TH Only)'!E11,'Income Growth Measure'!F10,'Mainstream Benefits Measure'!E8,'Project Eligibility'!E10,'Unit Utilization Rate'!G9,'eLOCCS Drawdowns'!E7,'Recaptured Funds'!E10,'Timely APR Submission'!E7,'Cost Effectiveness'!G12,'HUD Monitoring'!E8,'Project Description'!D7,'Opening Doors Goals'!D9,'Severity of Needs'!E10,'Prioritization of PSH'!E8,'Housing First Approach'!E7,'CoC Participation'!#REF!,'HMIS Data Quality'!E7), \"\")","v":{"$error":"#REF!"}}]
[{"$f":"IF('CoC Renewal Ranking Report'!D10<>\"\",'CoC Renewal Ranking Report'!D10,\"\")","v":"Blair County Community Action Program"},{"$f":"IF('CoC Renewal Ranking Report'!E10<>\"\",'CoC Renewal Ranking Report'!E10,\"\")","v":"Rapid Re-Housing"},{"$f":"IF('CoC Renewal Ranking Report'!G10<>\"\",'CoC Renewal Ranking Report'!G10,\"\")","v":"PH-RRH"},{"$f":"IF(A6<>\"\",SUM('Exit-Retention to PH Measure'!E11,'Returns to Homelessness'!E11,'Length of Stay (TH Only)'!E12,'Income Growth Measure'!F11,'Mainstream Benefits Measure'!E9,'Project Eligibility'!E11,'Unit Utilization Rate'!G10,'eLOCCS Drawdowns'!E8,'Recaptured Funds'!E11,'Timely APR Submission'!E8,'Cost Effectiveness'!G13,'HUD Monitoring'!E9,'Project Description'!D8,'Opening Doors Goals'!D10,'Severity of Needs'!E11,'Prioritization of PSH'!E9,'Housing First Approach'!E8,'CoC Participation'!#REF!,'HMIS Data Quality'!E8), \"\")","v":{"$error":"#REF!"}}]
[{"$f":"IF('CoC Renewal Ranking Report'!D11<>\"\",'CoC Renewal Ranking Report'!D11,\"\")","v":"Cambria County"},{"$f":"IF('CoC Renewal Ranking Report'!E11<>\"\",'CoC Renewal Ranking Report'!E11,\"\")","v":"Cambria County Comprehensive Housing Program"},{"$f":"IF('CoC Renewal Ranking Report'!G11<>\"\",'CoC Renewal Ranking Report'!G11,\"\")","v":"PH"},{"$f":"IF(A7<>\"\",SUM('Exit-Retention to PH Measure'!E12,'Returns to Homelessness'!E12,'Length of Stay (TH Only)'!E13,'Income Growth Measure'!F12,'Mainstream Benefits Measure'!E10,'Project Eligibility'!E12,'Unit Utilization Rate'!G11,'eLOCCS Drawdowns'!E9,'Recaptured Funds'!E12,'Timely APR Submission'!E9,'Cost Effectiveness'!G14,'HUD Monitoring'!E10,'Project Description'!D9,'Opening Doors Goals'!D11,'Severity of Needs'!E12,'Prioritization of PSH'!E10,'Housing First Approach'!E9,'CoC Participation'!#REF!,'HMIS Data Quality'!E9), \"\")","v":{"$error":"#REF!"}}]
[{"$f":"IF('CoC Renewal Ranking Report'!D12<>\"\",'CoC Renewal Ranking Report'!D12,\"\")","v":"Catholic Charities of the Diocese of Allentown"},{"$f":"IF('CoC Renewal Ranking Report'!E12<>\"\",'CoC Renewal Ranking Report'!E12,\"\")","v":"Catholic Charities Allentown Permanent Housing Program"},{"$f":"IF('CoC Renewal Ranking Report'!G12<>\"\",'CoC Renewal Ranking Report'!G12,\"\")","v":"PH"},{"$f":"IF(A8<>\"\",SUM('Exit-Retention to PH Measure'!E13,'Returns to Homelessness'!E13,'Length of Stay (TH Only)'!E14,'Income Growth Measure'!F13,'Mainstream Benefits Measure'!E11,'Project Eligibility'!E13,'Unit Utilization Rate'!G12,'eLOCCS Drawdowns'!E10,'Recaptured Funds'!E13,'Timely APR Submission'!E10,'Cost Effectiveness'!G15,'HUD Monitoring'!E11,'Project Description'!D10,'Opening Doors Goals'!D12,'Severity of Needs'!E13,'Prioritization of PSH'!E11,'Housing First Approach'!E10,'CoC Participation'!#REF!,'HMIS Data Quality'!E10), \"\")","v":{"$error":"#REF!"}}]
[{"$f":"IF('CoC Renewal Ranking Report'!D13<>\"\",'CoC Renewal Ranking Report'!D13,\"\")","v":"Catholic Social Services of the Diocese of Scranton, Inc."},{"$f":"IF('CoC Renewal Ranking Report'!E13<>\"\",'CoC Renewal Ranking Report'!E13,\"\")","v":"PSHP Pike County"},{"$f":"IF('CoC Renewal Ranking Report'!G13<>\"\",'CoC Renewal Ranking Report'!G13,\"\")","v":"PH"},{"$f":"IF(A9<>\"\",SUM('Exit-Retention to PH Measure'!E14,'Returns to Homelessness'!E14,'Length of Stay (TH Only)'!E15,'Income Growth Measure'!F14,'Mainstream Benefits Measure'!E12,'Project Eligibility'!E14,'Unit Utilization Rate'!G13,'eLOCCS Drawdowns'!E11,'Recaptured Funds'!E14,'Timely APR Submission'!E11,'Cost Effectiveness'!G16,'HUD Monitoring'!E12,'Project Description'!D11,'Opening Doors Goals'!D13,'Severity of Needs'!E14,'Prioritization of PSH'!E12,'Housing First Approach'!E11,'CoC Participation'!#REF!,'HMIS Data Quality'!E11), \"\")","v":{"$error":"#REF!"}}]
[{"$f":"IF('CoC Renewal Ranking Report'!D14<>\"\",'CoC Renewal Ranking Report'!D14,\"\")","v":"Catholic Social Services of the Diocese of Scranton, Inc."},{"$f":"IF('CoC Renewal Ranking Report'!E14<>\"\",'CoC Renewal Ranking Report'!E14,\"\")","v":"Rural Permanent Supportive Housing Program"},{"$f":"IF('CoC Renewal Ranking Report'!G14<>\"\",'CoC Renewal Ranking Report'!G14,\"\")","v":"PH"},{"$f":"IF(A10<>\"\",SUM('Exit-Retention to PH Measure'!E15,'Returns to Homelessness'!E15,'Length of Stay (TH Only)'!E16,'Income Growth Measure'!F15,'Mainstream Benefits Measure'!E13,'Project Eligibility'!E15,'Unit Utilization Rate'!G14,'eLOCCS Drawdowns'!E12,'Recaptured Funds'!E15,'Timely APR Submission'!E12,'Cost Effectiveness'!G17,'HUD Monitoring'!E13,'Project Description'!D12,'Opening Doors Goals'!D14,'Severity of Needs'!E15,'Prioritization of PSH'!E13,'Housing First Approach'!E12,'CoC Participation'!#REF!,'HMIS Data Quality'!E12), \"\")","v":{"$error":"#REF!"}}]
[{"$f":"IF('CoC Renewal Ranking Report'!D15<>\"\",'CoC Renewal Ranking Report'!D15,\"\")","v":"Catholic Social Services of the Diocese of Scranton, Inc."},{"$f":"IF('CoC Renewal Ranking Report'!E15<>\"\",'CoC Renewal Ranking Report'!E15,\"\")","v":"Susquehanna/Wayne PSHP"},{"$f":"IF('CoC Renewal Ranking Report'!G15<>\"\",'CoC Renewal Ranking Report'!G15,\"\")","v":"PH"},{"$f":"IF(A11<>\"\",SUM('Exit-Retention to PH Measure'!E16,'Returns to Homelessness'!E16,'Length of Stay (TH Only)'!E17,'Income Growth Measure'!F16,'Mainstream Benefits Measure'!E14,'Project Eligibility'!E16,'Unit Utilization Rate'!G15,'eLOCCS Drawdowns'!E13,'Recaptured Funds'!E16,'Timely APR Submission'!E13,'Cost Effectiveness'!G18,'HUD Monitoring'!E14,'Project Description'!D13,'Opening Doors Goals'!D15,'Severity of Needs'!E16,'Prioritization of PSH'!E14,'Housing First Approach'!E13,'CoC Participation'!#REF!,'HMIS Data Quality'!E13), \"\")","v":{"$error":"#REF!"}}]
[{"$f":"IF('CoC Renewal Ranking Report'!D16<>\"\",'CoC Renewal Ranking Report'!D16,\"\")","v":"Center for Community Action"},{"$f":"IF('CoC Renewal Ranking Report'!E16<>\"\",'CoC Renewal Ranking Report'!E16,\"\")","v":"Bedford,Fulton, Huntingdon RRH"},{"$f":"IF('CoC Renewal Ranking Report'!G16<>\"\",'CoC Renewal Ranking Report'!G16,\"\")","v":"PH-RRH"},{"$f":"IF(A12<>\"\",SUM('Exit-Retention to PH Measure'!E17,'Returns to Homelessness'!E17,'Length of Stay (TH Only)'!E18,'Income Growth Measure'!F17,'Mainstream Benefits Measure'!E15,'Project Eligibility'!E17,'Unit Utilization Rate'!G16,'eLOCCS Drawdowns'!E14,'Recaptured Funds'!E17,'Timely APR Submission'!E14,'Cost Effectiveness'!G19,'HUD Monitoring'!E15,'Project Description'!D14,'Opening Doors Goals'!D16,'Severity of Needs'!E17,'Prioritization of PSH'!E15,'Housing First Approach'!E14,'CoC Participation'!#REF!,'HMIS Data Quality'!E14), \"\")","v":{"$error":"#REF!"}}]
[{"$f":"IF('CoC Renewal Ranking Report'!D17<>\"\",'CoC Renewal Ranking Report'!D17,\"\")","v":"County of Franklin"},{"$f":"IF('CoC Renewal Ranking Report'!E17<>\"\",'CoC Renewal Ranking Report'!E17,\"\")","v":"Franklin/ Fulton S+C Project 2017"},{"$f":"IF('CoC Renewal Ranking Report'!G17<>\"\",'CoC Renewal Ranking Report'!G17,\"\")","v":"PH"},{"$f":"IF(A13<>\"\",SUM('Exit-Retention to PH Measure'!E18,'Returns to Homelessness'!E18,'Length of Stay (TH Only)'!E19,'Income Growth Measure'!F18,'Mainstream Benefits Measure'!E16,'Project Eligibility'!E18,'Unit Utilization Rate'!G17,'eLOCCS Drawdowns'!E15,'Recaptured Funds'!E18,'Timely APR Submission'!E15,'Cost Effectiveness'!G20,'HUD Monitoring'!E16,'Project Description'!D15,'Opening Doors Goals'!D17,'Severity of Needs'!E18,'Prioritization of PSH'!E16,'Housing First Approach'!E15,'CoC Participation'!#REF!,'HMIS Data Quality'!E15), \"\")","v":{"$error":"#REF!"}}]
[{"$f":"IF('CoC Renewal Ranking Report'!D18<>\"\",'CoC Renewal Ranking Report'!D18,\"\")","v":"County of Franklin"},{"$f":"IF('CoC Renewal Ranking Report'!E18<>\"\",'CoC Renewal Ranking Report'!E18,\"\")","v":"Franklin/Fulton Homeless Assistance Project 2017"},{"$f":"IF('CoC Renewal Ranking Report'!G18<>\"\",'CoC Renewal Ranking Report'!G18,\"\")","v":"PH"},{"$f":"IF(A14<>\"\",SUM('Exit-Retention to PH Measure'!E19,'Returns to Homelessness'!E19,'Length of Stay (TH Only)'!E20,'Income Growth Measure'!F19,'Mainstream Benefits Measure'!E17,'Project Eligibility'!E19,'Unit Utilization Rate'!G18,'eLOCCS Drawdowns'!E16,'Recaptured Funds'!E19,'Timely APR Submission'!E16,'Cost Effectiveness'!G21,'HUD Monitoring'!E17,'Project Description'!D16,'Opening Doors Goals'!D18,'Severity of Needs'!E19,'Prioritization of PSH'!E17,'Housing First Approach'!E16,'CoC Participation'!#REF!,'HMIS Data Quality'!E16), \"\")","v":{"$error":"#REF!"}}]
[{"$f":"IF('CoC Renewal Ranking Report'!D19<>\"\",'CoC Renewal Ranking Report'!D19,\"\")","v":"County of Lycoming DBA Lycoming- Clinton Joinder Board"},{"$f":"IF('CoC Renewal Ranking Report'!E19<>\"\",'CoC Renewal Ranking Report'!E19,\"\")","v":"Lycoming/Clinton Renewal #5"},{"$f":"IF('CoC Renewal Ranking Report'!G19<>\"\",'CoC Renewal Ranking Report'!G19,\"\")","v":"PH"},{"$f":"IF(A15<>\"\",SUM('Exit-Retention to PH Measure'!E20,'Returns to Homelessness'!E20,'Length of Stay (TH Only)'!E21,'Income Growth Measure'!F20,'Mainstream Benefits Measure'!E18,'Project Eligibility'!E20,'Unit Utilization Rate'!G19,'eLOCCS Drawdowns'!E17,'Recaptured Funds'!E20,'Timely APR Submission'!E17,'Cost Effectiveness'!G22,'HUD Monitoring'!E18,'Project Description'!D17,'Opening Doors Goals'!D19,'Severity of Needs'!E20,'Prioritization of PSH'!E18,'Housing First Approach'!E17,'CoC Participation'!#REF!,'HMIS Data Quality'!E17), \"\")","v":{"$error":"#REF!"}}]
[{"$f":"IF('CoC Renewal Ranking Report'!D20<>\"\",'CoC Renewal Ranking Report'!D20,\"\")","v":"Fitzmaurice Community Services, Inc"},{"$f":"IF('CoC Renewal Ranking Report'!E20<>\"\",'CoC Renewal Ranking Report'!E20,\"\")","v":"Pathfinders"},{"$f":"IF('CoC Renewal Ranking Report'!G20<>\"\",'CoC Renewal Ranking Report'!G20,\"\")","v":"PH"},{"$f":"IF(A16<>\"\",SUM('Exit-Retention to PH Measure'!E21,'Returns to Homelessness'!E21,'Length of Stay (TH Only)'!E22,'Income Growth Measure'!F21,'Mainstream Benefits Measure'!E19,'Project Eligibility'!E21,'Unit Utilization Rate'!G20,'eLOCCS Drawdowns'!E18,'Recaptured Funds'!E21,'Timely APR Submission'!E18,'Cost Effectiveness'!G23,'HUD Monitoring'!E19,'Project Description'!D18,'Opening Doors Goals'!D20,'Severity of Needs'!E21,'Prioritization of PSH'!E19,'Housing First Approach'!E18,'CoC Participation'!#REF!,'HMIS Data Quality'!E18), \"\")","v":{"$error":"#REF!"}}]
[{"$f":"IF('CoC Renewal Ranking Report'!D21<>\"\",'CoC Renewal Ranking Report'!D21,\"\")","v":"Home Nursing AgencyCommunity Services"},{"$f":"IF('CoC Renewal Ranking Report'!E21<>\"\",'CoC Renewal Ranking Report'!E21,\"\")","v":"Housing Assistance and Rental Program"},{"$f":"IF('CoC Renewal Ranking Report'!G21<>\"\",'CoC Renewal Ranking Report'!G21,\"\")","v":"PH"},{"$f":"IF(A17<>\"\",SUM('Exit-Retention to PH Measure'!E22,'Returns to Homelessness'!E22,'Length of Stay (TH Only)'!E23,'Income Growth Measure'!F22,'Mainstream Benefits Measure'!E20,'Project Eligibility'!E22,'Unit Utilization Rate'!G21,'eLOCCS Drawdowns'!E19,'Recaptured Funds'!E22,'Timely APR Submission'!E19,'Cost Effectiveness'!G24,'HUD Monitoring'!E20,'Project Description'!D19,'Opening Doors Goals'!D21,'Severity of Needs'!E22,'Prioritization of PSH'!E20,'Housing First Approach'!E19,'CoC Participation'!#REF!,'HMIS Data Quality'!E19), \"\")","v":{"$error":"#REF!"}}]
[{"$f":"IF('CoC Renewal Ranking Report'!D22<>\"\",'CoC Renewal Ranking Report'!D22,\"\")","v":"Housing Authority of Monroe County"},{"$f":"IF('CoC Renewal Ranking Report'!E22<>\"\",'CoC Renewal Ranking Report'!E22,\"\")","v":"Renewal Application Shelter Plus Care MC 2016"},{"$f":"IF('CoC Renewal Ranking Report'!G22<>\"\",'CoC Renewal Ranking Report'!G22,\"\")","v":"PH"},{"$f":"IF(A18<>\"\",SUM('Exit-Retention to PH Measure'!E23,'Returns to Homelessness'!E23,'Length of Stay (TH Only)'!E24,'Income Growth Measure'!F23,'Mainstream Benefits Measure'!E21,'Project Eligibility'!E23,'Unit Utilization Rate'!G22,'eLOCCS Drawdowns'!E20,'Recaptured Funds'!E23,'Timely APR Submission'!E20,'Cost Effectiveness'!G25,'HUD Monitoring'!E21,'Project Description'!D20,'Opening Doors Goals'!D22,'Severity of Needs'!E23,'Prioritization of PSH'!E21,'Housing First Approach'!E20,'CoC Participation'!#REF!,'HMIS Data Quality'!E20), \"\")","v":{"$error":"#REF!"}}]
[{"$f":"IF('CoC Renewal Ranking Report'!D23<>\"\",'CoC Renewal Ranking Report'!D23,\"\")","v":"Housing Authority of the County of Cumberland"},{"$f":"IF('CoC Renewal Ranking Report'!E23<>\"\",'CoC Renewal Ranking Report'!E23,\"\")","v":"Carlisle Supportive Housing Program"},{"$f":"IF('CoC Renewal Ranking Report'!G23<>\"\",'CoC Renewal Ranking Report'!G23,\"\")","v":"PH"},{"$f":"IF(A19<>\"\",SUM('Exit-Retention to PH Measure'!E24,'Returns to Homelessness'!E24,'Length of Stay (TH Only)'!E25,'Income Growth Measure'!F24,'Mainstream Benefits Measure'!E22,'Project Eligibility'!E24,'Unit Utilization Rate'!G23,'eLOCCS Drawdowns'!E21,'Recaptured Funds'!E24,'Timely APR Submission'!E21,'Cost Effectiveness'!G26,'HUD Monitoring'!E22,'Project Description'!D21,'Opening Doors Goals'!D23,'Severity of Needs'!E24,'Prioritization of PSH'!E22,'Housing First Approach'!E21,'CoC Participation'!#REF!,'HMIS Data Quality'!E21), \"\")","v":{"$error":"#REF!"}}]
[{"$f":"IF('CoC Renewal Ranking Report'!D24<>\"\",'CoC Renewal Ranking Report'!D24,\"\")","v":"Housing Authority of the County of Cumberland"},{"$f":"IF('CoC Renewal Ranking Report'!E24<>\"\",'CoC Renewal Ranking Report'!E24,\"\")","v":"Perry County Permanent SHP"},{"$f":"IF('CoC Renewal Ranking Report'!G24<>\"\",'CoC Renewal Ranking Report'!G24,\"\")","v":"PH"},{"$f":"IF(A20<>\"\",SUM('Exit-Retention to PH Measure'!E25,'Returns to Homelessness'!E25,'Length of Stay (TH Only)'!E26,'Income Growth Measure'!F25,'Mainstream Benefits Measure'!E23,'Project Eligibility'!E25,'Unit Utilization Rate'!G24,'eLOCCS Drawdowns'!E22,'Recaptured Funds'!E25,'Timely APR Submission'!E22,'Cost Effectiveness'!G27,'HUD Monitoring'!E23,'Project Description'!D22,'Opening Doors Goals'!D24,'Severity of Needs'!E25,'Prioritization of PSH'!E23,'Housing First Approach'!E22,'CoC Participation'!#REF!,'HMIS Data Quality'!E22), \"\")","v":{"$error":"#REF!"}}]
[{"$f":"IF('CoC Renewal Ranking Report'!D25<>\"\",'CoC Renewal Ranking Report'!D25,\"\")","v":"Housing Authority of the County of Cumberland"},{"$f":"IF('CoC Renewal Ranking Report'!E25<>\"\",'CoC Renewal Ranking Report'!E25,\"\")","v":"Perry County Transitional II"},{"$f":"IF('CoC Renewal Ranking Report'!G25<>\"\",'CoC Renewal Ranking Report'!G25,\"\")","v":"PH-RRH"},{"$f":"IF(A21<>\"\",SUM('Exit-Retention to PH Measure'!E26,'Returns to Homelessness'!E26,'Length of Stay (TH Only)'!E27,'Income Growth Measure'!F26,'Mainstream Benefits Measure'!E24,'Project Eligibility'!E26,'Unit Utilization Rate'!G25,'eLOCCS Drawdowns'!E23,'Recaptured Funds'!E26,'Timely APR Submission'!E23,'Cost Effectiveness'!G28,'HUD Monitoring'!E24,'Project Description'!D23,'Opening Doors Goals'!D25,'Severity of Needs'!E26,'Prioritization of PSH'!E24,'Housing First Approach'!E23,'CoC Participation'!#REF!,'HMIS Data Quality'!E23), \"\")","v":{"$error":"#REF!"}}]
[{"$f":"IF('CoC Renewal Ranking Report'!D26<>\"\",'CoC Renewal Ranking Report'!D26,\"\")","v":"Housing Authority of the County of Cumberland"},{"$f":"IF('CoC Renewal Ranking Report'!E26<>\"\",'CoC Renewal Ranking Report'!E26,\"\")","v":"Perry County Veterans Program"},{"$f":"IF('CoC Renewal Ranking Report'!G26<>\"\",'CoC Renewal Ranking Report'!G26,\"\")","v":"PH"},{"$f":"IF(A22<>\"\",SUM('Exit-Retention to PH Measure'!E27,'Returns to Homelessness'!E27,'Length of Stay (TH Only)'!E28,'Income Growth Measure'!F27,'Mainstream Benefits Measure'!E25,'Project Eligibility'!E27,'Unit Utilization Rate'!G26,'eLOCCS Drawdowns'!E24,'Recaptured Funds'!E27,'Timely APR Submission'!E24,'Cost Effectiveness'!G29,'HUD Monitoring'!E25,'Project Description'!D24,'Opening Doors Goals'!D26,'Severity of Needs'!E27,'Prioritization of PSH'!E25,'Housing First Approach'!E24,'CoC Participation'!#REF!,'HMIS Data Quality'!E24), \"\")","v":{"$error":"#REF!"}}]
[{"$f":"IF('CoC Renewal Ranking Report'!D27<>\"\",'CoC Renewal Ranking Report'!D27,\"\")","v":"Housing Authority of the County of Cumberland"},{"$f":"IF('CoC Renewal Ranking Report'!E27<>\"\",'CoC Renewal Ranking Report'!E27,\"\")","v":"Rapid Rehousing II"},{"$f":"IF('CoC Renewal Ranking Report'!G27<>\"\",'CoC Renewal Ranking Report'!G27,\"\")","v":"PH-RRH"},{"$f":"IF(A23<>\"\",SUM('Exit-Retention to PH Measure'!E28,'Returns to Homelessness'!E28,'Length of Stay (TH Only)'!E29,'Income Growth Measure'!F28,'Mainstream Benefits Measure'!E26,'Project Eligibility'!E28,'Unit Utilization Rate'!G27,'eLOCCS Drawdowns'!E25,'Recaptured Funds'!E28,'Timely APR Submission'!E25,'Cost Effectiveness'!G30,'HUD Monitoring'!E26,'Project Description'!D25,'Opening Doors Goals'!D27,'Severity of Needs'!E28,'Prioritization of PSH'!E26,'Housing First Approach'!E25,'CoC Participation'!#REF!,'HMIS Data Quality'!E25), \"\")","v":{"$error":"#REF!"}}]
[{"$f":"IF('CoC Renewal Ranking Report'!D28<>\"\",'CoC Renewal Ranking Report'!D28,\"\")","v":"Housing Authority of the County of Cumberland"},{"$f":"IF('CoC Renewal Ranking Report'!E28<>\"\",'CoC Renewal Ranking Report'!E28,\"\")","v":"Safe Harbour SHP"},{"$f":"IF('CoC Renewal Ranking Report'!G28<>\"\",'CoC Renewal Ranking Report'!G28,\"\")","v":"PH"},{"$f":"IF(A24<>\"\",SUM('Exit-Retention to PH Measure'!E29,'Returns to Homelessness'!E29,'Length of Stay (TH Only)'!E30,'Income Growth Measure'!F29,'Mainstream Benefits Measure'!E27,'Project Eligibility'!E29,'Unit Utilization Rate'!G28,'eLOCCS Drawdowns'!E26,'Recaptured Funds'!E29,'Timely APR Submission'!E26,'Cost Effectiveness'!G31,'HUD Monitoring'!E27,'Project Description'!D26,'Opening Doors Goals'!D28,'Severity of Needs'!E29,'Prioritization of PSH'!E27,'Housing First Approach'!E26,'CoC Participation'!#REF!,'HMIS Data Quality'!E26), \"\")","v":{"$error":"#REF!"}}]
[{"$f":"IF('CoC Renewal Ranking Report'!D29<>\"\",'CoC Renewal Ranking Report'!D29,\"\")","v":"Housing Authority of the County of Cumberland"},{"$f":"IF('CoC Renewal Ranking Report'!E29<>\"\",'CoC Renewal Ranking Report'!E29,\"\")","v":"Shelter + Care Chronic"},{"$f":"IF('CoC Renewal Ranking Report'!G29<>\"\",'CoC Renewal Ranking Report'!G29,\"\")","v":"PH"},{"$f":"IF(A25<>\"\",SUM('Exit-Retention to PH Measure'!E30,'Returns to Homelessness'!E30,'Length of Stay (TH Only)'!E31,'Income Growth Measure'!F30,'Mainstream Benefits Measure'!E28,'Project Eligibility'!E30,'Unit Utilization Rate'!G29,'eLOCCS Drawdowns'!E27,'Recaptured Funds'!E30,'Timely APR Submission'!E27,'Cost Effectiveness'!G32,'HUD Monitoring'!E28,'Project Description'!D27,'Opening Doors Goals'!D29,'Severity of Needs'!E30,'Prioritization of PSH'!E28,'Housing First Approach'!E27,'CoC Participation'!#REF!,'HMIS Data Quality'!E27), \"\")","v":{"$error":"#REF!"}}]
[{"$f":"IF('CoC Renewal Ranking Report'!D30<>\"\",'CoC Renewal Ranking Report'!D30,\"\")","v":"Housing Authority of the County of Cumberland"},{"$f":"IF('CoC Renewal Ranking Report'!E30<>\"\",'CoC Renewal Ranking Report'!E30,\"\")","v":"Shelter + Care Non-Chronic"},{"$f":"IF('CoC Renewal Ranking Report'!G30<>\"\",'CoC Renewal Ranking Report'!G30,\"\")","v":"PH"},{"$f":"IF(A26<>\"\",SUM('Exit-Retention to PH Measure'!E31,'Returns to Homelessness'!E31,'Length of Stay (TH Only)'!E32,'Income Growth Measure'!F31,'Mainstream Benefits Measure'!E29,'Project Eligibility'!E31,'Unit Utilization Rate'!G30,'eLOCCS Drawdowns'!E28,'Recaptured Funds'!E31,'Timely APR Submission'!E28,'Cost Effectiveness'!G33,'HUD Monitoring'!E29,'Project Description'!D28,'Opening Doors Goals'!D30,'Severity of Needs'!E31,'Prioritization of PSH'!E29,'Housing First Approach'!E28,'CoC Participation'!#REF!,'HMIS Data Quality'!E28), \"\")","v":{"$error":"#REF!"}}]
[{"$f":"IF('CoC Renewal Ranking Report'!D31<>\"\",'CoC Renewal Ranking Report'!D31,\"\")","v":"Housing Authority of the County of Cumberland"},{"$f":"IF('CoC Renewal Ranking Report'!E31<>\"\",'CoC Renewal Ranking Report'!E31,\"\")","v":"West Shore SHP I"},{"$f":"IF('CoC Renewal Ranking Report'!G31<>\"\",'CoC Renewal Ranking Report'!G31,\"\")","v":"PH"},{"$f":"IF(A27<>\"\",SUM('Exit-Retention to PH Measure'!E32,'Returns to Homelessness'!E32,'Length of Stay (TH Only)'!E33,'Income Growth Measure'!F32,'Mainstream Benefits Measure'!E30,'Project Eligibility'!E32,'Unit Utilization Rate'!G31,'eLOCCS Drawdowns'!E29,'Recaptured Funds'!E32,'Timely APR Submission'!E29,'Cost Effectiveness'!G34,'HUD Monitoring'!E30,'Project Description'!D29,'Opening Doors Goals'!D31,'Severity of Needs'!E32,'Prioritization of PSH'!E30,'Housing First Approach'!E29,'CoC Participation'!#REF!,'HMIS Data Quality'!E29), \"\")","v":{"$error":"#REF!"}}]
[{"$f":"IF('CoC Renewal Ranking Report'!D32<>\"\",'CoC Renewal Ranking Report'!D32,\"\")","v":"Housing Authority of the County of Cumberland"},{"$f":"IF('CoC Renewal Ranking Report'!E32<>\"\",'CoC Renewal Ranking Report'!E32,\"\")","v":"West Shore SHP II"},{"$f":"IF('CoC Renewal Ranking Report'!G32<>\"\",'CoC Renewal Ranking Report'!G32,\"\")","v":"PH"},{"$f":"IF(A28<>\"\",SUM('Exit-Retention to PH Measure'!E33,'Returns to Homelessness'!E33,'Length of Stay (TH Only)'!E34,'Income Growth Measure'!F33,'Mainstream Benefits Measure'!E31,'Project Eligibility'!E33,'Unit Utilization Rate'!G32,'eLOCCS Drawdowns'!E30,'Recaptured Funds'!E33,'Timely APR Submission'!E30,'Cost Effectiveness'!G35,'HUD Monitoring'!E31,'Project Description'!D30,'Opening Doors Goals'!D32,'Severity of Needs'!E33,'Prioritization of PSH'!E31,'Housing First Approach'!E30,'CoC Participation'!#REF!,'HMIS Data Quality'!E30), \"\")","v":{"$error":"#REF!"}}]
[{"$f":"IF('CoC Renewal Ranking Report'!D33<>\"\",'CoC Renewal Ranking Report'!D33,\"\")","v":"Housing Development Corporation of NEPA"},{"$f":"IF('CoC Renewal Ranking Report'!E33<>\"\",'CoC Renewal Ranking Report'!E33,\"\")","v":"HDC SHP 3 2016"},{"$f":"IF('CoC Renewal Ranking Report'!G33<>\"\",'CoC Renewal Ranking Report'!G33,\"\")","v":"PH"},{"$f":"IF(A29<>\"\",SUM('Exit-Retention to PH Measure'!E34,'Returns to Homelessness'!E34,'Length of Stay (TH Only)'!E35,'Income Growth Measure'!F34,'Mainstream Benefits Measure'!E32,'Project Eligibility'!E34,'Unit Utilization Rate'!G33,'eLOCCS Drawdowns'!E31,'Recaptured Funds'!E34,'Timely APR Submission'!E31,'Cost Effectiveness'!G36,'HUD Monitoring'!E32,'Project Description'!D31,'Opening Doors Goals'!D33,'Severity of Needs'!E34,'Prioritization of PSH'!E32,'Housing First Approach'!E31,'CoC Participation'!#REF!,'HMIS Data Quality'!E31), \"\")","v":{"$error":"#REF!"}}]
[{"$f":"IF('CoC Renewal Ranking Report'!D34<>\"\",'CoC Renewal Ranking Report'!D34,\"\")","v":"Housing Development Corporation of NEPA"},{"$f":"IF('CoC Renewal Ranking Report'!E34<>\"\",'CoC Renewal Ranking Report'!E34,\"\")","v":"HDC SHP 6 2016"},{"$f":"IF('CoC Renewal Ranking Report'!G34<>\"\",'CoC Renewal Ranking Report'!G34,\"\")","v":"PH"},{"$f":"IF(A30<>\"\",SUM('Exit-Retention to PH Measure'!E35,'Returns to Homelessness'!E35,'Length of Stay (TH Only)'!E36,'Income Growth Measure'!F35,'Mainstream Benefits Measure'!E33,'Project Eligibility'!E35,'Unit Utilization Rate'!G34,'eLOCCS Drawdowns'!E32,'Recaptured Funds'!E35,'Timely APR Submission'!E32,'Cost Effectiveness'!G37,'HUD Monitoring'!E33,'Project Description'!D32,'Opening Doors Goals'!D34,'Severity of Needs'!E35,'Prioritization of PSH'!E33,'Housing First Approach'!E32,'CoC Participation'!#REF!,'HMIS Data Quality'!E32), \"\")","v":{"$error":"#REF!"}}]
[{"$f":"IF('CoC Renewal Ranking Report'!D35<>\"\",'CoC Renewal Ranking Report'!D35,\"\")","v":"Housing Transitions, Inc."},{"$f":"IF('CoC Renewal Ranking Report'!E35<>\"\",'CoC Renewal Ranking Report'!E35,\"\")","v":"Nittany House Apartments"},{"$f":"IF('CoC Renewal Ranking Report'!G35<>\"\",'CoC Renewal Ranking Report'!G35,\"\")","v":"PH"},{"$f":"IF(A31<>\"\",SUM('Exit-Retention to PH Measure'!E36,'Returns to Homelessness'!E36,'Length of Stay (TH Only)'!E37,'Income Growth Measure'!F36,'Mainstream Benefits Measure'!E34,'Project Eligibility'!E36,'Unit Utilization Rate'!G35,'eLOCCS Drawdowns'!E33,'Recaptured Funds'!E36,'Timely APR Submission'!E33,'Cost Effectiveness'!G38,'HUD Monitoring'!E34,'Project Description'!D33,'Opening Doors Goals'!D35,'Severity of Needs'!E36,'Prioritization of PSH'!E34,'Housing First Approach'!E33,'CoC Participation'!#REF!,'HMIS Data Quality'!E33), \"\")","v":{"$error":"#REF!"}}]
[{"$f":"IF('CoC Renewal Ranking Report'!D36<>\"\",'CoC Renewal Ranking Report'!D36,\"\")","v":"Lehigh County Conference of Churches"},{"$f":"IF('CoC Renewal Ranking Report'!E36<>\"\",'CoC Renewal Ranking Report'!E36,\"\")","v":"Outreach and Case Management for the Disabled, Chronically Homeless"},{"$f":"IF('CoC Renewal Ranking Report'!G36<>\"\",'CoC Renewal Ranking Report'!G36,\"\")","v":"SSO"},{"$f":"IF(A32<>\"\",SUM('Exit-Retention to PH Measure'!E37,'Returns to Homelessness'!E37,'Length of Stay (TH Only)'!E38,'Income Growth Measure'!F37,'Mainstream Benefits Measure'!E35,'Project Eligibility'!E37,'Unit Utilization Rate'!G36,'eLOCCS Drawdowns'!E34,'Recaptured Funds'!E37,'Timely APR Submission'!E34,'Cost Effectiveness'!G39,'HUD Monitoring'!E35,'Project Description'!D34,'Opening Doors Goals'!D36,'Severity of Needs'!E37,'Prioritization of PSH'!E35,'Housing First Approach'!E34,'CoC Participation'!#REF!,'HMIS Data Quality'!E34), \"\")","v":{"$error":"#REF!"}}]
[{"$f":"IF('CoC Renewal Ranking Report'!D37<>\"\",'CoC Renewal Ranking Report'!D37,\"\")","v":"Lehigh County Conference of Churches"},{"$f":"IF('CoC Renewal Ranking Report'!E37<>\"\",'CoC Renewal Ranking Report'!E37,\"\")","v":"Pathways Housing"},{"$f":"IF('CoC Renewal Ranking Report'!G37<>\"\",'CoC Renewal Ranking Report'!G37,\"\")","v":"PH"},{"$f":"IF(A33<>\"\",SUM('Exit-Retention to PH Measure'!E38,'Returns to Homelessness'!E38,'Length of Stay (TH Only)'!E39,'Income Growth Measure'!F38,'Mainstream Benefits Measure'!E36,'Project Eligibility'!E38,'Unit Utilization Rate'!G37,'eLOCCS Drawdowns'!E35,'Recaptured Funds'!E38,'Timely APR Submission'!E35,'Cost Effectiveness'!G40,'HUD Monitoring'!E36,'Project Description'!D35,'Opening Doors Goals'!D37,'Severity of Needs'!E38,'Prioritization of PSH'!E36,'Housing First Approach'!E35,'CoC Participation'!#REF!,'HMIS Data Quality'!E35), \"\")","v":{"$error":"#REF!"}}]
[{"$f":"IF('CoC Renewal Ranking Report'!D38<>\"\",'CoC Renewal Ranking Report'!D38,\"\")","v":"Lehigh County Conference of Churches"},{"$f":"IF('CoC Renewal Ranking Report'!E38<>\"\",'CoC Renewal Ranking Report'!E38,\"\")","v":"Pathways Housing 2"},{"$f":"IF('CoC Renewal Ranking Report'!G38<>\"\",'CoC Renewal Ranking Report'!G38,\"\")","v":"PH"},{"$f":"IF(A34<>\"\",SUM('Exit-Retention to PH Measure'!E39,'Returns to Homelessness'!E39,'Length of Stay (TH Only)'!E40,'Income Growth Measure'!F39,'Mainstream Benefits Measure'!E37,'Project Eligibility'!E39,'Unit Utilization Rate'!G38,'eLOCCS Drawdowns'!E36,'Recaptured Funds'!E39,'Timely APR Submission'!E36,'Cost Effectiveness'!G41,'HUD Monitoring'!E37,'Project Description'!D36,'Opening Doors Goals'!D38,'Severity of Needs'!E39,'Prioritization of PSH'!E37,'Housing First Approach'!E36,'CoC Participation'!#REF!,'HMIS Data Quality'!E36), \"\")","v":{"$error":"#REF!"}}]
[{"$f":"IF('CoC Renewal Ranking Report'!D39<>\"\",'CoC Renewal Ranking Report'!D39,\"\")","v":"Lehigh County Conference of Churches"},{"$f":"IF('CoC Renewal Ranking Report'!E39<>\"\",'CoC Renewal Ranking Report'!E39,\"\")","v":"Pathways TBRA for Families, Youth and Veterans"},{"$f":"IF('CoC Renewal Ranking Report'!G39<>\"\",'CoC Renewal Ranking Report'!G39,\"\")","v":"PH"},{"$f":"IF(A35<>\"\",SUM('Exit-Retention to PH Measure'!E40,'Returns to Homelessness'!E40,'Length of Stay (TH Only)'!E41,'Income Growth Measure'!F40,'Mainstream Benefits Measure'!E38,'Project Eligibility'!E40,'Unit Utilization Rate'!G39,'eLOCCS Drawdowns'!E37,'Recaptured Funds'!E40,'Timely APR Submission'!E37,'Cost Effectiveness'!G42,'HUD Monitoring'!E38,'Project Description'!D37,'Opening Doors Goals'!D39,'Severity of Needs'!E40,'Prioritization of PSH'!E38,'Housing First Approach'!E37,'CoC Participation'!#REF!,'HMIS Data Quality'!E37), \"\")","v":{"$error":"#REF!"}}]
[{"$f":"IF('CoC Renewal Ranking Report'!D40<>\"\",'CoC Renewal Ranking Report'!D40,\"\")","v":"Lehigh County Conference of Churches"},{"$f":"IF('CoC Renewal Ranking Report'!E40<>\"\",'CoC Renewal Ranking Report'!E40,\"\")","v":"Tenant-Based Rental Assistance for the Disabled,Chronically Homeless"},{"$f":"IF('CoC Renewal Ranking Report'!G40<>\"\",'CoC Renewal Ranking Report'!G40,\"\")","v":"PH"},{"$f":"IF(A36<>\"\",SUM('Exit-Retention to PH Measure'!E41,'Returns to Homelessness'!E41,'Length of Stay (TH Only)'!E42,'Income Growth Measure'!F41,'Mainstream Benefits Measure'!E39,'Project Eligibility'!E41,'Unit Utilization Rate'!G40,'eLOCCS Drawdowns'!E38,'Recaptured Funds'!E41,'Timely APR Submission'!E38,'Cost Effectiveness'!G43,'HUD Monitoring'!E39,'Project Description'!D38,'Opening Doors Goals'!D40,'Severity of Needs'!E41,'Prioritization of PSH'!E39,'Housing First Approach'!E38,'CoC Participation'!#REF!,'HMIS Data Quality'!E38), \"\")","v":{"$error":"#REF!"}}]
[{"$f":"IF('CoC Renewal Ranking Report'!D41<>\"\",'CoC Renewal Ranking Report'!D41,\"\")","v":"Lehigh County Housing Authority"},{"$f":"IF('CoC Renewal Ranking Report'!E41<>\"\",'CoC Renewal Ranking Report'!E41,\"\")","v":"LCHA S+C 2016"},{"$f":"IF('CoC Renewal Ranking Report'!G41<>\"\",'CoC Renewal Ranking Report'!G41,\"\")","v":"PH"},{"$f":"IF(A37<>\"\",SUM('Exit-Retention to PH Measure'!E42,'Returns to Homelessness'!E42,'Length of Stay (TH Only)'!E43,'Income Growth Measure'!F42,'Mainstream Benefits Measure'!E40,'Project Eligibility'!E42,'Unit Utilization Rate'!G41,'eLOCCS Drawdowns'!E39,'Recaptured Funds'!E42,'Timely APR Submission'!E39,'Cost Effectiveness'!G44,'HUD Monitoring'!E40,'Project Description'!D39,'Opening Doors Goals'!D41,'Severity of Needs'!E42,'Prioritization of PSH'!E40,'Housing First Approach'!E39,'CoC Participation'!#REF!,'HMIS Data Quality'!E39), \"\")","v":{"$error":"#REF!"}}]
[{"$f":"IF('CoC Renewal Ranking Report'!D42<>\"\",'CoC Renewal Ranking Report'!D42,\"\")","v":"Maranatha"},{"$f":"IF('CoC Renewal Ranking Report'!E42<>\"\",'CoC Renewal Ranking Report'!E42,\"\")","v":"TOTAL PERSON TRANSITIONAL PROGRAM 1 & 2"},{"$f":"IF('CoC Renewal Ranking Report'!G42<>\"\",'CoC Renewal Ranking Report'!G42,\"\")","v":"PH-RRH"},{"$f":"IF(A38<>\"\",SUM('Exit-Retention to PH Measure'!E43,'Returns to Homelessness'!E43,'Length of Stay (TH Only)'!E44,'Income Growth Measure'!F43,'Mainstream Benefits Measure'!E41,'Project Eligibility'!E43,'Unit Utilization Rate'!G42,'eLOCCS Drawdowns'!E40,'Recaptured Funds'!E43,'Timely APR Submission'!E40,'Cost Effectiveness'!G45,'HUD Monitoring'!E41,'Project Description'!D40,'Opening Doors Goals'!D42,'Severity of Needs'!E43,'Prioritization of PSH'!E41,'Housing First Approach'!E40,'CoC Participation'!#REF!,'HMIS Data Quality'!E40), \"\")","v":{"$error":"#REF!"}}]
[{"$f":"IF('CoC Renewal Ranking Report'!D43<>\"\",'CoC Renewal Ranking Report'!D43,\"\")","v":"Mifflin County"},{"$f":"IF('CoC Renewal Ranking Report'!E43<>\"\",'CoC Renewal Ranking Report'!E43,\"\")","v":"Mifflin County Permanent Housing Renewal"},{"$f":"IF('CoC Renewal Ranking Report'!G43<>\"\",'CoC Renewal Ranking Report'!G43,\"\")","v":"PH"},{"$f":"IF(A39<>\"\",SUM('Exit-Retention to PH Measure'!E44,'Returns to Homelessness'!E44,'Length of Stay (TH Only)'!E45,'Income Growth Measure'!F44,'Mainstream Benefits Measure'!E42,'Project Eligibility'!E44,'Unit Utilization Rate'!G43,'eLOCCS Drawdowns'!E41,'Recaptured Funds'!E44,'Timely APR Submission'!E41,'Cost Effectiveness'!G46,'HUD Monitoring'!E42,'Project Description'!D41,'Opening Doors Goals'!D43,'Severity of Needs'!E44,'Prioritization of PSH'!E42,'Housing First Approach'!E41,'CoC Participation'!#REF!,'HMIS Data Quality'!E41), \"\")","v":{"$error":"#REF!"}}]
[{"$f":"IF('CoC Renewal Ranking Report'!D44<>\"\",'CoC Renewal Ranking Report'!D44,\"\")","v":"Northampton County Housing Authority"},{"$f":"IF('CoC Renewal Ranking Report'!E44<>\"\",'CoC Renewal Ranking Report'!E44,\"\")","v":"NCHA S+C 2016"},{"$f":"IF('CoC Renewal Ranking Report'!G44<>\"\",'CoC Renewal Ranking Report'!G44,\"\")","v":"PH"},{"$f":"IF(A40<>\"\",SUM('Exit-Retention to PH Measure'!E45,'Returns to Homelessness'!E45,'Length of Stay (TH Only)'!E46,'Income Growth Measure'!F45,'Mainstream Benefits Measure'!E43,'Project Eligibility'!E45,'Unit Utilization Rate'!G44,'eLOCCS Drawdowns'!E42,'Recaptured Funds'!E45,'Timely APR Submission'!E42,'Cost Effectiveness'!G47,'HUD Monitoring'!E43,'Project Description'!D42,'Opening Doors Goals'!D44,'Severity of Needs'!E45,'Prioritization of PSH'!E43,'Housing First Approach'!E42,'CoC Participation'!#REF!,'HMIS Data Quality'!E42), \"\")","v":{"$error":"#REF!"}}]
[{"$f":"IF('CoC Renewal Ranking Report'!D45<>\"\",'CoC Renewal Ranking Report'!D45,\"\")","v":"Northern Cambria Community Development Corporation"},{"$f":"IF('CoC Renewal Ranking Report'!E45<>\"\",'CoC Renewal Ranking Report'!E45,\"\")","v":"Independence Gardens"},{"$f":"IF('CoC Renewal Ranking Report'!G45<>\"\",'CoC Renewal Ranking Report'!G45,\"\")","v":"PH"},{"$f":"IF(A41<>\"\",SUM('Exit-Retention to PH Measure'!E46,'Returns to Homelessness'!E46,'Length of Stay (TH Only)'!E47,'Income Growth Measure'!F46,'Mainstream Benefits Measure'!E44,'Project Eligibility'!E46,'Unit Utilization Rate'!G45,'eLOCCS Drawdowns'!E43,'Recaptured Funds'!E46,'Timely APR Submission'!E43,'Cost Effectiveness'!G48,'HUD Monitoring'!E44,'Project Description'!D43,'Opening Doors Goals'!D45,'Severity of Needs'!E46,'Prioritization of PSH'!E44,'Housing First Approach'!E43,'CoC Participation'!#REF!,'HMIS Data Quality'!E43), \"\")","v":{"$error":"#REF!"}}]
[{"$f":"IF('CoC Renewal Ranking Report'!D46<>\"\",'CoC Renewal Ranking Report'!D46,\"\")","v":"Northern Cambria Community Development Corporation"},{"$f":"IF('CoC Renewal Ranking Report'!E46<>\"\",'CoC Renewal Ranking Report'!E46,\"\")","v":"Schoolhouse Gardens"},{"$f":"IF('CoC Renewal Ranking Report'!G46<>\"\",'CoC Renewal Ranking Report'!G46,\"\")","v":"PH"},{"$f":"IF(A42<>\"\",SUM('Exit-Retention to PH Measure'!E47,'Returns to Homelessness'!E47,'Length of Stay (TH Only)'!E48,'Income Growth Measure'!F47,'Mainstream Benefits Measure'!E45,'Project Eligibility'!E47,'Unit Utilization Rate'!G46,'eLOCCS Drawdowns'!E44,'Recaptured Funds'!E47,'Timely APR Submission'!E44,'Cost Effectiveness'!G49,'HUD Monitoring'!E45,'Project Description'!D44,'Opening Doors Goals'!D46,'Severity of Needs'!E47,'Prioritization of PSH'!E45,'Housing First Approach'!E44,'CoC Participation'!#REF!,'HMIS Data Quality'!E44), \"\")","v":{"$error":"#REF!"}}]
[{"$f":"IF('CoC Renewal Ranking Report'!D47<>\"\",'CoC Renewal Ranking Report'!D47,\"\")","v":"Northumberland County MH/MR"},{"$f":"IF('CoC Renewal Ranking Report'!E47<>\"\",'CoC Renewal Ranking Report'!E47,\"\")","v":"Sharing Support"},{"$f":"IF('CoC Renewal Ranking Report'!G47<>\"\",'CoC Renewal Ranking Report'!G47,\"\")","v":"PH"},{"$f":"IF(A43<>\"\",SUM('Exit-Retention to PH Measure'!E48,'Returns to Homelessness'!E48,'Length of Stay (TH Only)'!E49,'Income Growth Measure'!F48,'Mainstream Benefits Measure'!E46,'Project Eligibility'!E48,'Unit Utilization Rate'!G47,'eLOCCS Drawdowns'!E45,'Recaptured Funds'!E48,'Timely APR Submission'!E45,'Cost Effectiveness'!G50,'HUD Monitoring'!E46,'Project Description'!D45,'Opening Doors Goals'!D47,'Severity of Needs'!E48,'Prioritization of PSH'!E46,'Housing First Approach'!E45,'CoC Participation'!#REF!,'HMIS Data Quality'!E45), \"\")","v":{"$error":"#REF!"}}]
[{"$f":"IF('CoC Renewal Ranking Report'!D48<>\"\",'CoC Renewal Ranking Report'!D48,\"\")","v":"Resources for Human Development, Inc."},{"$f":"IF('CoC Renewal Ranking Report'!E48<>\"\",'CoC Renewal Ranking Report'!E48,\"\")","v":"Crossroads Family"},{"$f":"IF('CoC Renewal Ranking Report'!G48<>\"\",'CoC Renewal Ranking Report'!G48,\"\")","v":"PH"},{"$f":"IF(A44<>\"\",SUM('Exit-Retention to PH Measure'!E49,'Returns to Homelessness'!E49,'Length of Stay (TH Only)'!E50,'Income Growth Measure'!F49,'Mainstream Benefits Measure'!E47,'Project Eligibility'!E49,'Unit Utilization Rate'!G48,'eLOCCS Drawdowns'!E46,'Recaptured Funds'!E49,'Timely APR Submission'!E46,'Cost Effectiveness'!G51,'HUD Monitoring'!E47,'Project Description'!D46,'Opening Doors Goals'!D48,'Severity of Needs'!E49,'Prioritization of PSH'!E47,'Housing First Approach'!E46,'CoC Participation'!#REF!,'HMIS Data Quality'!E46), \"\")","v":{"$error":"#REF!"}}]
[{"$f":"IF('CoC Renewal Ranking Report'!D49<>\"\",'CoC Renewal Ranking Report'!D49,\"\")","v":"Resources for Human Development, Inc."},{"$f":"IF('CoC Renewal Ranking Report'!E49<>\"\",'CoC Renewal Ranking Report'!E49,\"\")","v":"Crossroads Housing Bonus"},{"$f":"IF('CoC Renewal Ranking Report'!G49<>\"\",'CoC Renewal Ranking Report'!G49,\"\")","v":"PH"},{"$f":"IF(A45<>\"\",SUM('Exit-Retention to PH Measure'!E50,'Returns to Homelessness'!E50,'Length of Stay (TH Only)'!E51,'Income Growth Measure'!F50,'Mainstream Benefits Measure'!E48,'Project Eligibility'!E50,'Unit Utilization Rate'!G49,'eLOCCS Drawdowns'!E47,'Recaptured Funds'!E50,'Timely APR Submission'!E47,'Cost Effectiveness'!G52,'HUD Monitoring'!E48,'Project Description'!D47,'Opening Doors Goals'!D49,'Severity of Needs'!E50,'Prioritization of PSH'!E48,'Housing First Approach'!E47,'CoC Participation'!#REF!,'HMIS Data Quality'!E47), \"\")","v":{"$error":"#REF!"}}]
[{"$f":"IF('CoC Renewal Ranking Report'!D50<>\"\",'CoC Renewal Ranking Report'!D50,\"\")","v":"Resources for Human Development, Inc."},{"$f":"IF('CoC Renewal Ranking Report'!E50<>\"\",'CoC Renewal Ranking Report'!E50,\"\")","v":"Crossroads Individual"},{"$f":"IF('CoC Renewal Ranking Report'!G50<>\"\",'CoC Renewal Ranking Report'!G50,\"\")","v":"PH"},{"$f":"IF(A46<>\"\",SUM('Exit-Retention to PH Measure'!E51,'Returns to Homelessness'!E51,'Length of Stay (TH Only)'!E52,'Income Growth Measure'!F51,'Mainstream Benefits Measure'!E49,'Project Eligibility'!E51,'Unit Utilization Rate'!G50,'eLOCCS Drawdowns'!E48,'Recaptured Funds'!E51,'Timely APR Submission'!E48,'Cost Effectiveness'!G53,'HUD Monitoring'!E49,'Project Description'!D48,'Opening Doors Goals'!D50,'Severity of Needs'!E51,'Prioritization of PSH'!E49,'Housing First Approach'!E48,'CoC Participation'!#REF!,'HMIS Data Quality'!E48), \"\")","v":{"$error":"#REF!"}}]
[{"$f":"IF('CoC Renewal Ranking Report'!D51<>\"\",'CoC Renewal Ranking Report'!D51,\"\")","v":"Resources for Human Development, Inc."},{"$f":"IF('CoC Renewal Ranking Report'!E51<>\"\",'CoC Renewal Ranking Report'!E51,\"\")","v":"Crossroads Schuylkill Co. Permanent Supportive Housing"},{"$f":"IF('CoC Renewal Ranking Report'!G51<>\"\",'CoC Renewal Ranking Report'!G51,\"\")","v":"PH"},{"$f":"IF(A47<>\"\",SUM('Exit-Retention to PH Measure'!E52,'Returns to Homelessness'!E52,'Length of Stay (TH Only)'!E53,'Income Growth Measure'!F52,'Mainstream Benefits Measure'!E50,'Project Eligibility'!E52,'Unit Utilization Rate'!G51,'eLOCCS Drawdowns'!E49,'Recaptured Funds'!E52,'Timely APR Submission'!E49,'Cost Effectiveness'!G54,'HUD Monitoring'!E50,'Project Description'!D49,'Opening Doors Goals'!D51,'Severity of Needs'!E52,'Prioritization of PSH'!E50,'Housing First Approach'!E49,'CoC Participation'!#REF!,'HMIS Data Quality'!E49), \"\")","v":{"$error":"#REF!"}}]
[{"$f":"IF('CoC Renewal Ranking Report'!D52<>\"\",'CoC Renewal Ranking Report'!D52,\"\")","v":"Resources for Human Development, Inc."},{"$f":"IF('CoC Renewal Ranking Report'!E52<>\"\",'CoC Renewal Ranking Report'!E52,\"\")","v":"LV ACT Housing Supports"},{"$f":"IF('CoC Renewal Ranking Report'!G52<>\"\",'CoC Renewal Ranking Report'!G52,\"\")","v":"PH"},{"$f":"IF(A48<>\"\",SUM('Exit-Retention to PH Measure'!E53,'Returns to Homelessness'!E53,'Length of Stay (TH Only)'!E54,'Income Growth Measure'!F53,'Mainstream Benefits Measure'!E51,'Project Eligibility'!E53,'Unit Utilization Rate'!G52,'eLOCCS Drawdowns'!E50,'Recaptured Funds'!E53,'Timely APR Submission'!E50,'Cost Effectiveness'!G55,'HUD Monitoring'!E51,'Project Description'!D50,'Opening Doors Goals'!D52,'Severity of Needs'!E53,'Prioritization of PSH'!E51,'Housing First Approach'!E50,'CoC Participation'!#REF!,'HMIS Data Quality'!E50), \"\")","v":{"$error":"#REF!"}}]
[{"$f":"IF('CoC Renewal Ranking Report'!D53<>\"\",'CoC Renewal Ranking Report'!D53,\"\")","v":"Tableland Services, Inc."},{"$f":"IF('CoC Renewal Ranking Report'!E53<>\"\",'CoC Renewal Ranking Report'!E53,\"\")","v":"Permanent Housing with Disabilities (SHP)"},{"$f":"IF('CoC Renewal Ranking Report'!G53<>\"\",'CoC Renewal Ranking Report'!G53,\"\")","v":"PH"},{"$f":"IF(A49<>\"\",SUM('Exit-Retention to PH Measure'!E54,'Returns to Homelessness'!E54,'Length of Stay (TH Only)'!E55,'Income Growth Measure'!F54,'Mainstream Benefits Measure'!E52,'Project Eligibility'!E54,'Unit Utilization Rate'!G53,'eLOCCS Drawdowns'!E51,'Recaptured Funds'!E54,'Timely APR Submission'!E51,'Cost Effectiveness'!G56,'HUD Monitoring'!E52,'Project Description'!D51,'Opening Doors Goals'!D53,'Severity of Needs'!E54,'Prioritization of PSH'!E52,'Housing First Approach'!E51,'CoC Participation'!#REF!,'HMIS Data Quality'!E51), \"\")","v":{"$error":"#REF!"}}]
[{"$f":"IF('CoC Renewal Ranking Report'!D54<>\"\",'CoC Renewal Ranking Report'!D54,\"\")","v":"Tableland Services, Inc."},{"$f":"IF('CoC Renewal Ranking Report'!E54<>\"\",'CoC Renewal Ranking Report'!E54,\"\")","v":"Permanent Supportive Housing CH Project"},{"$f":"IF('CoC Renewal Ranking Report'!G54<>\"\",'CoC Renewal Ranking Report'!G54,\"\")","v":"PH"},{"$f":"IF(A50<>\"\",SUM('Exit-Retention to PH Measure'!E55,'Returns to Homelessness'!E55,'Length of Stay (TH Only)'!E56,'Income Growth Measure'!F55,'Mainstream Benefits Measure'!E53,'Project Eligibility'!E55,'Unit Utilization Rate'!G54,'eLOCCS Drawdowns'!E52,'Recaptured Funds'!E55,'Timely APR Submission'!E52,'Cost Effectiveness'!G57,'HUD Monitoring'!E53,'Project Description'!D52,'Opening Doors Goals'!D54,'Severity of Needs'!E55,'Prioritization of PSH'!E53,'Housing First Approach'!E52,'CoC Participation'!#REF!,'HMIS Data Quality'!E52), \"\")","v":{"$error":"#REF!"}}]
[{"$f":"IF('CoC Renewal Ranking Report'!#REF!<>\"\",'CoC Renewal Ranking Report'!#REF!,\"\")","v":{"$error":"#REF!"}},{"$f":"IF('CoC Renewal Ranking Report'!#REF!<>\"\",'CoC Renewal Ranking Report'!#REF!,\"\")","v":{"$error":"#REF!"}},{"$f":"IF('CoC Renewal Ranking Report'!#REF!<>\"\",'CoC Renewal Ranking Report'!#REF!,\"\")","v":{"$error":"#REF!"}},{"$f":"IF(A51<>\"\",SUM('Exit-Retention to PH Measure'!E56,'Returns to Homelessness'!E56,'Length of Stay (TH Only)'!E57,'Income Growth Measure'!F56,'Mainstream Benefits Measure'!E54,'Project Eligibility'!E56,'Unit Utilization Rate'!G55,'eLOCCS Drawdowns'!E53,'Recaptured Funds'!E56,'Timely APR Submission'!E53,'Cost Effectiveness'!G58,'HUD Monitoring'!E54,'Project Description'!D53,'Opening Doors Goals'!D55,'Severity of Needs'!E56,'Prioritization of PSH'!E54,'Housing First Approach'!E53,'CoC Participation'!#REF!,'HMIS Data Quality'!E53), \"\")","v":{"$error":"#REF!"}}]
[{"$f":"IF('CoC Renewal Ranking Report'!D55<>\"\",'CoC Renewal Ranking Report'!D55,\"\")","v":"The Salvation Army, a New York Corporation"},{"$f":"IF('CoC Renewal Ranking Report'!E55<>\"\",'CoC Renewal Ranking Report'!E55,\"\")","v":"Allentown Hospitality House Permanent Housing Program"},{"$f":"IF('CoC Renewal Ranking Report'!G55<>\"\",'CoC Renewal Ranking Report'!G55,\"\")","v":"PH"},{"$f":"IF(A52<>\"\",SUM('Exit-Retention to PH Measure'!E57,'Returns to Homelessness'!E57,'Length of Stay (TH Only)'!E58,'Income Growth Measure'!F57,'Mainstream Benefits Measure'!E55,'Project Eligibility'!E57,'Unit Utilization Rate'!G56,'eLOCCS Drawdowns'!E54,'Recaptured Funds'!E57,'Timely APR Submission'!E54,'Cost Effectiveness'!G59,'HUD Monitoring'!E55,'Project Description'!D54,'Opening Doors Goals'!D56,'Severity of Needs'!E57,'Prioritization of PSH'!E55,'Housing First Approach'!E54,'CoC Participation'!#REF!,'HMIS Data Quality'!E54), \"\")","v":{"$error":"#REF!"}}]
[{"$f":"IF('CoC Renewal Ranking Report'!D56<>\"\",'CoC Renewal Ranking Report'!D56,\"\")","v":"The Salvation Army, a New York Corporation"},{"$f":"IF('CoC Renewal Ranking Report'!E56<>\"\",'CoC Renewal Ranking Report'!E56,\"\")","v":"Salvation Army Carlisle PH Project"},{"$f":"IF('CoC Renewal Ranking Report'!G56<>\"\",'CoC Renewal Ranking Report'!G56,\"\")","v":"PH"},{"$f":"IF(A53<>\"\",SUM('Exit-Retention to PH Measure'!E58,'Returns to Homelessness'!E58,'Length of Stay (TH Only)'!E59,'Income Growth Measure'!F58,'Mainstream Benefits Measure'!E56,'Project Eligibility'!E58,'Unit Utilization Rate'!G57,'eLOCCS Drawdowns'!E55,'Recaptured Funds'!E58,'Timely APR Submission'!E55,'Cost Effectiveness'!G60,'HUD Monitoring'!E56,'Project Description'!D55,'Opening Doors Goals'!D57,'Severity of Needs'!E58,'Prioritization of PSH'!E56,'Housing First Approach'!E55,'CoC Participation'!#REF!,'HMIS Data Quality'!E55), \"\")","v":{"$error":"#REF!"}}]
[{"$f":"IF('CoC Renewal Ranking Report'!D57<>\"\",'CoC Renewal Ranking Report'!D57,\"\")","v":"Union-Snyder Community Action Agency"},{"$f":"IF('CoC Renewal Ranking Report'!E57<>\"\",'CoC Renewal Ranking Report'!E57,\"\")","v":"Union-Snyder Rapid ReHousing Program"},{"$f":"IF('CoC Renewal Ranking Report'!G57<>\"\",'CoC Renewal Ranking Report'!G57,\"\")","v":"PH-RRH"},{"$f":"IF(A54<>\"\",SUM('Exit-Retention to PH Measure'!E59,'Returns to Homelessness'!E59,'Length of Stay (TH Only)'!E60,'Income Growth Measure'!F59,'Mainstream Benefits Measure'!E57,'Project Eligibility'!E59,'Unit Utilization Rate'!G58,'eLOCCS Drawdowns'!E56,'Recaptured Funds'!E59,'Timely APR Submission'!E56,'Cost Effectiveness'!G61,'HUD Monitoring'!E57,'Project Description'!D56,'Opening Doors Goals'!D58,'Severity of Needs'!E59,'Prioritization of PSH'!E57,'Housing First Approach'!E56,'CoC Participation'!#REF!,'HMIS Data Quality'!E56), \"\")","v":{"$error":"#REF!"}}]
[{"$f":"IF('CoC Renewal Ranking Report'!D58<>\"\",'CoC Renewal Ranking Report'!D58,\"\")","v":"United Christian Ministries"},{"$f":"IF('CoC Renewal Ranking Report'!E58<>\"\",'CoC Renewal Ranking Report'!E58,\"\")","v":"Kenner Garnet Renewal 2016"},{"$f":"IF('CoC Renewal Ranking Report'!G58<>\"\",'CoC Renewal Ranking Report'!G58,\"\")","v":"PH"},{"$f":"IF(A55<>\"\",SUM('Exit-Retention to PH Measure'!E60,'Returns to Homelessness'!E60,'Length of Stay (TH Only)'!E61,'Income Growth Measure'!F60,'Mainstream Benefits Measure'!E58,'Project Eligibility'!E60,'Unit Utilization Rate'!G59,'eLOCCS Drawdowns'!E57,'Recaptured Funds'!E60,'Timely APR Submission'!E57,'Cost Effectiveness'!G62,'HUD Monitoring'!E58,'Project Description'!D57,'Opening Doors Goals'!D59,'Severity of Needs'!E60,'Prioritization of PSH'!E58,'Housing First Approach'!E57,'CoC Participation'!#REF!,'HMIS Data Quality'!E57), \"\")","v":{"$error":"#REF!"}}]
[{"$f":"IF('CoC Renewal Ranking Report'!D59<>\"\",'CoC Renewal Ranking Report'!D59,\"\")","v":"Valley Housing Development Corporation "},{"$f":"IF('CoC Renewal Ranking Report'!E59<>\"\",'CoC Renewal Ranking Report'!E59,\"\")","v":"VHDC SHP #2 2016"},{"$f":"IF('CoC Renewal Ranking Report'!G59<>\"\",'CoC Renewal Ranking Report'!G59,\"\")","v":"PH"},{"$f":"IF(A56<>\"\",SUM('Exit-Retention to PH Measure'!E61,'Returns to Homelessness'!E61,'Length of Stay (TH Only)'!E62,'Income Growth Measure'!F61,'Mainstream Benefits Measure'!E59,'Project Eligibility'!E61,'Unit Utilization Rate'!G60,'eLOCCS Drawdowns'!E58,'Recaptured Funds'!E61,'Timely APR Submission'!E58,'Cost Effectiveness'!G63,'HUD Monitoring'!E59,'Project Description'!D58,'Opening Doors Goals'!D60,'Severity of Needs'!E61,'Prioritization of PSH'!E59,'Housing First Approach'!E58,'CoC Participation'!#REF!,'HMIS Data Quality'!E58), \"\")","v":{"$error":"#REF!"}}]
[{"$f":"IF('CoC Renewal Ranking Report'!D60<>\"\",'CoC Renewal Ranking Report'!D60,\"\")","v":"Valley Housing Development Corporation "},{"$f":"IF('CoC Renewal Ranking Report'!E60<>\"\",'CoC Renewal Ranking Report'!E60,\"\")","v":"VHDC SHP #3 2016"},{"$f":"IF('CoC Renewal Ranking Report'!G60<>\"\",'CoC Renewal Ranking Report'!G60,\"\")","v":"PH"},{"$f":"IF(A57<>\"\",SUM('Exit-Retention to PH Measure'!E62,'Returns to Homelessness'!E62,'Length of Stay (TH Only)'!E63,'Income Growth Measure'!F62,'Mainstream Benefits Measure'!E60,'Project Eligibility'!E62,'Unit Utilization Rate'!G61,'eLOCCS Drawdowns'!E59,'Recaptured Funds'!E62,'Timely APR Submission'!E59,'Cost Effectiveness'!G64,'HUD Monitoring'!E60,'Project Description'!D59,'Opening Doors Goals'!D61,'Severity of Needs'!E62,'Prioritization of PSH'!E60,'Housing First Approach'!E59,'CoC Participation'!#REF!,'HMIS Data Quality'!E59), \"\")","v":{"$error":"#REF!"}}]
[{"$f":"IF('CoC Renewal Ranking Report'!D61<>\"\",'CoC Renewal Ranking Report'!D61,\"\")","v":"Valley Housing Development Corporation "},{"$f":"IF('CoC Renewal Ranking Report'!E61<>\"\",'CoC Renewal Ranking Report'!E61,\"\")","v":"VHDC SHP #4 2016"},{"$f":"IF('CoC Renewal Ranking Report'!G61<>\"\",'CoC Renewal Ranking Report'!G61,\"\")","v":"PH"},{"$f":"IF(A58<>\"\",SUM('Exit-Retention to PH Measure'!E63,'Returns to Homelessness'!E63,'Length of Stay (TH Only)'!E64,'Income Growth Measure'!F63,'Mainstream Benefits Measure'!E61,'Project Eligibility'!E63,'Unit Utilization Rate'!G62,'eLOCCS Drawdowns'!E60,'Recaptured Funds'!E63,'Timely APR Submission'!E60,'Cost Effectiveness'!G65,'HUD Monitoring'!E61,'Project Description'!D60,'Opening Doors Goals'!D62,'Severity of Needs'!E63,'Prioritization of PSH'!E61,'Housing First Approach'!E60,'CoC Participation'!#REF!,'HMIS Data Quality'!E60), \"\")","v":{"$error":"#REF!"}}]
[{"$f":"IF('CoC Renewal Ranking Report'!D62<>\"\",'CoC Renewal Ranking Report'!D62,\"\")","v":""},{"$f":"IF('CoC Renewal Ranking Report'!E62<>\"\",'CoC Renewal Ranking Report'!E62,\"\")","v":""},{"$f":"IF('CoC Renewal Ranking Report'!G62<>\"\",'CoC Renewal Ranking Report'!G62,\"\")","v":""},{"$f":"IF(A59<>\"\",SUM('Exit-Retention to PH Measure'!E64,'Returns to Homelessness'!E64,'Length of Stay (TH Only)'!E65,'Income Growth Measure'!F64,'Mainstream Benefits Measure'!E62,'Project Eligibility'!E64,'Unit Utilization Rate'!G63,'eLOCCS Drawdowns'!E61,'Recaptured Funds'!E64,'Timely APR Submission'!E61,'Cost Effectiveness'!G66,'HUD Monitoring'!E62,'Project Description'!D61,'Opening Doors Goals'!D63,'Severity of Needs'!E64,'Prioritization of PSH'!E62,'Housing First Approach'!E61,'CoC Participation'!#REF!,'HMIS Data Quality'!E61), \"\")","v":""}]
[{"$f":"IF('CoC Renewal Ranking Report'!D63<>\"\",'CoC Renewal Ranking Report'!D63,\"\")","v":""},{"$f":"IF('CoC Renewal Ranking Report'!E63<>\"\",'CoC Renewal Ranking Report'!E63,\"\")","v":""},{"$f":"IF('CoC Renewal Ranking Report'!G63<>\"\",'CoC Renewal Ranking Report'!G63,\"\")","v":""},{"$f":"IF(A60<>\"\",SUM('Exit-Retention to PH Measure'!E65,'Returns to Homelessness'!E65,'Length of Stay (TH Only)'!E66,'Income Growth Measure'!F65,'Mainstream Benefits Measure'!E63,'Project Eligibility'!E65,'Unit Utilization Rate'!G64,'eLOCCS Drawdowns'!E62,'Recaptured Funds'!E65,'Timely APR Submission'!E62,'Cost Effectiveness'!G67,'HUD Monitoring'!E63,'Project Description'!D62,'Opening Doors Goals'!D64,'Severity of Needs'!E65,'Prioritization of PSH'!E63,'Housing First Approach'!E62,'CoC Participation'!#REF!,'HMIS Data Quality'!E62), \"\")","v":""}]
[{"$f":"IF('CoC Renewal Ranking Report'!D64<>\"\",'CoC Renewal Ranking Report'!D64,\"\")","v":""},{"$f":"IF('CoC Renewal Ranking Report'!E64<>\"\",'CoC Renewal Ranking Report'!E64,\"\")","v":""},{"$f":"IF('CoC Renewal Ranking Report'!G64<>\"\",'CoC Renewal Ranking Report'!G64,\"\")","v":""},{"$f":"IF(A61<>\"\",SUM('Exit-Retention to PH Measure'!E66,'Returns to Homelessness'!E66,'Length of Stay (TH Only)'!E67,'Income Growth Measure'!F66,'Mainstream Benefits Measure'!E64,'Project Eligibility'!E66,'Unit Utilization Rate'!G65,'eLOCCS Drawdowns'!E63,'Recaptured Funds'!E66,'Timely APR Submission'!E63,'Cost Effectiveness'!G68,'HUD Monitoring'!E64,'Project Description'!D63,'Opening Doors Goals'!D65,'Severity of Needs'!E66,'Prioritization of PSH'!E64,'Housing First Approach'!E63,'CoC Participation'!#REF!,'HMIS Data Quality'!E63), \"\")","v":""}]
[{"$f":"IF('CoC Renewal Ranking Report'!D65<>\"\",'CoC Renewal Ranking Report'!D65,\"\")","v":""},{"$f":"IF('CoC Renewal Ranking Report'!E65<>\"\",'CoC Renewal Ranking Report'!E65,\"\")","v":""},{"$f":"IF('CoC Renewal Ranking Report'!G65<>\"\",'CoC Renewal Ranking Report'!G65,\"\")","v":""},{"$f":"IF(A62<>\"\",SUM('Exit-Retention to PH Measure'!E67,'Returns to Homelessness'!E67,'Length of Stay (TH Only)'!E68,'Income Growth Measure'!F67,'Mainstream Benefits Measure'!E65,'Project Eligibility'!E67,'Unit Utilization Rate'!G66,'eLOCCS Drawdowns'!E64,'Recaptured Funds'!E67,'Timely APR Submission'!E64,'Cost Effectiveness'!G69,'HUD Monitoring'!E65,'Project Description'!D64,'Opening Doors Goals'!D66,'Severity of Needs'!E67,'Prioritization of PSH'!E65,'Housing First Approach'!E64,'CoC Participation'!#REF!,'HMIS Data Quality'!E64), \"\")","v":""}]
[{"$f":"IF('CoC Renewal Ranking Report'!D66<>\"\",'CoC Renewal Ranking Report'!D66,\"\")","v":""},{"$f":"IF('CoC Renewal Ranking Report'!E66<>\"\",'CoC Renewal Ranking Report'!E66,\"\")","v":""},{"$f":"IF('CoC Renewal Ranking Report'!G66<>\"\",'CoC Renewal Ranking Report'!G66,\"\")","v":""},{"$f":"IF(A63<>\"\",SUM('Exit-Retention to PH Measure'!E68,'Returns to Homelessness'!E68,'Length of Stay (TH Only)'!E69,'Income Growth Measure'!F68,'Mainstream Benefits Measure'!E66,'Project Eligibility'!E68,'Unit Utilization Rate'!G67,'eLOCCS Drawdowns'!E65,'Recaptured Funds'!E68,'Timely APR Submission'!E65,'Cost Effectiveness'!G70,'HUD Monitoring'!E66,'Project Description'!D65,'Opening Doors Goals'!D67,'Severity of Needs'!E68,'Prioritization of PSH'!E66,'Housing First Approach'!E65,'CoC Participation'!#REF!,'HMIS Data Quality'!E65), \"\")","v":""}]
[{"$f":"IF('CoC Renewal Ranking Report'!D67<>\"\",'CoC Renewal Ranking Report'!D67,\"\")","v":""},{"$f":"IF('CoC Renewal Ranking Report'!E67<>\"\",'CoC Renewal Ranking Report'!E67,\"\")","v":""},{"$f":"IF('CoC Renewal Ranking Report'!G67<>\"\",'CoC Renewal Ranking Report'!G67,\"\")","v":""},{"$f":"IF(A64<>\"\",SUM('Exit-Retention to PH Measure'!E69,'Returns to Homelessness'!E69,'Length of Stay (TH Only)'!E70,'Income Growth Measure'!F69,'Mainstream Benefits Measure'!E67,'Project Eligibility'!E69,'Unit Utilization Rate'!G68,'eLOCCS Drawdowns'!E66,'Recaptured Funds'!E69,'Timely APR Submission'!E66,'Cost Effectiveness'!G71,'HUD Monitoring'!E67,'Project Description'!D66,'Opening Doors Goals'!D68,'Severity of Needs'!E69,'Prioritization of PSH'!E67,'Housing First Approach'!E66,'CoC Participation'!#REF!,'HMIS Data Quality'!E66), \"\")","v":""}]
[{"$f":"IF('CoC Renewal Ranking Report'!D68<>\"\",'CoC Renewal Ranking Report'!D68,\"\")","v":""},{"$f":"IF('CoC Renewal Ranking Report'!E68<>\"\",'CoC Renewal Ranking Report'!E68,\"\")","v":""},{"$f":"IF('CoC Renewal Ranking Report'!G68<>\"\",'CoC Renewal Ranking Report'!G68,\"\")","v":""},{"$f":"IF(A65<>\"\",SUM('Exit-Retention to PH Measure'!E70,'Returns to Homelessness'!E70,'Length of Stay (TH Only)'!E71,'Income Growth Measure'!F70,'Mainstream Benefits Measure'!E68,'Project Eligibility'!E70,'Unit Utilization Rate'!G69,'eLOCCS Drawdowns'!E67,'Recaptured Funds'!E70,'Timely APR Submission'!E67,'Cost Effectiveness'!G72,'HUD Monitoring'!E68,'Project Description'!D67,'Opening Doors Goals'!D69,'Severity of Needs'!E70,'Prioritization of PSH'!E68,'Housing First Approach'!E67,'CoC Participation'!#REF!,'HMIS Data Quality'!E67), \"\")","v":""}]
[{"$f":"IF('CoC Renewal Ranking Report'!D69<>\"\",'CoC Renewal Ranking Report'!D69,\"\")","v":""},{"$f":"IF('CoC Renewal Ranking Report'!E69<>\"\",'CoC Renewal Ranking Report'!E69,\"\")","v":""},{"$f":"IF('CoC Renewal Ranking Report'!G69<>\"\",'CoC Renewal Ranking Report'!G69,\"\")","v":""},{"$f":"IF(A66<>\"\",SUM('Exit-Retention to PH Measure'!E71,'Returns to Homelessness'!E71,'Length of Stay (TH Only)'!E72,'Income Growth Measure'!F71,'Mainstream Benefits Measure'!E69,'Project Eligibility'!E71,'Unit Utilization Rate'!G70,'eLOCCS Drawdowns'!E68,'Recaptured Funds'!E71,'Timely APR Submission'!E68,'Cost Effectiveness'!G73,'HUD Monitoring'!E69,'Project Description'!D68,'Opening Doors Goals'!D70,'Severity of Needs'!E71,'Prioritization of PSH'!E69,'Housing First Approach'!E68,'CoC Participation'!#REF!,'HMIS Data Quality'!E68), \"\")","v":""}]
[{"$f":"IF('CoC Renewal Ranking Report'!D70<>\"\",'CoC Renewal Ranking Report'!D70,\"\")","v":""},{"$f":"IF('CoC Renewal Ranking Report'!E70<>\"\",'CoC Renewal Ranking Report'!E70,\"\")","v":""},{"$f":"IF('CoC Renewal Ranking Report'!G70<>\"\",'CoC Renewal Ranking Report'!G70,\"\")","v":""},{"$f":"IF(A67<>\"\",SUM('Exit-Retention to PH Measure'!E72,'Returns to Homelessness'!E72,'Length of Stay (TH Only)'!E73,'Income Growth Measure'!F72,'Mainstream Benefits Measure'!E70,'Project Eligibility'!E72,'Unit Utilization Rate'!G71,'eLOCCS Drawdowns'!E69,'Recaptured Funds'!E72,'Timely APR Submission'!E69,'Cost Effectiveness'!G74,'HUD Monitoring'!E70,'Project Description'!D69,'Opening Doors Goals'!D71,'Severity of Needs'!E72,'Prioritization of PSH'!E70,'Housing First Approach'!E69,'CoC Participation'!#REF!,'HMIS Data Quality'!E69), \"\")","v":""}]
[{"$f":"IF('CoC Renewal Ranking Report'!D71<>\"\",'CoC Renewal Ranking Report'!D71,\"\")","v":""},{"$f":"IF('CoC Renewal Ranking Report'!E71<>\"\",'CoC Renewal Ranking Report'!E71,\"\")","v":""},{"$f":"IF('CoC Renewal Ranking Report'!G71<>\"\",'CoC Renewal Ranking Report'!G71,\"\")","v":""},{"$f":"IF(A68<>\"\",SUM('Exit-Retention to PH Measure'!E73,'Returns to Homelessness'!E73,'Length of Stay (TH Only)'!E74,'Income Growth Measure'!F73,'Mainstream Benefits Measure'!E71,'Project Eligibility'!E73,'Unit Utilization Rate'!G72,'eLOCCS Drawdowns'!E70,'Recaptured Funds'!E73,'Timely APR Submission'!E70,'Cost Effectiveness'!G75,'HUD Monitoring'!E71,'Project Description'!D70,'Opening Doors Goals'!D72,'Severity of Needs'!E73,'Prioritization of PSH'!E71,'Housing First Approach'!E70,'CoC Participation'!#REF!,'HMIS Data Quality'!E70), \"\")","v":""}]
[{"$f":"IF('CoC Renewal Ranking Report'!D72<>\"\",'CoC Renewal Ranking Report'!D72,\"\")","v":""},{"$f":"IF('CoC Renewal Ranking Report'!E72<>\"\",'CoC Renewal Ranking Report'!E72,\"\")","v":""},{"$f":"IF('CoC Renewal Ranking Report'!G72<>\"\",'CoC Renewal Ranking Report'!G72,\"\")","v":""},{"$f":"IF(A69<>\"\",SUM('Exit-Retention to PH Measure'!E74,'Returns to Homelessness'!E74,'Length of Stay (TH Only)'!E75,'Income Growth Measure'!F74,'Mainstream Benefits Measure'!E72,'Project Eligibility'!E74,'Unit Utilization Rate'!G73,'eLOCCS Drawdowns'!E71,'Recaptured Funds'!E74,'Timely APR Submission'!E71,'Cost Effectiveness'!G76,'HUD Monitoring'!E72,'Project Description'!D71,'Opening Doors Goals'!D73,'Severity of Needs'!E74,'Prioritization of PSH'!E72,'Housing First Approach'!E71,'CoC Participation'!#REF!,'HMIS Data Quality'!E71), \"\")","v":""}]
[{"$f":"IF('CoC Renewal Ranking Report'!D73<>\"\",'CoC Renewal Ranking Report'!D73,\"\")","v":""},{"$f":"IF('CoC Renewal Ranking Report'!E73<>\"\",'CoC Renewal Ranking Report'!E73,\"\")","v":""},{"$f":"IF('CoC Renewal Ranking Report'!G73<>\"\",'CoC Renewal Ranking Report'!G73,\"\")","v":""},{"$f":"IF(A70<>\"\",SUM('Exit-Retention to PH Measure'!E75,'Returns to Homelessness'!E75,'Length of Stay (TH Only)'!E76,'Income Growth Measure'!F75,'Mainstream Benefits Measure'!E73,'Project Eligibility'!E75,'Unit Utilization Rate'!G74,'eLOCCS Drawdowns'!E72,'Recaptured Funds'!E75,'Timely APR Submission'!E72,'Cost Effectiveness'!G77,'HUD Monitoring'!E73,'Project Description'!D72,'Opening Doors Goals'!D74,'Severity of Needs'!E75,'Prioritization of PSH'!E73,'Housing First Approach'!E72,'CoC Participation'!#REF!,'HMIS Data Quality'!E72), \"\")","v":""}]
[{"$f":"IF('CoC Renewal Ranking Report'!D74<>\"\",'CoC Renewal Ranking Report'!D74,\"\")","v":""},{"$f":"IF('CoC Renewal Ranking Report'!E74<>\"\",'CoC Renewal Ranking Report'!E74,\"\")","v":""},{"$f":"IF('CoC Renewal Ranking Report'!G74<>\"\",'CoC Renewal Ranking Report'!G74,\"\")","v":""},{"$f":"IF(A71<>\"\",SUM('Exit-Retention to PH Measure'!E76,'Returns to Homelessness'!E76,'Length of Stay (TH Only)'!E77,'Income Growth Measure'!F76,'Mainstream Benefits Measure'!E74,'Project Eligibility'!E76,'Unit Utilization Rate'!G75,'eLOCCS Drawdowns'!E73,'Recaptured Funds'!E76,'Timely APR Submission'!E73,'Cost Effectiveness'!G78,'HUD Monitoring'!E74,'Project Description'!D73,'Opening Doors Goals'!D75,'Severity of Needs'!E76,'Prioritization of PSH'!E74,'Housing First Approach'!E73,'CoC Participation'!#REF!,'HMIS Data Quality'!E73), \"\")","v":""}]
[{"$f":"IF('CoC Renewal Ranking Report'!D75<>\"\",'CoC Renewal Ranking Report'!D75,\"\")","v":""},{"$f":"IF('CoC Renewal Ranking Report'!E75<>\"\",'CoC Renewal Ranking Report'!E75,\"\")","v":""},{"$f":"IF('CoC Renewal Ranking Report'!G75<>\"\",'CoC Renewal Ranking Report'!G75,\"\")","v":""},{"$f":"IF(A72<>\"\",SUM('Exit-Retention to PH Measure'!E77,'Returns to Homelessness'!E77,'Length of Stay (TH Only)'!E78,'Income Growth Measure'!F77,'Mainstream Benefits Measure'!E75,'Project Eligibility'!E77,'Unit Utilization Rate'!G76,'eLOCCS Drawdowns'!E74,'Recaptured Funds'!E77,'Timely APR Submission'!E74,'Cost Effectiveness'!G79,'HUD Monitoring'!E75,'Project Description'!D74,'Opening Doors Goals'!D76,'Severity of Needs'!E77,'Prioritization of PSH'!E75,'Housing First Approach'!E74,'CoC Participation'!#REF!,'HMIS Data Quality'!E74), \"\")","v":""}]
[{"$f":"IF('CoC Renewal Ranking Report'!D76<>\"\",'CoC Renewal Ranking Report'!D76,\"\")","v":""},{"$f":"IF('CoC Renewal Ranking Report'!E76<>\"\",'CoC Renewal Ranking Report'!E76,\"\")","v":""},{"$f":"IF('CoC Renewal Ranking Report'!G76<>\"\",'CoC Renewal Ranking Report'!G76,\"\")","v":""},{"$f":"IF(A73<>\"\",SUM('Exit-Retention to PH Measure'!E78,'Returns to Homelessness'!E78,'Length of Stay (TH Only)'!E79,'Income Growth Measure'!F78,'Mainstream Benefits Measure'!E76,'Project Eligibility'!E78,'Unit Utilization Rate'!G77,'eLOCCS Drawdowns'!E75,'Recaptured Funds'!E78,'Timely APR Submission'!E75,'Cost Effectiveness'!G80,'HUD Monitoring'!E76,'Project Description'!D75,'Opening Doors Goals'!D77,'Severity of Needs'!E78,'Prioritization of PSH'!E76,'Housing First Approach'!E75,'CoC Participation'!#REF!,'HMIS Data Quality'!E75), \"\")","v":""}]
[{"$f":"IF('CoC Renewal Ranking Report'!D77<>\"\",'CoC Renewal Ranking Report'!D77,\"\")","v":""},{"$f":"IF('CoC Renewal Ranking Report'!E77<>\"\",'CoC Renewal Ranking Report'!E77,\"\")","v":""},{"$f":"IF('CoC Renewal Ranking Report'!G77<>\"\",'CoC Renewal Ranking Report'!G77,\"\")","v":""},{"$f":"IF(A74<>\"\",SUM('Exit-Retention to PH Measure'!E79,'Returns to Homelessness'!E79,'Length of Stay (TH Only)'!E80,'Income Growth Measure'!F79,'Mainstream Benefits Measure'!E77,'Project Eligibility'!E79,'Unit Utilization Rate'!G78,'eLOCCS Drawdowns'!E76,'Recaptured Funds'!E79,'Timely APR Submission'!E76,'Cost Effectiveness'!G81,'HUD Monitoring'!E77,'Project Description'!D76,'Opening Doors Goals'!D78,'Severity of Needs'!E79,'Prioritization of PSH'!E77,'Housing First Approach'!E76,'CoC Participation'!#REF!,'HMIS Data Quality'!E76), \"\")","v":""}]
[{"$f":"IF('CoC Renewal Ranking Report'!D78<>\"\",'CoC Renewal Ranking Report'!D78,\"\")","v":""},{"$f":"IF('CoC Renewal Ranking Report'!E78<>\"\",'CoC Renewal Ranking Report'!E78,\"\")","v":""},{"$f":"IF('CoC Renewal Ranking Report'!G78<>\"\",'CoC Renewal Ranking Report'!G78,\"\")","v":""},{"$f":"IF(A75<>\"\",SUM('Exit-Retention to PH Measure'!E80,'Returns to Homelessness'!E80,'Length of Stay (TH Only)'!E81,'Income Growth Measure'!F80,'Mainstream Benefits Measure'!E78,'Project Eligibility'!E80,'Unit Utilization Rate'!G79,'eLOCCS Drawdowns'!E77,'Recaptured Funds'!E80,'Timely APR Submission'!E77,'Cost Effectiveness'!G82,'HUD Monitoring'!E78,'Project Description'!D77,'Opening Doors Goals'!D79,'Severity of Needs'!E80,'Prioritization of PSH'!E78,'Housing First Approach'!E77,'CoC Participation'!#REF!,'HMIS Data Quality'!E77), \"\")","v":""}]
[{"$f":"IF('CoC Renewal Ranking Report'!D79<>\"\",'CoC Renewal Ranking Report'!D79,\"\")","v":""},{"$f":"IF('CoC Renewal Ranking Report'!E79<>\"\",'CoC Renewal Ranking Report'!E79,\"\")","v":""},{"$f":"IF('CoC Renewal Ranking Report'!G79<>\"\",'CoC Renewal Ranking Report'!G79,\"\")","v":""},{"$f":"IF(A76<>\"\",SUM('Exit-Retention to PH Measure'!E81,'Returns to Homelessness'!E81,'Length of Stay (TH Only)'!E82,'Income Growth Measure'!F81,'Mainstream Benefits Measure'!E79,'Project Eligibility'!E81,'Unit Utilization Rate'!G80,'eLOCCS Drawdowns'!E78,'Recaptured Funds'!E81,'Timely APR Submission'!E78,'Cost Effectiveness'!G83,'HUD Monitoring'!E79,'Project Description'!D78,'Opening Doors Goals'!D80,'Severity of Needs'!E81,'Prioritization of PSH'!E79,'Housing First Approach'!E78,'CoC Participation'!#REF!,'HMIS Data Quality'!E78), \"\")","v":""}]
[{"$f":"IF('CoC Renewal Ranking Report'!D80<>\"\",'CoC Renewal Ranking Report'!D80,\"\")","v":""},{"$f":"IF('CoC Renewal Ranking Report'!E80<>\"\",'CoC Renewal Ranking Report'!E80,\"\")","v":""},{"$f":"IF('CoC Renewal Ranking Report'!G80<>\"\",'CoC Renewal Ranking Report'!G80,\"\")","v":""},{"$f":"IF(A77<>\"\",SUM('Exit-Retention to PH Measure'!E82,'Returns to Homelessness'!E82,'Length of Stay (TH Only)'!E83,'Income Growth Measure'!F82,'Mainstream Benefits Measure'!E80,'Project Eligibility'!E82,'Unit Utilization Rate'!G81,'eLOCCS Drawdowns'!E79,'Recaptured Funds'!E82,'Timely APR Submission'!E79,'Cost Effectiveness'!G84,'HUD Monitoring'!E80,'Project Description'!D79,'Opening Doors Goals'!D81,'Severity of Needs'!E82,'Prioritization of PSH'!E80,'Housing First Approach'!E79,'CoC Participation'!#REF!,'HMIS Data Quality'!E79), \"\")","v":""}]
[{"$f":"IF('CoC Renewal Ranking Report'!D81<>\"\",'CoC Renewal Ranking Report'!D81,\"\")","v":""},{"$f":"IF('CoC Renewal Ranking Report'!E81<>\"\",'CoC Renewal Ranking Report'!E81,\"\")","v":""},{"$f":"IF('CoC Renewal Ranking Report'!G81<>\"\",'CoC Renewal Ranking Report'!G81,\"\")","v":""},{"$f":"IF(A78<>\"\",SUM('Exit-Retention to PH Measure'!E83,'Returns to Homelessness'!E83,'Length of Stay (TH Only)'!E84,'Income Growth Measure'!F83,'Mainstream Benefits Measure'!E81,'Project Eligibility'!E83,'Unit Utilization Rate'!G82,'eLOCCS Drawdowns'!E80,'Recaptured Funds'!E83,'Timely APR Submission'!E80,'Cost Effectiveness'!G85,'HUD Monitoring'!E81,'Project Description'!D80,'Opening Doors Goals'!D82,'Severity of Needs'!E83,'Prioritization of PSH'!E81,'Housing First Approach'!E80,'CoC Participation'!#REF!,'HMIS Data Quality'!E80), \"\")","v":""}]
[{"$f":"IF('CoC Renewal Ranking Report'!D82<>\"\",'CoC Renewal Ranking Report'!D82,\"\")","v":""},{"$f":"IF('CoC Renewal Ranking Report'!E82<>\"\",'CoC Renewal Ranking Report'!E82,\"\")","v":""},{"$f":"IF('CoC Renewal Ranking Report'!G82<>\"\",'CoC Renewal Ranking Report'!G82,\"\")","v":""},{"$f":"IF(A79<>\"\",SUM('Exit-Retention to PH Measure'!E84,'Returns to Homelessness'!E84,'Length of Stay (TH Only)'!E85,'Income Growth Measure'!F84,'Mainstream Benefits Measure'!E82,'Project Eligibility'!E84,'Unit Utilization Rate'!G83,'eLOCCS Drawdowns'!E81,'Recaptured Funds'!E84,'Timely APR Submission'!E81,'Cost Effectiveness'!G86,'HUD Monitoring'!E82,'Project Description'!D81,'Opening Doors Goals'!D83,'Severity of Needs'!E84,'Prioritization of PSH'!E82,'Housing First Approach'!E81,'CoC Participation'!#REF!,'HMIS Data Quality'!E81), \"\")","v":""}]
[{"$f":"IF('CoC Renewal Ranking Report'!D83<>\"\",'CoC Renewal Ranking Report'!D83,\"\")","v":""},{"$f":"IF('CoC Renewal Ranking Report'!E83<>\"\",'CoC Renewal Ranking Report'!E83,\"\")","v":""},{"$f":"IF('CoC Renewal Ranking Report'!G83<>\"\",'CoC Renewal Ranking Report'!G83,\"\")","v":""},{"$f":"IF(A80<>\"\",SUM('Exit-Retention to PH Measure'!E85,'Returns to Homelessness'!E85,'Length of Stay (TH Only)'!E86,'Income Growth Measure'!F85,'Mainstream Benefits Measure'!E83,'Project Eligibility'!E85,'Unit Utilization Rate'!G84,'eLOCCS Drawdowns'!E82,'Recaptured Funds'!E85,'Timely APR Submission'!E82,'Cost Effectiveness'!G87,'HUD Monitoring'!E83,'Project Description'!D82,'Opening Doors Goals'!D84,'Severity of Needs'!E85,'Prioritization of PSH'!E83,'Housing First Approach'!E82,'CoC Participation'!#REF!,'HMIS Data Quality'!E82), \"\")","v":""}]
[{"$f":"IF('CoC Renewal Ranking Report'!D84<>\"\",'CoC Renewal Ranking Report'!D84,\"\")","v":""},{"$f":"IF('CoC Renewal Ranking Report'!E84<>\"\",'CoC Renewal Ranking Report'!E84,\"\")","v":""},{"$f":"IF('CoC Renewal Ranking Report'!G84<>\"\",'CoC Renewal Ranking Report'!G84,\"\")","v":""},{"$f":"IF(A81<>\"\",SUM('Exit-Retention to PH Measure'!E86,'Returns to Homelessness'!E86,'Length of Stay (TH Only)'!E87,'Income Growth Measure'!F86,'Mainstream Benefits Measure'!E84,'Project Eligibility'!E86,'Unit Utilization Rate'!G85,'eLOCCS Drawdowns'!E83,'Recaptured Funds'!E86,'Timely APR Submission'!E83,'Cost Effectiveness'!G88,'HUD Monitoring'!E84,'Project Description'!D83,'Opening Doors Goals'!D85,'Severity of Needs'!E86,'Prioritization of PSH'!E84,'Housing First Approach'!E83,'CoC Participation'!#REF!,'HMIS Data Quality'!E83), \"\")","v":""}]
[{"$f":"IF('CoC Renewal Ranking Report'!D85<>\"\",'CoC Renewal Ranking Report'!D85,\"\")","v":""},{"$f":"IF('CoC Renewal Ranking Report'!E85<>\"\",'CoC Renewal Ranking Report'!E85,\"\")","v":""},{"$f":"IF('CoC Renewal Ranking Report'!G85<>\"\",'CoC Renewal Ranking Report'!G85,\"\")","v":""},{"$f":"IF(A82<>\"\",SUM('Exit-Retention to PH Measure'!E87,'Returns to Homelessness'!E87,'Length of Stay (TH Only)'!E88,'Income Growth Measure'!F87,'Mainstream Benefits Measure'!E85,'Project Eligibility'!E87,'Unit Utilization Rate'!G86,'eLOCCS Drawdowns'!E84,'Recaptured Funds'!E87,'Timely APR Submission'!E84,'Cost Effectiveness'!G89,'HUD Monitoring'!E85,'Project Description'!D84,'Opening Doors Goals'!D86,'Severity of Needs'!E87,'Prioritization of PSH'!E85,'Housing First Approach'!E84,'CoC Participation'!#REF!,'HMIS Data Quality'!E84), \"\")","v":""}]
[{"$f":"IF('CoC Renewal Ranking Report'!D86<>\"\",'CoC Renewal Ranking Report'!D86,\"\")","v":""},{"$f":"IF('CoC Renewal Ranking Report'!E86<>\"\",'CoC Renewal Ranking Report'!E86,\"\")","v":""},{"$f":"IF('CoC Renewal Ranking Report'!G86<>\"\",'CoC Renewal Ranking Report'!G86,\"\")","v":""},{"$f":"IF(A83<>\"\",SUM('Exit-Retention to PH Measure'!E88,'Returns to Homelessness'!E88,'Length of Stay (TH Only)'!E89,'Income Growth Measure'!F88,'Mainstream Benefits Measure'!E86,'Project Eligibility'!E88,'Unit Utilization Rate'!G87,'eLOCCS Drawdowns'!E85,'Recaptured Funds'!E88,'Timely APR Submission'!E85,'Cost Effectiveness'!G90,'HUD Monitoring'!E86,'Project Description'!D85,'Opening Doors Goals'!D87,'Severity of Needs'!E88,'Prioritization of PSH'!E86,'Housing First Approach'!E85,'CoC Participation'!#REF!,'HMIS Data Quality'!E85), \"\")","v":""}]
[{"$f":"IF('CoC Renewal Ranking Report'!D87<>\"\",'CoC Renewal Ranking Report'!D87,\"\")","v":""},{"$f":"IF('CoC Renewal Ranking Report'!E87<>\"\",'CoC Renewal Ranking Report'!E87,\"\")","v":""},{"$f":"IF('CoC Renewal Ranking Report'!G87<>\"\",'CoC Renewal Ranking Report'!G87,\"\")","v":""},{"$f":"IF(A84<>\"\",SUM('Exit-Retention to PH Measure'!E89,'Returns to Homelessness'!E89,'Length of Stay (TH Only)'!E90,'Income Growth Measure'!F89,'Mainstream Benefits Measure'!E87,'Project Eligibility'!E89,'Unit Utilization Rate'!G88,'eLOCCS Drawdowns'!E86,'Recaptured Funds'!E89,'Timely APR Submission'!E86,'Cost Effectiveness'!G91,'HUD Monitoring'!E87,'Project Description'!D86,'Opening Doors Goals'!D88,'Severity of Needs'!E89,'Prioritization of PSH'!E87,'Housing First Approach'!E86,'CoC Participation'!#REF!,'HMIS Data Quality'!E86), \"\")","v":""}]
[{"$f":"IF('CoC Renewal Ranking Report'!D88<>\"\",'CoC Renewal Ranking Report'!D88,\"\")","v":""},{"$f":"IF('CoC Renewal Ranking Report'!E88<>\"\",'CoC Renewal Ranking Report'!E88,\"\")","v":""},{"$f":"IF('CoC Renewal Ranking Report'!G88<>\"\",'CoC Renewal Ranking Report'!G88,\"\")","v":""},{"$f":"IF(A85<>\"\",SUM('Exit-Retention to PH Measure'!E90,'Returns to Homelessness'!E90,'Length of Stay (TH Only)'!E91,'Income Growth Measure'!F90,'Mainstream Benefits Measure'!E88,'Project Eligibility'!E90,'Unit Utilization Rate'!G89,'eLOCCS Drawdowns'!E87,'Recaptured Funds'!E90,'Timely APR Submission'!E87,'Cost Effectiveness'!G92,'HUD Monitoring'!E88,'Project Description'!D87,'Opening Doors Goals'!D89,'Severity of Needs'!E90,'Prioritization of PSH'!E88,'Housing First Approach'!E87,'CoC Participation'!#REF!,'HMIS Data Quality'!E87), \"\")","v":""}]
[{"$f":"IF('CoC Renewal Ranking Report'!D89<>\"\",'CoC Renewal Ranking Report'!D89,\"\")","v":""},{"$f":"IF('CoC Renewal Ranking Report'!E89<>\"\",'CoC Renewal Ranking Report'!E89,\"\")","v":""},{"$f":"IF('CoC Renewal Ranking Report'!G89<>\"\",'CoC Renewal Ranking Report'!G89,\"\")","v":""},{"$f":"IF(A86<>\"\",SUM('Exit-Retention to PH Measure'!E91,'Returns to Homelessness'!E91,'Length of Stay (TH Only)'!E92,'Income Growth Measure'!F91,'Mainstream Benefits Measure'!E89,'Project Eligibility'!E91,'Unit Utilization Rate'!G90,'eLOCCS Drawdowns'!E88,'Recaptured Funds'!E91,'Timely APR Submission'!E88,'Cost Effectiveness'!G93,'HUD Monitoring'!E89,'Project Description'!D88,'Opening Doors Goals'!D90,'Severity of Needs'!E91,'Prioritization of PSH'!E89,'Housing First Approach'!E88,'CoC Participation'!#REF!,'HMIS Data Quality'!E88), \"\")","v":""}]
[{"$f":"IF('CoC Renewal Ranking Report'!D90<>\"\",'CoC Renewal Ranking Report'!D90,\"\")","v":""},{"$f":"IF('CoC Renewal Ranking Report'!E90<>\"\",'CoC Renewal Ranking Report'!E90,\"\")","v":""},{"$f":"IF('CoC Renewal Ranking Report'!G90<>\"\",'CoC Renewal Ranking Report'!G90,\"\")","v":""},{"$f":"IF(A87<>\"\",SUM('Exit-Retention to PH Measure'!E92,'Returns to Homelessness'!E92,'Length of Stay (TH Only)'!E93,'Income Growth Measure'!F92,'Mainstream Benefits Measure'!E90,'Project Eligibility'!E92,'Unit Utilization Rate'!G91,'eLOCCS Drawdowns'!E89,'Recaptured Funds'!E92,'Timely APR Submission'!E89,'Cost Effectiveness'!G94,'HUD Monitoring'!E90,'Project Description'!D89,'Opening Doors Goals'!D91,'Severity of Needs'!E92,'Prioritization of PSH'!E90,'Housing First Approach'!E89,'CoC Participation'!#REF!,'HMIS Data Quality'!E89), \"\")","v":""}]
[{"$f":"IF('CoC Renewal Ranking Report'!D91<>\"\",'CoC Renewal Ranking Report'!D91,\"\")","v":""},{"$f":"IF('CoC Renewal Ranking Report'!E91<>\"\",'CoC Renewal Ranking Report'!E91,\"\")","v":""},{"$f":"IF('CoC Renewal Ranking Report'!G91<>\"\",'CoC Renewal Ranking Report'!G91,\"\")","v":""},{"$f":"IF(A88<>\"\",SUM('Exit-Retention to PH Measure'!E93,'Returns to Homelessness'!E93,'Length of Stay (TH Only)'!E94,'Income Growth Measure'!F93,'Mainstream Benefits Measure'!E91,'Project Eligibility'!E93,'Unit Utilization Rate'!G92,'eLOCCS Drawdowns'!E90,'Recaptured Funds'!E93,'Timely APR Submission'!E90,'Cost Effectiveness'!G95,'HUD Monitoring'!E91,'Project Description'!D90,'Opening Doors Goals'!D92,'Severity of Needs'!E93,'Prioritization of PSH'!E91,'Housing First Approach'!E90,'CoC Participation'!#REF!,'HMIS Data Quality'!E90), \"\")","v":""}]
[{"$f":"IF('CoC Renewal Ranking Report'!D92<>\"\",'CoC Renewal Ranking Report'!D92,\"\")","v":""},{"$f":"IF('CoC Renewal Ranking Report'!E92<>\"\",'CoC Renewal Ranking Report'!E92,\"\")","v":""},{"$f":"IF('CoC Renewal Ranking Report'!G92<>\"\",'CoC Renewal Ranking Report'!G92,\"\")","v":""},{"$f":"IF(A89<>\"\",SUM('Exit-Retention to PH Measure'!E94,'Returns to Homelessness'!E94,'Length of Stay (TH Only)'!E95,'Income Growth Measure'!F94,'Mainstream Benefits Measure'!E92,'Project Eligibility'!E94,'Unit Utilization Rate'!G93,'eLOCCS Drawdowns'!E91,'Recaptured Funds'!E94,'Timely APR Submission'!E91,'Cost Effectiveness'!G96,'HUD Monitoring'!E92,'Project Description'!D91,'Opening Doors Goals'!D93,'Severity of Needs'!E94,'Prioritization of PSH'!E92,'Housing First Approach'!E91,'CoC Participation'!#REF!,'HMIS Data Quality'!E91), \"\")","v":""}]
[{"$f":"IF('CoC Renewal Ranking Report'!D93<>\"\",'CoC Renewal Ranking Report'!D93,\"\")","v":""},{"$f":"IF('CoC Renewal Ranking Report'!E93<>\"\",'CoC Renewal Ranking Report'!E93,\"\")","v":""},{"$f":"IF('CoC Renewal Ranking Report'!G93<>\"\",'CoC Renewal Ranking Report'!G93,\"\")","v":""},{"$f":"IF(A90<>\"\",SUM('Exit-Retention to PH Measure'!E95,'Returns to Homelessness'!E95,'Length of Stay (TH Only)'!E96,'Income Growth Measure'!F95,'Mainstream Benefits Measure'!E93,'Project Eligibility'!E95,'Unit Utilization Rate'!G94,'eLOCCS Drawdowns'!E92,'Recaptured Funds'!E95,'Timely APR Submission'!E92,'Cost Effectiveness'!G97,'HUD Monitoring'!E93,'Project Description'!D92,'Opening Doors Goals'!D94,'Severity of Needs'!E95,'Prioritization of PSH'!E93,'Housing First Approach'!E92,'CoC Participation'!#REF!,'HMIS Data Quality'!E92), \"\")","v":""}]
[{"$f":"IF('CoC Renewal Ranking Report'!D94<>\"\",'CoC Renewal Ranking Report'!D94,\"\")","v":""},{"$f":"IF('CoC Renewal Ranking Report'!E94<>\"\",'CoC Renewal Ranking Report'!E94,\"\")","v":""},{"$f":"IF('CoC Renewal Ranking Report'!G94<>\"\",'CoC Renewal Ranking Report'!G94,\"\")","v":""},{"$f":"IF(A91<>\"\",SUM('Exit-Retention to PH Measure'!E96,'Returns to Homelessness'!E96,'Length of Stay (TH Only)'!E97,'Income Growth Measure'!F96,'Mainstream Benefits Measure'!E94,'Project Eligibility'!E96,'Unit Utilization Rate'!G95,'eLOCCS Drawdowns'!E93,'Recaptured Funds'!E96,'Timely APR Submission'!E93,'Cost Effectiveness'!G98,'HUD Monitoring'!E94,'Project Description'!D93,'Opening Doors Goals'!D95,'Severity of Needs'!E96,'Prioritization of PSH'!E94,'Housing First Approach'!E93,'CoC Participation'!#REF!,'HMIS Data Quality'!E93), \"\")","v":""}]
[{"$f":"IF('CoC Renewal Ranking Report'!D95<>\"\",'CoC Renewal Ranking Report'!D95,\"\")","v":""},{"$f":"IF('CoC Renewal Ranking Report'!E95<>\"\",'CoC Renewal Ranking Report'!E95,\"\")","v":""},{"$f":"IF('CoC Renewal Ranking Report'!G95<>\"\",'CoC Renewal Ranking Report'!G95,\"\")","v":""},{"$f":"IF(A92<>\"\",SUM('Exit-Retention to PH Measure'!E97,'Returns to Homelessness'!E97,'Length of Stay (TH Only)'!E98,'Income Growth Measure'!F97,'Mainstream Benefits Measure'!E95,'Project Eligibility'!E97,'Unit Utilization Rate'!G96,'eLOCCS Drawdowns'!E94,'Recaptured Funds'!E97,'Timely APR Submission'!E94,'Cost Effectiveness'!G99,'HUD Monitoring'!E95,'Project Description'!D94,'Opening Doors Goals'!D96,'Severity of Needs'!E97,'Prioritization of PSH'!E95,'Housing First Approach'!E94,'CoC Participation'!#REF!,'HMIS Data Quality'!E94), \"\")","v":""}]
[{"$f":"IF('CoC Renewal Ranking Report'!D96<>\"\",'CoC Renewal Ranking Report'!D96,\"\")","v":""},{"$f":"IF('CoC Renewal Ranking Report'!E96<>\"\",'CoC Renewal Ranking Report'!E96,\"\")","v":""},{"$f":"IF('CoC Renewal Ranking Report'!G96<>\"\",'CoC Renewal Ranking Report'!G96,\"\")","v":""},{"$f":"IF(A93<>\"\",SUM('Exit-Retention to PH Measure'!E98,'Returns to Homelessness'!E98,'Length of Stay (TH Only)'!E99,'Income Growth Measure'!F98,'Mainstream Benefits Measure'!E96,'Project Eligibility'!E98,'Unit Utilization Rate'!G97,'eLOCCS Drawdowns'!E95,'Recaptured Funds'!E98,'Timely APR Submission'!E95,'Cost Effectiveness'!G100,'HUD Monitoring'!E96,'Project Description'!D95,'Opening Doors Goals'!D97,'Severity of Needs'!E98,'Prioritization of PSH'!E96,'Housing First Approach'!E95,'CoC Participation'!#REF!,'HMIS Data Quality'!E95), \"\")","v":""}]
[{"$f":"IF('CoC Renewal Ranking Report'!D97<>\"\",'CoC Renewal Ranking Report'!D97,\"\")","v":""},{"$f":"IF('CoC Renewal Ranking Report'!E97<>\"\",'CoC Renewal Ranking Report'!E97,\"\")","v":""},{"$f":"IF('CoC Renewal Ranking Report'!G97<>\"\",'CoC Renewal Ranking Report'!G97,\"\")","v":""},{"$f":"IF(A94<>\"\",SUM('Exit-Retention to PH Measure'!E99,'Returns to Homelessness'!E99,'Length of Stay (TH Only)'!E100,'Income Growth Measure'!F99,'Mainstream Benefits Measure'!E97,'Project Eligibility'!E99,'Unit Utilization Rate'!G98,'eLOCCS Drawdowns'!E96,'Recaptured Funds'!E99,'Timely APR Submission'!E96,'Cost Effectiveness'!G101,'HUD Monitoring'!E97,'Project Description'!D96,'Opening Doors Goals'!D98,'Severity of Needs'!E99,'Prioritization of PSH'!E97,'Housing First Approach'!E96,'CoC Participation'!#REF!,'HMIS Data Quality'!E96), \"\")","v":""}]
[{"$f":"IF('CoC Renewal Ranking Report'!D98<>\"\",'CoC Renewal Ranking Report'!D98,\"\")","v":""},{"$f":"IF('CoC Renewal Ranking Report'!E98<>\"\",'CoC Renewal Ranking Report'!E98,\"\")","v":""},{"$f":"IF('CoC Renewal Ranking Report'!G98<>\"\",'CoC Renewal Ranking Report'!G98,\"\")","v":""},{"$f":"IF(A95<>\"\",SUM('Exit-Retention to PH Measure'!E100,'Returns to Homelessness'!E100,'Length of Stay (TH Only)'!E101,'Income Growth Measure'!F100,'Mainstream Benefits Measure'!E98,'Project Eligibility'!E100,'Unit Utilization Rate'!G99,'eLOCCS Drawdowns'!E97,'Recaptured Funds'!E100,'Timely APR Submission'!E97,'Cost Effectiveness'!G102,'HUD Monitoring'!E98,'Project Description'!D97,'Opening Doors Goals'!D99,'Severity of Needs'!E100,'Prioritization of PSH'!E98,'Housing First Approach'!E97,'CoC Participation'!#REF!,'HMIS Data Quality'!E97), \"\")","v":""}]
[{"$f":"IF('CoC Renewal Ranking Report'!D99<>\"\",'CoC Renewal Ranking Report'!D99,\"\")","v":""},{"$f":"IF('CoC Renewal Ranking Report'!E99<>\"\",'CoC Renewal Ranking Report'!E99,\"\")","v":""},{"$f":"IF('CoC Renewal Ranking Report'!G99<>\"\",'CoC Renewal Ranking Report'!G99,\"\")","v":""},{"$f":"IF(A96<>\"\",SUM('Exit-Retention to PH Measure'!E101,'Returns to Homelessness'!E101,'Length of Stay (TH Only)'!E102,'Income Growth Measure'!F101,'Mainstream Benefits Measure'!E99,'Project Eligibility'!E101,'Unit Utilization Rate'!G100,'eLOCCS Drawdowns'!E98,'Recaptured Funds'!E101,'Timely APR Submission'!E98,'Cost Effectiveness'!G103,'HUD Monitoring'!E99,'Project Description'!D98,'Opening Doors Goals'!D100,'Severity of Needs'!E101,'Prioritization of PSH'!E99,'Housing First Approach'!E98,'CoC Participation'!#REF!,'HMIS Data Quality'!E98), \"\")","v":""}]
[{"$f":"IF('CoC Renewal Ranking Report'!D100<>\"\",'CoC Renewal Ranking Report'!D100,\"\")","v":""},{"$f":"IF('CoC Renewal Ranking Report'!E100<>\"\",'CoC Renewal Ranking Report'!E100,\"\")","v":""},{"$f":"IF('CoC Renewal Ranking Report'!G100<>\"\",'CoC Renewal Ranking Report'!G100,\"\")","v":""},{"$f":"IF(A97<>\"\",SUM('Exit-Retention to PH Measure'!E102,'Returns to Homelessness'!E102,'Length of Stay (TH Only)'!E103,'Income Growth Measure'!F102,'Mainstream Benefits Measure'!E100,'Project Eligibility'!E102,'Unit Utilization Rate'!G101,'eLOCCS Drawdowns'!E99,'Recaptured Funds'!E102,'Timely APR Submission'!E99,'Cost Effectiveness'!G104,'HUD Monitoring'!E100,'Project Description'!D99,'Opening Doors Goals'!D101,'Severity of Needs'!E102,'Prioritization of PSH'!E100,'Housing First Approach'!E99,'CoC Participation'!#REF!,'HMIS Data Quality'!E99), \"\")","v":""}]
[{"$f":"IF('CoC Renewal Ranking Report'!D101<>\"\",'CoC Renewal Ranking Report'!D101,\"\")","v":""},{"$f":"IF('CoC Renewal Ranking Report'!E101<>\"\",'CoC Renewal Ranking Report'!E101,\"\")","v":""},{"$f":"IF('CoC Renewal Ranking Report'!G101<>\"\",'CoC Renewal Ranking Report'!G101,\"\")","v":""},{"$f":"IF(A98<>\"\",SUM('Exit-Retention to PH Measure'!E103,'Returns to Homelessness'!E103,'Length of Stay (TH Only)'!E104,'Income Growth Measure'!F103,'Mainstream Benefits Measure'!E101,'Project Eligibility'!E103,'Unit Utilization Rate'!G102,'eLOCCS Drawdowns'!E100,'Recaptured Funds'!E103,'Timely APR Submission'!E100,'Cost Effectiveness'!G105,'HUD Monitoring'!E101,'Project Description'!D100,'Opening Doors Goals'!D102,'Severity of Needs'!E103,'Prioritization of PSH'!E101,'Housing First Approach'!E100,'CoC Participation'!#REF!,'HMIS Data Quality'!E100), \"\")","v":""}]
[{"$f":"IF('CoC Renewal Ranking Report'!D102<>\"\",'CoC Renewal Ranking Report'!D102,\"\")","v":""},{"$f":"IF('CoC Renewal Ranking Report'!E102<>\"\",'CoC Renewal Ranking Report'!E102,\"\")","v":""},{"$f":"IF('CoC Renewal Ranking Report'!G102<>\"\",'CoC Renewal Ranking Report'!G102,\"\")","v":""},{"$f":"IF(A99<>\"\",SUM('Exit-Retention to PH Measure'!E104,'Returns to Homelessness'!E104,'Length of Stay (TH Only)'!E105,'Income Growth Measure'!F104,'Mainstream Benefits Measure'!E102,'Project Eligibility'!E104,'Unit Utilization Rate'!G103,'eLOCCS Drawdowns'!E101,'Recaptured Funds'!E104,'Timely APR Submission'!E101,'Cost Effectiveness'!G106,'HUD Monitoring'!E102,'Project Description'!D101,'Opening Doors Goals'!D103,'Severity of Needs'!E104,'Prioritization of PSH'!E102,'Housing First Approach'!E101,'CoC Participation'!#REF!,'HMIS Data Quality'!E101), \"\")","v":""}]
[{"$f":"IF('CoC Renewal Ranking Report'!D103<>\"\",'CoC Renewal Ranking Report'!D103,\"\")","v":""},{"$f":"IF('CoC Renewal Ranking Report'!E103<>\"\",'CoC Renewal Ranking Report'!E103,\"\")","v":""},{"$f":"IF('CoC Renewal Ranking Report'!G103<>\"\",'CoC Renewal Ranking Report'!G103,\"\")","v":""},{"$f":"IF(A100<>\"\",SUM('Exit-Retention to PH Measure'!E105,'Returns to Homelessness'!E105,'Length of Stay (TH Only)'!E106,'Income Growth Measure'!F105,'Mainstream Benefits Measure'!E103,'Project Eligibility'!E105,'Unit Utilization Rate'!G104,'eLOCCS Drawdowns'!E102,'Recaptured Funds'!E105,'Timely APR Submission'!E102,'Cost Effectiveness'!G107,'HUD Monitoring'!E103,'Project Description'!D102,'Opening Doors Goals'!D104,'Severity of Needs'!E105,'Prioritization of PSH'!E103,'Housing First Approach'!E102,'CoC Participation'!#REF!,'HMIS Data Quality'!E102), \"\")","v":""}]
[{"$f":"IF('CoC Renewal Ranking Report'!D104<>\"\",'CoC Renewal Ranking Report'!D104,\"\")","v":""},{"$f":"IF('CoC Renewal Ranking Report'!E104<>\"\",'CoC Renewal Ranking Report'!E104,\"\")","v":""},{"$f":"IF('CoC Renewal Ranking Report'!G104<>\"\",'CoC Renewal Ranking Report'!G104,\"\")","v":""},{"$f":"IF(A101<>\"\",SUM('Exit-Retention to PH Measure'!E106,'Returns to Homelessness'!E106,'Length of Stay (TH Only)'!E107,'Income Growth Measure'!F106,'Mainstream Benefits Measure'!E104,'Project Eligibility'!E106,'Unit Utilization Rate'!G105,'eLOCCS Drawdowns'!E103,'Recaptured Funds'!E106,'Timely APR Submission'!E103,'Cost Effectiveness'!G108,'HUD Monitoring'!E104,'Project Description'!D103,'Opening Doors Goals'!D105,'Severity of Needs'!E106,'Prioritization of PSH'!E104,'Housing First Approach'!E103,'CoC Participation'!#REF!,'HMIS Data Quality'!E103), \"\")","v":""}]
[{"$f":"IF('CoC Renewal Ranking Report'!D105<>\"\",'CoC Renewal Ranking Report'!D105,\"\")","v":""},{"$f":"IF('CoC Renewal Ranking Report'!E105<>\"\",'CoC Renewal Ranking Report'!E105,\"\")","v":""},{"$f":"IF('CoC Renewal Ranking Report'!G105<>\"\",'CoC Renewal Ranking Report'!G105,\"\")","v":""},{"$f":"IF(A102<>\"\",SUM('Exit-Retention to PH Measure'!E107,'Returns to Homelessness'!E107,'Length of Stay (TH Only)'!E108,'Income Growth Measure'!F107,'Mainstream Benefits Measure'!E105,'Project Eligibility'!E107,'Unit Utilization Rate'!G106,'eLOCCS Drawdowns'!E104,'Recaptured Funds'!E107,'Timely APR Submission'!E104,'Cost Effectiveness'!G109,'HUD Monitoring'!E105,'Project Description'!D104,'Opening Doors Goals'!D106,'Severity of Needs'!E107,'Prioritization of PSH'!E105,'Housing First Approach'!E104,'CoC Participation'!#REF!,'HMIS Data Quality'!E104), \"\")","v":""}]

{"sheet":"Drop Down","index":29,"n_rows":25,"n_cols":10,"rows_kept":25,"cut":false,"hidden":true,"merged":[]}
["[Select a Project Type]",null,null,null,null,"[Select one]",null,"[Select one]",null,"[Select one]"]
["Coordinated Assessment",null,null,null,null,"1st year",null,"Yes",null,"Yes"]
["Day Shelter",null,null,null,null,"2nd year",null,"No",null,"No"]
["Emergency Shelter",null,null,null,null,"Don't Factor",null,null,null,"Suspect"]
["Homelessness Prevention"]
["Permanent Housing With Services"]
["Permanent Housing Without Services"]
["Permanent Supportive Housing"]
["Rapid Rehousing"]
["Safe Haven"]
["Services Only"]
["Street Outreach"]
["Transitional Housing"]
[]
[]
[]
[]
["[Select]"]
["Yes"]
["No"]
[]
["[Select]"]
["On Time"]
["1 - 7 Days"]
["8+ Days"]

{"sheet":"Tiebreaking","index":30,"n_rows":82,"n_cols":23,"rows_kept":82,"cut":false,"hidden":true,"merged":[[0,14,0,20]]}
[null,null,null,null,null,null,null,null,null,null,null,null,null,null,"Points Assigned"]
["Agency Name","Project Name","Project Type","Total Score","Veterans","Veteran %","CoC Programs Veteran Threshold %","Youth","Youth %","CoC Programs Youth  Threshold %","Vulnerable Populations","Vulnerable Population %","CoC Programs Vulnerable Population Threshold%","Vulnerability Score","Veterans","Youth","Vulnerability","Acuity of Vulnerability","Rural PSH (Manually Complete)","Additional Bonus points (for additional tiebreaking)","Total Tiebreaking Points","Final Score","Scoring Weight"]
["Fitzmaurice Community Services, Inc.","Fitzmaurice Pathfinders PSH Program","PH",90,3,0.12,0.06,3,0.12,0.14000000000000001,25,1,0.55000000000000004,1.56,null,null,null,null,null,null,null,90,1]
["Turning Point Interfaith Mission","TP - Adams County Housing Authority Gettysburg SHP","TH",88,0,0,0.06,2,0.125,0.14000000000000001,3,0.1875,0.55000000000000004,1,null,null,null,null,null,null,null,88,2]
["Valley Youth House Committee, Inc.","Valley Youth House - SHF - TH Program","TH",86,1,4.7600000000000003E-2,0.06,4,6.5600000000000006E-2,0.14000000000000001,10,0.16389999999999999,0.55000000000000004,1.1000000000000001,null,null,null,null,null,null,null,86,3]
["Housing Transitions, Inc.","HOUSING TRANSITIONS - SUPPORTIVE HOUSING PROJECT","PH",85,1,9.0899999999999995E-2,0.06,2,9.5200000000000007E-2,0.14000000000000001,6,0.28570000000000001,0.55000000000000004,1.67,null,null,null,null,null,null,null,85,4]
["Huntingdon House ","Huntingdon House Transitional Housing Program","TH",81.25,null,null,0.06,null,null,0.14000000000000001,null,null,0.55000000000000004,null,null,null,null,null,null,null,null,81,5]
["Perry Housing Partnership","PHP Veterans Permanent Supportive Housing Program","PH",80,6,1,0.06,0,0,0.14000000000000001,6,1,0.55000000000000004,1.83,0.1,null,0.1,null,0.1,0.2,0.5,80.5,6]
["United Christian Ministries Inc","UCM Kenner/Garnet","PH",80,7,0.30430000000000001,0.06,0,0,0.14000000000000001,23,1,0.55000000000000004,1.7,0.1,null,0.1,null,0.1,0.1,0.4,80.400000000000006,7]
["Cumberland County Housing Authority","Safe Harbour SHP PSH Program","PH",80,0,0,0.06,3,0.1429,0.14000000000000001,12,0.57140000000000002,0.55000000000000004,2.42,null,0.1,0.1,0.1,null,null,0.3,80.3,8]
["Lehigh County Housing Authority","LCHA S+C Program","PH",80,2,7.1400000000000005E-2,0.06,4,9.7600000000000006E-2,0.14000000000000001,27,0.65849999999999997,0.55000000000000004,1.52,0.1,null,0.1,null,null,null,0.2,80.2,9]
["Valley Housing Development Corporation","VHDC SHP 3 PSH Program","PH",80,0,0,0.06,2,9.5200000000000007E-2,0.14000000000000001,16,0.76190000000000002,0.55000000000000004,1.63,null,null,0.1,null,null,null,0.1,80.099999999999994,10]
["Lebanon County Community Action Partner.","LCCAP Bridge Transitional Housing Program","TH",76.7,0,0,0.06,4,0.1739,0.14000000000000001,1,4.3499999999999997E-2,0.55000000000000004,1,null,null,null,null,null,null,null,77,11]
["Resources for Human Development, Inc.","RHD - LVACT Housing Support PSH Program","PH",76,2,9.5200000000000007E-2,0.06,4,0.18179999999999999,0.14000000000000001,21,0.95450000000000002,0.55000000000000004,2.38,null,null,null,null,null,null,null,76,12]
["Housing Transitions, Inc.","HOUSING TRANSITIONS - PERMANENT SUPPORTIVE HOUSING","PH",75,0,0,0.06,3,0.33329999999999999,0.14000000000000001,7,0.77780000000000005,0.55000000000000004,1.43,null,0.1,0.1,null,0.1,0.2,0.5,75.5,13]
["Lehigh County Conference of Churches","LCCC - Tenant-Based Rental Assistance","PH",74.5,0,0,0.06,2,8.3299999999999999E-2,0.14000000000000001,24,1,0.55000000000000004,2.17,null,null,0.1,0.1,null,0.2,0.4,75.400000000000006,14]
["Northern Cambria Community Development","NCCDC Independence Gardens PSH Program","PH",75,0,0,0.06,0,0,0.14000000000000001,18,1,0.55000000000000004,1.39,null,null,0.1,null,0.1,0.1,0.3,75.3,15]
["Valley Housing Development Corporation","VHDC SHP 2 PSH Program","PH",75,2,7.1400000000000005E-2,0.06,4,0.1081,0.14000000000000001,28,0.75680000000000003,0.55000000000000004,1.61,0.1,null,0.1,null,null,null,0.2,75.2,16]
["United Christian Ministries Inc","UCM Davids by the Lake","TH",75,0,0,0.06,0,0,0.14000000000000001,6,0.66669999999999996,0.55000000000000004,1.5,null,null,0.1,null,null,null,0.1,75.099999999999994,17]
["Blair County Community Action Agency","Blair CAP Journey","TH",73,4,0.1143,0.06,28,0.53849999999999998,0.14000000000000001,37,0.71150000000000002,0.55000000000000004,1.59,0.1,0.1,0.1,0.1,null,null,0.4,73.400000000000006,18]
["Valley Youth House Committee, Inc.","Valley Youth House - SHP for Youth - TH Program","TH",73,0,0,0.06,47,0.54020000000000001,0.14000000000000001,16,0.18390000000000001,0.55000000000000004,1.06,null,0.1,null,null,null,null,0.1,73.099999999999994,19]
["Valley Housing Development Corporation","VHDC SHP 4 PSH Program","PH",72,1,6.25E-2,0.06,0,0,0.14000000000000001,15,0.88239999999999996,0.55000000000000004,1.73,null,null,null,null,null,null,null,72,20]
["Lycoming-Clinton Joinder Board","Lycoming-Clinton Joinder PSH Program","PH",69.7,1,6.25E-2,0.06,0,0,0.14000000000000001,16,1,0.55000000000000004,1.81,0.1,null,0.1,0.1,0.1,null,0.4,70.400000000000006,21]
["Catholic Charities of Allentown Diocese","CC of Allentown PSH Program","PH",70,2,0.16669999999999999,0.06,1,0.05,0.14000000000000001,12,0.6,0.55000000000000004,1.75,0.1,null,0.1,null,null,null,0.2,70.2,22]
["Cumberland County Housing Authority","CCHRA - Standard S+C PSH Program","PH",70,1,3.0300000000000001E-2,0.06,3,6.3799999999999996E-2,0.14000000000000001,26,0.55320000000000003,0.55000000000000004,1.42,null,null,0.1,null,null,null,0.1,70.099999999999994,23]
["Schuylkill Women in Crisis","TH for Victims of Domestic Violence","TH",70,null,null,0.06,null,null,0.14000000000000001,null,null,0.55000000000000004,null,null,null,null,null,null,null,0,70,24]
["Housing Development Corp. of NE PA","HDCNEPA PSH-3 Program","PH",68.5,2,0.1333,0.06,0,0,0.14000000000000001,19,0.47499999999999998,0.55000000000000004,1.47,null,null,null,null,null,null,null,69,25]
["Perry Housing Partnership","PHP Transitional Housing for Homeless Program","TH",68,2,0.1111,0.06,4,0.13789999999999999,0.14000000000000001,12,0.4138,0.55000000000000004,1.75,0.1,0.1,null,0.1,null,0.1,0.4,68.400000000000006,26]
["Resources for Human Development, Inc.","RHD - Crossroads Individual Housing Program","PH",68,1,3.6999999999999998E-2,0.06,1,3.5700000000000003E-2,0.14000000000000001,27,0.96430000000000005,0.55000000000000004,1.52,null,null,0.1,null,0.1,0.1,0.3,68.3,27]
["Community Action Committee of LV","CACLV Ferry Street TH Program","TH",68,1,6.6699999999999995E-2,0.06,8,0.22220000000000001,0.14000000000000001,5,0.1389,0.55000000000000004,1.6,0.1,0.1,null,null,null,null,0.2,68.2,28]
["Perry Housing Partnership","PHP Transitional Housing II Program","TH",68,1,3.3300000000000003E-2,0.06,12,0.21820000000000001,0.14000000000000001,14,0.2545,0.55000000000000004,1.36,null,0.1,null,null,null,null,0.1,68.099999999999994,29]
["Northampton County Housing Authority","NCHA S+C Program","PH",67,0,0,0.06,0,0,0.14000000000000001,16,0.94120000000000004,0.55000000000000004,1.63,null,null,null,null,null,null,null,67,30]
["Franklin County Human Services","Franklin County Human Services SHP I Program","PH",66.25,1,7.6899999999999996E-2,0.06,0,0,0.14000000000000001,13,1,0.55000000000000004,2.31,0.1,null,0.1,0.1,0.1,null,0.4,66.400000000000006,31]
["Blair County Community Action Agency","Blair County CAA SSO 1","SSO",66,8,4.65E-2,0.06,37,0.1434,0.14000000000000001,120,0.46510000000000001,0.55000000000000004,1.63,null,0.1,null,null,null,null,0.1,66.099999999999994,32]
["Cumberland County Housing Authority","CCHRA - West Shore - SHP II PSH Program","PH",65,0,0,0.06,1,0.16669999999999999,0.14000000000000001,5,0.83330000000000004,0.55000000000000004,2,null,0.1,0.1,0.1,null,0.1,0.4,65.400000000000006,33]
["Cumberland County Housing Authority","CCHRA - Chronic S+C Program","PH",65,2,9.5200000000000007E-2,0.06,0,0,0.14000000000000001,21,1,0.55000000000000004,1.57,0.1,null,0.1,null,null,0.1,0.3,65.3,34]
["Northern Cambria Community Development","NCCDC Schoolhouse Gardens PSH Program","PH",65,0,0,0.06,0,0,0.14000000000000001,11,1,0.55000000000000004,1.45,null,null,0.1,null,0.1,null,0.2,65.2,35]
["Catholic Social Services","Catholic Social Services - Wayne / Susquehanna RPS","PH",64,1,0.1,0.06,1,0.1,0.14000000000000001,10,1,0.55000000000000004,3.1,0.1,null,0.1,0.1,0.1,null,0.4,64.400000000000006,36]
["Catholic Social Services","Catholic Social Services - Monroe Rural Permanent","PH",64,2,0.25,0.06,1,0.125,0.14000000000000001,8,1,0.55000000000000004,2.5,0.1,null,0.1,null,0.1,null,0.3,64.3,37]
["Resources for Human Development, Inc.","RHD - Crossroads Family Housing (SHP) Program","PH",63,0,0,0.06,5,0.125,0.14000000000000001,20,0.5,0.55000000000000004,1.45,null,null,null,null,0.1,0.2,0.3,63.3,38]
["Blair County Community Action Agency","Blair County CAA THP 1","TH",63,2,2.9399999999999999E-2,0.06,14,0.1138,0.14000000000000001,39,0.31709999999999999,0.55000000000000004,1.56,null,null,null,0.1,null,0.1,0.2,63.2,39]
["New Bethany Ministries","New Bethany Ministries SHP - Restoration House","TH",63,0,0,0.06,14,0.25,0.14000000000000001,13,0.2321,0.55000000000000004,1.23,null,0.1,null,null,null,null,0.1,63.1,40]
["Lehigh County Conference of Churches","LCCC - Outreach and Case Management for the Disbld","SSO",61.5,4,0.1081,0.06,1,2.7E-2,0.14000000000000001,37,1,0.55000000000000004,2.59,null,null,null,null,null,null,null,62,41]
["Franklin County Human Services","Franklin County Human Services SHP II Program","PH",61.25,1,8.3299999999999999E-2,0.06,1,8.3299999999999999E-2,0.14000000000000001,12,1,0.55000000000000004,2.92,0.1,null,0.1,0.1,0.1,null,0.4,61.4,42]
["Community Action Partnership of Somerset","CAPFSC - Permanent Supportive Housing Program","PH",61.25,5,0.1163,0.06,6,8.4500000000000006E-2,0.14000000000000001,45,0.63380000000000003,0.55000000000000004,1.96,0.1,null,0.1,null,0.1,null,0.3,61.3,43]
["Cumberland County Housing Authority","CCHRA - Carlisle - SHP PSH Program","PH",60,0,0,0.06,1,0.2,0.14000000000000001,5,1,0.55000000000000004,1.8,null,0.1,0.1,0.1,null,0.3,0.5,60.5,44]
["Resources for Human Development, Inc.","RHD - Crossroads Bonus Supportive Housing Program","PH",60,1,8.3299999999999999E-2,0.06,1,5.5599999999999997E-2,0.14000000000000001,12,0.66669999999999996,0.55000000000000004,1.75,0.1,null,0.1,null,0.1,0.2,0.4,60.4,45]
["Borough of State College","HTI SUPPORTIVE SERVICES ONLY - SS0 (PROGRAM)","SSO",60,0,0,0.06,7,0.29170000000000001,0.14000000000000001,20,0.83330000000000004,0.55000000000000004,1.65,null,0.1,0.1,null,null,0.1,0.3,60.3,46]
["YWCA of Williamsport","YWCA Williamsport - Liberty House TH Expansion","TH",60,0,0,0.06,0,0,0.14000000000000001,6,0.66669999999999996,0.55000000000000004,1.67,null,null,0.1,null,null,0.1,0.2,60.2,47]
["Cumberland County Housing Authority","CCHRA - West Shore - SHP PSH Program","PH",60,0,0,0.06,2,0.1333,0.14000000000000001,9,0.6,0.55000000000000004,1.67,null,null,0.1,null,null,null,0.1,60.1,48]
["Community Action Partnership of Somerset","CAPFSC - Transitional Housing Program","TH",59.25,2,5.8799999999999998E-2,0.06,10,0.24390000000000001,0.14000000000000001,22,0.53659999999999997,0.55000000000000004,1.77,0.1,0.1,null,0.1,null,null,0.3,59.3,49]
["Lehigh County Conference of Churches","LCCC - Pathways Housing II Program","PH",58.5,0,0,0.06,0,0,0.14000000000000001,1,1,0.55000000000000004,1,null,null,0.1,null,null,null,0.1,59.1,50]
["Maranatha Ministries","Maranatha Ministries SHP TH Program","TH",58,0,0,0.06,4,0.1333,0.14000000000000001,2,6.6699999999999995E-2,0.55000000000000004,1.5,null,null,null,null,null,null,null,58,51]
["Lehigh County Conference of Churches","LCCC - Pathways TBRA for Families, Youth and Vets","PH",56.5,5,0.1923,0.06,6,0.1053,0.14000000000000001,29,0.50880000000000003,0.55000000000000004,1.38,null,null,null,null,null,null,null,57,52]
["Franklin County Human Services","Franklin County Human Services S+C Program","PH",56.25,0,0,0.06,0,0,0.14000000000000001,10,1,0.55000000000000004,1.9,null,null,0.1,0.1,0.1,0.1,0.4,56.4,53]
["Centre County Youth Service Bureau","Centre County YSB - Stepping Stone (Residential)","TH",55.5,1,7.6899999999999996E-2,0.06,13,1,0.14000000000000001,8,0.61539999999999995,0.55000000000000004,1.63,0.1,0.1,0.1,null,null,null,0.3,56.3,54]
["Home Nursing Agency Community Services","HomeNA - HARP Scattered Site - PSH Program","PH",55,2,7.6899999999999996E-2,0.06,2,6.25E-2,0.14000000000000001,28,0.875,0.55000000000000004,2.21,0.1,null,0.1,0.1,0.1,null,0.4,55.4,55]
["YWCA of Williamsport","YWCA Williamsport - Liberty Options","TH",55,null,null,0.06,null,null,0.14000000000000001,null,null,0.55000000000000004,null,null,null,null,null,null,null,0,55,56]
["Centre County Housing Authority","Centre County HA S+C Program","PH",54.25,3,7.4999999999999997E-2,0.06,9,0.14749999999999999,0.14000000000000001,43,0.70489999999999997,0.55000000000000004,2.14,null,null,null,null,null,null,null,54,57]
["Salvation Army Carlisle","Salvation Army Carlisle TH - Stuart House","TH",52,0,0,0.06,3,4.5499999999999999E-2,0.14000000000000001,25,0.37880000000000003,0.55000000000000004,1.36,null,null,null,null,null,null,null,52,58]
["Monroe County Housing Authority","Housing Authority of Monroe County S+C PSH Program","PH",49.5,0,0,0.06,2,6.0600000000000001E-2,0.14000000000000001,19,0.57579999999999998,0.55000000000000004,1.1100000000000001,null,null,0.1,null,0.1,null,0.2,50.2,59]
["Turning Point Interfaith Mission","Turning Point Adams TH Program","TH",50,0,0,0.06,1,6.6699999999999995E-2,0.14000000000000001,4,0.26669999999999999,0.55000000000000004,1.5,null,null,null,0.1,null,null,0.1,50.1,60]
["Schuylkill Women in Crisis","TH for Victims of Domestic Violence 2'","TH",50,null,null,0.06,null,null,0.14000000000000001,null,null,0.55000000000000004,null,null,null,null,null,null,null,0,50,61]
["Salvation Army of the Lehigh Valley","Salvation Army Lehigh PSH - Hospitality House","PH",49,0,0,0.06,0,0,0.14000000000000001,7,1,0.55000000000000004,1.86,null,null,null,null,null,null,null,49,62]
["YWCA of Williamsport","YWCA Williamsport - Liberty House TH","TH",48,0,0,0.06,11,0.12089999999999999,0.14000000000000001,57,0.62639999999999996,0.55000000000000004,2.02,null,null,0.1,0.1,null,0.1,0.3,48.3,63]
["Maranatha Ministries","Candleheart Ministries Transition to Perm. Housing","TH",48,0,0,0.06,3,0.1154,0.14000000000000001,20,0.76919999999999999,0.55000000000000004,1.35,null,null,0.1,null,null,0.1,0.2,48.2,64]
["THE PROGRAM for Women and Families, Inc.","The PROGRAM Transitional Residence CoC Program","TH",48,0,0,0.06,1,4.7600000000000003E-2,0.14000000000000001,7,0.33329999999999999,0.55000000000000004,1.29,null,null,null,null,null,0.1,0.1,48.1,65]
["Domestic Violence Intervention of Lebanon County, Inc.","DVI-SHP FY2014","TH",48.4,null,null,0.06,null,null,0.14000000000000001,null,null,0.55000000000000004,null,null,null,null,null,null,null,0,48,66]
["Shelter Services, Inc.","Shelter Services - Mifflin County - TH Program","TH",46.7,1,0.33329999999999999,0.06,1,0.33329999999999999,0.14000000000000001,2,0.66669999999999996,0.55000000000000004,3.5,null,null,null,null,null,null,null,47,67]
["Perry Housing Partnership","PHP Permanent Supportive Housing SHP Program","PH",45,1,8.3299999999999999E-2,0.06,1,5.2600000000000001E-2,0.14000000000000001,11,0.57889999999999997,0.55000000000000004,1.45,null,null,0.1,null,0.1,0.1,0.3,45.3,68]
["Cumberland County Housing Authority","CCHRA - Rapid Rehousing TH (SHP) Program","TH",45,0,0,0.06,2,0.1333,0.14000000000000001,3,0.2,0.55000000000000004,2,null,0.1,null,0.1,null,null,0.2,45.2,69]
["Lebanon County Housing Authority","Lebanon PFP PSH Program","PH",45,0,0,0.06,0,0,0.14000000000000001,13,0.92859999999999998,0.55000000000000004,1.31,null,null,0.1,null,null,null,0.1,45.1,70]
["Catholic Social Services","Catholic Social Services - Pike PSHP Program","PH",44,3,0.5,0.06,0,0,0.14000000000000001,5,0.83330000000000004,0.55000000000000004,2,0.1,null,0.1,0.1,0.1,null,0.4,44.4,71]
["Housing Development Corp. of NE PA","HDCNEPA PSH-6 Program","PH",43.5,5,0.3125,0.06,1,4.3499999999999997E-2,0.14000000000000001,12,0.52170000000000005,0.55000000000000004,1.75,0.1,null,null,null,null,null,0.1,44.1,72]
["Lehigh County Conference of Churches","LCCC - Pathways Housing Program","PH",43.5,0,0,0.06,0,0,0.14000000000000001,1,0.33329999999999999,0.55000000000000004,1,null,null,null,null,null,null,0,44,73]
["Northumberland County MH/MR","Northumberland County MH/MR SHP Program","PH",41.7,1,6.6699999999999995E-2,0.06,3,0.2,0.14000000000000001,14,0.93330000000000002,0.55000000000000004,1.57,0.1,0.1,0.1,0.1,0.1,null,0.5,42.5,74]
["Gaudenzia Fountain Springs","Gaudenzia Fountain Springs SHP Program","PH",41.7,0,0,0.06,2,7.1400000000000005E-2,0.14000000000000001,14,0.5,0.55000000000000004,1.43,null,null,null,null,0.1,null,0.1,42.1,75]
["Futures Community Support Services","Futures CSS Eastside Affordable Housing","PH",36.65,1,0.25,0.06,1,0.16669999999999999,0.14000000000000001,4,0.66669999999999996,0.55000000000000004,1.5,0.1,0.1,0.1,null,0.1,null,0.4,37.4,76]
["Northwestern Human Services of PA","NHS Frontier House PSH Program","PH",36.6,0,0,0.06,2,0.1429,0.14000000000000001,11,0.78569999999999995,0.55000000000000004,1.73,null,0.1,0.1,0.1,null,null,0.3,37.299999999999997,77]
["Home Nursing Agency Community Services","HomeNA - Juniata House Program","PH",35,0,0,0.06,0,0,0.14000000000000001,6,1,0.55000000000000004,1.83,null,null,null,null,null,null,null,35,78]
["Union-Snyder Community Action Agency","Union-Snyder CAA SHP Program","TH",30,0,0,0.06,5,0.17860000000000001,0.14000000000000001,7,0.25,0.55000000000000004,1.1399999999999999,null,null,null,null,null,null,null,30,79]
["Resources for Human Development, Inc.","RHD - Monroe Transitional Living Program","TH",28,1,0.16669999999999999,0.06,0,0,0.14000000000000001,5,0.83330000000000004,0.55000000000000004,1.6,null,null,null,null,null,null,null,28,80]

{"sheet":"Reduction Worksheet","index":31,"n_rows":47,"n_cols":21,"rows_kept":47,"cut":false,"hidden":true,"merged":[[4,0,4,3],[4,4,4,8],[4,9,4,12],[7,0,7,3],[7,4,7,8],[7,9,7,12],[8,0,8,3],[8,4,8,8],[8,9,8,12],[5,0,5,3],[5,4,5,8],[5,9,5,12],[6,0,6,3],[6,4,6,8],[6,9,6,12],[11,0,11,3],[11,4,11,8],[11,9,11,12],[12,0,12,3],[12,4,12,8],[12,9,12,12],[9,0,9,3],[9,4,9,8],[9,9,9,12],[10,0,10,3],[10,4,10,8],[10,9,10,12],[15,0,15,3],[15,4,15,8],[15,9,15,12],[16,0,16,3],[16,4,16,8],[16,9,16,12],[13,0,13,3],[13,4,13,8],[13,9,13,12],[14,0,14,3],[14,4,14,8],[14,9,14,12],[19,0,19,3],[19,4,19,8],[19,9,19,12],[20,0,20,3],[20,4,20,8],[20,9,20,12],[17,0,17,3],[17,4,17,8],[17,9,17,12],[18,0,18,3],[18,4,18,8],[18,9,18,12],[23,0,23,3],[23,4,23,8],[23,9,23,12],[24,0,24,3],[24,4,24,8],[24,9,24,12],[21,0,21,3],[21,4,21,8],[21,9,21,12],[22,0,22,3],[22,4,22,8],[22,9,22,12],[27,0,27,3],[27,4,27,8],[27,9,27,12],[28,0,28,3],[28,4,28,8],[28,9,28,12],[25,0,25,3],[25,4,25,8],[25,9,25,12],[26,0,26,3],[26,4,26,8],[26,9,26,12],[33,9,33,12],[32,0,32,3],[32,4,32,8],[32,9,32,12],[31,0,31,3],[31,4,31,8],[31,9,31,12],[29,0,29,3],[29,4,29,8],[29,9,29,12],[30,0,30,3],[30,4,30,8],[30,9,30,12],[3,16,3,20],[39,0,39,3],[39,4,39,8],[39,9,39,12],[40,0,40,3],[40,4,40,8],[40,9,40,12],[37,0,37,3],[37,4,37,8],[37,9,37,12],[38,0,38,3],[38,4,38,8],[38,9,38,12],[35,0,35,3],[35,4,35,8],[35,9,35,12],[36,0,36,3],[36,4,36,8],[36,9,36,12],[34,0,34,3],[34,4,34,8],[34,9,34,12],[33,0,33,3],[33,4,33,8]]}
[null,null,null,null,null,null,null,null,null,null,null,null,null,null,null,null,null,"ARD",5384887,"ARD (less planning grant - per GIW)",{"$f":"Q42","v":5316556}]
[null,null,null,null,null,null,null,null,null,null,null,null,null,null,null,null,null,"5% cut amount needed",{"$f":"S1*0.05","v":269244.35000000003},"Target (ARD less planning grant less 5% cut less New Tier 1 project)",{"$f":"U1-S2-S46","v":4860236.4800000004}]
[]
[null,null,null,null,null,null,null,null,null,null,null,null,null,"Manually Complete",null,"Manually Complete","Tier 1 adjustments"]
["Agency Name",null,null,null,"Project Name",null,null,null,null,"Project Type",null,null,null,"Scoring Weight","% of remaining cut to allocate to each project based on rank","Comments","2013 GIW Amount","Budget reduction percentage","Manual Reduction","Across the board reduction","Final Amount"]
[{"$f":"IF('CoC Renewal Ranking Report'!#REF!<>\"\",'CoC Renewal Ranking Report'!#REF!,\"\")","v":{"$error":"#REF!"}},null,null,null,{"$f":"IF('CoC Renewal Ranking Report'!#REF!<>\"\",'CoC Renewal Ranking Report'!#REF!,\"\")","v":{"$error":"#REF!"}},null,null,null,null,{"$f":"IF('CoC Renewal Ranking Report'!#REF!<>\"\",'CoC Renewal Ranking Report'!#REF!,\"\")","v":{"$error":"#REF!"}},null,null,null,26,{"$f":"N6/$N$42","v":5.0387596899224806E-2},"This project will be moved to Tier 2",99141,1,{"$f":"Q6*R6","v":99141},{"$f":"IF(S6=0,$O6*S$47,0)","v":0},{"$f":"Q6-S6-T6","v":0}]
[{"$f":"IF('CoC Renewal Ranking Report'!D77<>\"\",'CoC Renewal Ranking Report'!D77,\"\")","v":""},null,null,null,{"$f":"IF('CoC Renewal Ranking Report'!E77<>\"\",'CoC Renewal Ranking Report'!E77,\"\")","v":""},null,null,null,null,{"$f":"IF('CoC Renewal Ranking Report'!G77<>\"\",'CoC Renewal Ranking Report'!G77,\"\")","v":""},null,null,null,32,{"$f":"N7/$N$42","v":6.2015503875968991E-2},null,85932,null,0,{"$f":"IF(S7=0,$O7*S$47,0)","v":11043.315746914734},74888.684253085259]
[{"$f":"IF('CoC Renewal Ranking Report'!D81<>\"\",'CoC Renewal Ranking Report'!D81,\"\")","v":""},null,null,null,{"$f":"IF('CoC Renewal Ranking Report'!E81<>\"\",'CoC Renewal Ranking Report'!E81,\"\")","v":""},null,null,null,null,{"$f":"IF('CoC Renewal Ranking Report'!G81<>\"\",'CoC Renewal Ranking Report'!G81,\"\")","v":""},null,null,null,31,6.0077519379844964E-2,null,108375,null,0,10698.212129823649,97676.787870176355]
[{"$f":"IF('CoC Renewal Ranking Report'!D82<>\"\",'CoC Renewal Ranking Report'!D82,\"\")","v":""},null,null,null,{"$f":"IF('CoC Renewal Ranking Report'!E82<>\"\",'CoC Renewal Ranking Report'!E82,\"\")","v":""},null,null,null,null,{"$f":"IF('CoC Renewal Ranking Report'!G82<>\"\",'CoC Renewal Ranking Report'!G82,\"\")","v":""},null,null,null,1,{"$f":"N9/$N$42","v":1.937984496124031E-3},null,128732,null,0,345.10361709108543,128386.89638290892]
[{"$f":"IF('CoC Renewal Ranking Report'!D83<>\"\",'CoC Renewal Ranking Report'!D83,\"\")","v":""},null,null,null,{"$f":"IF('CoC Renewal Ranking Report'!E83<>\"\",'CoC Renewal Ranking Report'!E83,\"\")","v":""},null,null,null,null,{"$f":"IF('CoC Renewal Ranking Report'!G83<>\"\",'CoC Renewal Ranking Report'!G83,\"\")","v":""},null,null,null,4,7.7519379844961239E-3,null,108932,null,0,1380.4144683643417,107551.58553163566]
[{"$f":"IF('CoC Renewal Ranking Report'!D84<>\"\",'CoC Renewal Ranking Report'!D84,\"\")","v":""},null,null,null,{"$f":"IF('CoC Renewal Ranking Report'!E84<>\"\",'CoC Renewal Ranking Report'!E84,\"\")","v":""},null,null,null,null,{"$f":"IF('CoC Renewal Ranking Report'!G84<>\"\",'CoC Renewal Ranking Report'!G84,\"\")","v":""},null,null,null,12,2.3255813953488372E-2,null,277066,0.137151,37999.878965999997,0,239066.12103400001]
[{"$f":"IF('CoC Renewal Ranking Report'!D85<>\"\",'CoC Renewal Ranking Report'!D85,\"\")","v":""},null,null,null,{"$f":"IF('CoC Renewal Ranking Report'!E85<>\"\",'CoC Renewal Ranking Report'!E85,\"\")","v":""},null,null,null,null,{"$f":"IF('CoC Renewal Ranking Report'!G85<>\"\",'CoC Renewal Ranking Report'!G85,\"\")","v":""},null,null,null,null,0,"This project is merging with Pathfinders",0,null,0,0,0]
[{"$f":"IF('CoC Renewal Ranking Report'!D86<>\"\",'CoC Renewal Ranking Report'!D86,\"\")","v":""},null,null,null,{"$f":"IF('CoC Renewal Ranking Report'!E86<>\"\",'CoC Renewal Ranking Report'!E86,\"\")","v":""},null,null,null,null,{"$f":"IF('CoC Renewal Ranking Report'!G86<>\"\",'CoC Renewal Ranking Report'!G86,\"\")","v":""},null,null,null,28,5.4263565891472867E-2,null,36478,null,0,9662.9012785503928,26815.098721449605]
[{"$f":"IF('CoC Renewal Ranking Report'!D87<>\"\",'CoC Renewal Ranking Report'!D87,\"\")","v":""},null,null,null,{"$f":"IF('CoC Renewal Ranking Report'!E87<>\"\",'CoC Renewal Ranking Report'!E87,\"\")","v":""},null,null,null,null,{"$f":"IF('CoC Renewal Ranking Report'!G87<>\"\",'CoC Renewal Ranking Report'!G87,\"\")","v":""},null,null,null,29,5.6201550387596902E-2,null,56400,null,0,10008.004895641479,46391.995104358517]
[{"$f":"IF('CoC Renewal Ranking Report'!D88<>\"\",'CoC Renewal Ranking Report'!D88,\"\")","v":""},null,null,null,{"$f":"IF('CoC Renewal Ranking Report'!E88<>\"\",'CoC Renewal Ranking Report'!E88,\"\")","v":""},null,null,null,null,{"$f":"IF('CoC Renewal Ranking Report'!G88<>\"\",'CoC Renewal Ranking Report'!G88,\"\")","v":""},null,null,null,34,6.589147286821706E-2,null,101053,null,0,11733.522981096907,89319.477018903097]
[{"$f":"IF('CoC Renewal Ranking Report'!D89<>\"\",'CoC Renewal Ranking Report'!D89,\"\")","v":""},null,null,null,{"$f":"IF('CoC Renewal Ranking Report'!E89<>\"\",'CoC Renewal Ranking Report'!E89,\"\")","v":""},null,null,null,null,{"$f":"IF('CoC Renewal Ranking Report'!G89<>\"\",'CoC Renewal Ranking Report'!G89,\"\")","v":""},null,null,null,15,2.9069767441860465E-2,null,139400,null,0,5176.5542563662821,134223.44574363373]
[{"$f":"IF('CoC Renewal Ranking Report'!D90<>\"\",'CoC Renewal Ranking Report'!D90,\"\")","v":""},null,null,null,{"$f":"IF('CoC Renewal Ranking Report'!E90<>\"\",'CoC Renewal Ranking Report'!E90,\"\")","v":""},null,null,null,null,{"$f":"IF('CoC Renewal Ranking Report'!G90<>\"\",'CoC Renewal Ranking Report'!G90,\"\")","v":""},null,null,null,25,4.8449612403100778E-2,null,171109,null,0,8627.5904272771368,162481.40957272286]
[{"$f":"IF('CoC Renewal Ranking Report'!D91<>\"\",'CoC Renewal Ranking Report'!D91,\"\")","v":""},null,null,null,{"$f":"IF('CoC Renewal Ranking Report'!E91<>\"\",'CoC Renewal Ranking Report'!E91,\"\")","v":""},null,null,null,null,{"$f":"IF('CoC Renewal Ranking Report'!G91<>\"\",'CoC Renewal Ranking Report'!G91,\"\")","v":""},null,null,null,20,3.875968992248062E-2,null,276497,null,0,6902.0723418217085,269594.92765817832]
[{"$f":"IF('CoC Renewal Ranking Report'!D92<>\"\",'CoC Renewal Ranking Report'!D92,\"\")","v":""},null,null,null,{"$f":"IF('CoC Renewal Ranking Report'!E92<>\"\",'CoC Renewal Ranking Report'!E92,\"\")","v":""},null,null,null,null,{"$f":"IF('CoC Renewal Ranking Report'!G92<>\"\",'CoC Renewal Ranking Report'!G92,\"\")","v":""},null,null,null,11,2.1317829457364341E-2,null,209443,null,0,3796.1397880019399,205646.86021199805]
[{"$f":"IF('CoC Renewal Ranking Report'!D93<>\"\",'CoC Renewal Ranking Report'!D93,\"\")","v":""},null,null,null,{"$f":"IF('CoC Renewal Ranking Report'!E93<>\"\",'CoC Renewal Ranking Report'!E93,\"\")","v":""},null,null,null,null,{"$f":"IF('CoC Renewal Ranking Report'!G93<>\"\",'CoC Renewal Ranking Report'!G93,\"\")","v":""},null,null,null,22,4.2635658914728682E-2,null,209921,0.14291100000000001,30000.020031000004,0,179920.97996900001]
[{"$f":"IF('CoC Renewal Ranking Report'!D94<>\"\",'CoC Renewal Ranking Report'!D94,\"\")","v":""},null,null,null,{"$f":"IF('CoC Renewal Ranking Report'!E94<>\"\",'CoC Renewal Ranking Report'!E94,\"\")","v":""},null,null,null,null,{"$f":"IF('CoC Renewal Ranking Report'!G94<>\"\",'CoC Renewal Ranking Report'!G94,\"\")","v":""},null,null,null,2,3.875968992248062E-3,null,171738,null,0,690.20723418217085,171047.79276581784]
[{"$f":"IF('CoC Renewal Ranking Report'!D95<>\"\",'CoC Renewal Ranking Report'!D95,\"\")","v":""},null,null,null,{"$f":"IF('CoC Renewal Ranking Report'!E95<>\"\",'CoC Renewal Ranking Report'!E95,\"\")","v":""},null,null,null,null,{"$f":"IF('CoC Renewal Ranking Report'!G95<>\"\",'CoC Renewal Ranking Report'!G95,\"\")","v":""},null,null,null,14,2.7131782945736434E-2,null,209324,null,0,4831.4506392751964,204492.54936072481]
[{"$f":"IF('CoC Renewal Ranking Report'!D96<>\"\",'CoC Renewal Ranking Report'!D96,\"\")","v":""},null,null,null,{"$f":"IF('CoC Renewal Ranking Report'!E96<>\"\",'CoC Renewal Ranking Report'!E96,\"\")","v":""},null,null,null,null,{"$f":"IF('CoC Renewal Ranking Report'!G96<>\"\",'CoC Renewal Ranking Report'!G96,\"\")","v":""},null,null,null,23,4.4573643410852716E-2,null,103272,null,0,7937.3831930949655,95334.616806905033]
[{"$f":"IF('CoC Renewal Ranking Report'!D97<>\"\",'CoC Renewal Ranking Report'!D97,\"\")","v":""},null,null,null,{"$f":"IF('CoC Renewal Ranking Report'!E97<>\"\",'CoC Renewal Ranking Report'!E97,\"\")","v":""},null,null,null,null,{"$f":"IF('CoC Renewal Ranking Report'!G97<>\"\",'CoC Renewal Ranking Report'!G97,\"\")","v":""},null,null,null,19,3.6821705426356592E-2,null,109239,null,0,6556.9687247306238,102682.03127526937]
[{"$f":"IF('CoC Renewal Ranking Report'!D98<>\"\",'CoC Renewal Ranking Report'!D98,\"\")","v":""},null,null,null,{"$f":"IF('CoC Renewal Ranking Report'!E98<>\"\",'CoC Renewal Ranking Report'!E98,\"\")","v":""},null,null,null,null,{"$f":"IF('CoC Renewal Ranking Report'!G98<>\"\",'CoC Renewal Ranking Report'!G98,\"\")","v":""},null,null,null,21,4.0697674418604654E-2,null,262240,null,0,7247.1759589127951,254992.82404108721]
[{"$f":"IF('CoC Renewal Ranking Report'!D99<>\"\",'CoC Renewal Ranking Report'!D99,\"\")","v":""},null,null,null,{"$f":"IF('CoC Renewal Ranking Report'!E99<>\"\",'CoC Renewal Ranking Report'!E99,\"\")","v":""},null,null,null,null,{"$f":"IF('CoC Renewal Ranking Report'!G99<>\"\",'CoC Renewal Ranking Report'!G99,\"\")","v":""},null,null,null,8,{"$f":"N26/$N$42","v":1.5503875968992248E-2},null,332688,null,0,2760.8289367286834,329927.17106327129]
[{"$f":"IF('CoC Renewal Ranking Report'!D100<>\"\",'CoC Renewal Ranking Report'!D100,\"\")","v":""},null,null,null,{"$f":"IF('CoC Renewal Ranking Report'!E100<>\"\",'CoC Renewal Ranking Report'!E100,\"\")","v":""},null,null,null,null,{"$f":"IF('CoC Renewal Ranking Report'!G100<>\"\",'CoC Renewal Ranking Report'!G100,\"\")","v":""},null,null,null,3,5.8139534883720929E-3,null,90403,null,0,1035.3108512732563,89367.689148726742]
[{"$f":"IF('CoC Renewal Ranking Report'!D101<>\"\",'CoC Renewal Ranking Report'!D101,\"\")","v":""},null,null,null,{"$f":"IF('CoC Renewal Ranking Report'!E101<>\"\",'CoC Renewal Ranking Report'!E101,\"\")","v":""},null,null,null,null,{"$f":"IF('CoC Renewal Ranking Report'!G101<>\"\",'CoC Renewal Ranking Report'!G101,\"\")","v":""},null,null,null,10,1.937984496124031E-2,null,211873,0.12903999999999999,27340.091919999999,0,184532.90807999999]
[{"$f":"IF('CoC Renewal Ranking Report'!D102<>\"\",'CoC Renewal Ranking Report'!D102,\"\")","v":""},null,null,null,{"$f":"IF('CoC Renewal Ranking Report'!E102<>\"\",'CoC Renewal Ranking Report'!E102,\"\")","v":""},null,null,null,null,{"$f":"IF('CoC Renewal Ranking Report'!G102<>\"\",'CoC Renewal Ranking Report'!G102,\"\")","v":""},null,null,null,5,9.6899224806201549E-3,null,120850,null,0,1725.5180854554271,119124.48191454458]
[{"$f":"IF('CoC Renewal Ranking Report'!D103<>\"\",'CoC Renewal Ranking Report'!D103,\"\")","v":""},null,null,null,{"$f":"IF('CoC Renewal Ranking Report'!E103<>\"\",'CoC Renewal Ranking Report'!E103,\"\")","v":""},null,null,null,null,{"$f":"IF('CoC Renewal Ranking Report'!G103<>\"\",'CoC Renewal Ranking Report'!G103,\"\")","v":""},null,null,null,9,1.7441860465116279E-2,null,132404,0.23106599999999999,30594.062664000001,0,101809.937336]
[{"$f":"IF('CoC Renewal Ranking Report'!D104<>\"\",'CoC Renewal Ranking Report'!D104,\"\")","v":""},null,null,null,{"$f":"IF('CoC Renewal Ranking Report'!E104<>\"\",'CoC Renewal Ranking Report'!E104,\"\")","v":""},null,null,null,null,{"$f":"IF('CoC Renewal Ranking Report'!G104<>\"\",'CoC Renewal Ranking Report'!G104,\"\")","v":""},null,null,null,13,2.5193798449612403E-2,null,169174,null,0,4486.3470221841108,164687.65297781589]
[{"$f":"IF('CoC Renewal Ranking Report'!D105<>\"\",'CoC Renewal Ranking Report'!D105,\"\")","v":""},null,null,null,{"$f":"IF('CoC Renewal Ranking Report'!E105<>\"\",'CoC Renewal Ranking Report'!E105,\"\")","v":""},null,null,null,null,{"$f":"IF('CoC Renewal Ranking Report'!G105<>\"\",'CoC Renewal Ranking Report'!G105,\"\")","v":""},null,null,null,30,5.8139534883720929E-2,null,111776,null,0,10353.108512732564,101422.89148726744]
[{"$f":"IF('CoC Renewal Ranking Report'!D106<>\"\",'CoC Renewal Ranking Report'!D106,\"\")","v":""},null,null,null,{"$f":"IF('CoC Renewal Ranking Report'!E106<>\"\",'CoC Renewal Ranking Report'!E106,\"\")","v":""},null,null,null,null,{"$f":"IF('CoC Renewal Ranking Report'!G106<>\"\",'CoC Renewal Ranking Report'!G106,\"\")","v":""},null,null,null,17,3.294573643410853E-2,null,70192,null,0,5866.7614905484534,64325.238509451548]
[{"$f":"IF('CoC Renewal Ranking Report'!D107<>\"\",'CoC Renewal Ranking Report'!D107,\"\")","v":""},null,null,null,{"$f":"IF('CoC Renewal Ranking Report'!E107<>\"\",'CoC Renewal Ranking Report'!E107,\"\")","v":""},null,null,null,null,{"$f":"IF('CoC Renewal Ranking Report'!G107<>\"\",'CoC Renewal Ranking Report'!G107,\"\")","v":""},null,null,null,24,4.6511627906976744E-2,null,117150,null,0,8282.4868101860502,108867.51318981395]
[{"$f":"IF('CoC Renewal Ranking Report'!D108<>\"\",'CoC Renewal Ranking Report'!D108,\"\")","v":""},null,null,null,{"$f":"IF('CoC Renewal Ranking Report'!E108<>\"\",'CoC Renewal Ranking Report'!E108,\"\")","v":""},null,null,null,null,{"$f":"IF('CoC Renewal Ranking Report'!G108<>\"\",'CoC Renewal Ranking Report'!G108,\"\")","v":""},null,null,null,33,6.3953488372093026E-2,null,160003,null,0,11388.41936400582,148614.58063599418]
[{"$f":"IF('CoC Renewal Ranking Report'!D109<>\"\",'CoC Renewal Ranking Report'!D109,\"\")","v":""},null,null,null,{"$f":"IF('CoC Renewal Ranking Report'!E109<>\"\",'CoC Renewal Ranking Report'!E109,\"\")","v":""},null,null,null,null,{"$f":"IF('CoC Renewal Ranking Report'!G109<>\"\",'CoC Renewal Ranking Report'!G109,\"\")","v":""},null,null,null,16,3.1007751937984496E-2,null,88198,null,0,5521.6578734573668,82676.34212654263]
[{"$f":"IF('CoC Renewal Ranking Report'!D110<>\"\",'CoC Renewal Ranking Report'!D110,\"\")","v":""},null,null,null,{"$f":"IF('CoC Renewal Ranking Report'!E110<>\"\",'CoC Renewal Ranking Report'!E110,\"\")","v":""},null,null,null,null,{"$f":"IF('CoC Renewal Ranking Report'!G110<>\"\",'CoC Renewal Ranking Report'!G110,\"\")","v":""},null,null,null,27,5.232558139534884E-2,null,237814,null,0,9317.7976614593081,228496.20233854069]
[{"$f":"IF('CoC Renewal Ranking Report'!#REF!<>\"\",'CoC Renewal Ranking Report'!#REF!,\"\")","v":{"$error":"#REF!"}},null,null,null,{"$f":"IF('CoC Renewal Ranking Report'!#REF!<>\"\",'CoC Renewal Ranking Report'!#REF!,\"\")","v":{"$error":"#REF!"}},null,null,null,null,{"$f":"IF('CoC Renewal Ranking Report'!#REF!<>\"\",'CoC Renewal Ranking Report'!#REF!,\"\")","v":{"$error":"#REF!"}},null,null,null,18,3.4883720930232558E-2,null,471836,null,0,6211.8651076395381,465624.13489236048]
[{"$f":"IF('CoC Renewal Ranking Report'!#REF!<>\"\",'CoC Renewal Ranking Report'!#REF!,\"\")","v":{"$error":"#REF!"}},null,null,null,{"$f":"IF('CoC Renewal Ranking Report'!#REF!<>\"\",'CoC Renewal Ranking Report'!#REF!,\"\")","v":{"$error":"#REF!"}},null,null,null,null,{"$f":"IF('CoC Renewal Ranking Report'!#REF!<>\"\",'CoC Renewal Ranking Report'!#REF!,\"\")","v":{"$error":"#REF!"}},null,null,null,7,1.3565891472868217E-2,null,32784,null,0,2415.7253196375982,30368.274680362403]
[{"$f":"IF('CoC Renewal Ranking Report'!#REF!<>\"\",'CoC Renewal Ranking Report'!#REF!,\"\")","v":{"$error":"#REF!"}},null,null,null,{"$f":"IF('CoC Renewal Ranking Report'!#REF!<>\"\",'CoC Renewal Ranking Report'!#REF!,\"\")","v":{"$error":"#REF!"}},null,null,null,null,{"$f":"IF('CoC Renewal Ranking Report'!#REF!<>\"\",'CoC Renewal Ranking Report'!#REF!,\"\")","v":{"$error":"#REF!"}},null,null,null,6,1.1627906976744186E-2,null,51948,null,0,2070.6217025465126,49877.378297453484]
[{"$f":"IF('CoC Renewal Ranking Report'!#REF!<>\"\",'CoC Renewal Ranking Report'!#REF!,\"\")","v":{"$error":"#REF!"}},null,null,null,{"$f":"IF('CoC Renewal Ranking Report'!#REF!<>\"\",'CoC Renewal Ranking Report'!#REF!,\"\")","v":{"$error":"#REF!"}},null,null,null,null,{"$f":"IF('CoC Renewal Ranking Report'!#REF!<>\"\",'CoC Renewal Ranking Report'!#REF!,\"\")","v":{"$error":"#REF!"}},null,null,null,35,6.7829457364341081E-2,"This project will not be renewed",53171,1,53171,0,0]
[null,null,null,null,null,null,null,null,null,null,null,null,null,{"$f":"SUMIF(S6:S41,\"=0\",N6:N41)","v":516},null,null,{"$f":"SUM(Q6:Q41)","v":5316556},null,{"$f":"SUM(S6:S41)","v":278246.05358099996},{"$f":"SUM(T6:T41)","v":178073.46641900009},{"$f":"SUM(U6:U41)","v":4860236.4800000004}]
[null,null,null,null,null,null,null,null,null,null,null,null,null,null,null,null,null,"Manual Cuts applied to 5% reduction",{"$f":"SUM(S11,S41)","v":91170.878965999989}]
[null,null,null,null,null,null,null,null,null,null,null,null,null,null,null,null,null,"Manual Cuts applied to new Chronic Reallocation Project",{"$f":"SUM(S6,S20,S28,S30)","v":187075.174615}]
[null,null,null,null,null,null,null,null,null,null,null,null,null,null,null,null,null,"5% cut less manual cuts",{"$f":"S2-S42","v":-9001.7035809999215}]
[null,null,null,null,null,null,null,null,null,null,null,null,null,null,null,null,null,"New project to put in Tier 1",187075.17]
[null,null,null,null,null,null,null,null,null,null,null,null,null,null,null,null,null,"Total remaining reduction needed for across the board cuts",{"$f":"SUM(S45:S46)","v":178073.46641900009}]